Workbook

Sheet Summary
A1: Insurance Agency Marketing Budget
A2: All sample entries are fictional. | D2: Indicators use entered planning data; review alerts manually.
A4: Indicator | B4: Value
A5: Records in Planning Year | B5: =IF(COUNTA('Budget Plan'!$A$5:$K$104)=0,"",COUNTIFS('Budget Plan'!$B$5:$B$104,">="&Assumptions!$B$5,'Budget Plan'!$B$5:$B$104,"<="&Assumptions!$B$6))
A6: Planned Spend | B6: =IF(OR(B5="",B5=0),"",SUMIFS('Budget Plan'!$G$5:$G$104,'Budget Plan'!$B$5:$B$104,">="&Assumptions!$B$5,'Budget Plan'!$B$5:$B$104,"<="&Assumptions!$B$6))
A7: Actual Spend | B7: =IF(OR(B5="",B5=0),"",SUMIFS('Budget Plan'!$H$5:$H$104,'Budget Plan'!$B$5:$B$104,">="&Assumptions!$B$5,'Budget Plan'!$B$5:$B$104,"<="&Assumptions!$B$6))
A8: Remaining vs Plan | B8: =IF(OR(B6="",B7=""),"",IFERROR(B6-B7,""))
A9: Plan Used | B9: =IF(OR(B6="",B6=0,B7=""),"",IFERROR(B7/B6,""))
A10: Leads | B10: =IF(OR(B5="",B5=0),"",SUMIFS('Budget Plan'!$I$5:$I$104,'Budget Plan'!$B$5:$B$104,">="&Assumptions!$B$5,'Budget Plan'!$B$5:$B$104,"<="&Assumptions!$B$6))
A11: Quotes | B11: =IF(OR(B5="",B5=0),"",SUMIFS('Budget Plan'!$J$5:$J$104,'Budget Plan'!$B$5:$B$104,">="&Assumptions!$B$5,'Budget Plan'!$B$5:$B$104,"<="&Assumptions!$B$6))
A12: New Policies | B12: =IF(OR(B5="",B5=0),"",SUMIFS('Budget Plan'!$K$5:$K$104,'Budget Plan'!$B$5:$B$104,">="&Assumptions!$B$5,'Budget Plan'!$B$5:$B$104,"<="&Assumptions!$B$6))
A13: Cost per Lead | B13: =IF(OR(B7="",B10="",B10=0),"",IFERROR(B7/B10,""))
A14: Cost per New Policy | B14: =IF(OR(B7="",B12="",B12=0),"",IFERROR(B7/B12,""))
A15: Records Needing Review | B15: =IF(COUNTA('Budget Plan'!$A$5:$K$104)=0,"",COUNTIF('Budget Plan'!$O$5:$O$104,"Review:*"))
A17: Monthly Planning-Year View | G17: Channel View
A18: Month | B18: Planned | C18: Actual | D18: Leads | E18: New Policies | G18: Channel | H18: Planned | I18: Actual | J18: Leads | K18: New Policies | L18: Budget Limit | M18: Limit Remaining
A19: =DATE(Assumptions!$B$4,ROW()-18,1) | B19: =IF(COUNTIFS('Budget Plan'!$B$5:$B$104,">="&$A19,'Budget Plan'!$B$5:$B$104,"<"&DATE(YEAR($A19),MONTH($A19)+1,1))=0,"",SUMIFS('Budget Plan'!$G$5:$G$104,'Budget Plan'!$B$5:$B$104,">="&$A19,'Budget Plan'!$B$5:$B$104,"<"&DATE(YEAR($A19),MONTH($A19)+1,1))) | C19: =IF(COUNTIFS('Budget Plan'!$B$5:$B$104,">="&$A19,'Budget Plan'!$B$5:$B$104,"<"&DATE(YEAR($A19),MONTH($A19)+1,1))=0,"",SUMIFS('Budget Plan'!$H$5:$H$104,'Budget Plan'!$B$5:$B$104,">="&$A19,'Budget Plan'!$B$5:$B$104,"<"&DATE(YEAR($A19),MONTH($A19)+1,1))) | D19: =IF(COUNTIFS('Budget Plan'!$B$5:$B$104,">="&$A19,'Budget Plan'!$B$5:$B$104,"<"&DATE(YEAR($A19),MONTH($A19)+1,1))=0,"",SUMIFS('Budget Plan'!$I$5:$I$104,'Budget Plan'!$B$5:$B$104,">="&$A19,'Budget Plan'!$B$5:$B$104,"<"&DATE(YEAR($A19),MONTH($A19)+1,1))) | E19: =IF(COUNTIFS('Budget Plan'!$B$5:$B$104,">="&$A19,'Budget Plan'!$B$5:$B$104,"<"&DATE(YEAR($A19),MONTH($A19)+1,1))=0,"",SUMIFS('Budget Plan'!$K$5:$K$104,'Budget Plan'!$B$5:$B$104,">="&$A19,'Budget Plan'!$B$5:$B$104,"<"&DATE(YEAR($A19),MONTH($A19)+1,1))) | G19: =Assumptions!A10 | H19: =IF($G19="","",IF(COUNTIFS('Budget Plan'!$C$5:$C$104,$G19,'Budget Plan'!$B$5:$B$104,">="&Assumptions!$B$5,'Budget Plan'!$B$5:$B$104,"<="&Assumptions!$B$6)=0,"",SUMIFS('Budget Plan'!$G$5:$G$104,'Budget Plan'!$C$5:$C$104,$G19,'Budget Plan'!$B$5:$B$104,">="&Assumptions!$B$5,'Budget Plan'!$B$5:$B$104,"<="&Assumptions!$B$6))) | I19: =IF($G19="","",IF(COUNTIFS('Budget Plan'!$C$5:$C$104,$G19,'Budget Plan'!$B$5:$B$104,">="&Assumptions!$B$5,'Budget Plan'!$B$5:$B$104,"<="&Assumptions!$B$6)=0,"",SUMIFS('Budget Plan'!$H$5:$H$104,'Budget Plan'!$C$5:$C$104,$G19,'Budget Plan'!$B$5:$B$104,">="&Assumptions!$B$5,'Budget Plan'!$B$5:$B$104,"<="&Assumptions!$B$6))) | J19: =IF($G19="","",IF(COUNTIFS('Budget Plan'!$C$5:$C$104,$G19,'Budget Plan'!$B$5:$B$104,">="&Assumptions!$B$5,'Budget Plan'!$B$5:$B$104,"<="&Assumptions!$B$6)=0,"",SUMIFS('Budget Plan'!$I$5:$I$104,'Budget Plan'!$C$5:$C$104,$G19,'Budget Plan'!$B$5:$B$104,">="&Assumptions!$B$5,'Budget Plan'!$B$5:$B$104,"<="&Assumptions!$B$6))) | K19: =IF($G19="","",IF(COUNTIFS('Budget Plan'!$C$5:$C$104,$G19,'Budget Plan'!$B$5:$B$104,">="&Assumptions!$B$5,'Budget Plan'!$B$5:$B$104,"<="&Assumptions!$B$6)=0,"",SUMIFS('Budget Plan'!$K$5:$K$104,'Budget Plan'!$C$5:$C$104,$G19,'Budget Plan'!$B$5:$B$104,">="&Assumptions!$B$5,'Budget Plan'!$B$5:$B$104,"<="&Assumptions!$B$6))) | L19: =IF($G19="","",IFERROR(VLOOKUP($G19,Assumptions!$A$10:$C$17,2,FALSE),"")) | M19: =IF(OR($I19="",$L19=""),"",IFERROR($L19-$I19,""))
A20: =DATE(Assumptions!$B$4,ROW()-18,1) | B20: =IF(COUNTIFS('Budget Plan'!$B$5:$B$104,">="&$A20,'Budget Plan'!$B$5:$B$104,"<"&DATE(YEAR($A20),MONTH($A20)+1,1))=0,"",SUMIFS('Budget Plan'!$G$5:$G$104,'Budget Plan'!$B$5:$B$104,">="&$A20,'Budget Plan'!$B$5:$B$104,"<"&DATE(YEAR($A20),MONTH($A20)+1,1))) | C20: =IF(COUNTIFS('Budget Plan'!$B$5:$B$104,">="&$A20,'Budget Plan'!$B$5:$B$104,"<"&DATE(YEAR($A20),MONTH($A20)+1,1))=0,"",SUMIFS('Budget Plan'!$H$5:$H$104,'Budget Plan'!$B$5:$B$104,">="&$A20,'Budget Plan'!$B$5:$B$104,"<"&DATE(YEAR($A20),MONTH($A20)+1,1))) | D20: =IF(COUNTIFS('Budget Plan'!$B$5:$B$104,">="&$A20,'Budget Plan'!$B$5:$B$104,"<"&DATE(YEAR($A20),MONTH($A20)+1,1))=0,"",SUMIFS('Budget Plan'!$I$5:$I$104,'Budget Plan'!$B$5:$B$104,">="&$A20,'Budget Plan'!$B$5:$B$104,"<"&DATE(YEAR($A20),MONTH($A20)+1,1))) | E20: =IF(COUNTIFS('Budget Plan'!$B$5:$B$104,">="&$A20,'Budget Plan'!$B$5:$B$104,"<"&DATE(YEAR($A20),MONTH($A20)+1,1))=0,"",SUMIFS('Budget Plan'!$K$5:$K$104,'Budget Plan'!$B$5:$B$104,">="&$A20,'Budget Plan'!$B$5:$B$104,"<"&DATE(YEAR($A20),MONTH($A20)+1,1))) | G20: =Assumptions!A11 | H20: =IF($G20="","",IF(COUNTIFS('Budget Plan'!$C$5:$C$104,$G20,'Budget Plan'!$B$5:$B$104,">="&Assumptions!$B$5,'Budget Plan'!$B$5:$B$104,"<="&Assumptions!$B$6)=0,"",SUMIFS('Budget Plan'!$G$5:$G$104,'Budget Plan'!$C$5:$C$104,$G20,'Budget Plan'!$B$5:$B$104,">="&Assumptions!$B$5,'Budget Plan'!$B$5:$B$104,"<="&Assumptions!$B$6))) | I20: =IF($G20="","",IF(COUNTIFS('Budget Plan'!$C$5:$C$104,$G20,'Budget Plan'!$B$5:$B$104,">="&Assumptions!$B$5,'Budget Plan'!$B$5:$B$104,"<="&Assumptions!$B$6)=0,"",SUMIFS('Budget Plan'!$H$5:$H$104,'Budget Plan'!$C$5:$C$104,$G20,'Budget Plan'!$B$5:$B$104,">="&Assumptions!$B$5,'Budget Plan'!$B$5:$B$104,"<="&Assumptions!$B$6))) | J20: =IF($G20="","",IF(COUNTIFS('Budget Plan'!$C$5:$C$104,$G20,'Budget Plan'!$B$5:$B$104,">="&Assumptions!$B$5,'Budget Plan'!$B$5:$B$104,"<="&Assumptions!$B$6)=0,"",SUMIFS('Budget Plan'!$I$5:$I$104,'Budget Plan'!$C$5:$C$104,$G20,'Budget Plan'!$B$5:$B$104,">="&Assumptions!$B$5,'Budget Plan'!$B$5:$B$104,"<="&Assumptions!$B$6))) | K20: =IF($G20="","",IF(COUNTIFS('Budget Plan'!$C$5:$C$104,$G20,'Budget Plan'!$B$5:$B$104,">="&Assumptions!$B$5,'Budget Plan'!$B$5:$B$104,"<="&Assumptions!$B$6)=0,"",SUMIFS('Budget Plan'!$K$5:$K$104,'Budget Plan'!$C$5:$C$104,$G20,'Budget Plan'!$B$5:$B$104,">="&Assumptions!$B$5,'Budget Plan'!$B$5:$B$104,"<="&Assumptions!$B$6))) | L20: =IF($G20="","",IFERROR(VLOOKUP($G20,Assumptions!$A$10:$C$17,2,FALSE),"")) | M20: =IF(OR($I20="",$L20=""),"",IFERROR($L20-$I20,""))
A21: =DATE(Assumptions!$B$4,ROW()-18,1) | B21: =IF(COUNTIFS('Budget Plan'!$B$5:$B$104,">="&$A21,'Budget Plan'!$B$5:$B$104,"<"&DATE(YEAR($A21),MONTH($A21)+1,1))=0,"",SUMIFS('Budget Plan'!$G$5:$G$104,'Budget Plan'!$B$5:$B$104,">="&$A21,'Budget Plan'!$B$5:$B$104,"<"&DATE(YEAR($A21),MONTH($A21)+1,1))) | C21: =IF(COUNTIFS('Budget Plan'!$B$5:$B$104,">="&$A21,'Budget Plan'!$B$5:$B$104,"<"&DATE(YEAR($A21),MONTH($A21)+1,1))=0,"",SUMIFS('Budget Plan'!$H$5:$H$104,'Budget Plan'!$B$5:$B$104,">="&$A21,'Budget Plan'!$B$5:$B$104,"<"&DATE(YEAR($A21),MONTH($A21)+1,1))) | D21: =IF(COUNTIFS('Budget Plan'!$B$5:$B$104,">="&$A21,'Budget Plan'!$B$5:$B$104,"<"&DATE(YEAR($A21),MONTH($A21)+1,1))=0,"",SUMIFS('Budget Plan'!$I$5:$I$104,'Budget Plan'!$B$5:$B$104,">="&$A21,'Budget Plan'!$B$5:$B$104,"<"&DATE(YEAR($A21),MONTH($A21)+1,1))) | E21: =IF(COUNTIFS('Budget Plan'!$B$5:$B$104,">="&$A21,'Budget Plan'!$B$5:$B$104,"<"&DATE(YEAR($A21),MONTH($A21)+1,1))=0,"",SUMIFS('Budget Plan'!$K$5:$K$104,'Budget Plan'!$B$5:$B$104,">="&$A21,'Budget Plan'!$B$5:$B$104,"<"&DATE(YEAR($A21),MONTH($A21)+1,1))) | G21: =Assumptions!A12 | H21: =IF($G21="","",IF(COUNTIFS('Budget Plan'!$C$5:$C$104,$G21,'Budget Plan'!$B$5:$B$104,">="&Assumptions!$B$5,'Budget Plan'!$B$5:$B$104,"<="&Assumptions!$B$6)=0,"",SUMIFS('Budget Plan'!$G$5:$G$104,'Budget Plan'!$C$5:$C$104,$G21,'Budget Plan'!$B$5:$B$104,">="&Assumptions!$B$5,'Budget Plan'!$B$5:$B$104,"<="&Assumptions!$B$6))) | I21: =IF($G21="","",IF(COUNTIFS('Budget Plan'!$C$5:$C$104,$G21,'Budget Plan'!$B$5:$B$104,">="&Assumptions!$B$5,'Budget Plan'!$B$5:$B$104,"<="&Assumptions!$B$6)=0,"",SUMIFS('Budget Plan'!$H$5:$H$104,'Budget Plan'!$C$5:$C$104,$G21,'Budget Plan'!$B$5:$B$104,">="&Assumptions!$B$5,'Budget Plan'!$B$5:$B$104,"<="&Assumptions!$B$6))) | J21: =IF($G21="","",IF(COUNTIFS('Budget Plan'!$C$5:$C$104,$G21,'Budget Plan'!$B$5:$B$104,">="&Assumptions!$B$5,'Budget Plan'!$B$5:$B$104,"<="&Assumptions!$B$6)=0,"",SUMIFS('Budget Plan'!$I$5:$I$104,'Budget Plan'!$C$5:$C$104,$G21,'Budget Plan'!$B$5:$B$104,">="&Assumptions!$B$5,'Budget Plan'!$B$5:$B$104,"<="&Assumptions!$B$6))) | K21: =IF($G21="","",IF(COUNTIFS('Budget Plan'!$C$5:$C$104,$G21,'Budget Plan'!$B$5:$B$104,">="&Assumptions!$B$5,'Budget Plan'!$B$5:$B$104,"<="&Assumptions!$B$6)=0,"",SUMIFS('Budget Plan'!$K$5:$K$104,'Budget Plan'!$C$5:$C$104,$G21,'Budget Plan'!$B$5:$B$104,">="&Assumptions!$B$5,'Budget Plan'!$B$5:$B$104,"<="&Assumptions!$B$6))) | L21: =IF($G21="","",IFERROR(VLOOKUP($G21,Assumptions!$A$10:$C$17,2,FALSE),"")) | M21: =IF(OR($I21="",$L21=""),"",IFERROR($L21-$I21,""))
A22: =DATE(Assumptions!$B$4,ROW()-18,1) | B22: =IF(COUNTIFS('Budget Plan'!$B$5:$B$104,">="&$A22,'Budget Plan'!$B$5:$B$104,"<"&DATE(YEAR($A22),MONTH($A22)+1,1))=0,"",SUMIFS('Budget Plan'!$G$5:$G$104,'Budget Plan'!$B$5:$B$104,">="&$A22,'Budget Plan'!$B$5:$B$104,"<"&DATE(YEAR($A22),MONTH($A22)+1,1))) | C22: =IF(COUNTIFS('Budget Plan'!$B$5:$B$104,">="&$A22,'Budget Plan'!$B$5:$B$104,"<"&DATE(YEAR($A22),MONTH($A22)+1,1))=0,"",SUMIFS('Budget Plan'!$H$5:$H$104,'Budget Plan'!$B$5:$B$104,">="&$A22,'Budget Plan'!$B$5:$B$104,"<"&DATE(YEAR($A22),MONTH($A22)+1,1))) | D22: =IF(COUNTIFS('Budget Plan'!$B$5:$B$104,">="&$A22,'Budget Plan'!$B$5:$B$104,"<"&DATE(YEAR($A22),MONTH($A22)+1,1))=0,"",SUMIFS('Budget Plan'!$I$5:$I$104,'Budget Plan'!$B$5:$B$104,">="&$A22,'Budget Plan'!$B$5:$B$104,"<"&DATE(YEAR($A22),MONTH($A22)+1,1))) | E22: =IF(COUNTIFS('Budget Plan'!$B$5:$B$104,">="&$A22,'Budget Plan'!$B$5:$B$104,"<"&DATE(YEAR($A22),MONTH($A22)+1,1))=0,"",SUMIFS('Budget Plan'!$K$5:$K$104,'Budget Plan'!$B$5:$B$104,">="&$A22,'Budget Plan'!$B$5:$B$104,"<"&DATE(YEAR($A22),MONTH($A22)+1,1))) | G22: =Assumptions!A13 | H22: =IF($G22="","",IF(COUNTIFS('Budget Plan'!$C$5:$C$104,$G22,'Budget Plan'!$B$5:$B$104,">="&Assumptions!$B$5,'Budget Plan'!$B$5:$B$104,"<="&Assumptions!$B$6)=0,"",SUMIFS('Budget Plan'!$G$5:$G$104,'Budget Plan'!$C$5:$C$104,$G22,'Budget Plan'!$B$5:$B$104,">="&Assumptions!$B$5,'Budget Plan'!$B$5:$B$104,"<="&Assumptions!$B$6))) | I22: =IF($G22="","",IF(COUNTIFS('Budget Plan'!$C$5:$C$104,$G22,'Budget Plan'!$B$5:$B$104,">="&Assumptions!$B$5,'Budget Plan'!$B$5:$B$104,"<="&Assumptions!$B$6)=0,"",SUMIFS('Budget Plan'!$H$5:$H$104,'Budget Plan'!$C$5:$C$104,$G22,'Budget Plan'!$B$5:$B$104,">="&Assumptions!$B$5,'Budget Plan'!$B$5:$B$104,"<="&Assumptions!$B$6))) | J22: =IF($G22="","",IF(COUNTIFS('Budget Plan'!$C$5:$C$104,$G22,'Budget Plan'!$B$5:$B$104,">="&Assumptions!$B$5,'Budget Plan'!$B$5:$B$104,"<="&Assumptions!$B$6)=0,"",SUMIFS('Budget Plan'!$I$5:$I$104,'Budget Plan'!$C$5:$C$104,$G22,'Budget Plan'!$B$5:$B$104,">="&Assumptions!$B$5,'Budget Plan'!$B$5:$B$104,"<="&Assumptions!$B$6))) | K22: =IF($G22="","",IF(COUNTIFS('Budget Plan'!$C$5:$C$104,$G22,'Budget Plan'!$B$5:$B$104,">="&Assumptions!$B$5,'Budget Plan'!$B$5:$B$104,"<="&Assumptions!$B$6)=0,"",SUMIFS('Budget Plan'!$K$5:$K$104,'Budget Plan'!$C$5:$C$104,$G22,'Budget Plan'!$B$5:$B$104,">="&Assumptions!$B$5,'Budget Plan'!$B$5:$B$104,"<="&Assumptions!$B$6))) | L22: =IF($G22="","",IFERROR(VLOOKUP($G22,Assumptions!$A$10:$C$17,2,FALSE),"")) | M22: =IF(OR($I22="",$L22=""),"",IFERROR($L22-$I22,""))
A23: =DATE(Assumptions!$B$4,ROW()-18,1) | B23: =IF(COUNTIFS('Budget Plan'!$B$5:$B$104,">="&$A23,'Budget Plan'!$B$5:$B$104,"<"&DATE(YEAR($A23),MONTH($A23)+1,1))=0,"",SUMIFS('Budget Plan'!$G$5:$G$104,'Budget Plan'!$B$5:$B$104,">="&$A23,'Budget Plan'!$B$5:$B$104,"<"&DATE(YEAR($A23),MONTH($A23)+1,1))) | C23: =IF(COUNTIFS('Budget Plan'!$B$5:$B$104,">="&$A23,'Budget Plan'!$B$5:$B$104,"<"&DATE(YEAR($A23),MONTH($A23)+1,1))=0,"",SUMIFS('Budget Plan'!$H$5:$H$104,'Budget Plan'!$B$5:$B$104,">="&$A23,'Budget Plan'!$B$5:$B$104,"<"&DATE(YEAR($A23),MONTH($A23)+1,1))) | D23: =IF(COUNTIFS('Budget Plan'!$B$5:$B$104,">="&$A23,'Budget Plan'!$B$5:$B$104,"<"&DATE(YEAR($A23),MONTH($A23)+1,1))=0,"",SUMIFS('Budget Plan'!$I$5:$I$104,'Budget Plan'!$B$5:$B$104,">="&$A23,'Budget Plan'!$B$5:$B$104,"<"&DATE(YEAR($A23),MONTH($A23)+1,1))) | E23: =IF(COUNTIFS('Budget Plan'!$B$5:$B$104,">="&$A23,'Budget Plan'!$B$5:$B$104,"<"&DATE(YEAR($A23),MONTH($A23)+1,1))=0,"",SUMIFS('Budget Plan'!$K$5:$K$104,'Budget Plan'!$B$5:$B$104,">="&$A23,'Budget Plan'!$B$5:$B$104,"<"&DATE(YEAR($A23),MONTH($A23)+1,1))) | G23: =Assumptions!A14 | H23: =IF($G23="","",IF(COUNTIFS('Budget Plan'!$C$5:$C$104,$G23,'Budget Plan'!$B$5:$B$104,">="&Assumptions!$B$5,'Budget Plan'!$B$5:$B$104,"<="&Assumptions!$B$6)=0,"",SUMIFS('Budget Plan'!$G$5:$G$104,'Budget Plan'!$C$5:$C$104,$G23,'Budget Plan'!$B$5:$B$104,">="&Assumptions!$B$5,'Budget Plan'!$B$5:$B$104,"<="&Assumptions!$B$6))) | I23: =IF($G23="","",IF(COUNTIFS('Budget Plan'!$C$5:$C$104,$G23,'Budget Plan'!$B$5:$B$104,">="&Assumptions!$B$5,'Budget Plan'!$B$5:$B$104,"<="&Assumptions!$B$6)=0,"",SUMIFS('Budget Plan'!$H$5:$H$104,'Budget Plan'!$C$5:$C$104,$G23,'Budget Plan'!$B$5:$B$104,">="&Assumptions!$B$5,'Budget Plan'!$B$5:$B$104,"<="&Assumptions!$B$6))) | J23: =IF($G23="","",IF(COUNTIFS('Budget Plan'!$C$5:$C$104,$G23,'Budget Plan'!$B$5:$B$104,">="&Assumptions!$B$5,'Budget Plan'!$B$5:$B$104,"<="&Assumptions!$B$6)=0,"",SUMIFS('Budget Plan'!$I$5:$I$104,'Budget Plan'!$C$5:$C$104,$G23,'Budget Plan'!$B$5:$B$104,">="&Assumptions!$B$5,'Budget Plan'!$B$5:$B$104,"<="&Assumptions!$B$6))) | K23: =IF($G23="","",IF(COUNTIFS('Budget Plan'!$C$5:$C$104,$G23,'Budget Plan'!$B$5:$B$104,">="&Assumptions!$B$5,'Budget Plan'!$B$5:$B$104,"<="&Assumptions!$B$6)=0,"",SUMIFS('Budget Plan'!$K$5:$K$104,'Budget Plan'!$C$5:$C$104,$G23,'Budget Plan'!$B$5:$B$104,">="&Assumptions!$B$5,'Budget Plan'!$B$5:$B$104,"<="&Assumptions!$B$6))) | L23: =IF($G23="","",IFERROR(VLOOKUP($G23,Assumptions!$A$10:$C$17,2,FALSE),"")) | M23: =IF(OR($I23="",$L23=""),"",IFERROR($L23-$I23,""))
A24: =DATE(Assumptions!$B$4,ROW()-18,1) | B24: =IF(COUNTIFS('Budget Plan'!$B$5:$B$104,">="&$A24,'Budget Plan'!$B$5:$B$104,"<"&DATE(YEAR($A24),MONTH($A24)+1,1))=0,"",SUMIFS('Budget Plan'!$G$5:$G$104,'Budget Plan'!$B$5:$B$104,">="&$A24,'Budget Plan'!$B$5:$B$104,"<"&DATE(YEAR($A24),MONTH($A24)+1,1))) | C24: =IF(COUNTIFS('Budget Plan'!$B$5:$B$104,">="&$A24,'Budget Plan'!$B$5:$B$104,"<"&DATE(YEAR($A24),MONTH($A24)+1,1))=0,"",SUMIFS('Budget Plan'!$H$5:$H$104,'Budget Plan'!$B$5:$B$104,">="&$A24,'Budget Plan'!$B$5:$B$104,"<"&DATE(YEAR($A24),MONTH($A24)+1,1))) | D24: =IF(COUNTIFS('Budget Plan'!$B$5:$B$104,">="&$A24,'Budget Plan'!$B$5:$B$104,"<"&DATE(YEAR($A24),MONTH($A24)+1,1))=0,"",SUMIFS('Budget Plan'!$I$5:$I$104,'Budget Plan'!$B$5:$B$104,">="&$A24,'Budget Plan'!$B$5:$B$104,"<"&DATE(YEAR($A24),MONTH($A24)+1,1))) | E24: =IF(COUNTIFS('Budget Plan'!$B$5:$B$104,">="&$A24,'Budget Plan'!$B$5:$B$104,"<"&DATE(YEAR($A24),MONTH($A24)+1,1))=0,"",SUMIFS('Budget Plan'!$K$5:$K$104,'Budget Plan'!$B$5:$B$104,">="&$A24,'Budget Plan'!$B$5:$B$104,"<"&DATE(YEAR($A24),MONTH($A24)+1,1))) | G24: =Assumptions!A15 | H24: =IF($G24="","",IF(COUNTIFS('Budget Plan'!$C$5:$C$104,$G24,'Budget Plan'!$B$5:$B$104,">="&Assumptions!$B$5,'Budget Plan'!$B$5:$B$104,"<="&Assumptions!$B$6)=0,"",SUMIFS('Budget Plan'!$G$5:$G$104,'Budget Plan'!$C$5:$C$104,$G24,'Budget Plan'!$B$5:$B$104,">="&Assumptions!$B$5,'Budget Plan'!$B$5:$B$104,"<="&Assumptions!$B$6))) | I24: =IF($G24="","",IF(COUNTIFS('Budget Plan'!$C$5:$C$104,$G24,'Budget Plan'!$B$5:$B$104,">="&Assumptions!$B$5,'Budget Plan'!$B$5:$B$104,"<="&Assumptions!$B$6)=0,"",SUMIFS('Budget Plan'!$H$5:$H$104,'Budget Plan'!$C$5:$C$104,$G24,'Budget Plan'!$B$5:$B$104,">="&Assumptions!$B$5,'Budget Plan'!$B$5:$B$104,"<="&Assumptions!$B$6))) | J24: =IF($G24="","",IF(COUNTIFS('Budget Plan'!$C$5:$C$104,$G24,'Budget Plan'!$B$5:$B$104,">="&Assumptions!$B$5,'Budget Plan'!$B$5:$B$104,"<="&Assumptions!$B$6)=0,"",SUMIFS('Budget Plan'!$I$5:$I$104,'Budget Plan'!$C$5:$C$104,$G24,'Budget Plan'!$B$5:$B$104,">="&Assumptions!$B$5,'Budget Plan'!$B$5:$B$104,"<="&Assumptions!$B$6))) | K24: =IF($G24="","",IF(COUNTIFS('Budget Plan'!$C$5:$C$104,$G24,'Budget Plan'!$B$5:$B$104,">="&Assumptions!$B$5,'Budget Plan'!$B$5:$B$104,"<="&Assumptions!$B$6)=0,"",SUMIFS('Budget Plan'!$K$5:$K$104,'Budget Plan'!$C$5:$C$104,$G24,'Budget Plan'!$B$5:$B$104,">="&Assumptions!$B$5,'Budget Plan'!$B$5:$B$104,"<="&Assumptions!$B$6))) | L24: =IF($G24="","",IFERROR(VLOOKUP($G24,Assumptions!$A$10:$C$17,2,FALSE),"")) | M24: =IF(OR($I24="",$L24=""),"",IFERROR($L24-$I24,""))
A25: =DATE(Assumptions!$B$4,ROW()-18,1) | B25: =IF(COUNTIFS('Budget Plan'!$B$5:$B$104,">="&$A25,'Budget Plan'!$B$5:$B$104,"<"&DATE(YEAR($A25),MONTH($A25)+1,1))=0,"",SUMIFS('Budget Plan'!$G$5:$G$104,'Budget Plan'!$B$5:$B$104,">="&$A25,'Budget Plan'!$B$5:$B$104,"<"&DATE(YEAR($A25),MONTH($A25)+1,1))) | C25: =IF(COUNTIFS('Budget Plan'!$B$5:$B$104,">="&$A25,'Budget Plan'!$B$5:$B$104,"<"&DATE(YEAR($A25),MONTH($A25)+1,1))=0,"",SUMIFS('Budget Plan'!$H$5:$H$104,'Budget Plan'!$B$5:$B$104,">="&$A25,'Budget Plan'!$B$5:$B$104,"<"&DATE(YEAR($A25),MONTH($A25)+1,1))) | D25: =IF(COUNTIFS('Budget Plan'!$B$5:$B$104,">="&$A25,'Budget Plan'!$B$5:$B$104,"<"&DATE(YEAR($A25),MONTH($A25)+1,1))=0,"",SUMIFS('Budget Plan'!$I$5:$I$104,'Budget Plan'!$B$5:$B$104,">="&$A25,'Budget Plan'!$B$5:$B$104,"<"&DATE(YEAR($A25),MONTH($A25)+1,1))) | E25: =IF(COUNTIFS('Budget Plan'!$B$5:$B$104,">="&$A25,'Budget Plan'!$B$5:$B$104,"<"&DATE(YEAR($A25),MONTH($A25)+1,1))=0,"",SUMIFS('Budget Plan'!$K$5:$K$104,'Budget Plan'!$B$5:$B$104,">="&$A25,'Budget Plan'!$B$5:$B$104,"<"&DATE(YEAR($A25),MONTH($A25)+1,1))) | G25: =Assumptions!A16 | H25: =IF($G25="","",IF(COUNTIFS('Budget Plan'!$C$5:$C$104,$G25,'Budget Plan'!$B$5:$B$104,">="&Assumptions!$B$5,'Budget Plan'!$B$5:$B$104,"<="&Assumptions!$B$6)=0,"",SUMIFS('Budget Plan'!$G$5:$G$104,'Budget Plan'!$C$5:$C$104,$G25,'Budget Plan'!$B$5:$B$104,">="&Assumptions!$B$5,'Budget Plan'!$B$5:$B$104,"<="&Assumptions!$B$6))) | I25: =IF($G25="","",IF(COUNTIFS('Budget Plan'!$C$5:$C$104,$G25,'Budget Plan'!$B$5:$B$104,">="&Assumptions!$B$5,'Budget Plan'!$B$5:$B$104,"<="&Assumptions!$B$6)=0,"",SUMIFS('Budget Plan'!$H$5:$H$104,'Budget Plan'!$C$5:$C$104,$G25,'Budget Plan'!$B$5:$B$104,">="&Assumptions!$B$5,'Budget Plan'!$B$5:$B$104,"<="&Assumptions!$B$6))) | J25: =IF($G25="","",IF(COUNTIFS('Budget Plan'!$C$5:$C$104,$G25,'Budget Plan'!$B$5:$B$104,">="&Assumptions!$B$5,'Budget Plan'!$B$5:$B$104,"<="&Assumptions!$B$6)=0,"",SUMIFS('Budget Plan'!$I$5:$I$104,'Budget Plan'!$C$5:$C$104,$G25,'Budget Plan'!$B$5:$B$104,">="&Assumptions!$B$5,'Budget Plan'!$B$5:$B$104,"<="&Assumptions!$B$6))) | K25: =IF($G25="","",IF(COUNTIFS('Budget Plan'!$C$5:$C$104,$G25,'Budget Plan'!$B$5:$B$104,">="&Assumptions!$B$5,'Budget Plan'!$B$5:$B$104,"<="&Assumptions!$B$6)=0,"",SUMIFS('Budget Plan'!$K$5:$K$104,'Budget Plan'!$C$5:$C$104,$G25,'Budget Plan'!$B$5:$B$104,">="&Assumptions!$B$5,'Budget Plan'!$B$5:$B$104,"<="&Assumptions!$B$6))) | L25: =IF($G25="","",IFERROR(VLOOKUP($G25,Assumptions!$A$10:$C$17,2,FALSE),"")) | M25: =IF(OR($I25="",$L25=""),"",IFERROR($L25-$I25,""))
A26: =DATE(Assumptions!$B$4,ROW()-18,1) | B26: =IF(COUNTIFS('Budget Plan'!$B$5:$B$104,">="&$A26,'Budget Plan'!$B$5:$B$104,"<"&DATE(YEAR($A26),MONTH($A26)+1,1))=0,"",SUMIFS('Budget Plan'!$G$5:$G$104,'Budget Plan'!$B$5:$B$104,">="&$A26,'Budget Plan'!$B$5:$B$104,"<"&DATE(YEAR($A26),MONTH($A26)+1,1))) | C26: =IF(COUNTIFS('Budget Plan'!$B$5:$B$104,">="&$A26,'Budget Plan'!$B$5:$B$104,"<"&DATE(YEAR($A26),MONTH($A26)+1,1))=0,"",SUMIFS('Budget Plan'!$H$5:$H$104,'Budget Plan'!$B$5:$B$104,">="&$A26,'Budget Plan'!$B$5:$B$104,"<"&DATE(YEAR($A26),MONTH($A26)+1,1))) | D26: =IF(COUNTIFS('Budget Plan'!$B$5:$B$104,">="&$A26,'Budget Plan'!$B$5:$B$104,"<"&DATE(YEAR($A26),MONTH($A26)+1,1))=0,"",SUMIFS('Budget Plan'!$I$5:$I$104,'Budget Plan'!$B$5:$B$104,">="&$A26,'Budget Plan'!$B$5:$B$104,"<"&DATE(YEAR($A26),MONTH($A26)+1,1))) | E26: =IF(COUNTIFS('Budget Plan'!$B$5:$B$104,">="&$A26,'Budget Plan'!$B$5:$B$104,"<"&DATE(YEAR($A26),MONTH($A26)+1,1))=0,"",SUMIFS('Budget Plan'!$K$5:$K$104,'Budget Plan'!$B$5:$B$104,">="&$A26,'Budget Plan'!$B$5:$B$104,"<"&DATE(YEAR($A26),MONTH($A26)+1,1))) | G26: =Assumptions!A17 | H26: =IF($G26="","",IF(COUNTIFS('Budget Plan'!$C$5:$C$104,$G26,'Budget Plan'!$B$5:$B$104,">="&Assumptions!$B$5,'Budget Plan'!$B$5:$B$104,"<="&Assumptions!$B$6)=0,"",SUMIFS('Budget Plan'!$G$5:$G$104,'Budget Plan'!$C$5:$C$104,$G26,'Budget Plan'!$B$5:$B$104,">="&Assumptions!$B$5,'Budget Plan'!$B$5:$B$104,"<="&Assumptions!$B$6))) | I26: =IF($G26="","",IF(COUNTIFS('Budget Plan'!$C$5:$C$104,$G26,'Budget Plan'!$B$5:$B$104,">="&Assumptions!$B$5,'Budget Plan'!$B$5:$B$104,"<="&Assumptions!$B$6)=0,"",SUMIFS('Budget Plan'!$H$5:$H$104,'Budget Plan'!$C$5:$C$104,$G26,'Budget Plan'!$B$5:$B$104,">="&Assumptions!$B$5,'Budget Plan'!$B$5:$B$104,"<="&Assumptions!$B$6))) | J26: =IF($G26="","",IF(COUNTIFS('Budget Plan'!$C$5:$C$104,$G26,'Budget Plan'!$B$5:$B$104,">="&Assumptions!$B$5,'Budget Plan'!$B$5:$B$104,"<="&Assumptions!$B$6)=0,"",SUMIFS('Budget Plan'!$I$5:$I$104,'Budget Plan'!$C$5:$C$104,$G26,'Budget Plan'!$B$5:$B$104,">="&Assumptions!$B$5,'Budget Plan'!$B$5:$B$104,"<="&Assumptions!$B$6))) | K26: =IF($G26="","",IF(COUNTIFS('Budget Plan'!$C$5:$C$104,$G26,'Budget Plan'!$B$5:$B$104,">="&Assumptions!$B$5,'Budget Plan'!$B$5:$B$104,"<="&Assumptions!$B$6)=0,"",SUMIFS('Budget Plan'!$K$5:$K$104,'Budget Plan'!$C$5:$C$104,$G26,'Budget Plan'!$B$5:$B$104,">="&Assumptions!$B$5,'Budget Plan'!$B$5:$B$104,"<="&Assumptions!$B$6))) | L26: =IF($G26="","",IFERROR(VLOOKUP($G26,Assumptions!$A$10:$C$17,2,FALSE),"")) | M26: =IF(OR($I26="",$L26=""),"",IFERROR($L26-$I26,""))
A27: =DATE(Assumptions!$B$4,ROW()-18,1) | B27: =IF(COUNTIFS('Budget Plan'!$B$5:$B$104,">="&$A27,'Budget Plan'!$B$5:$B$104,"<"&DATE(YEAR($A27),MONTH($A27)+1,1))=0,"",SUMIFS('Budget Plan'!$G$5:$G$104,'Budget Plan'!$B$5:$B$104,">="&$A27,'Budget Plan'!$B$5:$B$104,"<"&DATE(YEAR($A27),MONTH($A27)+1,1))) | C27: =IF(COUNTIFS('Budget Plan'!$B$5:$B$104,">="&$A27,'Budget Plan'!$B$5:$B$104,"<"&DATE(YEAR($A27),MONTH($A27)+1,1))=0,"",SUMIFS('Budget Plan'!$H$5:$H$104,'Budget Plan'!$B$5:$B$104,">="&$A27,'Budget Plan'!$B$5:$B$104,"<"&DATE(YEAR($A27),MONTH($A27)+1,1))) | D27: =IF(COUNTIFS('Budget Plan'!$B$5:$B$104,">="&$A27,'Budget Plan'!$B$5:$B$104,"<"&DATE(YEAR($A27),MONTH($A27)+1,1))=0,"",SUMIFS('Budget Plan'!$I$5:$I$104,'Budget Plan'!$B$5:$B$104,">="&$A27,'Budget Plan'!$B$5:$B$104,"<"&DATE(YEAR($A27),MONTH($A27)+1,1))) | E27: =IF(COUNTIFS('Budget Plan'!$B$5:$B$104,">="&$A27,'Budget Plan'!$B$5:$B$104,"<"&DATE(YEAR($A27),MONTH($A27)+1,1))=0,"",SUMIFS('Budget Plan'!$K$5:$K$104,'Budget Plan'!$B$5:$B$104,">="&$A27,'Budget Plan'!$B$5:$B$104,"<"&DATE(YEAR($A27),MONTH($A27)+1,1)))
A28: =DATE(Assumptions!$B$4,ROW()-18,1) | B28: =IF(COUNTIFS('Budget Plan'!$B$5:$B$104,">="&$A28,'Budget Plan'!$B$5:$B$104,"<"&DATE(YEAR($A28),MONTH($A28)+1,1))=0,"",SUMIFS('Budget Plan'!$G$5:$G$104,'Budget Plan'!$B$5:$B$104,">="&$A28,'Budget Plan'!$B$5:$B$104,"<"&DATE(YEAR($A28),MONTH($A28)+1,1))) | C28: =IF(COUNTIFS('Budget Plan'!$B$5:$B$104,">="&$A28,'Budget Plan'!$B$5:$B$104,"<"&DATE(YEAR($A28),MONTH($A28)+1,1))=0,"",SUMIFS('Budget Plan'!$H$5:$H$104,'Budget Plan'!$B$5:$B$104,">="&$A28,'Budget Plan'!$B$5:$B$104,"<"&DATE(YEAR($A28),MONTH($A28)+1,1))) | D28: =IF(COUNTIFS('Budget Plan'!$B$5:$B$104,">="&$A28,'Budget Plan'!$B$5:$B$104,"<"&DATE(YEAR($A28),MONTH($A28)+1,1))=0,"",SUMIFS('Budget Plan'!$I$5:$I$104,'Budget Plan'!$B$5:$B$104,">="&$A28,'Budget Plan'!$B$5:$B$104,"<"&DATE(YEAR($A28),MONTH($A28)+1,1))) | E28: =IF(COUNTIFS('Budget Plan'!$B$5:$B$104,">="&$A28,'Budget Plan'!$B$5:$B$104,"<"&DATE(YEAR($A28),MONTH($A28)+1,1))=0,"",SUMIFS('Budget Plan'!$K$5:$K$104,'Budget Plan'!$B$5:$B$104,">="&$A28,'Budget Plan'!$B$5:$B$104,"<"&DATE(YEAR($A28),MONTH($A28)+1,1)))
A29: =DATE(Assumptions!$B$4,ROW()-18,1) | B29: =IF(COUNTIFS('Budget Plan'!$B$5:$B$104,">="&$A29,'Budget Plan'!$B$5:$B$104,"<"&DATE(YEAR($A29),MONTH($A29)+1,1))=0,"",SUMIFS('Budget Plan'!$G$5:$G$104,'Budget Plan'!$B$5:$B$104,">="&$A29,'Budget Plan'!$B$5:$B$104,"<"&DATE(YEAR($A29),MONTH($A29)+1,1))) | C29: =IF(COUNTIFS('Budget Plan'!$B$5:$B$104,">="&$A29,'Budget Plan'!$B$5:$B$104,"<"&DATE(YEAR($A29),MONTH($A29)+1,1))=0,"",SUMIFS('Budget Plan'!$H$5:$H$104,'Budget Plan'!$B$5:$B$104,">="&$A29,'Budget Plan'!$B$5:$B$104,"<"&DATE(YEAR($A29),MONTH($A29)+1,1))) | D29: =IF(COUNTIFS('Budget Plan'!$B$5:$B$104,">="&$A29,'Budget Plan'!$B$5:$B$104,"<"&DATE(YEAR($A29),MONTH($A29)+1,1))=0,"",SUMIFS('Budget Plan'!$I$5:$I$104,'Budget Plan'!$B$5:$B$104,">="&$A29,'Budget Plan'!$B$5:$B$104,"<"&DATE(YEAR($A29),MONTH($A29)+1,1))) | E29: =IF(COUNTIFS('Budget Plan'!$B$5:$B$104,">="&$A29,'Budget Plan'!$B$5:$B$104,"<"&DATE(YEAR($A29),MONTH($A29)+1,1))=0,"",SUMIFS('Budget Plan'!$K$5:$K$104,'Budget Plan'!$B$5:$B$104,">="&$A29,'Budget Plan'!$B$5:$B$104,"<"&DATE(YEAR($A29),MONTH($A29)+1,1)))
A30: =DATE(Assumptions!$B$4,ROW()-18,1) | B30: =IF(COUNTIFS('Budget Plan'!$B$5:$B$104,">="&$A30,'Budget Plan'!$B$5:$B$104,"<"&DATE(YEAR($A30),MONTH($A30)+1,1))=0,"",SUMIFS('Budget Plan'!$G$5:$G$104,'Budget Plan'!$B$5:$B$104,">="&$A30,'Budget Plan'!$B$5:$B$104,"<"&DATE(YEAR($A30),MONTH($A30)+1,1))) | C30: =IF(COUNTIFS('Budget Plan'!$B$5:$B$104,">="&$A30,'Budget Plan'!$B$5:$B$104,"<"&DATE(YEAR($A30),MONTH($A30)+1,1))=0,"",SUMIFS('Budget Plan'!$H$5:$H$104,'Budget Plan'!$B$5:$B$104,">="&$A30,'Budget Plan'!$B$5:$B$104,"<"&DATE(YEAR($A30),MONTH($A30)+1,1))) | D30: =IF(COUNTIFS('Budget Plan'!$B$5:$B$104,">="&$A30,'Budget Plan'!$B$5:$B$104,"<"&DATE(YEAR($A30),MONTH($A30)+1,1))=0,"",SUMIFS('Budget Plan'!$I$5:$I$104,'Budget Plan'!$B$5:$B$104,">="&$A30,'Budget Plan'!$B$5:$B$104,"<"&DATE(YEAR($A30),MONTH($A30)+1,1))) | E30: =IF(COUNTIFS('Budget Plan'!$B$5:$B$104,">="&$A30,'Budget Plan'!$B$5:$B$104,"<"&DATE(YEAR($A30),MONTH($A30)+1,1))=0,"",SUMIFS('Budget Plan'!$K$5:$K$104,'Budget Plan'!$B$5:$B$104,">="&$A30,'Budget Plan'!$B$5:$B$104,"<"&DATE(YEAR($A30),MONTH($A30)+1,1)))

Sheet Budget Plan
A1: Marketing Budget Plan
A2: Editable cells are pale yellow. All sample entries are fictional. | H2: Review alerts prompt a manual check only.
A4: Record ID | B4: Spend Date | C4: Channel | D4: Campaign | E4: Owner | F4: Status | G4: Planned Spend | H4: Actual Spend | I4: Leads | J4: Quotes | K4: New Policies | L4: Plan Remaining | M4: Cost per Lead | N4: Cost per New Policy | O4: Review Alert | P4: Notes
A5: MKT-2026-001 | B5: 46037 | C5: Paid Search | D5: Fictional - Blue Finch Search | E5: Avery Rowan (fictional) | F5: Complete | G5: 1800 | H5: 1760 | I5: 42 | J5: 19 | K5: 8 | L5: =IF(COUNTA(A5:K5)=0,"",IF(OR(G5="",H5=""),"",IFERROR(G5-H5,""))) | M5: =IF(COUNTA(A5:K5)=0,"",IF(OR(H5="",I5="",I5=0),"",IFERROR(H5/I5,""))) | N5: =IF(COUNTA(A5:K5)=0,"",IF(OR(H5="",K5="",K5=0),"",IFERROR(H5/K5,""))) | O5: =IF(COUNTA(A5:K5)=0,"",IF(A5="","Review: record ID missing",IF(B5="","Review: date missing",IF(C5="","Review: channel missing",IF(F5="","Review: status missing",IF(COUNTIF($A$5:$A$104,A5)>1,"Review: duplicate record ID",IF(OR(B5<Assumptions!$B$5,B5>Assumptions!$B$6),"Review: outside planning year",IF(AND(H5<>"",G5<>"",H5>G5),"Review: actual over plan",IF(AND(H5>0,I5=0),"Review: leads missing or zero",IF(AND(C5<>"",SUMIFS($H$5:$H$104,$C$5:$C$104,C5,$B$5:$B$104,">="&Assumptions!$B$5,$B$5:$B$104,"<="&Assumptions!$B$6)>IFERROR(VLOOKUP(C5,Assumptions!$A$10:$C$17,2,FALSE),1E+99)),"Review: channel limit",IF(AND(M5<>"",IFERROR(VLOOKUP(C5,Assumptions!$A$10:$C$17,3,FALSE),0)>0,M5>IFERROR(VLOOKUP(C5,Assumptions!$A$10:$C$17,3,FALSE),1E+99)),"Review: cost per lead","No alert"))))))))))) | P5: Fictional sample entry.
A6: MKT-2026-002 | B6: 46054 | C6: Social Media | D6: Fictional - Cedar Kite Awareness | E6: Jordan Vale (fictional) | F6: Complete | G6: 1200 | H6: 1325 | I6: 31 | J6: 12 | K6: 4 | L6: =IF(COUNTA(A6:K6)=0,"",IF(OR(G6="",H6=""),"",IFERROR(G6-H6,""))) | M6: =IF(COUNTA(A6:K6)=0,"",IF(OR(H6="",I6="",I6=0),"",IFERROR(H6/I6,""))) | N6: =IF(COUNTA(A6:K6)=0,"",IF(OR(H6="",K6="",K6=0),"",IFERROR(H6/K6,""))) | O6: =IF(COUNTA(A6:K6)=0,"",IF(A6="","Review: record ID missing",IF(B6="","Review: date missing",IF(C6="","Review: channel missing",IF(F6="","Review: status missing",IF(COUNTIF($A$5:$A$104,A6)>1,"Review: duplicate record ID",IF(OR(B6<Assumptions!$B$5,B6>Assumptions!$B$6),"Review: outside planning year",IF(AND(H6<>"",G6<>"",H6>G6),"Review: actual over plan",IF(AND(H6>0,I6=0),"Review: leads missing or zero",IF(AND(C6<>"",SUMIFS($H$5:$H$104,$C$5:$C$104,C6,$B$5:$B$104,">="&Assumptions!$B$5,$B$5:$B$104,"<="&Assumptions!$B$6)>IFERROR(VLOOKUP(C6,Assumptions!$A$10:$C$17,2,FALSE),1E+99)),"Review: channel limit",IF(AND(M6<>"",IFERROR(VLOOKUP(C6,Assumptions!$A$10:$C$17,3,FALSE),0)>0,M6>IFERROR(VLOOKUP(C6,Assumptions!$A$10:$C$17,3,FALSE),1E+99)),"Review: cost per lead","No alert"))))))))))) | P6: Fictional sample entry.
A7: MKT-2026-003 | B7: 46091 | C7: Community Events | D7: Fictional - Lantern Square Booth | E7: Morgan Pine (fictional) | F7: Complete | G7: 2500 | H7: 2460 | I7: 56 | J7: 28 | K7: 11 | L7: =IF(COUNTA(A7:K7)=0,"",IF(OR(G7="",H7=""),"",IFERROR(G7-H7,""))) | M7: =IF(COUNTA(A7:K7)=0,"",IF(OR(H7="",I7="",I7=0),"",IFERROR(H7/I7,""))) | N7: =IF(COUNTA(A7:K7)=0,"",IF(OR(H7="",K7="",K7=0),"",IFERROR(H7/K7,""))) | O7: =IF(COUNTA(A7:K7)=0,"",IF(A7="","Review: record ID missing",IF(B7="","Review: date missing",IF(C7="","Review: channel missing",IF(F7="","Review: status missing",IF(COUNTIF($A$5:$A$104,A7)>1,"Review: duplicate record ID",IF(OR(B7<Assumptions!$B$5,B7>Assumptions!$B$6),"Review: outside planning year",IF(AND(H7<>"",G7<>"",H7>G7),"Review: actual over plan",IF(AND(H7>0,I7=0),"Review: leads missing or zero",IF(AND(C7<>"",SUMIFS($H$5:$H$104,$C$5:$C$104,C7,$B$5:$B$104,">="&Assumptions!$B$5,$B$5:$B$104,"<="&Assumptions!$B$6)>IFERROR(VLOOKUP(C7,Assumptions!$A$10:$C$17,2,FALSE),1E+99)),"Review: channel limit",IF(AND(M7<>"",IFERROR(VLOOKUP(C7,Assumptions!$A$10:$C$17,3,FALSE),0)>0,M7>IFERROR(VLOOKUP(C7,Assumptions!$A$10:$C$17,3,FALSE),1E+99)),"Review: cost per lead","No alert"))))))))))) | P7: Fictional sample entry.
A8: MKT-2026-004 | B8: 46117 | C8: Email | D8: Fictional - Harbor Thread Nurture | E8: Riley West (fictional) | F8: Complete | G8: 650 | H8: 610 | I8: 48 | J8: 21 | K8: 7 | L8: =IF(COUNTA(A8:K8)=0,"",IF(OR(G8="",H8=""),"",IFERROR(G8-H8,""))) | M8: =IF(COUNTA(A8:K8)=0,"",IF(OR(H8="",I8="",I8=0),"",IFERROR(H8/I8,""))) | N8: =IF(COUNTA(A8:K8)=0,"",IF(OR(H8="",K8="",K8=0),"",IFERROR(H8/K8,""))) | O8: =IF(COUNTA(A8:K8)=0,"",IF(A8="","Review: record ID missing",IF(B8="","Review: date missing",IF(C8="","Review: channel missing",IF(F8="","Review: status missing",IF(COUNTIF($A$5:$A$104,A8)>1,"Review: duplicate record ID",IF(OR(B8<Assumptions!$B$5,B8>Assumptions!$B$6),"Review: outside planning year",IF(AND(H8<>"",G8<>"",H8>G8),"Review: actual over plan",IF(AND(H8>0,I8=0),"Review: leads missing or zero",IF(AND(C8<>"",SUMIFS($H$5:$H$104,$C$5:$C$104,C8,$B$5:$B$104,">="&Assumptions!$B$5,$B$5:$B$104,"<="&Assumptions!$B$6)>IFERROR(VLOOKUP(C8,Assumptions!$A$10:$C$17,2,FALSE),1E+99)),"Review: channel limit",IF(AND(M8<>"",IFERROR(VLOOKUP(C8,Assumptions!$A$10:$C$17,3,FALSE),0)>0,M8>IFERROR(VLOOKUP(C8,Assumptions!$A$10:$C$17,3,FALSE),1E+99)),"Review: cost per lead","No alert"))))))))))) | P8: Fictional sample entry.
A9: MKT-2026-005 | B9: 46143 | C9: Referral Partners | D9: Fictional - Copper Acorn Outreach | E9: Casey North (fictional) | F9: Active | G9: 1500 | H9: 1420 | I9: 24 | J9: 14 | K9: 6 | L9: =IF(COUNTA(A9:K9)=0,"",IF(OR(G9="",H9=""),"",IFERROR(G9-H9,""))) | M9: =IF(COUNTA(A9:K9)=0,"",IF(OR(H9="",I9="",I9=0),"",IFERROR(H9/I9,""))) | N9: =IF(COUNTA(A9:K9)=0,"",IF(OR(H9="",K9="",K9=0),"",IFERROR(H9/K9,""))) | O9: =IF(COUNTA(A9:K9)=0,"",IF(A9="","Review: record ID missing",IF(B9="","Review: date missing",IF(C9="","Review: channel missing",IF(F9="","Review: status missing",IF(COUNTIF($A$5:$A$104,A9)>1,"Review: duplicate record ID",IF(OR(B9<Assumptions!$B$5,B9>Assumptions!$B$6),"Review: outside planning year",IF(AND(H9<>"",G9<>"",H9>G9),"Review: actual over plan",IF(AND(H9>0,I9=0),"Review: leads missing or zero",IF(AND(C9<>"",SUMIFS($H$5:$H$104,$C$5:$C$104,C9,$B$5:$B$104,">="&Assumptions!$B$5,$B$5:$B$104,"<="&Assumptions!$B$6)>IFERROR(VLOOKUP(C9,Assumptions!$A$10:$C$17,2,FALSE),1E+99)),"Review: channel limit",IF(AND(M9<>"",IFERROR(VLOOKUP(C9,Assumptions!$A$10:$C$17,3,FALSE),0)>0,M9>IFERROR(VLOOKUP(C9,Assumptions!$A$10:$C$17,3,FALSE),1E+99)),"Review: cost per lead","No alert"))))))))))) | P9: Fictional sample entry.
A10: MKT-2026-006 | B10: 46185 | C10: Local Sponsorships | D10: Fictional - Sunlit Field Sponsorship | E10: Taylor Reed (fictional) | F10: Complete | G10: 3000 | H10: 3000 | I10: 38 | J10: 17 | K10: 5 | L10: =IF(COUNTA(A10:K10)=0,"",IF(OR(G10="",H10=""),"",IFERROR(G10-H10,""))) | M10: =IF(COUNTA(A10:K10)=0,"",IF(OR(H10="",I10="",I10=0),"",IFERROR(H10/I10,""))) | N10: =IF(COUNTA(A10:K10)=0,"",IF(OR(H10="",K10="",K10=0),"",IFERROR(H10/K10,""))) | O10: =IF(COUNTA(A10:K10)=0,"",IF(A10="","Review: record ID missing",IF(B10="","Review: date missing",IF(C10="","Review: channel missing",IF(F10="","Review: status missing",IF(COUNTIF($A$5:$A$104,A10)>1,"Review: duplicate record ID",IF(OR(B10<Assumptions!$B$5,B10>Assumptions!$B$6),"Review: outside planning year",IF(AND(H10<>"",G10<>"",H10>G10),"Review: actual over plan",IF(AND(H10>0,I10=0),"Review: leads missing or zero",IF(AND(C10<>"",SUMIFS($H$5:$H$104,$C$5:$C$104,C10,$B$5:$B$104,">="&Assumptions!$B$5,$B$5:$B$104,"<="&Assumptions!$B$6)>IFERROR(VLOOKUP(C10,Assumptions!$A$10:$C$17,2,FALSE),1E+99)),"Review: channel limit",IF(AND(M10<>"",IFERROR(VLOOKUP(C10,Assumptions!$A$10:$C$17,3,FALSE),0)>0,M10>IFERROR(VLOOKUP(C10,Assumptions!$A$10:$C$17,3,FALSE),1E+99)),"Review: cost per lead","No alert"))))))))))) | P10: Fictional sample entry at plan boundary.
A11: MKT-2026-007 | B11: 46204 | C11: Direct Mail | D11: Fictional - Paper Compass Mailer | E11: Avery Rowan (fictional) | F11: Complete | G11: 2200 | H11: 2340 | I11: 27 | J11: 10 | K11: 3 | L11: =IF(COUNTA(A11:K11)=0,"",IF(OR(G11="",H11=""),"",IFERROR(G11-H11,""))) | M11: =IF(COUNTA(A11:K11)=0,"",IF(OR(H11="",I11="",I11=0),"",IFERROR(H11/I11,""))) | N11: =IF(COUNTA(A11:K11)=0,"",IF(OR(H11="",K11="",K11=0),"",IFERROR(H11/K11,""))) | O11: =IF(COUNTA(A11:K11)=0,"",IF(A11="","Review: record ID missing",IF(B11="","Review: date missing",IF(C11="","Review: channel missing",IF(F11="","Review: status missing",IF(COUNTIF($A$5:$A$104,A11)>1,"Review: duplicate record ID",IF(OR(B11<Assumptions!$B$5,B11>Assumptions!$B$6),"Review: outside planning year",IF(AND(H11<>"",G11<>"",H11>G11),"Review: actual over plan",IF(AND(H11>0,I11=0),"Review: leads missing or zero",IF(AND(C11<>"",SUMIFS($H$5:$H$104,$C$5:$C$104,C11,$B$5:$B$104,">="&Assumptions!$B$5,$B$5:$B$104,"<="&Assumptions!$B$6)>IFERROR(VLOOKUP(C11,Assumptions!$A$10:$C$17,2,FALSE),1E+99)),"Review: channel limit",IF(AND(M11<>"",IFERROR(VLOOKUP(C11,Assumptions!$A$10:$C$17,3,FALSE),0)>0,M11>IFERROR(VLOOKUP(C11,Assumptions!$A$10:$C$17,3,FALSE),1E+99)),"Review: cost per lead","No alert"))))))))))) | P11: Fictional sample entry.
A12: MKT-2026-008 | B12: 46242 | C12: Website Content | D12: Fictional - Mossy Bridge Guides | E12: Jordan Vale (fictional) | F12: Active | G12: 1700 | H12: 850 | I12: 19 | J12: 6 | K12: 2 | L12: =IF(COUNTA(A12:K12)=0,"",IF(OR(G12="",H12=""),"",IFERROR(G12-H12,""))) | M12: =IF(COUNTA(A12:K12)=0,"",IF(OR(H12="",I12="",I12=0),"",IFERROR(H12/I12,""))) | N12: =IF(COUNTA(A12:K12)=0,"",IF(OR(H12="",K12="",K12=0),"",IFERROR(H12/K12,""))) | O12: =IF(COUNTA(A12:K12)=0,"",IF(A12="","Review: record ID missing",IF(B12="","Review: date missing",IF(C12="","Review: channel missing",IF(F12="","Review: status missing",IF(COUNTIF($A$5:$A$104,A12)>1,"Review: duplicate record ID",IF(OR(B12<Assumptions!$B$5,B12>Assumptions!$B$6),"Review: outside planning year",IF(AND(H12<>"",G12<>"",H12>G12),"Review: actual over plan",IF(AND(H12>0,I12=0),"Review: leads missing or zero",IF(AND(C12<>"",SUMIFS($H$5:$H$104,$C$5:$C$104,C12,$B$5:$B$104,">="&Assumptions!$B$5,$B$5:$B$104,"<="&Assumptions!$B$6)>IFERROR(VLOOKUP(C12,Assumptions!$A$10:$C$17,2,FALSE),1E+99)),"Review: channel limit",IF(AND(M12<>"",IFERROR(VLOOKUP(C12,Assumptions!$A$10:$C$17,3,FALSE),0)>0,M12>IFERROR(VLOOKUP(C12,Assumptions!$A$10:$C$17,3,FALSE),1E+99)),"Review: cost per lead","No alert"))))))))))) | P12: Fictional sample entry.
A13: MKT-2026-009 | B13: 46266 | C13: Paid Search | D13: Fictional - Blue Finch Fall Search | E13: Morgan Pine (fictional) | F13: Active | G13: 2000 | H13: 1950 | I13: 0 | J13: 0 | K13: 0 | L13: =IF(COUNTA(A13:K13)=0,"",IF(OR(G13="",H13=""),"",IFERROR(G13-H13,""))) | M13: =IF(COUNTA(A13:K13)=0,"",IF(OR(H13="",I13="",I13=0),"",IFERROR(H13/I13,""))) | N13: =IF(COUNTA(A13:K13)=0,"",IF(OR(H13="",K13="",K13=0),"",IFERROR(H13/K13,""))) | O13: =IF(COUNTA(A13:K13)=0,"",IF(A13="","Review: record ID missing",IF(B13="","Review: date missing",IF(C13="","Review: channel missing",IF(F13="","Review: status missing",IF(COUNTIF($A$5:$A$104,A13)>1,"Review: duplicate record ID",IF(OR(B13<Assumptions!$B$5,B13>Assumptions!$B$6),"Review: outside planning year",IF(AND(H13<>"",G13<>"",H13>G13),"Review: actual over plan",IF(AND(H13>0,I13=0),"Review: leads missing or zero",IF(AND(C13<>"",SUMIFS($H$5:$H$104,$C$5:$C$104,C13,$B$5:$B$104,">="&Assumptions!$B$5,$B$5:$B$104,"<="&Assumptions!$B$6)>IFERROR(VLOOKUP(C13,Assumptions!$A$10:$C$17,2,FALSE),1E+99)),"Review: channel limit",IF(AND(M13<>"",IFERROR(VLOOKUP(C13,Assumptions!$A$10:$C$17,3,FALSE),0)>0,M13>IFERROR(VLOOKUP(C13,Assumptions!$A$10:$C$17,3,FALSE),1E+99)),"Review: cost per lead","No alert"))))))))))) | P13: Fictional sample with a manual-review condition.
A14: MKT-2026-010 | B14: 46296 | C14: Social Media | D14: Fictional - Amber Cloud Retargeting | E14: Riley West (fictional) | F14: Planned | G14: 1300 | H14: 0 | I14: 0 | J14: 0 | K14: 0 | L14: =IF(COUNTA(A14:K14)=0,"",IF(OR(G14="",H14=""),"",IFERROR(G14-H14,""))) | M14: =IF(COUNTA(A14:K14)=0,"",IF(OR(H14="",I14="",I14=0),"",IFERROR(H14/I14,""))) | N14: =IF(COUNTA(A14:K14)=0,"",IF(OR(H14="",K14="",K14=0),"",IFERROR(H14/K14,""))) | O14: =IF(COUNTA(A14:K14)=0,"",IF(A14="","Review: record ID missing",IF(B14="","Review: date missing",IF(C14="","Review: channel missing",IF(F14="","Review: status missing",IF(COUNTIF($A$5:$A$104,A14)>1,"Review: duplicate record ID",IF(OR(B14<Assumptions!$B$5,B14>Assumptions!$B$6),"Review: outside planning year",IF(AND(H14<>"",G14<>"",H14>G14),"Review: actual over plan",IF(AND(H14>0,I14=0),"Review: leads missing or zero",IF(AND(C14<>"",SUMIFS($H$5:$H$104,$C$5:$C$104,C14,$B$5:$B$104,">="&Assumptions!$B$5,$B$5:$B$104,"<="&Assumptions!$B$6)>IFERROR(VLOOKUP(C14,Assumptions!$A$10:$C$17,2,FALSE),1E+99)),"Review: channel limit",IF(AND(M14<>"",IFERROR(VLOOKUP(C14,Assumptions!$A$10:$C$17,3,FALSE),0)>0,M14>IFERROR(VLOOKUP(C14,Assumptions!$A$10:$C$17,3,FALSE),1E+99)),"Review: cost per lead","No alert"))))))))))) | P14: Fictional sample testing an allowed zero boundary.
L15: =IF(COUNTA(A15:K15)=0,"",IF(OR(G15="",H15=""),"",IFERROR(G15-H15,""))) | M15: =IF(COUNTA(A15:K15)=0,"",IF(OR(H15="",I15="",I15=0),"",IFERROR(H15/I15,""))) | N15: =IF(COUNTA(A15:K15)=0,"",IF(OR(H15="",K15="",K15=0),"",IFERROR(H15/K15,""))) | O15: =IF(COUNTA(A15:K15)=0,"",IF(A15="","Review: record ID missing",IF(B15="","Review: date missing",IF(C15="","Review: channel missing",IF(F15="","Review: status missing",IF(COUNTIF($A$5:$A$104,A15)>1,"Review: duplicate record ID",IF(OR(B15<Assumptions!$B$5,B15>Assumptions!$B$6),"Review: outside planning year",IF(AND(H15<>"",G15<>"",H15>G15),"Review: actual over plan",IF(AND(H15>0,I15=0),"Review: leads missing or zero",IF(AND(C15<>"",SUMIFS($H$5:$H$104,$C$5:$C$104,C15,$B$5:$B$104,">="&Assumptions!$B$5,$B$5:$B$104,"<="&Assumptions!$B$6)>IFERROR(VLOOKUP(C15,Assumptions!$A$10:$C$17,2,FALSE),1E+99)),"Review: channel limit",IF(AND(M15<>"",IFERROR(VLOOKUP(C15,Assumptions!$A$10:$C$17,3,FALSE),0)>0,M15>IFERROR(VLOOKUP(C15,Assumptions!$A$10:$C$17,3,FALSE),1E+99)),"Review: cost per lead","No alert")))))))))))
L16: =IF(COUNTA(A16:K16)=0,"",IF(OR(G16="",H16=""),"",IFERROR(G16-H16,""))) | M16: =IF(COUNTA(A16:K16)=0,"",IF(OR(H16="",I16="",I16=0),"",IFERROR(H16/I16,""))) | N16: =IF(COUNTA(A16:K16)=0,"",IF(OR(H16="",K16="",K16=0),"",IFERROR(H16/K16,""))) | O16: =IF(COUNTA(A16:K16)=0,"",IF(A16="","Review: record ID missing",IF(B16="","Review: date missing",IF(C16="","Review: channel missing",IF(F16="","Review: status missing",IF(COUNTIF($A$5:$A$104,A16)>1,"Review: duplicate record ID",IF(OR(B16<Assumptions!$B$5,B16>Assumptions!$B$6),"Review: outside planning year",IF(AND(H16<>"",G16<>"",H16>G16),"Review: actual over plan",IF(AND(H16>0,I16=0),"Review: leads missing or zero",IF(AND(C16<>"",SUMIFS($H$5:$H$104,$C$5:$C$104,C16,$B$5:$B$104,">="&Assumptions!$B$5,$B$5:$B$104,"<="&Assumptions!$B$6)>IFERROR(VLOOKUP(C16,Assumptions!$A$10:$C$17,2,FALSE),1E+99)),"Review: channel limit",IF(AND(M16<>"",IFERROR(VLOOKUP(C16,Assumptions!$A$10:$C$17,3,FALSE),0)>0,M16>IFERROR(VLOOKUP(C16,Assumptions!$A$10:$C$17,3,FALSE),1E+99)),"Review: cost per lead","No alert")))))))))))
L17: =IF(COUNTA(A17:K17)=0,"",IF(OR(G17="",H17=""),"",IFERROR(G17-H17,""))) | M17: =IF(COUNTA(A17:K17)=0,"",IF(OR(H17="",I17="",I17=0),"",IFERROR(H17/I17,""))) | N17: =IF(COUNTA(A17:K17)=0,"",IF(OR(H17="",K17="",K17=0),"",IFERROR(H17/K17,""))) | O17: =IF(COUNTA(A17:K17)=0,"",IF(A17="","Review: record ID missing",IF(B17="","Review: date missing",IF(C17="","Review: channel missing",IF(F17="","Review: status missing",IF(COUNTIF($A$5:$A$104,A17)>1,"Review: duplicate record ID",IF(OR(B17<Assumptions!$B$5,B17>Assumptions!$B$6),"Review: outside planning year",IF(AND(H17<>"",G17<>"",H17>G17),"Review: actual over plan",IF(AND(H17>0,I17=0),"Review: leads missing or zero",IF(AND(C17<>"",SUMIFS($H$5:$H$104,$C$5:$C$104,C17,$B$5:$B$104,">="&Assumptions!$B$5,$B$5:$B$104,"<="&Assumptions!$B$6)>IFERROR(VLOOKUP(C17,Assumptions!$A$10:$C$17,2,FALSE),1E+99)),"Review: channel limit",IF(AND(M17<>"",IFERROR(VLOOKUP(C17,Assumptions!$A$10:$C$17,3,FALSE),0)>0,M17>IFERROR(VLOOKUP(C17,Assumptions!$A$10:$C$17,3,FALSE),1E+99)),"Review: cost per lead","No alert")))))))))))
L18: =IF(COUNTA(A18:K18)=0,"",IF(OR(G18="",H18=""),"",IFERROR(G18-H18,""))) | M18: =IF(COUNTA(A18:K18)=0,"",IF(OR(H18="",I18="",I18=0),"",IFERROR(H18/I18,""))) | N18: =IF(COUNTA(A18:K18)=0,"",IF(OR(H18="",K18="",K18=0),"",IFERROR(H18/K18,""))) | O18: =IF(COUNTA(A18:K18)=0,"",IF(A18="","Review: record ID missing",IF(B18="","Review: date missing",IF(C18="","Review: channel missing",IF(F18="","Review: status missing",IF(COUNTIF($A$5:$A$104,A18)>1,"Review: duplicate record ID",IF(OR(B18<Assumptions!$B$5,B18>Assumptions!$B$6),"Review: outside planning year",IF(AND(H18<>"",G18<>"",H18>G18),"Review: actual over plan",IF(AND(H18>0,I18=0),"Review: leads missing or zero",IF(AND(C18<>"",SUMIFS($H$5:$H$104,$C$5:$C$104,C18,$B$5:$B$104,">="&Assumptions!$B$5,$B$5:$B$104,"<="&Assumptions!$B$6)>IFERROR(VLOOKUP(C18,Assumptions!$A$10:$C$17,2,FALSE),1E+99)),"Review: channel limit",IF(AND(M18<>"",IFERROR(VLOOKUP(C18,Assumptions!$A$10:$C$17,3,FALSE),0)>0,M18>IFERROR(VLOOKUP(C18,Assumptions!$A$10:$C$17,3,FALSE),1E+99)),"Review: cost per lead","No alert")))))))))))
L19: =IF(COUNTA(A19:K19)=0,"",IF(OR(G19="",H19=""),"",IFERROR(G19-H19,""))) | M19: =IF(COUNTA(A19:K19)=0,"",IF(OR(H19="",I19="",I19=0),"",IFERROR(H19/I19,""))) | N19: =IF(COUNTA(A19:K19)=0,"",IF(OR(H19="",K19="",K19=0),"",IFERROR(H19/K19,""))) | O19: =IF(COUNTA(A19:K19)=0,"",IF(A19="","Review: record ID missing",IF(B19="","Review: date missing",IF(C19="","Review: channel missing",IF(F19="","Review: status missing",IF(COUNTIF($A$5:$A$104,A19)>1,"Review: duplicate record ID",IF(OR(B19<Assumptions!$B$5,B19>Assumptions!$B$6),"Review: outside planning year",IF(AND(H19<>"",G19<>"",H19>G19),"Review: actual over plan",IF(AND(H19>0,I19=0),"Review: leads missing or zero",IF(AND(C19<>"",SUMIFS($H$5:$H$104,$C$5:$C$104,C19,$B$5:$B$104,">="&Assumptions!$B$5,$B$5:$B$104,"<="&Assumptions!$B$6)>IFERROR(VLOOKUP(C19,Assumptions!$A$10:$C$17,2,FALSE),1E+99)),"Review: channel limit",IF(AND(M19<>"",IFERROR(VLOOKUP(C19,Assumptions!$A$10:$C$17,3,FALSE),0)>0,M19>IFERROR(VLOOKUP(C19,Assumptions!$A$10:$C$17,3,FALSE),1E+99)),"Review: cost per lead","No alert")))))))))))
L20: =IF(COUNTA(A20:K20)=0,"",IF(OR(G20="",H20=""),"",IFERROR(G20-H20,""))) | M20: =IF(COUNTA(A20:K20)=0,"",IF(OR(H20="",I20="",I20=0),"",IFERROR(H20/I20,""))) | N20: =IF(COUNTA(A20:K20)=0,"",IF(OR(H20="",K20="",K20=0),"",IFERROR(H20/K20,""))) | O20: =IF(COUNTA(A20:K20)=0,"",IF(A20="","Review: record ID missing",IF(B20="","Review: date missing",IF(C20="","Review: channel missing",IF(F20="","Review: status missing",IF(COUNTIF($A$5:$A$104,A20)>1,"Review: duplicate record ID",IF(OR(B20<Assumptions!$B$5,B20>Assumptions!$B$6),"Review: outside planning year",IF(AND(H20<>"",G20<>"",H20>G20),"Review: actual over plan",IF(AND(H20>0,I20=0),"Review: leads missing or zero",IF(AND(C20<>"",SUMIFS($H$5:$H$104,$C$5:$C$104,C20,$B$5:$B$104,">="&Assumptions!$B$5,$B$5:$B$104,"<="&Assumptions!$B$6)>IFERROR(VLOOKUP(C20,Assumptions!$A$10:$C$17,2,FALSE),1E+99)),"Review: channel limit",IF(AND(M20<>"",IFERROR(VLOOKUP(C20,Assumptions!$A$10:$C$17,3,FALSE),0)>0,M20>IFERROR(VLOOKUP(C20,Assumptions!$A$10:$C$17,3,FALSE),1E+99)),"Review: cost per lead","No alert")))))))))))
L21: =IF(COUNTA(A21:K21)=0,"",IF(OR(G21="",H21=""),"",IFERROR(G21-H21,""))) | M21: =IF(COUNTA(A21:K21)=0,"",IF(OR(H21="",I21="",I21=0),"",IFERROR(H21/I21,""))) | N21: =IF(COUNTA(A21:K21)=0,"",IF(OR(H21="",K21="",K21=0),"",IFERROR(H21/K21,""))) | O21: =IF(COUNTA(A21:K21)=0,"",IF(A21="","Review: record ID missing",IF(B21="","Review: date missing",IF(C21="","Review: channel missing",IF(F21="","Review: status missing",IF(COUNTIF($A$5:$A$104,A21)>1,"Review: duplicate record ID",IF(OR(B21<Assumptions!$B$5,B21>Assumptions!$B$6),"Review: outside planning year",IF(AND(H21<>"",G21<>"",H21>G21),"Review: actual over plan",IF(AND(H21>0,I21=0),"Review: leads missing or zero",IF(AND(C21<>"",SUMIFS($H$5:$H$104,$C$5:$C$104,C21,$B$5:$B$104,">="&Assumptions!$B$5,$B$5:$B$104,"<="&Assumptions!$B$6)>IFERROR(VLOOKUP(C21,Assumptions!$A$10:$C$17,2,FALSE),1E+99)),"Review: channel limit",IF(AND(M21<>"",IFERROR(VLOOKUP(C21,Assumptions!$A$10:$C$17,3,FALSE),0)>0,M21>IFERROR(VLOOKUP(C21,Assumptions!$A$10:$C$17,3,FALSE),1E+99)),"Review: cost per lead","No alert")))))))))))
L22: =IF(COUNTA(A22:K22)=0,"",IF(OR(G22="",H22=""),"",IFERROR(G22-H22,""))) | M22: =IF(COUNTA(A22:K22)=0,"",IF(OR(H22="",I22="",I22=0),"",IFERROR(H22/I22,""))) | N22: =IF(COUNTA(A22:K22)=0,"",IF(OR(H22="",K22="",K22=0),"",IFERROR(H22/K22,""))) | O22: =IF(COUNTA(A22:K22)=0,"",IF(A22="","Review: record ID missing",IF(B22="","Review: date missing",IF(C22="","Review: channel missing",IF(F22="","Review: status missing",IF(COUNTIF($A$5:$A$104,A22)>1,"Review: duplicate record ID",IF(OR(B22<Assumptions!$B$5,B22>Assumptions!$B$6),"Review: outside planning year",IF(AND(H22<>"",G22<>"",H22>G22),"Review: actual over plan",IF(AND(H22>0,I22=0),"Review: leads missing or zero",IF(AND(C22<>"",SUMIFS($H$5:$H$104,$C$5:$C$104,C22,$B$5:$B$104,">="&Assumptions!$B$5,$B$5:$B$104,"<="&Assumptions!$B$6)>IFERROR(VLOOKUP(C22,Assumptions!$A$10:$C$17,2,FALSE),1E+99)),"Review: channel limit",IF(AND(M22<>"",IFERROR(VLOOKUP(C22,Assumptions!$A$10:$C$17,3,FALSE),0)>0,M22>IFERROR(VLOOKUP(C22,Assumptions!$A$10:$C$17,3,FALSE),1E+99)),"Review: cost per lead","No alert")))))))))))
L23: =IF(COUNTA(A23:K23)=0,"",IF(OR(G23="",H23=""),"",IFERROR(G23-H23,""))) | M23: =IF(COUNTA(A23:K23)=0,"",IF(OR(H23="",I23="",I23=0),"",IFERROR(H23/I23,""))) | N23: =IF(COUNTA(A23:K23)=0,"",IF(OR(H23="",K23="",K23=0),"",IFERROR(H23/K23,""))) | O23: =IF(COUNTA(A23:K23)=0,"",IF(A23="","Review: record ID missing",IF(B23="","Review: date missing",IF(C23="","Review: channel missing",IF(F23="","Review: status missing",IF(COUNTIF($A$5:$A$104,A23)>1,"Review: duplicate record ID",IF(OR(B23<Assumptions!$B$5,B23>Assumptions!$B$6),"Review: outside planning year",IF(AND(H23<>"",G23<>"",H23>G23),"Review: actual over plan",IF(AND(H23>0,I23=0),"Review: leads missing or zero",IF(AND(C23<>"",SUMIFS($H$5:$H$104,$C$5:$C$104,C23,$B$5:$B$104,">="&Assumptions!$B$5,$B$5:$B$104,"<="&Assumptions!$B$6)>IFERROR(VLOOKUP(C23,Assumptions!$A$10:$C$17,2,FALSE),1E+99)),"Review: channel limit",IF(AND(M23<>"",IFERROR(VLOOKUP(C23,Assumptions!$A$10:$C$17,3,FALSE),0)>0,M23>IFERROR(VLOOKUP(C23,Assumptions!$A$10:$C$17,3,FALSE),1E+99)),"Review: cost per lead","No alert")))))))))))
L24: =IF(COUNTA(A24:K24)=0,"",IF(OR(G24="",H24=""),"",IFERROR(G24-H24,""))) | M24: =IF(COUNTA(A24:K24)=0,"",IF(OR(H24="",I24="",I24=0),"",IFERROR(H24/I24,""))) | N24: =IF(COUNTA(A24:K24)=0,"",IF(OR(H24="",K24="",K24=0),"",IFERROR(H24/K24,""))) | O24: =IF(COUNTA(A24:K24)=0,"",IF(A24="","Review: record ID missing",IF(B24="","Review: date missing",IF(C24="","Review: channel missing",IF(F24="","Review: status missing",IF(COUNTIF($A$5:$A$104,A24)>1,"Review: duplicate record ID",IF(OR(B24<Assumptions!$B$5,B24>Assumptions!$B$6),"Review: outside planning year",IF(AND(H24<>"",G24<>"",H24>G24),"Review: actual over plan",IF(AND(H24>0,I24=0),"Review: leads missing or zero",IF(AND(C24<>"",SUMIFS($H$5:$H$104,$C$5:$C$104,C24,$B$5:$B$104,">="&Assumptions!$B$5,$B$5:$B$104,"<="&Assumptions!$B$6)>IFERROR(VLOOKUP(C24,Assumptions!$A$10:$C$17,2,FALSE),1E+99)),"Review: channel limit",IF(AND(M24<>"",IFERROR(VLOOKUP(C24,Assumptions!$A$10:$C$17,3,FALSE),0)>0,M24>IFERROR(VLOOKUP(C24,Assumptions!$A$10:$C$17,3,FALSE),1E+99)),"Review: cost per lead","No alert")))))))))))
L25: =IF(COUNTA(A25:K25)=0,"",IF(OR(G25="",H25=""),"",IFERROR(G25-H25,""))) | M25: =IF(COUNTA(A25:K25)=0,"",IF(OR(H25="",I25="",I25=0),"",IFERROR(H25/I25,""))) | N25: =IF(COUNTA(A25:K25)=0,"",IF(OR(H25="",K25="",K25=0),"",IFERROR(H25/K25,""))) | O25: =IF(COUNTA(A25:K25)=0,"",IF(A25="","Review: record ID missing",IF(B25="","Review: date missing",IF(C25="","Review: channel missing",IF(F25="","Review: status missing",IF(COUNTIF($A$5:$A$104,A25)>1,"Review: duplicate record ID",IF(OR(B25<Assumptions!$B$5,B25>Assumptions!$B$6),"Review: outside planning year",IF(AND(H25<>"",G25<>"",H25>G25),"Review: actual over plan",IF(AND(H25>0,I25=0),"Review: leads missing or zero",IF(AND(C25<>"",SUMIFS($H$5:$H$104,$C$5:$C$104,C25,$B$5:$B$104,">="&Assumptions!$B$5,$B$5:$B$104,"<="&Assumptions!$B$6)>IFERROR(VLOOKUP(C25,Assumptions!$A$10:$C$17,2,FALSE),1E+99)),"Review: channel limit",IF(AND(M25<>"",IFERROR(VLOOKUP(C25,Assumptions!$A$10:$C$17,3,FALSE),0)>0,M25>IFERROR(VLOOKUP(C25,Assumptions!$A$10:$C$17,3,FALSE),1E+99)),"Review: cost per lead","No alert")))))))))))
L26: =IF(COUNTA(A26:K26)=0,"",IF(OR(G26="",H26=""),"",IFERROR(G26-H26,""))) | M26: =IF(COUNTA(A26:K26)=0,"",IF(OR(H26="",I26="",I26=0),"",IFERROR(H26/I26,""))) | N26: =IF(COUNTA(A26:K26)=0,"",IF(OR(H26="",K26="",K26=0),"",IFERROR(H26/K26,""))) | O26: =IF(COUNTA(A26:K26)=0,"",IF(A26="","Review: record ID missing",IF(B26="","Review: date missing",IF(C26="","Review: channel missing",IF(F26="","Review: status missing",IF(COUNTIF($A$5:$A$104,A26)>1,"Review: duplicate record ID",IF(OR(B26<Assumptions!$B$5,B26>Assumptions!$B$6),"Review: outside planning year",IF(AND(H26<>"",G26<>"",H26>G26),"Review: actual over plan",IF(AND(H26>0,I26=0),"Review: leads missing or zero",IF(AND(C26<>"",SUMIFS($H$5:$H$104,$C$5:$C$104,C26,$B$5:$B$104,">="&Assumptions!$B$5,$B$5:$B$104,"<="&Assumptions!$B$6)>IFERROR(VLOOKUP(C26,Assumptions!$A$10:$C$17,2,FALSE),1E+99)),"Review: channel limit",IF(AND(M26<>"",IFERROR(VLOOKUP(C26,Assumptions!$A$10:$C$17,3,FALSE),0)>0,M26>IFERROR(VLOOKUP(C26,Assumptions!$A$10:$C$17,3,FALSE),1E+99)),"Review: cost per lead","No alert")))))))))))
... L104: =IF(COUNTA(A104:K104)=0,"",IF(OR(G104="",H104=""),"",IFERROR(G104-H104,""))) | M104: =IF(COUNTA(A104:K104)=0,"",IF(OR(H104="",I104="",I104=0),"",IFERROR(H104/I104,""))) | N104: =IF(COUNTA(A104:K104)=0,"",IF(OR(H104="",K104="",K104=0),"",IFERROR(H104/K104,""))) | O104: =IF(COUNTA(A104:K104)=0,"",IF(A104="","Review: record ID missing",IF(B104="","Review: date missing",IF(C104="","Review: channel missing",IF(F104="","Review: status missing",IF(COUNTIF($A$5:$A$104,A104)>1,"Review: duplicate record ID",IF(OR(B104<Assumptions!$B$5,B104>Assumptions!$B$6),"Review: outside planning year",IF(AND(H104<>"",G104<>"",H104>G104),"Review: actual over plan",IF(AND(H104>0,I104=0),"Review: leads missing or zero",IF(AND(C104<>"",SUMIFS($H$5:$H$104,$C$5:$C$104,C104,$B$5:$B$104,">="&Assumptions!$B$5,$B$5:$B$104,"<="&Assumptions!$B$6)>IFERROR(VLOOKUP(C104,Assumptions!$A$10:$C$17,2,FALSE),1E+99)),"Review: channel limit",IF(AND(M104<>"",IFERROR(VLOOKUP(C104,Assumptions!$A$10:$C$17,3,FALSE),0)>0,M104>IFERROR(VLOOKUP(C104,Assumptions!$A$10:$C$17,3,FALSE),1E+99)),"Review: cost per lead","No alert")))))))))))

Sheet Assumptions
A1: Marketing Budget Assumptions
A2: Edit the planning year, channel list, budget limits, and cost-per-lead targets.
A3: Assumption | B3: Value | C3: Purpose
A4: Planning Year | B4: 2026 | C4: Filters the Summary and annual channel checks.
A5: Plan Start | B5: =DATE(B4,1,1) | C5: Calculated from the entered planning year.
A6: Plan End | B6: =DATE(B4,12,31) | C6: Calculated from the entered planning year.
A8: Channel Limits and Targets
A9: Channel | B9: Annual Budget Limit | C9: Target Cost per Lead
A10: Community Events | B10: 6000 | C10: 60
A11: Email | B11: 3000 | C11: 20
A12: Paid Search | B12: 10000 | C12: 55
A13: Social Media | B13: 7500 | C13: 50
A14: Referral Partners | B14: 7000 | C14: 70
A15: Local Sponsorships | B15: 8000 | C15: 90
A16: Direct Mail | B16: 7000 | C16: 75
A17: Website Content | B17: 6000 | C17: 80
