Workbook

Sheet Summary
A1: Insurance Commission Tracker
A2: Administrative commission indicators calculated from the Commission Log. Verify entered amounts and statement details with the responsible person.
A3: Key Indicator | B3: Calculated Value
A4: Total Expected Commission | B4: =IF(COUNT('Commission Log'!$K$5:$K$204)=0,"",IFERROR(SUM('Commission Log'!$K$5:$K$204),""))
A5: Total Received Commission | B5: =IF(COUNT('Commission Log'!$M$5:$M$204)=0,"",IFERROR(SUM('Commission Log'!$M$5:$M$204),""))
A6: Pending Expected Commission | B6: =IF(COUNT('Commission Log'!$K$5:$K$204)=0,"",IFERROR(SUMIF('Commission Log'!$O$5:$O$204,"Awaiting receipt",'Commission Log'!$K$5:$K$204)+SUMIF('Commission Log'!$O$5:$O$204,"Follow up",'Commission Log'!$K$5:$K$204),""))
A7: Net Variance on Entered Receipts | B7: =IF(COUNT('Commission Log'!$N$5:$N$204)=0,"",IFERROR(SUM('Commission Log'!$N$5:$N$204),""))
A8: Follow-up Items | B8: =IF(COUNTIF('Commission Log'!$A$5:$A$204,"<>")=0,"",COUNTIF('Commission Log'!$O$5:$O$204,"Follow up"))
A9: Matched Items | B9: =IF(COUNTIF('Commission Log'!$A$5:$A$204,"<>")=0,"",COUNTIF('Commission Log'!$O$5:$O$204,"Matched"))
A10: Variance or Date Review Items | B10: =IF(COUNTIF('Commission Log'!$A$5:$A$204,"<>")=0,"",COUNTIF('Commission Log'!$O$5:$O$204,"*review*")+COUNTIF('Commission Log'!$O$5:$O$204,"Review date"))
A11: Incomplete Items | B11: =IF(COUNTIF('Commission Log'!$A$5:$A$204,"<>")=0,"",COUNTIF('Commission Log'!$O$5:$O$204,"Incomplete"))
A12: Recorded Transactions | B12: =COUNTIF('Commission Log'!$A$5:$A$204,"<>")
A15: Producer | B15: Expected | C15: Received
A16: =IF(Assumptions!$A$14="","",Assumptions!$A$14) | B16: =IF($A16="","",IF(COUNTIF('Commission Log'!$D$5:$D$204,$A16)=0,"",IFERROR(SUMIF('Commission Log'!$D$5:$D$204,$A16,'Commission Log'!$K$5:$K$204),""))) | C16: =IF($A16="","",IF(COUNTIF('Commission Log'!$D$5:$D$204,$A16)=0,"",IFERROR(SUMIF('Commission Log'!$D$5:$D$204,$A16,'Commission Log'!$M$5:$M$204),"")))
A17: =IF(Assumptions!$A$15="","",Assumptions!$A$15) | B17: =IF($A17="","",IF(COUNTIF('Commission Log'!$D$5:$D$204,$A17)=0,"",IFERROR(SUMIF('Commission Log'!$D$5:$D$204,$A17,'Commission Log'!$K$5:$K$204),""))) | C17: =IF($A17="","",IF(COUNTIF('Commission Log'!$D$5:$D$204,$A17)=0,"",IFERROR(SUMIF('Commission Log'!$D$5:$D$204,$A17,'Commission Log'!$M$5:$M$204),"")))
A18: =IF(Assumptions!$A$16="","",Assumptions!$A$16) | B18: =IF($A18="","",IF(COUNTIF('Commission Log'!$D$5:$D$204,$A18)=0,"",IFERROR(SUMIF('Commission Log'!$D$5:$D$204,$A18,'Commission Log'!$K$5:$K$204),""))) | C18: =IF($A18="","",IF(COUNTIF('Commission Log'!$D$5:$D$204,$A18)=0,"",IFERROR(SUMIF('Commission Log'!$D$5:$D$204,$A18,'Commission Log'!$M$5:$M$204),"")))
A19: =IF(Assumptions!$A$17="","",Assumptions!$A$17) | B19: =IF($A19="","",IF(COUNTIF('Commission Log'!$D$5:$D$204,$A19)=0,"",IFERROR(SUMIF('Commission Log'!$D$5:$D$204,$A19,'Commission Log'!$K$5:$K$204),""))) | C19: =IF($A19="","",IF(COUNTIF('Commission Log'!$D$5:$D$204,$A19)=0,"",IFERROR(SUMIF('Commission Log'!$D$5:$D$204,$A19,'Commission Log'!$M$5:$M$204),"")))

Sheet Commission Log
A1: Commission Log
A2: Yellow cells are editable. Formula columns calculate expected commission, variance, and a human review prompt from the entered administrative data.
A4: Transaction ID | B4: Statement Date | C4: Statement Ref | D4: Producer | E4: Carrier | F4: Policy Ref | G4: Client | H4: Transaction Type | I4: Commissionable Premium | J4: Commission Rate | K4: Expected Commission | L4: Received Date | M4: Received Commission | N4: Variance | O4: Status | P4: Follow-up Owner | Q4: Notes
A5: FIC-COM-0001 | B5: 46204 | C5: FIC-STMT-2026-101 | D5: Fictional Avery North | E5: Fictional Harborline Insurance Company | F5: FIC-POL-2101 | G5: Fictional Blue Acorn Bakery LLC | H5: Renewal | I5: 12500 | J5: 0.12 | K5: =IF(OR($A5="",$I5="",$J5=""),"",IFERROR($I5*$J5,"")) | L5: 46218 | M5: 1500 | N5: =IF(OR($K5="",$M5=""),"",IFERROR($M5-$K5,"")) | O5: =IF($A5="","",IF(OR($B5="",$C5="",$D5="",$E5="",$F5="",$G5="",$H5="",$I5="",$J5="",$P5=""),"Incomplete",IF(AND($L5="",$M5=""),IF(TODAY()>$B5+Assumptions!$B$4,"Follow up","Awaiting receipt"),IF(OR($L5="",$M5=""),"Incomplete",IF($L5<$B5,"Review date",IF(ABS($N5)<=Assumptions!$B$5,"Matched",IF($N5<0,"Short / review","Over / review"))))))) | P5: Fictional Riley Stone | Q5: Statement line reviewed.
A6: FIC-COM-0002 | B6: 46204 | C6: FIC-STMT-2026-101 | D6: Fictional Jordan Vale | E6: Fictional Harborline Insurance Company | F6: FIC-POL-2102 | G6: Fictional Cedar Lantern Studio LLC | H6: New Business | I6: 8000 | J6: 0.1 | K6: =IF(OR($A6="",$I6="",$J6=""),"",IFERROR($I6*$J6,"")) | L6: 46218 | M6: 760 | N6: =IF(OR($K6="",$M6=""),"",IFERROR($M6-$K6,"")) | O6: =IF($A6="","",IF(OR($B6="",$C6="",$D6="",$E6="",$F6="",$G6="",$H6="",$I6="",$J6="",$P6=""),"Incomplete",IF(AND($L6="",$M6=""),IF(TODAY()>$B6+Assumptions!$B$4,"Follow up","Awaiting receipt"),IF(OR($L6="",$M6=""),"Incomplete",IF($L6<$B6,"Review date",IF(ABS($N6)<=Assumptions!$B$5,"Matched",IF($N6<0,"Short / review","Over / review"))))))) | P6: Fictional Taylor Moss | Q6: Received amount needs a statement check.
A7: FIC-COM-0003 | B7: 46224 | C7: FIC-STMT-2026-102 | D7: Fictional Morgan Reed | E7: Fictional Red Maple Casualty Company | F7: FIC-POL-2103 | G7: Fictional Northwind Puzzle Works LLC | H7: Endorsement | I7: 6200 | J7: 0.15 | K7: =IF(OR($A7="",$I7="",$J7=""),"",IFERROR($I7*$J7,"")) | N7: =IF(OR($K7="",$M7=""),"",IFERROR($M7-$K7,"")) | O7: =IF($A7="","",IF(OR($B7="",$C7="",$D7="",$E7="",$F7="",$G7="",$H7="",$I7="",$J7="",$P7=""),"Incomplete",IF(AND($L7="",$M7=""),IF(TODAY()>$B7+Assumptions!$B$4,"Follow up","Awaiting receipt"),IF(OR($L7="",$M7=""),"Incomplete",IF($L7<$B7,"Review date",IF(ABS($N7)<=Assumptions!$B$5,"Matched",IF($N7<0,"Short / review","Over / review"))))))) | P7: Fictional Quinn Harbor | Q7: No receipt has been entered.
A8: FIC-COM-0004 | B8: 46254 | C8: FIC-STMT-2026-103 | D8: Fictional Casey Lake | E8: Fictional Summit Lantern Mutual | F8: FIC-POL-2104 | G8: Fictional Silver Finch Bicycle Shop LLC | H8: Renewal | I8: 9600 | J8: 0.1 | K8: =IF(OR($A8="",$I8="",$J8=""),"",IFERROR($I8*$J8,"")) | N8: =IF(OR($K8="",$M8=""),"",IFERROR($M8-$K8,"")) | O8: =IF($A8="","",IF(OR($B8="",$C8="",$D8="",$E8="",$F8="",$G8="",$H8="",$I8="",$J8="",$P8=""),"Incomplete",IF(AND($L8="",$M8=""),IF(TODAY()>$B8+Assumptions!$B$4,"Follow up","Awaiting receipt"),IF(OR($L8="",$M8=""),"Incomplete",IF($L8<$B8,"Review date",IF(ABS($N8)<=Assumptions!$B$5,"Matched",IF($N8<0,"Short / review","Over / review"))))))) | P8: Fictional Riley Stone | Q8: Within the current review-age setting.
A9: FIC-COM-0005 | B9: 46216 | C9: FIC-STMT-2026-104 | D9: Fictional Avery North | E9: Fictional Willow Arc Specialty Company | F9: FIC-POL-2105 | G9: Fictional Copper Moon Garden LLC | H9: Cancellation | I9: -1800 | J9: 0.1 | K9: =IF(OR($A9="",$I9="",$J9=""),"",IFERROR($I9*$J9,"")) | L9: 46232 | M9: -180 | N9: =IF(OR($K9="",$M9=""),"",IFERROR($M9-$K9,"")) | O9: =IF($A9="","",IF(OR($B9="",$C9="",$D9="",$E9="",$F9="",$G9="",$H9="",$I9="",$J9="",$P9=""),"Incomplete",IF(AND($L9="",$M9=""),IF(TODAY()>$B9+Assumptions!$B$4,"Follow up","Awaiting receipt"),IF(OR($L9="",$M9=""),"Incomplete",IF($L9<$B9,"Review date",IF(ABS($N9)<=Assumptions!$B$5,"Matched",IF($N9<0,"Short / review","Over / review"))))))) | P9: Fictional Taylor Moss | Q9: Negative administrative adjustment.
A10: FIC-COM-0006 | B10: 46232 | C10: FIC-STMT-2026-105 | D10: Fictional Jordan Vale | E10: Fictional Red Maple Casualty Company | F10: FIC-POL-2106 | G10: Fictional Meadow Circuit Labs LLC | H10: New Business | I10: 5000 | J10: 0.12 | K10: =IF(OR($A10="",$I10="",$J10=""),"",IFERROR($I10*$J10,"")) | L10: 46250 | M10: 625 | N10: =IF(OR($K10="",$M10=""),"",IFERROR($M10-$K10,"")) | O10: =IF($A10="","",IF(OR($B10="",$C10="",$D10="",$E10="",$F10="",$G10="",$H10="",$I10="",$J10="",$P10=""),"Incomplete",IF(AND($L10="",$M10=""),IF(TODAY()>$B10+Assumptions!$B$4,"Follow up","Awaiting receipt"),IF(OR($L10="",$M10=""),"Incomplete",IF($L10<$B10,"Review date",IF(ABS($N10)<=Assumptions!$B$5,"Matched",IF($N10<0,"Short / review","Over / review"))))))) | P10: Fictional Quinn Harbor | Q10: Received amount exceeds the calculation.
A11: FIC-COM-0007 | B11: 46244 | C11: FIC-STMT-2026-106 | D11: Fictional Morgan Reed | E11: Fictional Summit Lantern Mutual | F11: FIC-POL-2107 | G11: Fictional Paper Harbor Books LLC | H11: Renewal | I11: 7500 | J11: 0.12 | K11: =IF(OR($A11="",$I11="",$J11=""),"",IFERROR($I11*$J11,"")) | M11: 900 | N11: =IF(OR($K11="",$M11=""),"",IFERROR($M11-$K11,"")) | O11: =IF($A11="","",IF(OR($B11="",$C11="",$D11="",$E11="",$F11="",$G11="",$H11="",$I11="",$J11="",$P11=""),"Incomplete",IF(AND($L11="",$M11=""),IF(TODAY()>$B11+Assumptions!$B$4,"Follow up","Awaiting receipt"),IF(OR($L11="",$M11=""),"Incomplete",IF($L11<$B11,"Review date",IF(ABS($N11)<=Assumptions!$B$5,"Matched",IF($N11<0,"Short / review","Over / review"))))))) | P11: Fictional Riley Stone | Q11: Received date is intentionally blank for review.
A12: FIC-COM-0008 | B12: 46238 | C12: FIC-STMT-2026-107 | D12: Fictional Casey Lake | E12: Fictional Willow Arc Specialty Company | F12: FIC-POL-2108 | G12: Fictional Bright Pebble Cafe LLC | H12: Endorsement | I12: 4200 | J12: 0.15 | K12: =IF(OR($A12="",$I12="",$J12=""),"",IFERROR($I12*$J12,"")) | L12: 46259 | M12: 629 | N12: =IF(OR($K12="",$M12=""),"",IFERROR($M12-$K12,"")) | O12: =IF($A12="","",IF(OR($B12="",$C12="",$D12="",$E12="",$F12="",$G12="",$H12="",$I12="",$J12="",$P12=""),"Incomplete",IF(AND($L12="",$M12=""),IF(TODAY()>$B12+Assumptions!$B$4,"Follow up","Awaiting receipt"),IF(OR($L12="",$M12=""),"Incomplete",IF($L12<$B12,"Review date",IF(ABS($N12)<=Assumptions!$B$5,"Matched",IF($N12<0,"Short / review","Over / review"))))))) | P12: Fictional Taylor Moss | Q12: Variance equals the editable match tolerance.
A13: FIC-COM-0009 | B13: 46179 | C13: FIC-STMT-2026-108 | D13: Fictional Avery North | E13: Fictional Harborline Insurance Company | F13: FIC-POL-2109 | G13: Fictional Kite and Clover Design LLC | H13: Renewal | I13: 20000 | J13: 0.08 | K13: =IF(OR($A13="",$I13="",$J13=""),"",IFERROR($I13*$J13,"")) | N13: =IF(OR($K13="",$M13=""),"",IFERROR($M13-$K13,"")) | O13: =IF($A13="","",IF(OR($B13="",$C13="",$D13="",$E13="",$F13="",$G13="",$H13="",$I13="",$J13="",$P13=""),"Incomplete",IF(AND($L13="",$M13=""),IF(TODAY()>$B13+Assumptions!$B$4,"Follow up","Awaiting receipt"),IF(OR($L13="",$M13=""),"Incomplete",IF($L13<$B13,"Review date",IF(ABS($N13)<=Assumptions!$B$5,"Matched",IF($N13<0,"Short / review","Over / review"))))))) | P13: Fictional Quinn Harbor | Q13: Older item awaiting a human follow-up check.
A14: FIC-COM-0010 | B14: 46266 | C14: FIC-STMT-2026-109 | D14: Fictional Jordan Vale | E14: Fictional Red Maple Casualty Company | F14: FIC-POL-2110 | G14: Fictional Orchard Compass Market LLC | H14: New Business | I14: 3000 | J14: 0.1 | K14: =IF(OR($A14="",$I14="",$J14=""),"",IFERROR($I14*$J14,"")) | L14: 46273 | M14: 300 | N14: =IF(OR($K14="",$M14=""),"",IFERROR($M14-$K14,"")) | O14: =IF($A14="","",IF(OR($B14="",$C14="",$D14="",$E14="",$F14="",$G14="",$H14="",$I14="",$J14="",$P14=""),"Incomplete",IF(AND($L14="",$M14=""),IF(TODAY()>$B14+Assumptions!$B$4,"Follow up","Awaiting receipt"),IF(OR($L14="",$M14=""),"Incomplete",IF($L14<$B14,"Review date",IF(ABS($N14)<=Assumptions!$B$5,"Matched",IF($N14<0,"Short / review","Over / review"))))))) | P14: Fictional Riley Stone | Q14: Recent matched entry.
K15: =IF(OR($A15="",$I15="",$J15=""),"",IFERROR($I15*$J15,"")) | N15: =IF(OR($K15="",$M15=""),"",IFERROR($M15-$K15,"")) | O15: =IF($A15="","",IF(OR($B15="",$C15="",$D15="",$E15="",$F15="",$G15="",$H15="",$I15="",$J15="",$P15=""),"Incomplete",IF(AND($L15="",$M15=""),IF(TODAY()>$B15+Assumptions!$B$4,"Follow up","Awaiting receipt"),IF(OR($L15="",$M15=""),"Incomplete",IF($L15<$B15,"Review date",IF(ABS($N15)<=Assumptions!$B$5,"Matched",IF($N15<0,"Short / review","Over / review")))))))
K16: =IF(OR($A16="",$I16="",$J16=""),"",IFERROR($I16*$J16,"")) | N16: =IF(OR($K16="",$M16=""),"",IFERROR($M16-$K16,"")) | O16: =IF($A16="","",IF(OR($B16="",$C16="",$D16="",$E16="",$F16="",$G16="",$H16="",$I16="",$J16="",$P16=""),"Incomplete",IF(AND($L16="",$M16=""),IF(TODAY()>$B16+Assumptions!$B$4,"Follow up","Awaiting receipt"),IF(OR($L16="",$M16=""),"Incomplete",IF($L16<$B16,"Review date",IF(ABS($N16)<=Assumptions!$B$5,"Matched",IF($N16<0,"Short / review","Over / review")))))))
K17: =IF(OR($A17="",$I17="",$J17=""),"",IFERROR($I17*$J17,"")) | N17: =IF(OR($K17="",$M17=""),"",IFERROR($M17-$K17,"")) | O17: =IF($A17="","",IF(OR($B17="",$C17="",$D17="",$E17="",$F17="",$G17="",$H17="",$I17="",$J17="",$P17=""),"Incomplete",IF(AND($L17="",$M17=""),IF(TODAY()>$B17+Assumptions!$B$4,"Follow up","Awaiting receipt"),IF(OR($L17="",$M17=""),"Incomplete",IF($L17<$B17,"Review date",IF(ABS($N17)<=Assumptions!$B$5,"Matched",IF($N17<0,"Short / review","Over / review")))))))
K18: =IF(OR($A18="",$I18="",$J18=""),"",IFERROR($I18*$J18,"")) | N18: =IF(OR($K18="",$M18=""),"",IFERROR($M18-$K18,"")) | O18: =IF($A18="","",IF(OR($B18="",$C18="",$D18="",$E18="",$F18="",$G18="",$H18="",$I18="",$J18="",$P18=""),"Incomplete",IF(AND($L18="",$M18=""),IF(TODAY()>$B18+Assumptions!$B$4,"Follow up","Awaiting receipt"),IF(OR($L18="",$M18=""),"Incomplete",IF($L18<$B18,"Review date",IF(ABS($N18)<=Assumptions!$B$5,"Matched",IF($N18<0,"Short / review","Over / review")))))))
K19: =IF(OR($A19="",$I19="",$J19=""),"",IFERROR($I19*$J19,"")) | N19: =IF(OR($K19="",$M19=""),"",IFERROR($M19-$K19,"")) | O19: =IF($A19="","",IF(OR($B19="",$C19="",$D19="",$E19="",$F19="",$G19="",$H19="",$I19="",$J19="",$P19=""),"Incomplete",IF(AND($L19="",$M19=""),IF(TODAY()>$B19+Assumptions!$B$4,"Follow up","Awaiting receipt"),IF(OR($L19="",$M19=""),"Incomplete",IF($L19<$B19,"Review date",IF(ABS($N19)<=Assumptions!$B$5,"Matched",IF($N19<0,"Short / review","Over / review")))))))
K20: =IF(OR($A20="",$I20="",$J20=""),"",IFERROR($I20*$J20,"")) | N20: =IF(OR($K20="",$M20=""),"",IFERROR($M20-$K20,"")) | O20: =IF($A20="","",IF(OR($B20="",$C20="",$D20="",$E20="",$F20="",$G20="",$H20="",$I20="",$J20="",$P20=""),"Incomplete",IF(AND($L20="",$M20=""),IF(TODAY()>$B20+Assumptions!$B$4,"Follow up","Awaiting receipt"),IF(OR($L20="",$M20=""),"Incomplete",IF($L20<$B20,"Review date",IF(ABS($N20)<=Assumptions!$B$5,"Matched",IF($N20<0,"Short / review","Over / review")))))))
K21: =IF(OR($A21="",$I21="",$J21=""),"",IFERROR($I21*$J21,"")) | N21: =IF(OR($K21="",$M21=""),"",IFERROR($M21-$K21,"")) | O21: =IF($A21="","",IF(OR($B21="",$C21="",$D21="",$E21="",$F21="",$G21="",$H21="",$I21="",$J21="",$P21=""),"Incomplete",IF(AND($L21="",$M21=""),IF(TODAY()>$B21+Assumptions!$B$4,"Follow up","Awaiting receipt"),IF(OR($L21="",$M21=""),"Incomplete",IF($L21<$B21,"Review date",IF(ABS($N21)<=Assumptions!$B$5,"Matched",IF($N21<0,"Short / review","Over / review")))))))
K22: =IF(OR($A22="",$I22="",$J22=""),"",IFERROR($I22*$J22,"")) | N22: =IF(OR($K22="",$M22=""),"",IFERROR($M22-$K22,"")) | O22: =IF($A22="","",IF(OR($B22="",$C22="",$D22="",$E22="",$F22="",$G22="",$H22="",$I22="",$J22="",$P22=""),"Incomplete",IF(AND($L22="",$M22=""),IF(TODAY()>$B22+Assumptions!$B$4,"Follow up","Awaiting receipt"),IF(OR($L22="",$M22=""),"Incomplete",IF($L22<$B22,"Review date",IF(ABS($N22)<=Assumptions!$B$5,"Matched",IF($N22<0,"Short / review","Over / review")))))))
K23: =IF(OR($A23="",$I23="",$J23=""),"",IFERROR($I23*$J23,"")) | N23: =IF(OR($K23="",$M23=""),"",IFERROR($M23-$K23,"")) | O23: =IF($A23="","",IF(OR($B23="",$C23="",$D23="",$E23="",$F23="",$G23="",$H23="",$I23="",$J23="",$P23=""),"Incomplete",IF(AND($L23="",$M23=""),IF(TODAY()>$B23+Assumptions!$B$4,"Follow up","Awaiting receipt"),IF(OR($L23="",$M23=""),"Incomplete",IF($L23<$B23,"Review date",IF(ABS($N23)<=Assumptions!$B$5,"Matched",IF($N23<0,"Short / review","Over / review")))))))
K24: =IF(OR($A24="",$I24="",$J24=""),"",IFERROR($I24*$J24,"")) | N24: =IF(OR($K24="",$M24=""),"",IFERROR($M24-$K24,"")) | O24: =IF($A24="","",IF(OR($B24="",$C24="",$D24="",$E24="",$F24="",$G24="",$H24="",$I24="",$J24="",$P24=""),"Incomplete",IF(AND($L24="",$M24=""),IF(TODAY()>$B24+Assumptions!$B$4,"Follow up","Awaiting receipt"),IF(OR($L24="",$M24=""),"Incomplete",IF($L24<$B24,"Review date",IF(ABS($N24)<=Assumptions!$B$5,"Matched",IF($N24<0,"Short / review","Over / review")))))))
K25: =IF(OR($A25="",$I25="",$J25=""),"",IFERROR($I25*$J25,"")) | N25: =IF(OR($K25="",$M25=""),"",IFERROR($M25-$K25,"")) | O25: =IF($A25="","",IF(OR($B25="",$C25="",$D25="",$E25="",$F25="",$G25="",$H25="",$I25="",$J25="",$P25=""),"Incomplete",IF(AND($L25="",$M25=""),IF(TODAY()>$B25+Assumptions!$B$4,"Follow up","Awaiting receipt"),IF(OR($L25="",$M25=""),"Incomplete",IF($L25<$B25,"Review date",IF(ABS($N25)<=Assumptions!$B$5,"Matched",IF($N25<0,"Short / review","Over / review")))))))
K26: =IF(OR($A26="",$I26="",$J26=""),"",IFERROR($I26*$J26,"")) | N26: =IF(OR($K26="",$M26=""),"",IFERROR($M26-$K26,"")) | O26: =IF($A26="","",IF(OR($B26="",$C26="",$D26="",$E26="",$F26="",$G26="",$H26="",$I26="",$J26="",$P26=""),"Incomplete",IF(AND($L26="",$M26=""),IF(TODAY()>$B26+Assumptions!$B$4,"Follow up","Awaiting receipt"),IF(OR($L26="",$M26=""),"Incomplete",IF($L26<$B26,"Review date",IF(ABS($N26)<=Assumptions!$B$5,"Matched",IF($N26<0,"Short / review","Over / review")))))))
... K204: =IF(OR($A204="",$I204="",$J204=""),"",IFERROR($I204*$J204,"")) | N204: =IF(OR($K204="",$M204=""),"",IFERROR($M204-$K204,"")) | O204: =IF($A204="","",IF(OR($B204="",$C204="",$D204="",$E204="",$F204="",$G204="",$H204="",$I204="",$J204="",$P204=""),"Incomplete",IF(AND($L204="",$M204=""),IF(TODAY()>$B204+Assumptions!$B$4,"Follow up","Awaiting receipt"),IF(OR($L204="",$M204=""),"Incomplete",IF($L204<$B204,"Review date",IF(ABS($N204)<=Assumptions!$B$5,"Matched",IF($N204<0,"Short / review","Over / review")))))))

Sheet Assumptions
A1: Assumptions
A2: Yellow cells are editable workflow controls and lists. These settings are administrative checks, not contract, tax, regulatory, or coverage guidance.
A3: Workflow Control | B3: Editable Value | C3: Purpose
A4: Receipt review age (days) | B4: 30 | C4: Prompts follow-up after this many calendar days.
A5: Match tolerance | B5: 1 | C5: Treats an entered variance within this amount as matched.
A6: Maximum absolute premium | B6: 10000000 | C6: Input validation limit for commissionable premium.
A7: Maximum absolute received commission | B7: 1000000 | C7: Input validation limit for received commission.
A8: Maximum commission rate | B8: 1 | C8: Input validation ceiling; 1.00 equals 100%.
A9: Earliest allowed date | B9: 44197 | C9: Beginning of the accepted date-entry range.
A10: Latest allowed date | B10: 47118 | C10: End of the accepted date-entry range.
A13: Producers | B13: Carriers | C13: Transaction Types | D13: Follow-up Owners
A14: Fictional Avery North | B14: Fictional Harborline Insurance Company | C14: New Business | D14: Fictional Riley Stone
A15: Fictional Jordan Vale | B15: Fictional Red Maple Casualty Company | C15: Renewal | D15: Fictional Taylor Moss
A16: Fictional Morgan Reed | B16: Fictional Summit Lantern Mutual | C16: Endorsement | D16: Fictional Quinn Harbor
A17: Fictional Casey Lake | B17: Fictional Willow Arc Specialty Company | C17: Cancellation
C18: Audit
