Workbook

Sheet Summary
A1: Insurance Conversion Rate Calculator
A2: Lead totals use Lead Date within the selected period; quoted and bound totals use completed Quote Date and Bind Date entries for those leads.
A3: Period Start | B3: =Assumptions!$B$3 | C3: Period End | D3: =Assumptions!$B$4
A5: Total Leads | B5: =COUNTIFS('Lead Log'!$B$5:$B$124,">="&Assumptions!$B$3,'Lead Log'!$B$5:$B$124,"<="&Assumptions!$B$4,'Lead Log'!$A$5:$A$124,"<>") | C5: Leads Quoted | D5: =COUNTIFS('Lead Log'!$B$5:$B$124,">="&Assumptions!$B$3,'Lead Log'!$B$5:$B$124,"<="&Assumptions!$B$4,'Lead Log'!$A$5:$A$124,"<>",'Lead Log'!$G$5:$G$124,">0") | E5: Leads Bound | F5: =COUNTIFS('Lead Log'!$B$5:$B$124,">="&Assumptions!$B$3,'Lead Log'!$B$5:$B$124,"<="&Assumptions!$B$4,'Lead Log'!$A$5:$A$124,"<>",'Lead Log'!$H$5:$H$124,">0") | G5: Lead-to-Quote | H5: =IFERROR($D$5/$B$5,"") | I5: Quote-to-Bind | J5: =IFERROR($F$5/$D$5,"")
A7: Needs Human Review | B7: =COUNTIFS('Lead Log'!$B$5:$B$124,">="&Assumptions!$B$3,'Lead Log'!$B$5:$B$124,"<="&Assumptions!$B$4,'Lead Log'!$A$5:$A$124,"<>",'Lead Log'!$L$5:$L$124,"<>",'Lead Log'!$L$5:$L$124,"<>OK") | C7: Avg. Days to Quote | D7: =IFERROR(AVERAGEIFS('Lead Log'!$J$5:$J$124,'Lead Log'!$B$5:$B$124,">="&Assumptions!$B$3,'Lead Log'!$B$5:$B$124,"<="&Assumptions!$B$4,'Lead Log'!$A$5:$A$124,"<>"),"") | E7: Avg. Days Quote to Bind | F7: =IFERROR(AVERAGEIFS('Lead Log'!$K$5:$K$124,'Lead Log'!$B$5:$B$124,">="&Assumptions!$B$3,'Lead Log'!$B$5:$B$124,"<="&Assumptions!$B$4,'Lead Log'!$A$5:$A$124,"<>"),"") | G7: Open Quotes | H7: =COUNTIFS('Lead Log'!$B$5:$B$124,">="&Assumptions!$B$3,'Lead Log'!$B$5:$B$124,"<="&Assumptions!$B$4,'Lead Log'!$A$5:$A$124,"<>",'Lead Log'!$G$5:$G$124,">0",'Lead Log'!$H$5:$H$124,"",'Lead Log'!$I$5:$I$124,"<>Not Proceeding") | I7: Open Unquoted | J7: =COUNTIFS('Lead Log'!$B$5:$B$124,">="&Assumptions!$B$3,'Lead Log'!$B$5:$B$124,"<="&Assumptions!$B$4,'Lead Log'!$A$5:$A$124,"<>",'Lead Log'!$G$5:$G$124,"",'Lead Log'!$I$5:$I$124,"<>Not Proceeding")
A10: Conversion by Lead Source
A12: Lead Source | B12: Leads | C12: Quoted | D12: Bound | E12: Lead-to-Quote | F12: Quote-to-Bind
A13: =Assumptions!$D$3 | B13: =IF($A13="","",COUNTIFS('Lead Log'!$B$5:$B$124,">="&Assumptions!$B$3,'Lead Log'!$B$5:$B$124,"<="&Assumptions!$B$4,'Lead Log'!$A$5:$A$124,"<>",'Lead Log'!$D$5:$D$124,$A13)) | C13: =IF($A13="","",COUNTIFS('Lead Log'!$B$5:$B$124,">="&Assumptions!$B$3,'Lead Log'!$B$5:$B$124,"<="&Assumptions!$B$4,'Lead Log'!$A$5:$A$124,"<>",'Lead Log'!$D$5:$D$124,$A13,'Lead Log'!$G$5:$G$124,">0")) | D13: =IF($A13="","",COUNTIFS('Lead Log'!$B$5:$B$124,">="&Assumptions!$B$3,'Lead Log'!$B$5:$B$124,"<="&Assumptions!$B$4,'Lead Log'!$A$5:$A$124,"<>",'Lead Log'!$D$5:$D$124,$A13,'Lead Log'!$H$5:$H$124,">0")) | E13: =IF($A13="","",IFERROR($C13/$B13,"")) | F13: =IF($A13="","",IFERROR($D13/$C13,""))
A14: =Assumptions!$D$4 | B14: =IF($A14="","",COUNTIFS('Lead Log'!$B$5:$B$124,">="&Assumptions!$B$3,'Lead Log'!$B$5:$B$124,"<="&Assumptions!$B$4,'Lead Log'!$A$5:$A$124,"<>",'Lead Log'!$D$5:$D$124,$A14)) | C14: =IF($A14="","",COUNTIFS('Lead Log'!$B$5:$B$124,">="&Assumptions!$B$3,'Lead Log'!$B$5:$B$124,"<="&Assumptions!$B$4,'Lead Log'!$A$5:$A$124,"<>",'Lead Log'!$D$5:$D$124,$A14,'Lead Log'!$G$5:$G$124,">0")) | D14: =IF($A14="","",COUNTIFS('Lead Log'!$B$5:$B$124,">="&Assumptions!$B$3,'Lead Log'!$B$5:$B$124,"<="&Assumptions!$B$4,'Lead Log'!$A$5:$A$124,"<>",'Lead Log'!$D$5:$D$124,$A14,'Lead Log'!$H$5:$H$124,">0")) | E14: =IF($A14="","",IFERROR($C14/$B14,"")) | F14: =IF($A14="","",IFERROR($D14/$C14,""))
A15: =Assumptions!$D$5 | B15: =IF($A15="","",COUNTIFS('Lead Log'!$B$5:$B$124,">="&Assumptions!$B$3,'Lead Log'!$B$5:$B$124,"<="&Assumptions!$B$4,'Lead Log'!$A$5:$A$124,"<>",'Lead Log'!$D$5:$D$124,$A15)) | C15: =IF($A15="","",COUNTIFS('Lead Log'!$B$5:$B$124,">="&Assumptions!$B$3,'Lead Log'!$B$5:$B$124,"<="&Assumptions!$B$4,'Lead Log'!$A$5:$A$124,"<>",'Lead Log'!$D$5:$D$124,$A15,'Lead Log'!$G$5:$G$124,">0")) | D15: =IF($A15="","",COUNTIFS('Lead Log'!$B$5:$B$124,">="&Assumptions!$B$3,'Lead Log'!$B$5:$B$124,"<="&Assumptions!$B$4,'Lead Log'!$A$5:$A$124,"<>",'Lead Log'!$D$5:$D$124,$A15,'Lead Log'!$H$5:$H$124,">0")) | E15: =IF($A15="","",IFERROR($C15/$B15,"")) | F15: =IF($A15="","",IFERROR($D15/$C15,""))
A16: =Assumptions!$D$6 | B16: =IF($A16="","",COUNTIFS('Lead Log'!$B$5:$B$124,">="&Assumptions!$B$3,'Lead Log'!$B$5:$B$124,"<="&Assumptions!$B$4,'Lead Log'!$A$5:$A$124,"<>",'Lead Log'!$D$5:$D$124,$A16)) | C16: =IF($A16="","",COUNTIFS('Lead Log'!$B$5:$B$124,">="&Assumptions!$B$3,'Lead Log'!$B$5:$B$124,"<="&Assumptions!$B$4,'Lead Log'!$A$5:$A$124,"<>",'Lead Log'!$D$5:$D$124,$A16,'Lead Log'!$G$5:$G$124,">0")) | D16: =IF($A16="","",COUNTIFS('Lead Log'!$B$5:$B$124,">="&Assumptions!$B$3,'Lead Log'!$B$5:$B$124,"<="&Assumptions!$B$4,'Lead Log'!$A$5:$A$124,"<>",'Lead Log'!$D$5:$D$124,$A16,'Lead Log'!$H$5:$H$124,">0")) | E16: =IF($A16="","",IFERROR($C16/$B16,"")) | F16: =IF($A16="","",IFERROR($D16/$C16,""))
A17: =Assumptions!$D$7 | B17: =IF($A17="","",COUNTIFS('Lead Log'!$B$5:$B$124,">="&Assumptions!$B$3,'Lead Log'!$B$5:$B$124,"<="&Assumptions!$B$4,'Lead Log'!$A$5:$A$124,"<>",'Lead Log'!$D$5:$D$124,$A17)) | C17: =IF($A17="","",COUNTIFS('Lead Log'!$B$5:$B$124,">="&Assumptions!$B$3,'Lead Log'!$B$5:$B$124,"<="&Assumptions!$B$4,'Lead Log'!$A$5:$A$124,"<>",'Lead Log'!$D$5:$D$124,$A17,'Lead Log'!$G$5:$G$124,">0")) | D17: =IF($A17="","",COUNTIFS('Lead Log'!$B$5:$B$124,">="&Assumptions!$B$3,'Lead Log'!$B$5:$B$124,"<="&Assumptions!$B$4,'Lead Log'!$A$5:$A$124,"<>",'Lead Log'!$D$5:$D$124,$A17,'Lead Log'!$H$5:$H$124,">0")) | E17: =IF($A17="","",IFERROR($C17/$B17,"")) | F17: =IF($A17="","",IFERROR($D17/$C17,""))
A18: =Assumptions!$D$8 | B18: =IF($A18="","",COUNTIFS('Lead Log'!$B$5:$B$124,">="&Assumptions!$B$3,'Lead Log'!$B$5:$B$124,"<="&Assumptions!$B$4,'Lead Log'!$A$5:$A$124,"<>",'Lead Log'!$D$5:$D$124,$A18)) | C18: =IF($A18="","",COUNTIFS('Lead Log'!$B$5:$B$124,">="&Assumptions!$B$3,'Lead Log'!$B$5:$B$124,"<="&Assumptions!$B$4,'Lead Log'!$A$5:$A$124,"<>",'Lead Log'!$D$5:$D$124,$A18,'Lead Log'!$G$5:$G$124,">0")) | D18: =IF($A18="","",COUNTIFS('Lead Log'!$B$5:$B$124,">="&Assumptions!$B$3,'Lead Log'!$B$5:$B$124,"<="&Assumptions!$B$4,'Lead Log'!$A$5:$A$124,"<>",'Lead Log'!$D$5:$D$124,$A18,'Lead Log'!$H$5:$H$124,">0")) | E18: =IF($A18="","",IFERROR($C18/$B18,"")) | F18: =IF($A18="","",IFERROR($D18/$C18,""))

Sheet Lead Log
A1: Lead Conversion Working Log
A2: Enter administrative lead milestones only. Quote Date and Bind Date drive the conversion calculations; no coverage or pricing recommendation is provided. | N2: Source Options | O2: Product Options | P2: Owner Options | Q2: Disposition Options | R2: Date Limits
A3: Pale gold cells are editable. Data Check alerts are prompts for human review and do not represent an official status. | N3: =Assumptions!$D$3 | O3: =Assumptions!$E$3 | P3: =Assumptions!$F$3 | Q3: =Assumptions!$G$3 | R3: =Assumptions!$B$7
A4: Lead ID | B4: Lead Date | C4: Prospect Alias | D4: Lead Source | E4: Product Line | F4: Owner | G4: Quote Date | H4: Bind Date | I4: Disposition | J4: Days to Quote | K4: Days Quote to Bind | L4: Data Check | N4: =Assumptions!$D$4 | O4: =Assumptions!$E$4 | P4: =Assumptions!$F$4 | Q4: =Assumptions!$G$4 | R4: =Assumptions!$B$8
A5: FIC-L-0001 | B5: 46185 | C5: Fictional Alder Lantern LLC | D5: Referral | E5: Businessowners | F5: Fictional Avery Lane | G5: 46189 | H5: 46195 | I5: Bound | J5: =IF($A5="","",IF(AND(ISNUMBER($B5),ISNUMBER($G5)),IFERROR($G5-$B5,""),"")) | K5: =IF($A5="","",IF(AND(ISNUMBER($G5),ISNUMBER($H5)),IFERROR($H5-$G5,""),"")) | L5: =IF($A5="","",IF(COUNTIF($A$5:$A$124,$A5)>1,"Duplicate lead ID",IF($B5="","Enter lead date",IF(NOT(ISNUMBER($B5)),"Check lead date",IF($D5="","Select lead source",IF($E5="","Select product line",IF($F5="","Select owner",IF($I5="","Select disposition",IF(AND($G5<>"",NOT(ISNUMBER($G5))),"Check quote date",IF(AND($H5<>"",NOT(ISNUMBER($H5))),"Check bind date",IF(AND(ISNUMBER($G5),$G5<$B5),"Check quote date",IF(AND(ISNUMBER($H5),$G5=""),"Bind date needs quote",IF(AND(ISNUMBER($H5),ISNUMBER($G5),$H5<$G5),"Check bind date",IF(AND($I5="Bound",$H5=""),"Bound status needs date",IF(AND(ISNUMBER($H5),$I5<>"Bound"),"Review disposition after bind",IF(AND(OR($I5="Quoted",$I5="Bound"),$G5=""),"Status needs quote date",IF(AND($G5="",$I5<>"Not Proceeding",ISNUMBER($B5),$B5<TODAY()-IF(ISNUMBER(Assumptions!$B$5),Assumptions!$B$5,0)),"Review unquoted lead",IF(AND(ISNUMBER($G5),$H5="",$I5<>"Not Proceeding",$G5<TODAY()-IF(ISNUMBER(Assumptions!$B$6),Assumptions!$B$6,0)),"Review open quote","OK")))))))))))))))))) | N5: =Assumptions!$D$5 | O5: =Assumptions!$E$5 | P5: =Assumptions!$F$5 | Q5: =Assumptions!$G$5
A6: FIC-L-0002 | B6: 46200 | C6: Fictional Blue Finch Household | D6: Website Inquiry | E6: Personal Auto | F6: Fictional Jordan Brook | G6: 46205 | I6: Quoted | J6: =IF($A6="","",IF(AND(ISNUMBER($B6),ISNUMBER($G6)),IFERROR($G6-$B6,""),"")) | K6: =IF($A6="","",IF(AND(ISNUMBER($G6),ISNUMBER($H6)),IFERROR($H6-$G6,""),"")) | L6: =IF($A6="","",IF(COUNTIF($A$5:$A$124,$A6)>1,"Duplicate lead ID",IF($B6="","Enter lead date",IF(NOT(ISNUMBER($B6)),"Check lead date",IF($D6="","Select lead source",IF($E6="","Select product line",IF($F6="","Select owner",IF($I6="","Select disposition",IF(AND($G6<>"",NOT(ISNUMBER($G6))),"Check quote date",IF(AND($H6<>"",NOT(ISNUMBER($H6))),"Check bind date",IF(AND(ISNUMBER($G6),$G6<$B6),"Check quote date",IF(AND(ISNUMBER($H6),$G6=""),"Bind date needs quote",IF(AND(ISNUMBER($H6),ISNUMBER($G6),$H6<$G6),"Check bind date",IF(AND($I6="Bound",$H6=""),"Bound status needs date",IF(AND(ISNUMBER($H6),$I6<>"Bound"),"Review disposition after bind",IF(AND(OR($I6="Quoted",$I6="Bound"),$G6=""),"Status needs quote date",IF(AND($G6="",$I6<>"Not Proceeding",ISNUMBER($B6),$B6<TODAY()-IF(ISNUMBER(Assumptions!$B$5),Assumptions!$B$5,0)),"Review unquoted lead",IF(AND(ISNUMBER($G6),$H6="",$I6<>"Not Proceeding",$G6<TODAY()-IF(ISNUMBER(Assumptions!$B$6),Assumptions!$B$6,0)),"Review open quote","OK")))))))))))))))))) | N6: =Assumptions!$D$6 | O6: =Assumptions!$E$6 | P6: =Assumptions!$F$6 | Q6: =Assumptions!$G$6
A7: FIC-L-0003 | B7: 46230 | C7: Fictional Copper Willow Household | D7: Community Event | E7: Homeowners | F7: Fictional Morgan Field | I7: Contacting | J7: =IF($A7="","",IF(AND(ISNUMBER($B7),ISNUMBER($G7)),IFERROR($G7-$B7,""),"")) | K7: =IF($A7="","",IF(AND(ISNUMBER($G7),ISNUMBER($H7)),IFERROR($H7-$G7,""),"")) | L7: =IF($A7="","",IF(COUNTIF($A$5:$A$124,$A7)>1,"Duplicate lead ID",IF($B7="","Enter lead date",IF(NOT(ISNUMBER($B7)),"Check lead date",IF($D7="","Select lead source",IF($E7="","Select product line",IF($F7="","Select owner",IF($I7="","Select disposition",IF(AND($G7<>"",NOT(ISNUMBER($G7))),"Check quote date",IF(AND($H7<>"",NOT(ISNUMBER($H7))),"Check bind date",IF(AND(ISNUMBER($G7),$G7<$B7),"Check quote date",IF(AND(ISNUMBER($H7),$G7=""),"Bind date needs quote",IF(AND(ISNUMBER($H7),ISNUMBER($G7),$H7<$G7),"Check bind date",IF(AND($I7="Bound",$H7=""),"Bound status needs date",IF(AND(ISNUMBER($H7),$I7<>"Bound"),"Review disposition after bind",IF(AND(OR($I7="Quoted",$I7="Bound"),$G7=""),"Status needs quote date",IF(AND($G7="",$I7<>"Not Proceeding",ISNUMBER($B7),$B7<TODAY()-IF(ISNUMBER(Assumptions!$B$5),Assumptions!$B$5,0)),"Review unquoted lead",IF(AND(ISNUMBER($G7),$H7="",$I7<>"Not Proceeding",$G7<TODAY()-IF(ISNUMBER(Assumptions!$B$6),Assumptions!$B$6,0)),"Review open quote","OK")))))))))))))))))) | N7: =Assumptions!$D$7 | O7: =Assumptions!$E$7 | Q7: =Assumptions!$G$7
A8: FIC-L-0004 | B8: 46245 | C8: Fictional Driftwood Kite Studio LLC | D8: Agency Call | E8: General Liability | F8: Fictional Casey North | G8: 46250 | H8: 46255 | I8: Bound | J8: =IF($A8="","",IF(AND(ISNUMBER($B8),ISNUMBER($G8)),IFERROR($G8-$B8,""),"")) | K8: =IF($A8="","",IF(AND(ISNUMBER($G8),ISNUMBER($H8)),IFERROR($H8-$G8,""),"")) | L8: =IF($A8="","",IF(COUNTIF($A$5:$A$124,$A8)>1,"Duplicate lead ID",IF($B8="","Enter lead date",IF(NOT(ISNUMBER($B8)),"Check lead date",IF($D8="","Select lead source",IF($E8="","Select product line",IF($F8="","Select owner",IF($I8="","Select disposition",IF(AND($G8<>"",NOT(ISNUMBER($G8))),"Check quote date",IF(AND($H8<>"",NOT(ISNUMBER($H8))),"Check bind date",IF(AND(ISNUMBER($G8),$G8<$B8),"Check quote date",IF(AND(ISNUMBER($H8),$G8=""),"Bind date needs quote",IF(AND(ISNUMBER($H8),ISNUMBER($G8),$H8<$G8),"Check bind date",IF(AND($I8="Bound",$H8=""),"Bound status needs date",IF(AND(ISNUMBER($H8),$I8<>"Bound"),"Review disposition after bind",IF(AND(OR($I8="Quoted",$I8="Bound"),$G8=""),"Status needs quote date",IF(AND($G8="",$I8<>"Not Proceeding",ISNUMBER($B8),$B8<TODAY()-IF(ISNUMBER(Assumptions!$B$5),Assumptions!$B$5,0)),"Review unquoted lead",IF(AND(ISNUMBER($G8),$H8="",$I8<>"Not Proceeding",$G8<TODAY()-IF(ISNUMBER(Assumptions!$B$6),Assumptions!$B$6,0)),"Review open quote","OK")))))))))))))))))) | N8: =Assumptions!$D$8
A9: FIC-L-0005 | B9: 46257 | C9: Fictional Ember Orchard Services LLC | D9: Partner Introduction | E9: Workers Compensation | F9: Fictional Avery Lane | G9: 46263 | I9: Not Proceeding | J9: =IF($A9="","",IF(AND(ISNUMBER($B9),ISNUMBER($G9)),IFERROR($G9-$B9,""),"")) | K9: =IF($A9="","",IF(AND(ISNUMBER($G9),ISNUMBER($H9)),IFERROR($H9-$G9,""),"")) | L9: =IF($A9="","",IF(COUNTIF($A$5:$A$124,$A9)>1,"Duplicate lead ID",IF($B9="","Enter lead date",IF(NOT(ISNUMBER($B9)),"Check lead date",IF($D9="","Select lead source",IF($E9="","Select product line",IF($F9="","Select owner",IF($I9="","Select disposition",IF(AND($G9<>"",NOT(ISNUMBER($G9))),"Check quote date",IF(AND($H9<>"",NOT(ISNUMBER($H9))),"Check bind date",IF(AND(ISNUMBER($G9),$G9<$B9),"Check quote date",IF(AND(ISNUMBER($H9),$G9=""),"Bind date needs quote",IF(AND(ISNUMBER($H9),ISNUMBER($G9),$H9<$G9),"Check bind date",IF(AND($I9="Bound",$H9=""),"Bound status needs date",IF(AND(ISNUMBER($H9),$I9<>"Bound"),"Review disposition after bind",IF(AND(OR($I9="Quoted",$I9="Bound"),$G9=""),"Status needs quote date",IF(AND($G9="",$I9<>"Not Proceeding",ISNUMBER($B9),$B9<TODAY()-IF(ISNUMBER(Assumptions!$B$5),Assumptions!$B$5,0)),"Review unquoted lead",IF(AND(ISNUMBER($G9),$H9="",$I9<>"Not Proceeding",$G9<TODAY()-IF(ISNUMBER(Assumptions!$B$6),Assumptions!$B$6,0)),"Review open quote","OK"))))))))))))))))))
A10: FIC-L-0006 | B10: 46265 | C10: Fictional Harbor Moth Household | D10: Referral | E10: Personal Auto | F10: Fictional Jordan Brook | I10: Contacting | J10: =IF($A10="","",IF(AND(ISNUMBER($B10),ISNUMBER($G10)),IFERROR($G10-$B10,""),"")) | K10: =IF($A10="","",IF(AND(ISNUMBER($G10),ISNUMBER($H10)),IFERROR($H10-$G10,""),"")) | L10: =IF($A10="","",IF(COUNTIF($A$5:$A$124,$A10)>1,"Duplicate lead ID",IF($B10="","Enter lead date",IF(NOT(ISNUMBER($B10)),"Check lead date",IF($D10="","Select lead source",IF($E10="","Select product line",IF($F10="","Select owner",IF($I10="","Select disposition",IF(AND($G10<>"",NOT(ISNUMBER($G10))),"Check quote date",IF(AND($H10<>"",NOT(ISNUMBER($H10))),"Check bind date",IF(AND(ISNUMBER($G10),$G10<$B10),"Check quote date",IF(AND(ISNUMBER($H10),$G10=""),"Bind date needs quote",IF(AND(ISNUMBER($H10),ISNUMBER($G10),$H10<$G10),"Check bind date",IF(AND($I10="Bound",$H10=""),"Bound status needs date",IF(AND(ISNUMBER($H10),$I10<>"Bound"),"Review disposition after bind",IF(AND(OR($I10="Quoted",$I10="Bound"),$G10=""),"Status needs quote date",IF(AND($G10="",$I10<>"Not Proceeding",ISNUMBER($B10),$B10<TODAY()-IF(ISNUMBER(Assumptions!$B$5),Assumptions!$B$5,0)),"Review unquoted lead",IF(AND(ISNUMBER($G10),$H10="",$I10<>"Not Proceeding",$G10<TODAY()-IF(ISNUMBER(Assumptions!$B$6),Assumptions!$B$6,0)),"Review open quote","OK"))))))))))))))))))
A11: FIC-L-0007 | B11: 46267 | C11: Fictional Juniper Bell Household | D11: Website Inquiry | E11: Homeowners | F11: Fictional Morgan Field | G11: 46270 | H11: 46273 | I11: Bound | J11: =IF($A11="","",IF(AND(ISNUMBER($B11),ISNUMBER($G11)),IFERROR($G11-$B11,""),"")) | K11: =IF($A11="","",IF(AND(ISNUMBER($G11),ISNUMBER($H11)),IFERROR($H11-$G11,""),"")) | L11: =IF($A11="","",IF(COUNTIF($A$5:$A$124,$A11)>1,"Duplicate lead ID",IF($B11="","Enter lead date",IF(NOT(ISNUMBER($B11)),"Check lead date",IF($D11="","Select lead source",IF($E11="","Select product line",IF($F11="","Select owner",IF($I11="","Select disposition",IF(AND($G11<>"",NOT(ISNUMBER($G11))),"Check quote date",IF(AND($H11<>"",NOT(ISNUMBER($H11))),"Check bind date",IF(AND(ISNUMBER($G11),$G11<$B11),"Check quote date",IF(AND(ISNUMBER($H11),$G11=""),"Bind date needs quote",IF(AND(ISNUMBER($H11),ISNUMBER($G11),$H11<$G11),"Check bind date",IF(AND($I11="Bound",$H11=""),"Bound status needs date",IF(AND(ISNUMBER($H11),$I11<>"Bound"),"Review disposition after bind",IF(AND(OR($I11="Quoted",$I11="Bound"),$G11=""),"Status needs quote date",IF(AND($G11="",$I11<>"Not Proceeding",ISNUMBER($B11),$B11<TODAY()-IF(ISNUMBER(Assumptions!$B$5),Assumptions!$B$5,0)),"Review unquoted lead",IF(AND(ISNUMBER($G11),$H11="",$I11<>"Not Proceeding",$G11<TODAY()-IF(ISNUMBER(Assumptions!$B$6),Assumptions!$B$6,0)),"Review open quote","OK"))))))))))))))))))
A12: FIC-L-0008 | B12: 46271 | C12: Fictional Maple Comet Bakery LLC | D12: Walk-In | E12: Businessowners | F12: Fictional Casey North | G12: 46275 | I12: Quoted | J12: =IF($A12="","",IF(AND(ISNUMBER($B12),ISNUMBER($G12)),IFERROR($G12-$B12,""),"")) | K12: =IF($A12="","",IF(AND(ISNUMBER($G12),ISNUMBER($H12)),IFERROR($H12-$G12,""),"")) | L12: =IF($A12="","",IF(COUNTIF($A$5:$A$124,$A12)>1,"Duplicate lead ID",IF($B12="","Enter lead date",IF(NOT(ISNUMBER($B12)),"Check lead date",IF($D12="","Select lead source",IF($E12="","Select product line",IF($F12="","Select owner",IF($I12="","Select disposition",IF(AND($G12<>"",NOT(ISNUMBER($G12))),"Check quote date",IF(AND($H12<>"",NOT(ISNUMBER($H12))),"Check bind date",IF(AND(ISNUMBER($G12),$G12<$B12),"Check quote date",IF(AND(ISNUMBER($H12),$G12=""),"Bind date needs quote",IF(AND(ISNUMBER($H12),ISNUMBER($G12),$H12<$G12),"Check bind date",IF(AND($I12="Bound",$H12=""),"Bound status needs date",IF(AND(ISNUMBER($H12),$I12<>"Bound"),"Review disposition after bind",IF(AND(OR($I12="Quoted",$I12="Bound"),$G12=""),"Status needs quote date",IF(AND($G12="",$I12<>"Not Proceeding",ISNUMBER($B12),$B12<TODAY()-IF(ISNUMBER(Assumptions!$B$5),Assumptions!$B$5,0)),"Review unquoted lead",IF(AND(ISNUMBER($G12),$H12="",$I12<>"Not Proceeding",$G12<TODAY()-IF(ISNUMBER(Assumptions!$B$6),Assumptions!$B$6,0)),"Review open quote","OK"))))))))))))))))))
A13: FIC-L-0009 | B13: 46275 | C13: Fictional Prairie Button Household | D13: Agency Call | E13: Personal Auto | F13: Fictional Avery Lane | I13: New | J13: =IF($A13="","",IF(AND(ISNUMBER($B13),ISNUMBER($G13)),IFERROR($G13-$B13,""),"")) | K13: =IF($A13="","",IF(AND(ISNUMBER($G13),ISNUMBER($H13)),IFERROR($H13-$G13,""),"")) | L13: =IF($A13="","",IF(COUNTIF($A$5:$A$124,$A13)>1,"Duplicate lead ID",IF($B13="","Enter lead date",IF(NOT(ISNUMBER($B13)),"Check lead date",IF($D13="","Select lead source",IF($E13="","Select product line",IF($F13="","Select owner",IF($I13="","Select disposition",IF(AND($G13<>"",NOT(ISNUMBER($G13))),"Check quote date",IF(AND($H13<>"",NOT(ISNUMBER($H13))),"Check bind date",IF(AND(ISNUMBER($G13),$G13<$B13),"Check quote date",IF(AND(ISNUMBER($H13),$G13=""),"Bind date needs quote",IF(AND(ISNUMBER($H13),ISNUMBER($G13),$H13<$G13),"Check bind date",IF(AND($I13="Bound",$H13=""),"Bound status needs date",IF(AND(ISNUMBER($H13),$I13<>"Bound"),"Review disposition after bind",IF(AND(OR($I13="Quoted",$I13="Bound"),$G13=""),"Status needs quote date",IF(AND($G13="",$I13<>"Not Proceeding",ISNUMBER($B13),$B13<TODAY()-IF(ISNUMBER(Assumptions!$B$5),Assumptions!$B$5,0)),"Review unquoted lead",IF(AND(ISNUMBER($G13),$H13="",$I13<>"Not Proceeding",$G13<TODAY()-IF(ISNUMBER(Assumptions!$B$6),Assumptions!$B$6,0)),"Review open quote","OK"))))))))))))))))))
A14: FIC-L-0010 | B14: 46261 | C14: Fictional Silver Acorn Workshop LLC | D14: Community Event | E14: General Liability | F14: Fictional Jordan Brook | I14: Contacting | J14: =IF($A14="","",IF(AND(ISNUMBER($B14),ISNUMBER($G14)),IFERROR($G14-$B14,""),"")) | K14: =IF($A14="","",IF(AND(ISNUMBER($G14),ISNUMBER($H14)),IFERROR($H14-$G14,""),"")) | L14: =IF($A14="","",IF(COUNTIF($A$5:$A$124,$A14)>1,"Duplicate lead ID",IF($B14="","Enter lead date",IF(NOT(ISNUMBER($B14)),"Check lead date",IF($D14="","Select lead source",IF($E14="","Select product line",IF($F14="","Select owner",IF($I14="","Select disposition",IF(AND($G14<>"",NOT(ISNUMBER($G14))),"Check quote date",IF(AND($H14<>"",NOT(ISNUMBER($H14))),"Check bind date",IF(AND(ISNUMBER($G14),$G14<$B14),"Check quote date",IF(AND(ISNUMBER($H14),$G14=""),"Bind date needs quote",IF(AND(ISNUMBER($H14),ISNUMBER($G14),$H14<$G14),"Check bind date",IF(AND($I14="Bound",$H14=""),"Bound status needs date",IF(AND(ISNUMBER($H14),$I14<>"Bound"),"Review disposition after bind",IF(AND(OR($I14="Quoted",$I14="Bound"),$G14=""),"Status needs quote date",IF(AND($G14="",$I14<>"Not Proceeding",ISNUMBER($B14),$B14<TODAY()-IF(ISNUMBER(Assumptions!$B$5),Assumptions!$B$5,0)),"Review unquoted lead",IF(AND(ISNUMBER($G14),$H14="",$I14<>"Not Proceeding",$G14<TODAY()-IF(ISNUMBER(Assumptions!$B$6),Assumptions!$B$6,0)),"Review open quote","OK"))))))))))))))))))
J15: =IF($A15="","",IF(AND(ISNUMBER($B15),ISNUMBER($G15)),IFERROR($G15-$B15,""),"")) | K15: =IF($A15="","",IF(AND(ISNUMBER($G15),ISNUMBER($H15)),IFERROR($H15-$G15,""),"")) | L15: =IF($A15="","",IF(COUNTIF($A$5:$A$124,$A15)>1,"Duplicate lead ID",IF($B15="","Enter lead date",IF(NOT(ISNUMBER($B15)),"Check lead date",IF($D15="","Select lead source",IF($E15="","Select product line",IF($F15="","Select owner",IF($I15="","Select disposition",IF(AND($G15<>"",NOT(ISNUMBER($G15))),"Check quote date",IF(AND($H15<>"",NOT(ISNUMBER($H15))),"Check bind date",IF(AND(ISNUMBER($G15),$G15<$B15),"Check quote date",IF(AND(ISNUMBER($H15),$G15=""),"Bind date needs quote",IF(AND(ISNUMBER($H15),ISNUMBER($G15),$H15<$G15),"Check bind date",IF(AND($I15="Bound",$H15=""),"Bound status needs date",IF(AND(ISNUMBER($H15),$I15<>"Bound"),"Review disposition after bind",IF(AND(OR($I15="Quoted",$I15="Bound"),$G15=""),"Status needs quote date",IF(AND($G15="",$I15<>"Not Proceeding",ISNUMBER($B15),$B15<TODAY()-IF(ISNUMBER(Assumptions!$B$5),Assumptions!$B$5,0)),"Review unquoted lead",IF(AND(ISNUMBER($G15),$H15="",$I15<>"Not Proceeding",$G15<TODAY()-IF(ISNUMBER(Assumptions!$B$6),Assumptions!$B$6,0)),"Review open quote","OK"))))))))))))))))))
J16: =IF($A16="","",IF(AND(ISNUMBER($B16),ISNUMBER($G16)),IFERROR($G16-$B16,""),"")) | K16: =IF($A16="","",IF(AND(ISNUMBER($G16),ISNUMBER($H16)),IFERROR($H16-$G16,""),"")) | L16: =IF($A16="","",IF(COUNTIF($A$5:$A$124,$A16)>1,"Duplicate lead ID",IF($B16="","Enter lead date",IF(NOT(ISNUMBER($B16)),"Check lead date",IF($D16="","Select lead source",IF($E16="","Select product line",IF($F16="","Select owner",IF($I16="","Select disposition",IF(AND($G16<>"",NOT(ISNUMBER($G16))),"Check quote date",IF(AND($H16<>"",NOT(ISNUMBER($H16))),"Check bind date",IF(AND(ISNUMBER($G16),$G16<$B16),"Check quote date",IF(AND(ISNUMBER($H16),$G16=""),"Bind date needs quote",IF(AND(ISNUMBER($H16),ISNUMBER($G16),$H16<$G16),"Check bind date",IF(AND($I16="Bound",$H16=""),"Bound status needs date",IF(AND(ISNUMBER($H16),$I16<>"Bound"),"Review disposition after bind",IF(AND(OR($I16="Quoted",$I16="Bound"),$G16=""),"Status needs quote date",IF(AND($G16="",$I16<>"Not Proceeding",ISNUMBER($B16),$B16<TODAY()-IF(ISNUMBER(Assumptions!$B$5),Assumptions!$B$5,0)),"Review unquoted lead",IF(AND(ISNUMBER($G16),$H16="",$I16<>"Not Proceeding",$G16<TODAY()-IF(ISNUMBER(Assumptions!$B$6),Assumptions!$B$6,0)),"Review open quote","OK"))))))))))))))))))
J17: =IF($A17="","",IF(AND(ISNUMBER($B17),ISNUMBER($G17)),IFERROR($G17-$B17,""),"")) | K17: =IF($A17="","",IF(AND(ISNUMBER($G17),ISNUMBER($H17)),IFERROR($H17-$G17,""),"")) | L17: =IF($A17="","",IF(COUNTIF($A$5:$A$124,$A17)>1,"Duplicate lead ID",IF($B17="","Enter lead date",IF(NOT(ISNUMBER($B17)),"Check lead date",IF($D17="","Select lead source",IF($E17="","Select product line",IF($F17="","Select owner",IF($I17="","Select disposition",IF(AND($G17<>"",NOT(ISNUMBER($G17))),"Check quote date",IF(AND($H17<>"",NOT(ISNUMBER($H17))),"Check bind date",IF(AND(ISNUMBER($G17),$G17<$B17),"Check quote date",IF(AND(ISNUMBER($H17),$G17=""),"Bind date needs quote",IF(AND(ISNUMBER($H17),ISNUMBER($G17),$H17<$G17),"Check bind date",IF(AND($I17="Bound",$H17=""),"Bound status needs date",IF(AND(ISNUMBER($H17),$I17<>"Bound"),"Review disposition after bind",IF(AND(OR($I17="Quoted",$I17="Bound"),$G17=""),"Status needs quote date",IF(AND($G17="",$I17<>"Not Proceeding",ISNUMBER($B17),$B17<TODAY()-IF(ISNUMBER(Assumptions!$B$5),Assumptions!$B$5,0)),"Review unquoted lead",IF(AND(ISNUMBER($G17),$H17="",$I17<>"Not Proceeding",$G17<TODAY()-IF(ISNUMBER(Assumptions!$B$6),Assumptions!$B$6,0)),"Review open quote","OK"))))))))))))))))))
J18: =IF($A18="","",IF(AND(ISNUMBER($B18),ISNUMBER($G18)),IFERROR($G18-$B18,""),"")) | K18: =IF($A18="","",IF(AND(ISNUMBER($G18),ISNUMBER($H18)),IFERROR($H18-$G18,""),"")) | L18: =IF($A18="","",IF(COUNTIF($A$5:$A$124,$A18)>1,"Duplicate lead ID",IF($B18="","Enter lead date",IF(NOT(ISNUMBER($B18)),"Check lead date",IF($D18="","Select lead source",IF($E18="","Select product line",IF($F18="","Select owner",IF($I18="","Select disposition",IF(AND($G18<>"",NOT(ISNUMBER($G18))),"Check quote date",IF(AND($H18<>"",NOT(ISNUMBER($H18))),"Check bind date",IF(AND(ISNUMBER($G18),$G18<$B18),"Check quote date",IF(AND(ISNUMBER($H18),$G18=""),"Bind date needs quote",IF(AND(ISNUMBER($H18),ISNUMBER($G18),$H18<$G18),"Check bind date",IF(AND($I18="Bound",$H18=""),"Bound status needs date",IF(AND(ISNUMBER($H18),$I18<>"Bound"),"Review disposition after bind",IF(AND(OR($I18="Quoted",$I18="Bound"),$G18=""),"Status needs quote date",IF(AND($G18="",$I18<>"Not Proceeding",ISNUMBER($B18),$B18<TODAY()-IF(ISNUMBER(Assumptions!$B$5),Assumptions!$B$5,0)),"Review unquoted lead",IF(AND(ISNUMBER($G18),$H18="",$I18<>"Not Proceeding",$G18<TODAY()-IF(ISNUMBER(Assumptions!$B$6),Assumptions!$B$6,0)),"Review open quote","OK"))))))))))))))))))
J19: =IF($A19="","",IF(AND(ISNUMBER($B19),ISNUMBER($G19)),IFERROR($G19-$B19,""),"")) | K19: =IF($A19="","",IF(AND(ISNUMBER($G19),ISNUMBER($H19)),IFERROR($H19-$G19,""),"")) | L19: =IF($A19="","",IF(COUNTIF($A$5:$A$124,$A19)>1,"Duplicate lead ID",IF($B19="","Enter lead date",IF(NOT(ISNUMBER($B19)),"Check lead date",IF($D19="","Select lead source",IF($E19="","Select product line",IF($F19="","Select owner",IF($I19="","Select disposition",IF(AND($G19<>"",NOT(ISNUMBER($G19))),"Check quote date",IF(AND($H19<>"",NOT(ISNUMBER($H19))),"Check bind date",IF(AND(ISNUMBER($G19),$G19<$B19),"Check quote date",IF(AND(ISNUMBER($H19),$G19=""),"Bind date needs quote",IF(AND(ISNUMBER($H19),ISNUMBER($G19),$H19<$G19),"Check bind date",IF(AND($I19="Bound",$H19=""),"Bound status needs date",IF(AND(ISNUMBER($H19),$I19<>"Bound"),"Review disposition after bind",IF(AND(OR($I19="Quoted",$I19="Bound"),$G19=""),"Status needs quote date",IF(AND($G19="",$I19<>"Not Proceeding",ISNUMBER($B19),$B19<TODAY()-IF(ISNUMBER(Assumptions!$B$5),Assumptions!$B$5,0)),"Review unquoted lead",IF(AND(ISNUMBER($G19),$H19="",$I19<>"Not Proceeding",$G19<TODAY()-IF(ISNUMBER(Assumptions!$B$6),Assumptions!$B$6,0)),"Review open quote","OK"))))))))))))))))))
J20: =IF($A20="","",IF(AND(ISNUMBER($B20),ISNUMBER($G20)),IFERROR($G20-$B20,""),"")) | K20: =IF($A20="","",IF(AND(ISNUMBER($G20),ISNUMBER($H20)),IFERROR($H20-$G20,""),"")) | L20: =IF($A20="","",IF(COUNTIF($A$5:$A$124,$A20)>1,"Duplicate lead ID",IF($B20="","Enter lead date",IF(NOT(ISNUMBER($B20)),"Check lead date",IF($D20="","Select lead source",IF($E20="","Select product line",IF($F20="","Select owner",IF($I20="","Select disposition",IF(AND($G20<>"",NOT(ISNUMBER($G20))),"Check quote date",IF(AND($H20<>"",NOT(ISNUMBER($H20))),"Check bind date",IF(AND(ISNUMBER($G20),$G20<$B20),"Check quote date",IF(AND(ISNUMBER($H20),$G20=""),"Bind date needs quote",IF(AND(ISNUMBER($H20),ISNUMBER($G20),$H20<$G20),"Check bind date",IF(AND($I20="Bound",$H20=""),"Bound status needs date",IF(AND(ISNUMBER($H20),$I20<>"Bound"),"Review disposition after bind",IF(AND(OR($I20="Quoted",$I20="Bound"),$G20=""),"Status needs quote date",IF(AND($G20="",$I20<>"Not Proceeding",ISNUMBER($B20),$B20<TODAY()-IF(ISNUMBER(Assumptions!$B$5),Assumptions!$B$5,0)),"Review unquoted lead",IF(AND(ISNUMBER($G20),$H20="",$I20<>"Not Proceeding",$G20<TODAY()-IF(ISNUMBER(Assumptions!$B$6),Assumptions!$B$6,0)),"Review open quote","OK"))))))))))))))))))
J21: =IF($A21="","",IF(AND(ISNUMBER($B21),ISNUMBER($G21)),IFERROR($G21-$B21,""),"")) | K21: =IF($A21="","",IF(AND(ISNUMBER($G21),ISNUMBER($H21)),IFERROR($H21-$G21,""),"")) | L21: =IF($A21="","",IF(COUNTIF($A$5:$A$124,$A21)>1,"Duplicate lead ID",IF($B21="","Enter lead date",IF(NOT(ISNUMBER($B21)),"Check lead date",IF($D21="","Select lead source",IF($E21="","Select product line",IF($F21="","Select owner",IF($I21="","Select disposition",IF(AND($G21<>"",NOT(ISNUMBER($G21))),"Check quote date",IF(AND($H21<>"",NOT(ISNUMBER($H21))),"Check bind date",IF(AND(ISNUMBER($G21),$G21<$B21),"Check quote date",IF(AND(ISNUMBER($H21),$G21=""),"Bind date needs quote",IF(AND(ISNUMBER($H21),ISNUMBER($G21),$H21<$G21),"Check bind date",IF(AND($I21="Bound",$H21=""),"Bound status needs date",IF(AND(ISNUMBER($H21),$I21<>"Bound"),"Review disposition after bind",IF(AND(OR($I21="Quoted",$I21="Bound"),$G21=""),"Status needs quote date",IF(AND($G21="",$I21<>"Not Proceeding",ISNUMBER($B21),$B21<TODAY()-IF(ISNUMBER(Assumptions!$B$5),Assumptions!$B$5,0)),"Review unquoted lead",IF(AND(ISNUMBER($G21),$H21="",$I21<>"Not Proceeding",$G21<TODAY()-IF(ISNUMBER(Assumptions!$B$6),Assumptions!$B$6,0)),"Review open quote","OK"))))))))))))))))))
J22: =IF($A22="","",IF(AND(ISNUMBER($B22),ISNUMBER($G22)),IFERROR($G22-$B22,""),"")) | K22: =IF($A22="","",IF(AND(ISNUMBER($G22),ISNUMBER($H22)),IFERROR($H22-$G22,""),"")) | L22: =IF($A22="","",IF(COUNTIF($A$5:$A$124,$A22)>1,"Duplicate lead ID",IF($B22="","Enter lead date",IF(NOT(ISNUMBER($B22)),"Check lead date",IF($D22="","Select lead source",IF($E22="","Select product line",IF($F22="","Select owner",IF($I22="","Select disposition",IF(AND($G22<>"",NOT(ISNUMBER($G22))),"Check quote date",IF(AND($H22<>"",NOT(ISNUMBER($H22))),"Check bind date",IF(AND(ISNUMBER($G22),$G22<$B22),"Check quote date",IF(AND(ISNUMBER($H22),$G22=""),"Bind date needs quote",IF(AND(ISNUMBER($H22),ISNUMBER($G22),$H22<$G22),"Check bind date",IF(AND($I22="Bound",$H22=""),"Bound status needs date",IF(AND(ISNUMBER($H22),$I22<>"Bound"),"Review disposition after bind",IF(AND(OR($I22="Quoted",$I22="Bound"),$G22=""),"Status needs quote date",IF(AND($G22="",$I22<>"Not Proceeding",ISNUMBER($B22),$B22<TODAY()-IF(ISNUMBER(Assumptions!$B$5),Assumptions!$B$5,0)),"Review unquoted lead",IF(AND(ISNUMBER($G22),$H22="",$I22<>"Not Proceeding",$G22<TODAY()-IF(ISNUMBER(Assumptions!$B$6),Assumptions!$B$6,0)),"Review open quote","OK"))))))))))))))))))
J23: =IF($A23="","",IF(AND(ISNUMBER($B23),ISNUMBER($G23)),IFERROR($G23-$B23,""),"")) | K23: =IF($A23="","",IF(AND(ISNUMBER($G23),ISNUMBER($H23)),IFERROR($H23-$G23,""),"")) | L23: =IF($A23="","",IF(COUNTIF($A$5:$A$124,$A23)>1,"Duplicate lead ID",IF($B23="","Enter lead date",IF(NOT(ISNUMBER($B23)),"Check lead date",IF($D23="","Select lead source",IF($E23="","Select product line",IF($F23="","Select owner",IF($I23="","Select disposition",IF(AND($G23<>"",NOT(ISNUMBER($G23))),"Check quote date",IF(AND($H23<>"",NOT(ISNUMBER($H23))),"Check bind date",IF(AND(ISNUMBER($G23),$G23<$B23),"Check quote date",IF(AND(ISNUMBER($H23),$G23=""),"Bind date needs quote",IF(AND(ISNUMBER($H23),ISNUMBER($G23),$H23<$G23),"Check bind date",IF(AND($I23="Bound",$H23=""),"Bound status needs date",IF(AND(ISNUMBER($H23),$I23<>"Bound"),"Review disposition after bind",IF(AND(OR($I23="Quoted",$I23="Bound"),$G23=""),"Status needs quote date",IF(AND($G23="",$I23<>"Not Proceeding",ISNUMBER($B23),$B23<TODAY()-IF(ISNUMBER(Assumptions!$B$5),Assumptions!$B$5,0)),"Review unquoted lead",IF(AND(ISNUMBER($G23),$H23="",$I23<>"Not Proceeding",$G23<TODAY()-IF(ISNUMBER(Assumptions!$B$6),Assumptions!$B$6,0)),"Review open quote","OK"))))))))))))))))))
J24: =IF($A24="","",IF(AND(ISNUMBER($B24),ISNUMBER($G24)),IFERROR($G24-$B24,""),"")) | K24: =IF($A24="","",IF(AND(ISNUMBER($G24),ISNUMBER($H24)),IFERROR($H24-$G24,""),"")) | L24: =IF($A24="","",IF(COUNTIF($A$5:$A$124,$A24)>1,"Duplicate lead ID",IF($B24="","Enter lead date",IF(NOT(ISNUMBER($B24)),"Check lead date",IF($D24="","Select lead source",IF($E24="","Select product line",IF($F24="","Select owner",IF($I24="","Select disposition",IF(AND($G24<>"",NOT(ISNUMBER($G24))),"Check quote date",IF(AND($H24<>"",NOT(ISNUMBER($H24))),"Check bind date",IF(AND(ISNUMBER($G24),$G24<$B24),"Check quote date",IF(AND(ISNUMBER($H24),$G24=""),"Bind date needs quote",IF(AND(ISNUMBER($H24),ISNUMBER($G24),$H24<$G24),"Check bind date",IF(AND($I24="Bound",$H24=""),"Bound status needs date",IF(AND(ISNUMBER($H24),$I24<>"Bound"),"Review disposition after bind",IF(AND(OR($I24="Quoted",$I24="Bound"),$G24=""),"Status needs quote date",IF(AND($G24="",$I24<>"Not Proceeding",ISNUMBER($B24),$B24<TODAY()-IF(ISNUMBER(Assumptions!$B$5),Assumptions!$B$5,0)),"Review unquoted lead",IF(AND(ISNUMBER($G24),$H24="",$I24<>"Not Proceeding",$G24<TODAY()-IF(ISNUMBER(Assumptions!$B$6),Assumptions!$B$6,0)),"Review open quote","OK"))))))))))))))))))
J25: =IF($A25="","",IF(AND(ISNUMBER($B25),ISNUMBER($G25)),IFERROR($G25-$B25,""),"")) | K25: =IF($A25="","",IF(AND(ISNUMBER($G25),ISNUMBER($H25)),IFERROR($H25-$G25,""),"")) | L25: =IF($A25="","",IF(COUNTIF($A$5:$A$124,$A25)>1,"Duplicate lead ID",IF($B25="","Enter lead date",IF(NOT(ISNUMBER($B25)),"Check lead date",IF($D25="","Select lead source",IF($E25="","Select product line",IF($F25="","Select owner",IF($I25="","Select disposition",IF(AND($G25<>"",NOT(ISNUMBER($G25))),"Check quote date",IF(AND($H25<>"",NOT(ISNUMBER($H25))),"Check bind date",IF(AND(ISNUMBER($G25),$G25<$B25),"Check quote date",IF(AND(ISNUMBER($H25),$G25=""),"Bind date needs quote",IF(AND(ISNUMBER($H25),ISNUMBER($G25),$H25<$G25),"Check bind date",IF(AND($I25="Bound",$H25=""),"Bound status needs date",IF(AND(ISNUMBER($H25),$I25<>"Bound"),"Review disposition after bind",IF(AND(OR($I25="Quoted",$I25="Bound"),$G25=""),"Status needs quote date",IF(AND($G25="",$I25<>"Not Proceeding",ISNUMBER($B25),$B25<TODAY()-IF(ISNUMBER(Assumptions!$B$5),Assumptions!$B$5,0)),"Review unquoted lead",IF(AND(ISNUMBER($G25),$H25="",$I25<>"Not Proceeding",$G25<TODAY()-IF(ISNUMBER(Assumptions!$B$6),Assumptions!$B$6,0)),"Review open quote","OK"))))))))))))))))))
J26: =IF($A26="","",IF(AND(ISNUMBER($B26),ISNUMBER($G26)),IFERROR($G26-$B26,""),"")) | K26: =IF($A26="","",IF(AND(ISNUMBER($G26),ISNUMBER($H26)),IFERROR($H26-$G26,""),"")) | L26: =IF($A26="","",IF(COUNTIF($A$5:$A$124,$A26)>1,"Duplicate lead ID",IF($B26="","Enter lead date",IF(NOT(ISNUMBER($B26)),"Check lead date",IF($D26="","Select lead source",IF($E26="","Select product line",IF($F26="","Select owner",IF($I26="","Select disposition",IF(AND($G26<>"",NOT(ISNUMBER($G26))),"Check quote date",IF(AND($H26<>"",NOT(ISNUMBER($H26))),"Check bind date",IF(AND(ISNUMBER($G26),$G26<$B26),"Check quote date",IF(AND(ISNUMBER($H26),$G26=""),"Bind date needs quote",IF(AND(ISNUMBER($H26),ISNUMBER($G26),$H26<$G26),"Check bind date",IF(AND($I26="Bound",$H26=""),"Bound status needs date",IF(AND(ISNUMBER($H26),$I26<>"Bound"),"Review disposition after bind",IF(AND(OR($I26="Quoted",$I26="Bound"),$G26=""),"Status needs quote date",IF(AND($G26="",$I26<>"Not Proceeding",ISNUMBER($B26),$B26<TODAY()-IF(ISNUMBER(Assumptions!$B$5),Assumptions!$B$5,0)),"Review unquoted lead",IF(AND(ISNUMBER($G26),$H26="",$I26<>"Not Proceeding",$G26<TODAY()-IF(ISNUMBER(Assumptions!$B$6),Assumptions!$B$6,0)),"Review open quote","OK"))))))))))))))))))
... J124: =IF($A124="","",IF(AND(ISNUMBER($B124),ISNUMBER($G124)),IFERROR($G124-$B124,""),"")) | K124: =IF($A124="","",IF(AND(ISNUMBER($G124),ISNUMBER($H124)),IFERROR($H124-$G124,""),"")) | L124: =IF($A124="","",IF(COUNTIF($A$5:$A$124,$A124)>1,"Duplicate lead ID",IF($B124="","Enter lead date",IF(NOT(ISNUMBER($B124)),"Check lead date",IF($D124="","Select lead source",IF($E124="","Select product line",IF($F124="","Select owner",IF($I124="","Select disposition",IF(AND($G124<>"",NOT(ISNUMBER($G124))),"Check quote date",IF(AND($H124<>"",NOT(ISNUMBER($H124))),"Check bind date",IF(AND(ISNUMBER($G124),$G124<$B124),"Check quote date",IF(AND(ISNUMBER($H124),$G124=""),"Bind date needs quote",IF(AND(ISNUMBER($H124),ISNUMBER($G124),$H124<$G124),"Check bind date",IF(AND($I124="Bound",$H124=""),"Bound status needs date",IF(AND(ISNUMBER($H124),$I124<>"Bound"),"Review disposition after bind",IF(AND(OR($I124="Quoted",$I124="Bound"),$G124=""),"Status needs quote date",IF(AND($G124="",$I124<>"Not Proceeding",ISNUMBER($B124),$B124<TODAY()-IF(ISNUMBER(Assumptions!$B$5),Assumptions!$B$5,0)),"Review unquoted lead",IF(AND(ISNUMBER($G124),$H124="",$I124<>"Not Proceeding",$G124<TODAY()-IF(ISNUMBER(Assumptions!$B$6),Assumptions!$B$6,0)),"Review open quote","OK"))))))))))))))))))

Sheet Assumptions
A1: Editable Assumptions and Stable Lists
A2: Assumption | B2: Value | D2: Lead Sources | E2: Product Lines | F2: Owners | G2: Dispositions
A3: Analysis Start | B3: 46155 | D3: Referral | E3: Personal Auto | F3: Fictional Avery Lane | G3: New
A4: Analysis End | B4: 46275 | D4: Website Inquiry | E4: Homeowners | F4: Fictional Jordan Brook | G4: Contacting
A5: Unquoted Review After (days) | B5: 14 | D5: Community Event | E5: Businessowners | F5: Fictional Morgan Field | G5: Quoted
A6: Open Quote Review After (days) | B6: 21 | D6: Agency Call | E6: General Liability | F6: Fictional Casey North | G6: Bound
A7: Earliest Allowed Date | B7: 45545 | D7: Partner Introduction | E7: Workers Compensation | G7: Not Proceeding
A8: Latest Allowed Date | B8: 46640 | D8: Walk-In
A10: Pale gold cells are editable. Review-day limits create human follow-up prompts only; they do not establish service, coverage, or compliance requirements.
