Workbook

Sheet Summary
A1: Insurance Email Campaign Tracker Summary
A2: Indicators use only entered campaign records and the editable reporting period. All sample campaigns, names, and activity are fictional.
A3: Reporting Period | B3: =IF(OR(Assumptions!$B$3="",Assumptions!$B$4=""),"",TEXT(Assumptions!$B$3,"mm/dd/yyyy")&" to "&TEXT(Assumptions!$B$4,"mm/dd/yyyy"))
A4: Period Indicator | B4: Value | D4: Funnel Stage | E4: Count
A5: Campaigns in Period | B5: =IF(OR(Assumptions!$B$3="",Assumptions!$B$4=""),"",COUNTIFS('Campaign Tracker'!$A$5:$A$104,"<>",'Campaign Tracker'!$D$5:$D$104,">="&Assumptions!$B$3,'Campaign Tracker'!$D$5:$D$104,"<="&Assumptions!$B$4)) | D5: Emails Sent | E5: =IF($B$6="","",$B$6)
A6: Total Emails Sent | B6: =IF(OR(Assumptions!$B$3="",Assumptions!$B$4=""),"",SUMIFS('Campaign Tracker'!$G$5:$G$104,'Campaign Tracker'!$D$5:$D$104,">="&Assumptions!$B$3,'Campaign Tracker'!$D$5:$D$104,"<="&Assumptions!$B$4)) | D6: Responses | E6: =IF($B$7="","",$B$7)
A7: Total Responses | B7: =IF(OR(Assumptions!$B$3="",Assumptions!$B$4=""),"",SUMIFS('Campaign Tracker'!$H$5:$H$104,'Campaign Tracker'!$D$5:$D$104,">="&Assumptions!$B$3,'Campaign Tracker'!$D$5:$D$104,"<="&Assumptions!$B$4)) | D7: Quotes | E7: =IF($B$8="","",$B$8)
A8: Total Quotes | B8: =IF(OR(Assumptions!$B$3="",Assumptions!$B$4=""),"",SUMIFS('Campaign Tracker'!$I$5:$I$104,'Campaign Tracker'!$D$5:$D$104,">="&Assumptions!$B$3,'Campaign Tracker'!$D$5:$D$104,"<="&Assumptions!$B$4)) | D8: Binds | E8: =IF($B$9="","",$B$9)
A9: Total Binds | B9: =IF(OR(Assumptions!$B$3="",Assumptions!$B$4=""),"",SUMIFS('Campaign Tracker'!$J$5:$J$104,'Campaign Tracker'!$D$5:$D$104,">="&Assumptions!$B$3,'Campaign Tracker'!$D$5:$D$104,"<="&Assumptions!$B$4))
A11: Response Rate | B11: =IFERROR($B$7/$B$6,"")
A12: Quote Rate | B12: =IFERROR($B$8/$B$7,"")
A13: Bind Rate | B13: =IFERROR($B$9/$B$8,"")
A14: Overall Conversion | B14: =IFERROR($B$9/$B$6,"")
A15: Campaigns with Rate Alert | B15: =IF(OR(Assumptions!$B$3="",Assumptions!$B$4=""),"",COUNTIFS('Campaign Tracker'!$D$5:$D$104,">="&Assumptions!$B$3,'Campaign Tracker'!$D$5:$D$104,"<="&Assumptions!$B$4,'Campaign Tracker'!$R$5:$R$104,"Review response rate")+COUNTIFS('Campaign Tracker'!$D$5:$D$104,">="&Assumptions!$B$3,'Campaign Tracker'!$D$5:$D$104,"<="&Assumptions!$B$4,'Campaign Tracker'!$R$5:$R$104,"Review bind rate")+COUNTIFS('Campaign Tracker'!$D$5:$D$104,">="&Assumptions!$B$3,'Campaign Tracker'!$D$5:$D$104,"<="&Assumptions!$B$4,'Campaign Tracker'!$R$5:$R$104,"Review response and bind rates"))
A16: Campaigns with Count Alert | B16: =IF(OR(Assumptions!$B$3="",Assumptions!$B$4=""),"",COUNTIFS('Campaign Tracker'!$D$5:$D$104,">="&Assumptions!$B$3,'Campaign Tracker'!$D$5:$D$104,"<="&Assumptions!$B$4,'Campaign Tracker'!$Q$5:$Q$104,"Review counts"))
A18: Human Review Note | B18: Alerts identify entered values for review only. Confirm source records and agency procedures before taking action.

Sheet Campaign Tracker
A1: Insurance Email Campaign Tracker
A2: Administrative entries only. This workbook does not send email, connect to agency systems, provide coverage advice, or verify compliance. All examples are fictional.
A3: Yellow cells are editable. Rate and count alerts request a human review of entered data.
A4: Campaign ID | B4: Campaign Name | C4: Campaign Type | D4: Send Date | E4: Audience Segment | F4: Owner | G4: Emails Sent | H4: Responses | I4: Quotes | J4: Binds | K4: Status | L4: Notes | M4: Response Rate | N4: Quote Rate | O4: Bind Rate | P4: Overall Conversion | Q4: Count Check | R4: Rate Alert
A5: FIC-EM-001 | B5: Blue Lantern Welcome (Fictional) | C5: Prospecting | D5: 46023 | E5: Fictional new inquiry audience | F5: Avery Lane (Fictional) | G5: 1200 | H5: 48 | I5: 18 | J5: 5 | K5: Closed | L5: Opening-day sample at the reporting boundary. | M5: =IF(OR($A5="",$G5="",$G5=0),"",IFERROR($H5/$G5,"")) | N5: =IF(OR($A5="",$H5="",$H5=0),"",IFERROR($I5/$H5,"")) | O5: =IF(OR($A5="",$I5="",$I5=0),"",IFERROR($J5/$I5,"")) | P5: =IF(OR($A5="",$G5="",$G5=0),"",IFERROR($J5/$G5,"")) | Q5: =IF($A5="","",IF(COUNTA($G5:$J5)=0,"",IF(OR(AND($H5<>"",$G5=""),AND($I5<>"",$H5=""),AND($J5<>"",$I5=""),$H5>$G5,$I5>$H5,$J5>$I5),"Review counts","OK"))) | R5: =IF($A5="","",IF(OR($K5="Draft",$K5="Scheduled",$K5="Paused"),"",IF(OR($G5="",$G5<Assumptions!$B$8),"",IF(AND($M5<>"",$M5<Assumptions!$B$6,$O5<>"",$O5<Assumptions!$B$7),"Review response and bind rates",IF(AND($M5<>"",$M5<Assumptions!$B$6),"Review response rate",IF(AND($O5<>"",$O5<Assumptions!$B$7),"Review bind rate",""))))))
A6: FIC-EM-002 | B6: Juniper Mailbox Follow-Up (Fictional) | C6: Cross-sell | D6: 46067 | E6: Fictional household review audience | F6: Jordan Reed (Fictional) | G6: 850 | H6: 20 | I6: 8 | J6: 1 | K6: Closed | L6: Low-rate fictional sample for human review. | M6: =IF(OR($A6="",$G6="",$G6=0),"",IFERROR($H6/$G6,"")) | N6: =IF(OR($A6="",$H6="",$H6=0),"",IFERROR($I6/$H6,"")) | O6: =IF(OR($A6="",$I6="",$I6=0),"",IFERROR($J6/$I6,"")) | P6: =IF(OR($A6="",$G6="",$G6=0),"",IFERROR($J6/$G6,"")) | Q6: =IF($A6="","",IF(COUNTA($G6:$J6)=0,"",IF(OR(AND($H6<>"",$G6=""),AND($I6<>"",$H6=""),AND($J6<>"",$I6=""),$H6>$G6,$I6>$H6,$J6>$I6),"Review counts","OK"))) | R6: =IF($A6="","",IF(OR($K6="Draft",$K6="Scheduled",$K6="Paused"),"",IF(OR($G6="",$G6<Assumptions!$B$8),"",IF(AND($M6<>"",$M6<Assumptions!$B$6,$O6<>"",$O6<Assumptions!$B$7),"Review response and bind rates",IF(AND($M6<>"",$M6<Assumptions!$B$6),"Review response rate",IF(AND($O6<>"",$O6<Assumptions!$B$7),"Review bind rate",""))))))
A7: FIC-EM-003 | B7: Cobalt Renewal Reminder (Fictional) | C7: Renewal Outreach | D7: 46099 | E7: Fictional upcoming renewal audience | F7: Morgan Vale (Fictional) | G7: 500 | H7: 35 | I7: 20 | J7: 7 | K7: Sent | L7: Results entered from a fictional agency worksheet. | M7: =IF(OR($A7="",$G7="",$G7=0),"",IFERROR($H7/$G7,"")) | N7: =IF(OR($A7="",$H7="",$H7=0),"",IFERROR($I7/$H7,"")) | O7: =IF(OR($A7="",$I7="",$I7=0),"",IFERROR($J7/$I7,"")) | P7: =IF(OR($A7="",$G7="",$G7=0),"",IFERROR($J7/$G7,"")) | Q7: =IF($A7="","",IF(COUNTA($G7:$J7)=0,"",IF(OR(AND($H7<>"",$G7=""),AND($I7<>"",$H7=""),AND($J7<>"",$I7=""),$H7>$G7,$I7>$H7,$J7>$I7),"Review counts","OK"))) | R7: =IF($A7="","",IF(OR($K7="Draft",$K7="Scheduled",$K7="Paused"),"",IF(OR($G7="",$G7<Assumptions!$B$8),"",IF(AND($M7<>"",$M7<Assumptions!$B$6,$O7<>"",$O7<Assumptions!$B$7),"Review response and bind rates",IF(AND($M7<>"",$M7<Assumptions!$B$6),"Review response rate",IF(AND($O7<>"",$O7<Assumptions!$B$7),"Review bind rate",""))))))
A8: FIC-EM-004 | B8: Maple Event Recap (Fictional) | C8: Event Follow-up | D8: 46134 | E8: Fictional event attendee audience | F8: Riley North (Fictional) | G8: 100 | H8: 2 | I8: 0 | J8: 0 | K8: Sent | L8: Minimum-send boundary sample. | M8: =IF(OR($A8="",$G8="",$G8=0),"",IFERROR($H8/$G8,"")) | N8: =IF(OR($A8="",$H8="",$H8=0),"",IFERROR($I8/$H8,"")) | O8: =IF(OR($A8="",$I8="",$I8=0),"",IFERROR($J8/$I8,"")) | P8: =IF(OR($A8="",$G8="",$G8=0),"",IFERROR($J8/$G8,"")) | Q8: =IF($A8="","",IF(COUNTA($G8:$J8)=0,"",IF(OR(AND($H8<>"",$G8=""),AND($I8<>"",$H8=""),AND($J8<>"",$I8=""),$H8>$G8,$I8>$H8,$J8>$I8),"Review counts","OK"))) | R8: =IF($A8="","",IF(OR($K8="Draft",$K8="Scheduled",$K8="Paused"),"",IF(OR($G8="",$G8<Assumptions!$B$8),"",IF(AND($M8<>"",$M8<Assumptions!$B$6,$O8<>"",$O8<Assumptions!$B$7),"Review response and bind rates",IF(AND($M8<>"",$M8<Assumptions!$B$6),"Review response rate",IF(AND($O8<>"",$O8<Assumptions!$B$7),"Review bind rate",""))))))
A9: FIC-EM-005 | B9: Silver Finch Return (Fictional) | C9: Win-back | D9: 46172 | E9: Fictional former inquiry audience | F9: Taylor Brook (Fictional) | G9: 2000 | H9: 60 | I9: 22 | J9: 4 | K9: Closed | L9: Fictional bind-rate review sample. | M9: =IF(OR($A9="",$G9="",$G9=0),"",IFERROR($H9/$G9,"")) | N9: =IF(OR($A9="",$H9="",$H9=0),"",IFERROR($I9/$H9,"")) | O9: =IF(OR($A9="",$I9="",$I9=0),"",IFERROR($J9/$I9,"")) | P9: =IF(OR($A9="",$G9="",$G9=0),"",IFERROR($J9/$G9,"")) | Q9: =IF($A9="","",IF(COUNTA($G9:$J9)=0,"",IF(OR(AND($H9<>"",$G9=""),AND($I9<>"",$H9=""),AND($J9<>"",$I9=""),$H9>$G9,$I9>$H9,$J9>$I9),"Review counts","OK"))) | R9: =IF($A9="","",IF(OR($K9="Draft",$K9="Scheduled",$K9="Paused"),"",IF(OR($G9="",$G9<Assumptions!$B$8),"",IF(AND($M9<>"",$M9<Assumptions!$B$6,$O9<>"",$O9<Assumptions!$B$7),"Review response and bind rates",IF(AND($M9<>"",$M9<Assumptions!$B$6),"Review response rate",IF(AND($O9<>"",$O9<Assumptions!$B$7),"Review bind rate",""))))))
A10: FIC-EM-006 | B10: Cedar Bridge Check-In (Fictional) | C10: Renewal Outreach | D10: 46218 | E10: Fictional midsummer renewal audience | F10: Avery Lane (Fictional) | G10: 900 | H10: 45 | I10: 10 | J10: 2 | K10: Sent | L10: Bind rate equals the editable alert boundary. | M10: =IF(OR($A10="",$G10="",$G10=0),"",IFERROR($H10/$G10,"")) | N10: =IF(OR($A10="",$H10="",$H10=0),"",IFERROR($I10/$H10,"")) | O10: =IF(OR($A10="",$I10="",$I10=0),"",IFERROR($J10/$I10,"")) | P10: =IF(OR($A10="",$G10="",$G10=0),"",IFERROR($J10/$G10,"")) | Q10: =IF($A10="","",IF(COUNTA($G10:$J10)=0,"",IF(OR(AND($H10<>"",$G10=""),AND($I10<>"",$H10=""),AND($J10<>"",$I10=""),$H10>$G10,$I10>$H10,$J10>$I10),"Review counts","OK"))) | R10: =IF($A10="","",IF(OR($K10="Draft",$K10="Scheduled",$K10="Paused"),"",IF(OR($G10="",$G10<Assumptions!$B$8),"",IF(AND($M10<>"",$M10<Assumptions!$B$6,$O10<>"",$O10<Assumptions!$B$7),"Review response and bind rates",IF(AND($M10<>"",$M10<Assumptions!$B$6),"Review response rate",IF(AND($O10<>"",$O10<Assumptions!$B$7),"Review bind rate",""))))))
A11: FIC-EM-007 | B11: Amber Kite Draft (Fictional) | C11: Prospecting | E11: Fictional draft audience | F11: Jordan Reed (Fictional) | K11: Draft | L11: Draft sample; send quantities are intentionally blank. | M11: =IF(OR($A11="",$G11="",$G11=0),"",IFERROR($H11/$G11,"")) | N11: =IF(OR($A11="",$H11="",$H11=0),"",IFERROR($I11/$H11,"")) | O11: =IF(OR($A11="",$I11="",$I11=0),"",IFERROR($J11/$I11,"")) | P11: =IF(OR($A11="",$G11="",$G11=0),"",IFERROR($J11/$G11,"")) | Q11: =IF($A11="","",IF(COUNTA($G11:$J11)=0,"",IF(OR(AND($H11<>"",$G11=""),AND($I11<>"",$H11=""),AND($J11<>"",$I11=""),$H11>$G11,$I11>$H11,$J11>$I11),"Review counts","OK"))) | R11: =IF($A11="","",IF(OR($K11="Draft",$K11="Scheduled",$K11="Paused"),"",IF(OR($G11="",$G11<Assumptions!$B$8),"",IF(AND($M11<>"",$M11<Assumptions!$B$6,$O11<>"",$O11<Assumptions!$B$7),"Review response and bind rates",IF(AND($M11<>"",$M11<Assumptions!$B$6),"Review response rate",IF(AND($O11<>"",$O11<Assumptions!$B$7),"Review bind rate",""))))))
A12: FIC-EM-008 | B12: Willow Street Follow-Up (Fictional) | C12: Cross-sell | D12: 46274 | E12: Fictional existing-client audience | F12: Morgan Vale (Fictional) | G12: 650 | H12: 15 | I12: 4 | J12: 1 | K12: Sent | L12: Fictional response-rate review sample. | M12: =IF(OR($A12="",$G12="",$G12=0),"",IFERROR($H12/$G12,"")) | N12: =IF(OR($A12="",$H12="",$H12=0),"",IFERROR($I12/$H12,"")) | O12: =IF(OR($A12="",$I12="",$I12=0),"",IFERROR($J12/$I12,"")) | P12: =IF(OR($A12="",$G12="",$G12=0),"",IFERROR($J12/$G12,"")) | Q12: =IF($A12="","",IF(COUNTA($G12:$J12)=0,"",IF(OR(AND($H12<>"",$G12=""),AND($I12<>"",$H12=""),AND($J12<>"",$I12=""),$H12>$G12,$I12>$H12,$J12>$I12),"Review counts","OK"))) | R12: =IF($A12="","",IF(OR($K12="Draft",$K12="Scheduled",$K12="Paused"),"",IF(OR($G12="",$G12<Assumptions!$B$8),"",IF(AND($M12<>"",$M12<Assumptions!$B$6,$O12<>"",$O12<Assumptions!$B$7),"Review response and bind rates",IF(AND($M12<>"",$M12<Assumptions!$B$6),"Review response rate",IF(AND($O12<>"",$O12<Assumptions!$B$7),"Review bind rate",""))))))
A13: FIC-EM-009 | B13: Copper Trail Preview (Fictional) | C13: Event Follow-up | D13: 46305 | E13: Fictional fall event audience | F13: Riley North (Fictional) | K13: Scheduled | L13: Future scheduled sample with no results entered. | M13: =IF(OR($A13="",$G13="",$G13=0),"",IFERROR($H13/$G13,"")) | N13: =IF(OR($A13="",$H13="",$H13=0),"",IFERROR($I13/$H13,"")) | O13: =IF(OR($A13="",$I13="",$I13=0),"",IFERROR($J13/$I13,"")) | P13: =IF(OR($A13="",$G13="",$G13=0),"",IFERROR($J13/$G13,"")) | Q13: =IF($A13="","",IF(COUNTA($G13:$J13)=0,"",IF(OR(AND($H13<>"",$G13=""),AND($I13<>"",$H13=""),AND($J13<>"",$I13=""),$H13>$G13,$I13>$H13,$J13>$I13),"Review counts","OK"))) | R13: =IF($A13="","",IF(OR($K13="Draft",$K13="Scheduled",$K13="Paused"),"",IF(OR($G13="",$G13<Assumptions!$B$8),"",IF(AND($M13<>"",$M13<Assumptions!$B$6,$O13<>"",$O13<Assumptions!$B$7),"Review response and bind rates",IF(AND($M13<>"",$M13<Assumptions!$B$6),"Review response rate",IF(AND($O13<>"",$O13<Assumptions!$B$7),"Review bind rate",""))))))
A14: FIC-EM-010 | B14: Pine Harbor Year-End (Fictional) | C14: Win-back | D14: 46387 | E14: Fictional year-end audience | F14: Taylor Brook (Fictional) | K14: Scheduled | L14: Reporting-end boundary sample. | M14: =IF(OR($A14="",$G14="",$G14=0),"",IFERROR($H14/$G14,"")) | N14: =IF(OR($A14="",$H14="",$H14=0),"",IFERROR($I14/$H14,"")) | O14: =IF(OR($A14="",$I14="",$I14=0),"",IFERROR($J14/$I14,"")) | P14: =IF(OR($A14="",$G14="",$G14=0),"",IFERROR($J14/$G14,"")) | Q14: =IF($A14="","",IF(COUNTA($G14:$J14)=0,"",IF(OR(AND($H14<>"",$G14=""),AND($I14<>"",$H14=""),AND($J14<>"",$I14=""),$H14>$G14,$I14>$H14,$J14>$I14),"Review counts","OK"))) | R14: =IF($A14="","",IF(OR($K14="Draft",$K14="Scheduled",$K14="Paused"),"",IF(OR($G14="",$G14<Assumptions!$B$8),"",IF(AND($M14<>"",$M14<Assumptions!$B$6,$O14<>"",$O14<Assumptions!$B$7),"Review response and bind rates",IF(AND($M14<>"",$M14<Assumptions!$B$6),"Review response rate",IF(AND($O14<>"",$O14<Assumptions!$B$7),"Review bind rate",""))))))
M15: =IF(OR($A15="",$G15="",$G15=0),"",IFERROR($H15/$G15,"")) | N15: =IF(OR($A15="",$H15="",$H15=0),"",IFERROR($I15/$H15,"")) | O15: =IF(OR($A15="",$I15="",$I15=0),"",IFERROR($J15/$I15,"")) | P15: =IF(OR($A15="",$G15="",$G15=0),"",IFERROR($J15/$G15,"")) | Q15: =IF($A15="","",IF(COUNTA($G15:$J15)=0,"",IF(OR(AND($H15<>"",$G15=""),AND($I15<>"",$H15=""),AND($J15<>"",$I15=""),$H15>$G15,$I15>$H15,$J15>$I15),"Review counts","OK"))) | R15: =IF($A15="","",IF(OR($K15="Draft",$K15="Scheduled",$K15="Paused"),"",IF(OR($G15="",$G15<Assumptions!$B$8),"",IF(AND($M15<>"",$M15<Assumptions!$B$6,$O15<>"",$O15<Assumptions!$B$7),"Review response and bind rates",IF(AND($M15<>"",$M15<Assumptions!$B$6),"Review response rate",IF(AND($O15<>"",$O15<Assumptions!$B$7),"Review bind rate",""))))))
M16: =IF(OR($A16="",$G16="",$G16=0),"",IFERROR($H16/$G16,"")) | N16: =IF(OR($A16="",$H16="",$H16=0),"",IFERROR($I16/$H16,"")) | O16: =IF(OR($A16="",$I16="",$I16=0),"",IFERROR($J16/$I16,"")) | P16: =IF(OR($A16="",$G16="",$G16=0),"",IFERROR($J16/$G16,"")) | Q16: =IF($A16="","",IF(COUNTA($G16:$J16)=0,"",IF(OR(AND($H16<>"",$G16=""),AND($I16<>"",$H16=""),AND($J16<>"",$I16=""),$H16>$G16,$I16>$H16,$J16>$I16),"Review counts","OK"))) | R16: =IF($A16="","",IF(OR($K16="Draft",$K16="Scheduled",$K16="Paused"),"",IF(OR($G16="",$G16<Assumptions!$B$8),"",IF(AND($M16<>"",$M16<Assumptions!$B$6,$O16<>"",$O16<Assumptions!$B$7),"Review response and bind rates",IF(AND($M16<>"",$M16<Assumptions!$B$6),"Review response rate",IF(AND($O16<>"",$O16<Assumptions!$B$7),"Review bind rate",""))))))
M17: =IF(OR($A17="",$G17="",$G17=0),"",IFERROR($H17/$G17,"")) | N17: =IF(OR($A17="",$H17="",$H17=0),"",IFERROR($I17/$H17,"")) | O17: =IF(OR($A17="",$I17="",$I17=0),"",IFERROR($J17/$I17,"")) | P17: =IF(OR($A17="",$G17="",$G17=0),"",IFERROR($J17/$G17,"")) | Q17: =IF($A17="","",IF(COUNTA($G17:$J17)=0,"",IF(OR(AND($H17<>"",$G17=""),AND($I17<>"",$H17=""),AND($J17<>"",$I17=""),$H17>$G17,$I17>$H17,$J17>$I17),"Review counts","OK"))) | R17: =IF($A17="","",IF(OR($K17="Draft",$K17="Scheduled",$K17="Paused"),"",IF(OR($G17="",$G17<Assumptions!$B$8),"",IF(AND($M17<>"",$M17<Assumptions!$B$6,$O17<>"",$O17<Assumptions!$B$7),"Review response and bind rates",IF(AND($M17<>"",$M17<Assumptions!$B$6),"Review response rate",IF(AND($O17<>"",$O17<Assumptions!$B$7),"Review bind rate",""))))))
M18: =IF(OR($A18="",$G18="",$G18=0),"",IFERROR($H18/$G18,"")) | N18: =IF(OR($A18="",$H18="",$H18=0),"",IFERROR($I18/$H18,"")) | O18: =IF(OR($A18="",$I18="",$I18=0),"",IFERROR($J18/$I18,"")) | P18: =IF(OR($A18="",$G18="",$G18=0),"",IFERROR($J18/$G18,"")) | Q18: =IF($A18="","",IF(COUNTA($G18:$J18)=0,"",IF(OR(AND($H18<>"",$G18=""),AND($I18<>"",$H18=""),AND($J18<>"",$I18=""),$H18>$G18,$I18>$H18,$J18>$I18),"Review counts","OK"))) | R18: =IF($A18="","",IF(OR($K18="Draft",$K18="Scheduled",$K18="Paused"),"",IF(OR($G18="",$G18<Assumptions!$B$8),"",IF(AND($M18<>"",$M18<Assumptions!$B$6,$O18<>"",$O18<Assumptions!$B$7),"Review response and bind rates",IF(AND($M18<>"",$M18<Assumptions!$B$6),"Review response rate",IF(AND($O18<>"",$O18<Assumptions!$B$7),"Review bind rate",""))))))
M19: =IF(OR($A19="",$G19="",$G19=0),"",IFERROR($H19/$G19,"")) | N19: =IF(OR($A19="",$H19="",$H19=0),"",IFERROR($I19/$H19,"")) | O19: =IF(OR($A19="",$I19="",$I19=0),"",IFERROR($J19/$I19,"")) | P19: =IF(OR($A19="",$G19="",$G19=0),"",IFERROR($J19/$G19,"")) | Q19: =IF($A19="","",IF(COUNTA($G19:$J19)=0,"",IF(OR(AND($H19<>"",$G19=""),AND($I19<>"",$H19=""),AND($J19<>"",$I19=""),$H19>$G19,$I19>$H19,$J19>$I19),"Review counts","OK"))) | R19: =IF($A19="","",IF(OR($K19="Draft",$K19="Scheduled",$K19="Paused"),"",IF(OR($G19="",$G19<Assumptions!$B$8),"",IF(AND($M19<>"",$M19<Assumptions!$B$6,$O19<>"",$O19<Assumptions!$B$7),"Review response and bind rates",IF(AND($M19<>"",$M19<Assumptions!$B$6),"Review response rate",IF(AND($O19<>"",$O19<Assumptions!$B$7),"Review bind rate",""))))))
M20: =IF(OR($A20="",$G20="",$G20=0),"",IFERROR($H20/$G20,"")) | N20: =IF(OR($A20="",$H20="",$H20=0),"",IFERROR($I20/$H20,"")) | O20: =IF(OR($A20="",$I20="",$I20=0),"",IFERROR($J20/$I20,"")) | P20: =IF(OR($A20="",$G20="",$G20=0),"",IFERROR($J20/$G20,"")) | Q20: =IF($A20="","",IF(COUNTA($G20:$J20)=0,"",IF(OR(AND($H20<>"",$G20=""),AND($I20<>"",$H20=""),AND($J20<>"",$I20=""),$H20>$G20,$I20>$H20,$J20>$I20),"Review counts","OK"))) | R20: =IF($A20="","",IF(OR($K20="Draft",$K20="Scheduled",$K20="Paused"),"",IF(OR($G20="",$G20<Assumptions!$B$8),"",IF(AND($M20<>"",$M20<Assumptions!$B$6,$O20<>"",$O20<Assumptions!$B$7),"Review response and bind rates",IF(AND($M20<>"",$M20<Assumptions!$B$6),"Review response rate",IF(AND($O20<>"",$O20<Assumptions!$B$7),"Review bind rate",""))))))
M21: =IF(OR($A21="",$G21="",$G21=0),"",IFERROR($H21/$G21,"")) | N21: =IF(OR($A21="",$H21="",$H21=0),"",IFERROR($I21/$H21,"")) | O21: =IF(OR($A21="",$I21="",$I21=0),"",IFERROR($J21/$I21,"")) | P21: =IF(OR($A21="",$G21="",$G21=0),"",IFERROR($J21/$G21,"")) | Q21: =IF($A21="","",IF(COUNTA($G21:$J21)=0,"",IF(OR(AND($H21<>"",$G21=""),AND($I21<>"",$H21=""),AND($J21<>"",$I21=""),$H21>$G21,$I21>$H21,$J21>$I21),"Review counts","OK"))) | R21: =IF($A21="","",IF(OR($K21="Draft",$K21="Scheduled",$K21="Paused"),"",IF(OR($G21="",$G21<Assumptions!$B$8),"",IF(AND($M21<>"",$M21<Assumptions!$B$6,$O21<>"",$O21<Assumptions!$B$7),"Review response and bind rates",IF(AND($M21<>"",$M21<Assumptions!$B$6),"Review response rate",IF(AND($O21<>"",$O21<Assumptions!$B$7),"Review bind rate",""))))))
M22: =IF(OR($A22="",$G22="",$G22=0),"",IFERROR($H22/$G22,"")) | N22: =IF(OR($A22="",$H22="",$H22=0),"",IFERROR($I22/$H22,"")) | O22: =IF(OR($A22="",$I22="",$I22=0),"",IFERROR($J22/$I22,"")) | P22: =IF(OR($A22="",$G22="",$G22=0),"",IFERROR($J22/$G22,"")) | Q22: =IF($A22="","",IF(COUNTA($G22:$J22)=0,"",IF(OR(AND($H22<>"",$G22=""),AND($I22<>"",$H22=""),AND($J22<>"",$I22=""),$H22>$G22,$I22>$H22,$J22>$I22),"Review counts","OK"))) | R22: =IF($A22="","",IF(OR($K22="Draft",$K22="Scheduled",$K22="Paused"),"",IF(OR($G22="",$G22<Assumptions!$B$8),"",IF(AND($M22<>"",$M22<Assumptions!$B$6,$O22<>"",$O22<Assumptions!$B$7),"Review response and bind rates",IF(AND($M22<>"",$M22<Assumptions!$B$6),"Review response rate",IF(AND($O22<>"",$O22<Assumptions!$B$7),"Review bind rate",""))))))
M23: =IF(OR($A23="",$G23="",$G23=0),"",IFERROR($H23/$G23,"")) | N23: =IF(OR($A23="",$H23="",$H23=0),"",IFERROR($I23/$H23,"")) | O23: =IF(OR($A23="",$I23="",$I23=0),"",IFERROR($J23/$I23,"")) | P23: =IF(OR($A23="",$G23="",$G23=0),"",IFERROR($J23/$G23,"")) | Q23: =IF($A23="","",IF(COUNTA($G23:$J23)=0,"",IF(OR(AND($H23<>"",$G23=""),AND($I23<>"",$H23=""),AND($J23<>"",$I23=""),$H23>$G23,$I23>$H23,$J23>$I23),"Review counts","OK"))) | R23: =IF($A23="","",IF(OR($K23="Draft",$K23="Scheduled",$K23="Paused"),"",IF(OR($G23="",$G23<Assumptions!$B$8),"",IF(AND($M23<>"",$M23<Assumptions!$B$6,$O23<>"",$O23<Assumptions!$B$7),"Review response and bind rates",IF(AND($M23<>"",$M23<Assumptions!$B$6),"Review response rate",IF(AND($O23<>"",$O23<Assumptions!$B$7),"Review bind rate",""))))))
M24: =IF(OR($A24="",$G24="",$G24=0),"",IFERROR($H24/$G24,"")) | N24: =IF(OR($A24="",$H24="",$H24=0),"",IFERROR($I24/$H24,"")) | O24: =IF(OR($A24="",$I24="",$I24=0),"",IFERROR($J24/$I24,"")) | P24: =IF(OR($A24="",$G24="",$G24=0),"",IFERROR($J24/$G24,"")) | Q24: =IF($A24="","",IF(COUNTA($G24:$J24)=0,"",IF(OR(AND($H24<>"",$G24=""),AND($I24<>"",$H24=""),AND($J24<>"",$I24=""),$H24>$G24,$I24>$H24,$J24>$I24),"Review counts","OK"))) | R24: =IF($A24="","",IF(OR($K24="Draft",$K24="Scheduled",$K24="Paused"),"",IF(OR($G24="",$G24<Assumptions!$B$8),"",IF(AND($M24<>"",$M24<Assumptions!$B$6,$O24<>"",$O24<Assumptions!$B$7),"Review response and bind rates",IF(AND($M24<>"",$M24<Assumptions!$B$6),"Review response rate",IF(AND($O24<>"",$O24<Assumptions!$B$7),"Review bind rate",""))))))
M25: =IF(OR($A25="",$G25="",$G25=0),"",IFERROR($H25/$G25,"")) | N25: =IF(OR($A25="",$H25="",$H25=0),"",IFERROR($I25/$H25,"")) | O25: =IF(OR($A25="",$I25="",$I25=0),"",IFERROR($J25/$I25,"")) | P25: =IF(OR($A25="",$G25="",$G25=0),"",IFERROR($J25/$G25,"")) | Q25: =IF($A25="","",IF(COUNTA($G25:$J25)=0,"",IF(OR(AND($H25<>"",$G25=""),AND($I25<>"",$H25=""),AND($J25<>"",$I25=""),$H25>$G25,$I25>$H25,$J25>$I25),"Review counts","OK"))) | R25: =IF($A25="","",IF(OR($K25="Draft",$K25="Scheduled",$K25="Paused"),"",IF(OR($G25="",$G25<Assumptions!$B$8),"",IF(AND($M25<>"",$M25<Assumptions!$B$6,$O25<>"",$O25<Assumptions!$B$7),"Review response and bind rates",IF(AND($M25<>"",$M25<Assumptions!$B$6),"Review response rate",IF(AND($O25<>"",$O25<Assumptions!$B$7),"Review bind rate",""))))))
M26: =IF(OR($A26="",$G26="",$G26=0),"",IFERROR($H26/$G26,"")) | N26: =IF(OR($A26="",$H26="",$H26=0),"",IFERROR($I26/$H26,"")) | O26: =IF(OR($A26="",$I26="",$I26=0),"",IFERROR($J26/$I26,"")) | P26: =IF(OR($A26="",$G26="",$G26=0),"",IFERROR($J26/$G26,"")) | Q26: =IF($A26="","",IF(COUNTA($G26:$J26)=0,"",IF(OR(AND($H26<>"",$G26=""),AND($I26<>"",$H26=""),AND($J26<>"",$I26=""),$H26>$G26,$I26>$H26,$J26>$I26),"Review counts","OK"))) | R26: =IF($A26="","",IF(OR($K26="Draft",$K26="Scheduled",$K26="Paused"),"",IF(OR($G26="",$G26<Assumptions!$B$8),"",IF(AND($M26<>"",$M26<Assumptions!$B$6,$O26<>"",$O26<Assumptions!$B$7),"Review response and bind rates",IF(AND($M26<>"",$M26<Assumptions!$B$6),"Review response rate",IF(AND($O26<>"",$O26<Assumptions!$B$7),"Review bind rate",""))))))
... M104: =IF(OR($A104="",$G104="",$G104=0),"",IFERROR($H104/$G104,"")) | N104: =IF(OR($A104="",$H104="",$H104=0),"",IFERROR($I104/$H104,"")) | O104: =IF(OR($A104="",$I104="",$I104=0),"",IFERROR($J104/$I104,"")) | P104: =IF(OR($A104="",$G104="",$G104=0),"",IFERROR($J104/$G104,"")) | Q104: =IF($A104="","",IF(COUNTA($G104:$J104)=0,"",IF(OR(AND($H104<>"",$G104=""),AND($I104<>"",$H104=""),AND($J104<>"",$I104=""),$H104>$G104,$I104>$H104,$J104>$I104),"Review counts","OK"))) | R104: =IF($A104="","",IF(OR($K104="Draft",$K104="Scheduled",$K104="Paused"),"",IF(OR($G104="",$G104<Assumptions!$B$8),"",IF(AND($M104<>"",$M104<Assumptions!$B$6,$O104<>"",$O104<Assumptions!$B$7),"Review response and bind rates",IF(AND($M104<>"",$M104<Assumptions!$B$6),"Review response rate",IF(AND($O104<>"",$O104<Assumptions!$B$7),"Review bind rate",""))))))

Sheet Assumptions
A1: Insurance Email Campaign Tracker Assumptions
A2: Setting | B2: Value | C2: Purpose | D2: Status Choices | E2: Campaign Type Choices | F2: Owner Choices
A3: Reporting Start Date | B3: 46023 | C3: First send date included in Summary indicators. | D3: Draft | E3: Prospecting | F3: Avery Lane (Fictional)
A4: Reporting End Date | B4: 46387 | C4: Last send date included in Summary indicators. | D4: Scheduled | E4: Renewal Outreach | F4: Jordan Reed (Fictional)
A5: Maximum Emails per Campaign | B5: 100000 | C5: Editable entry limit used to catch unusually large quantities. | D5: Sent | E5: Cross-sell | F5: Morgan Vale (Fictional)
A6: Response Rate Alert Below | B6: 0.03 | C6: Editable workflow prompt; not a performance guarantee or standard. | D6: Closed | E6: Win-back | F6: Riley North (Fictional)
A7: Bind Rate Alert Below | B7: 0.2 | C7: Editable workflow prompt; not a performance guarantee or standard. | D7: Paused | E7: Event Follow-up | F7: Taylor Brook (Fictional)
A8: Minimum Sends for Rate Alert | B8: 100 | C8: Campaigns below this send count do not receive a rate prompt.
A10: Use note | B10: All examples and names are fictional. Thresholds and lists are editable administrative inputs and do not establish compliance, coverage, pricing, or sales requirements.
