Workbook

Sheet Summary
A1: Insurance Event Lead Tracker — Summary
A2: As of | B2: =TODAY()
A4: Total Leads | B4: =COUNTIF(Leads!$A$4:$A$103,"<>") | C4: Active Leads | D4: =COUNTIFS(Leads!$A$4:$A$103,"<>",Leads!$I$4:$I$103,'Assumptions'!$A$4)+COUNTIFS(Leads!$A$4:$A$103,"<>",Leads!$I$4:$I$103,'Assumptions'!$A$5)+COUNTIFS(Leads!$A$4:$A$103,"<>",Leads!$I$4:$I$103,'Assumptions'!$A$6)+COUNTIFS(Leads!$A$4:$A$103,"<>",Leads!$I$4:$I$103,'Assumptions'!$A$7)+COUNTIFS(Leads!$A$4:$A$103,"<>",Leads!$I$4:$I$103,'Assumptions'!$A$10) | E4: Won Leads | F4: =COUNTIFS(Leads!$A$4:$A$103,"<>",Leads!$I$4:$I$103,'Assumptions'!$A$8) | G4: Overdue Follow-Ups | H4: =COUNTIFS(Leads!$A$4:$A$103,"<>",Leads!$P$4:$P$103,"Overdue")
A7: Estimated Annual Premium | B7: =IF(COUNT(Leads!$L$4:$L$103)=0,"",SUM(Leads!$L$4:$L$103)) | C7: Weighted Pipeline | D7: =IF(COUNT(Leads!$N$4:$N$103)=0,"",SUM(Leads!$N$4:$N$103)) | E7: Decision Conversion | F7: =IFERROR(COUNTIFS(Leads!$A$4:$A$103,"<>",Leads!$I$4:$I$103,'Assumptions'!$A$8)/(COUNTIFS(Leads!$A$4:$A$103,"<>",Leads!$I$4:$I$103,'Assumptions'!$A$8)+COUNTIFS(Leads!$A$4:$A$103,"<>",Leads!$I$4:$I$103,'Assumptions'!$A$9)),"") | G7: Due Soon | H7: =COUNTIFS(Leads!$A$4:$A$103,"<>",Leads!$P$4:$P$103,"Due soon")
A10: Status | B10: Lead Count
A11: ='Assumptions'!A4 | B11: =COUNTIFS(Leads!$A$4:$A$103,"<>",Leads!$I$4:$I$103,A11)
A12: ='Assumptions'!A5 | B12: =COUNTIFS(Leads!$A$4:$A$103,"<>",Leads!$I$4:$I$103,A12)
A13: ='Assumptions'!A6 | B13: =COUNTIFS(Leads!$A$4:$A$103,"<>",Leads!$I$4:$I$103,A13)
A14: ='Assumptions'!A7 | B14: =COUNTIFS(Leads!$A$4:$A$103,"<>",Leads!$I$4:$I$103,A14)
A15: ='Assumptions'!A8 | B15: =COUNTIFS(Leads!$A$4:$A$103,"<>",Leads!$I$4:$I$103,A15)
A16: ='Assumptions'!A9 | B16: =COUNTIFS(Leads!$A$4:$A$103,"<>",Leads!$I$4:$I$103,A16)
A17: ='Assumptions'!A10 | B17: =COUNTIFS(Leads!$A$4:$A$103,"<>",Leads!$I$4:$I$103,A17)

Sheet Leads
A1: Insurance Event Lead Tracker — Leads
A2: Enter event leads in orange cells. Formula alerts identify records for human review.
A3: Lead ID | B3: Event Date | C3: Event Name | D3: Contact Name | E3: Organization | F3: Preferred Contact Method | G3: Product Interest | H3: Owner | I3: Status | J3: Next Follow-Up | K3: Last Contact | L3: Estimated Annual Premium | M3: Probability | N3: Weighted Pipeline | O3: Days Since Event | P3: Follow-Up Alert | Q3: Notes
A4: FIC-LEAD-1001 | B4: 46273 | C4: Fictional Riverbend Business Fair | D4: Fictional Mara Cedar | E4: Fictional Copper Kite Studio | F4: Email | G4: Small Commercial | H4: Fictional Avery North | I4: New | J4: 46276 | L4: 1800 | M4: =IF(I4="","",IFERROR(VLOOKUP(I4,'Assumptions'!$A$4:$B$10,2,FALSE),"")) | N4: =IF(OR(L4="",M4=""),"",IFERROR(L4*M4,"")) | O4: =IF(B4="","",MAX(0,TODAY()-B4)) | P4: =IF(A4="","",IF(OR(I4='Assumptions'!$A$8,I4='Assumptions'!$A$9),"Closed",IF(J4="","Set date",IF(J4<TODAY()-'Assumptions'!$K$4,"Overdue",IF(J4<=TODAY()+'Assumptions'!$K$5,"Due soon","Scheduled"))))) | Q4: Requested an introductory email after the event.
A5: FIC-LEAD-1002 | B5: 46265 | C5: Fictional Riverbend Business Fair | D5: Fictional Theo Lantern | E5: Fictional Blue Acorn Café | F5: Phone | G5: Small Commercial | H5: Fictional Jordan Vale | I5: Contacted | J5: 46274 | K5: 46271 | L5: 2400 | M5: =IF(I5="","",IFERROR(VLOOKUP(I5,'Assumptions'!$A$4:$B$10,2,FALSE),"")) | N5: =IF(OR(L5="",M5=""),"",IFERROR(L5*M5,"")) | O5: =IF(B5="","",MAX(0,TODAY()-B5)) | P5: =IF(A5="","",IF(OR(I5='Assumptions'!$A$8,I5='Assumptions'!$A$9),"Closed",IF(J5="","Set date",IF(J5<TODAY()-'Assumptions'!$K$4,"Overdue",IF(J5<=TODAY()+'Assumptions'!$K$5,"Due soon","Scheduled"))))) | Q5: Asked for a follow-up call.
A6: FIC-LEAD-1003 | B6: 46260 | C6: Fictional Lakeside Home Expo | D6: Fictional Nia Meadow | E6: Fictional Meadow Household | F6: Text | G6: Homeowners | H6: Fictional Casey Rowan | I6: Appointment Set | J6: 46278 | K6: 46274 | L6: 3200 | M6: =IF(I6="","",IFERROR(VLOOKUP(I6,'Assumptions'!$A$4:$B$10,2,FALSE),"")) | N6: =IF(OR(L6="",M6=""),"",IFERROR(L6*M6,"")) | O6: =IF(B6="","",MAX(0,TODAY()-B6)) | P6: =IF(A6="","",IF(OR(I6='Assumptions'!$A$8,I6='Assumptions'!$A$9),"Closed",IF(J6="","Set date",IF(J6<TODAY()-'Assumptions'!$K$4,"Overdue",IF(J6<=TODAY()+'Assumptions'!$K$5,"Due soon","Scheduled"))))) | Q6: Appointment time was entered by the owner.
A7: FIC-LEAD-1004 | B7: 46255 | C7: Fictional Lakeside Home Expo | D7: Fictional Eli Harbor | E7: Fictional Harbor Household | F7: Email | G7: Personal Auto | H7: Fictional Avery North | I7: Quoted | J7: 46283 | K7: 46273 | L7: 2100 | M7: =IF(I7="","",IFERROR(VLOOKUP(I7,'Assumptions'!$A$4:$B$10,2,FALSE),"")) | N7: =IF(OR(L7="",M7=""),"",IFERROR(L7*M7,"")) | O7: =IF(B7="","",MAX(0,TODAY()-B7)) | P7: =IF(A7="","",IF(OR(I7='Assumptions'!$A$8,I7='Assumptions'!$A$9),"Closed",IF(J7="","Set date",IF(J7<TODAY()-'Assumptions'!$K$4,"Overdue",IF(J7<=TODAY()+'Assumptions'!$K$5,"Due soon","Scheduled"))))) | Q7: Administrative quote follow-up remains scheduled.
A8: FIC-LEAD-1005 | B8: 46245 | C8: Fictional Main Street Merchant Day | D8: Fictional Sora Pine | E8: Fictional Pine Lantern Books | F8: Phone | G8: Small Commercial | H8: Fictional Jordan Vale | I8: Won | K8: 46274 | L8: 4600 | M8: =IF(I8="","",IFERROR(VLOOKUP(I8,'Assumptions'!$A$4:$B$10,2,FALSE),"")) | N8: =IF(OR(L8="",M8=""),"",IFERROR(L8*M8,"")) | O8: =IF(B8="","",MAX(0,TODAY()-B8)) | P8: =IF(A8="","",IF(OR(I8='Assumptions'!$A$8,I8='Assumptions'!$A$9),"Closed",IF(J8="","Set date",IF(J8<TODAY()-'Assumptions'!$K$4,"Overdue",IF(J8<=TODAY()+'Assumptions'!$K$5,"Due soon","Scheduled"))))) | Q8: Lead outcome was entered as won.
A9: FIC-LEAD-1006 | B9: 46230 | C9: Fictional Main Street Merchant Day | D9: Fictional Luca Fern | E9: Fictional Fern Pocket Market | F9: Mail | G9: Small Commercial | H9: Fictional Casey Rowan | I9: Lost | K9: 46270 | L9: 1500 | M9: =IF(I9="","",IFERROR(VLOOKUP(I9,'Assumptions'!$A$4:$B$10,2,FALSE),"")) | N9: =IF(OR(L9="",M9=""),"",IFERROR(L9*M9,"")) | O9: =IF(B9="","",MAX(0,TODAY()-B9)) | P9: =IF(A9="","",IF(OR(I9='Assumptions'!$A$8,I9='Assumptions'!$A$9),"Closed",IF(J9="","Set date",IF(J9<TODAY()-'Assumptions'!$K$4,"Overdue",IF(J9<=TODAY()+'Assumptions'!$K$5,"Due soon","Scheduled"))))) | Q9: Lead outcome was entered as lost.
A10: FIC-LEAD-1007 | B10: 46215 | C10: Fictional Community Welcome Fair | D10: Fictional Imani Quartz | E10: Fictional Quartz Household | F10: Email | G10: Renters | H10: Fictional Avery North | I10: Nurture | J10: 46295 | K10: 46265 | L10: 900 | M10: =IF(I10="","",IFERROR(VLOOKUP(I10,'Assumptions'!$A$4:$B$10,2,FALSE),"")) | N10: =IF(OR(L10="",M10=""),"",IFERROR(L10*M10,"")) | O10: =IF(B10="","",MAX(0,TODAY()-B10)) | P10: =IF(A10="","",IF(OR(I10='Assumptions'!$A$8,I10='Assumptions'!$A$9),"Closed",IF(J10="","Set date",IF(J10<TODAY()-'Assumptions'!$K$4,"Overdue",IF(J10<=TODAY()+'Assumptions'!$K$5,"Due soon","Scheduled"))))) | Q10: Longer-term follow-up date was entered.
A11: FIC-LEAD-1008 | B11: 46270 | C11: Fictional Regional Builder Showcase | D11: Fictional Owen Willow | E11: Fictional Willow Frame Workshop | F11: Phone | G11: Small Commercial | H11: Fictional Jordan Vale | I11: Contacted | K11: 46273 | M11: =IF(I11="","",IFERROR(VLOOKUP(I11,'Assumptions'!$A$4:$B$10,2,FALSE),"")) | N11: =IF(OR(L11="",M11=""),"",IFERROR(L11*M11,"")) | O11: =IF(B11="","",MAX(0,TODAY()-B11)) | P11: =IF(A11="","",IF(OR(I11='Assumptions'!$A$8,I11='Assumptions'!$A$9),"Closed",IF(J11="","Set date",IF(J11<TODAY()-'Assumptions'!$K$4,"Overdue",IF(J11<=TODAY()+'Assumptions'!$K$5,"Due soon","Scheduled"))))) | Q11: No estimated premium or next follow-up date has been entered.
A12: FIC-LEAD-1009 | B12: 46275 | C12: Fictional Neighborhood Resource Day | D12: Fictional Priya Cloud | E12: Fictional Cloud Household | F12: Text | G12: Life | H12: Fictional Casey Rowan | I12: New | J12: 46275 | L12: 0 | M12: =IF(I12="","",IFERROR(VLOOKUP(I12,'Assumptions'!$A$4:$B$10,2,FALSE),"")) | N12: =IF(OR(L12="",M12=""),"",IFERROR(L12*M12,"")) | O12: =IF(B12="","",MAX(0,TODAY()-B12)) | P12: =IF(A12="","",IF(OR(I12='Assumptions'!$A$8,I12='Assumptions'!$A$9),"Closed",IF(J12="","Set date",IF(J12<TODAY()-'Assumptions'!$K$4,"Overdue",IF(J12<=TODAY()+'Assumptions'!$K$5,"Due soon","Scheduled"))))) | Q12: Lower amount boundary is included for workbook testing.
A13: FIC-LEAD-1010 | B13: 46185 | C13: Fictional Industry Makers Forum | D13: Fictional Devin Ember | E13: Fictional Ember Works Cooperative | F13: Email | G13: Other | H13: Fictional Avery North | I13: Quoted | J13: 46273 | K13: 46268 | L13: 250000 | M13: =IF(I13="","",IFERROR(VLOOKUP(I13,'Assumptions'!$A$4:$B$10,2,FALSE),"")) | N13: =IF(OR(L13="",M13=""),"",IFERROR(L13*M13,"")) | O13: =IF(B13="","",MAX(0,TODAY()-B13)) | P13: =IF(A13="","",IF(OR(I13='Assumptions'!$A$8,I13='Assumptions'!$A$9),"Closed",IF(J13="","Set date",IF(J13<TODAY()-'Assumptions'!$K$4,"Overdue",IF(J13<=TODAY()+'Assumptions'!$K$5,"Due soon","Scheduled"))))) | Q13: Upper configured amount boundary is included for workbook testing.
M14: =IF(I14="","",IFERROR(VLOOKUP(I14,'Assumptions'!$A$4:$B$10,2,FALSE),"")) | N14: =IF(OR(L14="",M14=""),"",IFERROR(L14*M14,"")) | O14: =IF(B14="","",MAX(0,TODAY()-B14)) | P14: =IF(A14="","",IF(OR(I14='Assumptions'!$A$8,I14='Assumptions'!$A$9),"Closed",IF(J14="","Set date",IF(J14<TODAY()-'Assumptions'!$K$4,"Overdue",IF(J14<=TODAY()+'Assumptions'!$K$5,"Due soon","Scheduled")))))
M15: =IF(I15="","",IFERROR(VLOOKUP(I15,'Assumptions'!$A$4:$B$10,2,FALSE),"")) | N15: =IF(OR(L15="",M15=""),"",IFERROR(L15*M15,"")) | O15: =IF(B15="","",MAX(0,TODAY()-B15)) | P15: =IF(A15="","",IF(OR(I15='Assumptions'!$A$8,I15='Assumptions'!$A$9),"Closed",IF(J15="","Set date",IF(J15<TODAY()-'Assumptions'!$K$4,"Overdue",IF(J15<=TODAY()+'Assumptions'!$K$5,"Due soon","Scheduled")))))
M16: =IF(I16="","",IFERROR(VLOOKUP(I16,'Assumptions'!$A$4:$B$10,2,FALSE),"")) | N16: =IF(OR(L16="",M16=""),"",IFERROR(L16*M16,"")) | O16: =IF(B16="","",MAX(0,TODAY()-B16)) | P16: =IF(A16="","",IF(OR(I16='Assumptions'!$A$8,I16='Assumptions'!$A$9),"Closed",IF(J16="","Set date",IF(J16<TODAY()-'Assumptions'!$K$4,"Overdue",IF(J16<=TODAY()+'Assumptions'!$K$5,"Due soon","Scheduled")))))
M17: =IF(I17="","",IFERROR(VLOOKUP(I17,'Assumptions'!$A$4:$B$10,2,FALSE),"")) | N17: =IF(OR(L17="",M17=""),"",IFERROR(L17*M17,"")) | O17: =IF(B17="","",MAX(0,TODAY()-B17)) | P17: =IF(A17="","",IF(OR(I17='Assumptions'!$A$8,I17='Assumptions'!$A$9),"Closed",IF(J17="","Set date",IF(J17<TODAY()-'Assumptions'!$K$4,"Overdue",IF(J17<=TODAY()+'Assumptions'!$K$5,"Due soon","Scheduled")))))
M18: =IF(I18="","",IFERROR(VLOOKUP(I18,'Assumptions'!$A$4:$B$10,2,FALSE),"")) | N18: =IF(OR(L18="",M18=""),"",IFERROR(L18*M18,"")) | O18: =IF(B18="","",MAX(0,TODAY()-B18)) | P18: =IF(A18="","",IF(OR(I18='Assumptions'!$A$8,I18='Assumptions'!$A$9),"Closed",IF(J18="","Set date",IF(J18<TODAY()-'Assumptions'!$K$4,"Overdue",IF(J18<=TODAY()+'Assumptions'!$K$5,"Due soon","Scheduled")))))
M19: =IF(I19="","",IFERROR(VLOOKUP(I19,'Assumptions'!$A$4:$B$10,2,FALSE),"")) | N19: =IF(OR(L19="",M19=""),"",IFERROR(L19*M19,"")) | O19: =IF(B19="","",MAX(0,TODAY()-B19)) | P19: =IF(A19="","",IF(OR(I19='Assumptions'!$A$8,I19='Assumptions'!$A$9),"Closed",IF(J19="","Set date",IF(J19<TODAY()-'Assumptions'!$K$4,"Overdue",IF(J19<=TODAY()+'Assumptions'!$K$5,"Due soon","Scheduled")))))
M20: =IF(I20="","",IFERROR(VLOOKUP(I20,'Assumptions'!$A$4:$B$10,2,FALSE),"")) | N20: =IF(OR(L20="",M20=""),"",IFERROR(L20*M20,"")) | O20: =IF(B20="","",MAX(0,TODAY()-B20)) | P20: =IF(A20="","",IF(OR(I20='Assumptions'!$A$8,I20='Assumptions'!$A$9),"Closed",IF(J20="","Set date",IF(J20<TODAY()-'Assumptions'!$K$4,"Overdue",IF(J20<=TODAY()+'Assumptions'!$K$5,"Due soon","Scheduled")))))
M21: =IF(I21="","",IFERROR(VLOOKUP(I21,'Assumptions'!$A$4:$B$10,2,FALSE),"")) | N21: =IF(OR(L21="",M21=""),"",IFERROR(L21*M21,"")) | O21: =IF(B21="","",MAX(0,TODAY()-B21)) | P21: =IF(A21="","",IF(OR(I21='Assumptions'!$A$8,I21='Assumptions'!$A$9),"Closed",IF(J21="","Set date",IF(J21<TODAY()-'Assumptions'!$K$4,"Overdue",IF(J21<=TODAY()+'Assumptions'!$K$5,"Due soon","Scheduled")))))
M22: =IF(I22="","",IFERROR(VLOOKUP(I22,'Assumptions'!$A$4:$B$10,2,FALSE),"")) | N22: =IF(OR(L22="",M22=""),"",IFERROR(L22*M22,"")) | O22: =IF(B22="","",MAX(0,TODAY()-B22)) | P22: =IF(A22="","",IF(OR(I22='Assumptions'!$A$8,I22='Assumptions'!$A$9),"Closed",IF(J22="","Set date",IF(J22<TODAY()-'Assumptions'!$K$4,"Overdue",IF(J22<=TODAY()+'Assumptions'!$K$5,"Due soon","Scheduled")))))
M23: =IF(I23="","",IFERROR(VLOOKUP(I23,'Assumptions'!$A$4:$B$10,2,FALSE),"")) | N23: =IF(OR(L23="",M23=""),"",IFERROR(L23*M23,"")) | O23: =IF(B23="","",MAX(0,TODAY()-B23)) | P23: =IF(A23="","",IF(OR(I23='Assumptions'!$A$8,I23='Assumptions'!$A$9),"Closed",IF(J23="","Set date",IF(J23<TODAY()-'Assumptions'!$K$4,"Overdue",IF(J23<=TODAY()+'Assumptions'!$K$5,"Due soon","Scheduled")))))
M24: =IF(I24="","",IFERROR(VLOOKUP(I24,'Assumptions'!$A$4:$B$10,2,FALSE),"")) | N24: =IF(OR(L24="",M24=""),"",IFERROR(L24*M24,"")) | O24: =IF(B24="","",MAX(0,TODAY()-B24)) | P24: =IF(A24="","",IF(OR(I24='Assumptions'!$A$8,I24='Assumptions'!$A$9),"Closed",IF(J24="","Set date",IF(J24<TODAY()-'Assumptions'!$K$4,"Overdue",IF(J24<=TODAY()+'Assumptions'!$K$5,"Due soon","Scheduled")))))
M25: =IF(I25="","",IFERROR(VLOOKUP(I25,'Assumptions'!$A$4:$B$10,2,FALSE),"")) | N25: =IF(OR(L25="",M25=""),"",IFERROR(L25*M25,"")) | O25: =IF(B25="","",MAX(0,TODAY()-B25)) | P25: =IF(A25="","",IF(OR(I25='Assumptions'!$A$8,I25='Assumptions'!$A$9),"Closed",IF(J25="","Set date",IF(J25<TODAY()-'Assumptions'!$K$4,"Overdue",IF(J25<=TODAY()+'Assumptions'!$K$5,"Due soon","Scheduled")))))
... M103: =IF(I103="","",IFERROR(VLOOKUP(I103,'Assumptions'!$A$4:$B$10,2,FALSE),"")) | N103: =IF(OR(L103="",M103=""),"",IFERROR(L103*M103,"")) | O103: =IF(B103="","",MAX(0,TODAY()-B103)) | P103: =IF(A103="","",IF(OR(I103='Assumptions'!$A$8,I103='Assumptions'!$A$9),"Closed",IF(J103="","Set date",IF(J103<TODAY()-'Assumptions'!$K$4,"Overdue",IF(J103<=TODAY()+'Assumptions'!$K$5,"Due soon","Scheduled")))))

Sheet Assumptions
A1: Insurance Event Lead Tracker — Assumptions
A2: Edit orange cells as agency planning inputs. Probabilities support pipeline estimates and do not represent quotes or outcomes.
A3: Lead Status | B3: Probability | D3: Owner | F3: Product Interest | H3: Preferred Contact Method | J3: Setting | K3: Value
A4: New | B4: 0.1 | D4: Fictional Avery North | F4: Personal Auto | H4: Email | J4: Overdue grace days | K4: 0
A5: Contacted | B5: 0.2 | D5: Fictional Jordan Vale | F5: Homeowners | H5: Phone | J5: Due-soon window days | K5: 7
A6: Appointment Set | B6: 0.35 | D6: Fictional Casey Rowan | F6: Renters | H6: Text | J6: Maximum estimated premium | K6: 250000
A7: Quoted | B7: 0.6 | F7: Small Commercial | H7: Mail | J7: Earliest allowed date | K7: 42370
A8: Won | B8: 1 | F8: Life | J8: Follow-up horizon days | K8: 730
A9: Lost | B9: 0 | F9: Other
A10: Nurture | B10: 0.1
