Workbook

Sheet Summary
A1: Insurance Lead Response Time Tracker — Summary
A3: Indicator | B3: Calculated Value | D3: Inquiry Source | E3: Leads | F3: Responded | G3: Average Hours | H3: On-Target Rate
A4: Total leads | B4: =COUNTIF(Leads!$A$5:$A$104,"<>") | D4: =Assumptions!A9 | E4: =IF(D4="","",COUNTIF(Leads!$D$5:$D$104,D4)) | F4: =IF(D4="","",COUNTIFS(Leads!$D$5:$D$104,D4,Leads!$G$5:$G$104,"<>")) | G4: =IF(D4="","",IFERROR(AVERAGEIF(Leads!$D$5:$D$104,D4,Leads!$J$5:$J$104),"")) | H4: =IF(D4="","",IFERROR(COUNTIFS(Leads!$D$5:$D$104,D4,Leads!$L$5:$L$104,"Yes")/(COUNTIFS(Leads!$D$5:$D$104,D4,Leads!$L$5:$L$104,"Yes")+COUNTIFS(Leads!$D$5:$D$104,D4,Leads!$L$5:$L$104,"No")),""))
A5: Responded leads | B5: =COUNTIFS(Leads!$A$5:$A$104,"<>",Leads!$G$5:$G$104,"<>") | D5: =Assumptions!A10 | E5: =IF(D5="","",COUNTIF(Leads!$D$5:$D$104,D5)) | F5: =IF(D5="","",COUNTIFS(Leads!$D$5:$D$104,D5,Leads!$G$5:$G$104,"<>")) | G5: =IF(D5="","",IFERROR(AVERAGEIF(Leads!$D$5:$D$104,D5,Leads!$J$5:$J$104),"")) | H5: =IF(D5="","",IFERROR(COUNTIFS(Leads!$D$5:$D$104,D5,Leads!$L$5:$L$104,"Yes")/(COUNTIFS(Leads!$D$5:$D$104,D5,Leads!$L$5:$L$104,"Yes")+COUNTIFS(Leads!$D$5:$D$104,D5,Leads!$L$5:$L$104,"No")),""))
A6: Pending leads | B6: =COUNTIFS(Leads!$A$5:$A$104,"<>",Leads!$G$5:$G$104,"") | D6: =Assumptions!A11 | E6: =IF(D6="","",COUNTIF(Leads!$D$5:$D$104,D6)) | F6: =IF(D6="","",COUNTIFS(Leads!$D$5:$D$104,D6,Leads!$G$5:$G$104,"<>")) | G6: =IF(D6="","",IFERROR(AVERAGEIF(Leads!$D$5:$D$104,D6,Leads!$J$5:$J$104),"")) | H6: =IF(D6="","",IFERROR(COUNTIFS(Leads!$D$5:$D$104,D6,Leads!$L$5:$L$104,"Yes")/(COUNTIFS(Leads!$D$5:$D$104,D6,Leads!$L$5:$L$104,"Yes")+COUNTIFS(Leads!$D$5:$D$104,D6,Leads!$L$5:$L$104,"No")),""))
A7: Average valid response hours | B7: =IFERROR(AVERAGEIF(Leads!$J$5:$J$104,">=0",Leads!$J$5:$J$104),"") | D7: =Assumptions!A12 | E7: =IF(D7="","",COUNTIF(Leads!$D$5:$D$104,D7)) | F7: =IF(D7="","",COUNTIFS(Leads!$D$5:$D$104,D7,Leads!$G$5:$G$104,"<>")) | G7: =IF(D7="","",IFERROR(AVERAGEIF(Leads!$D$5:$D$104,D7,Leads!$J$5:$J$104),"")) | H7: =IF(D7="","",IFERROR(COUNTIFS(Leads!$D$5:$D$104,D7,Leads!$L$5:$L$104,"Yes")/(COUNTIFS(Leads!$D$5:$D$104,D7,Leads!$L$5:$L$104,"Yes")+COUNTIFS(Leads!$D$5:$D$104,D7,Leads!$L$5:$L$104,"No")),""))
A8: Valid timed responses | B8: =COUNTIF(Leads!$L$5:$L$104,"Yes")+COUNTIF(Leads!$L$5:$L$104,"No") | D8: =Assumptions!A13 | E8: =IF(D8="","",COUNTIF(Leads!$D$5:$D$104,D8)) | F8: =IF(D8="","",COUNTIFS(Leads!$D$5:$D$104,D8,Leads!$G$5:$G$104,"<>")) | G8: =IF(D8="","",IFERROR(AVERAGEIF(Leads!$D$5:$D$104,D8,Leads!$J$5:$J$104),"")) | H8: =IF(D8="","",IFERROR(COUNTIFS(Leads!$D$5:$D$104,D8,Leads!$L$5:$L$104,"Yes")/(COUNTIFS(Leads!$D$5:$D$104,D8,Leads!$L$5:$L$104,"Yes")+COUNTIFS(Leads!$D$5:$D$104,D8,Leads!$L$5:$L$104,"No")),""))
A9: On-target responses | B9: =COUNTIF(Leads!$L$5:$L$104,"Yes")
A10: On-target rate | B10: =IFERROR(B9/B8,"")
A11: Items needing review | B11: =COUNTIF(Leads!$M$5:$M$104,"Check*")+COUNTIF(Leads!$M$5:$M$104,"Enter*")+COUNTIF(Leads!$M$5:$M$104,"Review*")+COUNTIF(Leads!$M$5:$M$104,"Pending past target")
A12: Reporting cutoff | B12: =Assumptions!$B$3

Sheet Leads
A1: Insurance Lead Response Time Tracker — Lead Records
A2: Enter inquiry and first-response timestamps in yellow cells. Review alerts are prompts for human follow-up.
A4: Lead ID | B4: Inquiry Date/Time | C4: Prospect Alias | D4: Inquiry Source | E4: Line of Business | F4: Assigned Owner | G4: First Response Date/Time | H4: Lead Status | I4: Notes | J4: Response Hours | K4: Target Hours | L4: Target Met? | M4: Review Alert
A5: FX-LD-001 | B5: 46266.375 | C5: Fictional Alder Household | D5: Website Form | E5: Homeowners | F5: Casey Example | G5: 46266.396 | H5: Contacted | I5: Fictional demonstration inquiry. | J5: =IF(OR(B5="",G5=""),"",IF(OR(G5<B5,G5>Assumptions!$B$3),"",ROUND((G5-B5)*24,2))) | K5: =IF(D5="","",IFERROR(VLOOKUP(D5,Assumptions!$A$9:$B$13,2,FALSE),"")) | L5: =IF(A5="","",IF(B5="","Check dates",IF(G5="","Pending",IF(OR(G5<B5,G5>Assumptions!$B$3),"Check dates",IF(OR(J5="",K5=""),"Check target",IF(J5<=K5,"Yes","No")))))) | M5: =IF(A5="","",IF(B5="","Enter inquiry time",IF(B5>Assumptions!$B$3,"Check inquiry time",IF(G5<>"",IF(OR(G5<B5,G5>Assumptions!$B$3),"Check response time",IF(K5="","Check target",IF(J5>K5,"Review late response",""))),IF(K5="","Check target",IF((Assumptions!$B$3-B5)*24>K5,"Pending past target","Pending"))))))
A6: FX-LD-002 | B6: 46267.417 | C6: Fictional Blue Kite Studio | D6: Phone Inquiry | E6: Small Business | F6: Jordan Sample | G6: 46267.431 | H6: Quoting | I6: Fictional phone inquiry example. | J6: =IF(OR(B6="",G6=""),"",IF(OR(G6<B6,G6>Assumptions!$B$3),"",ROUND((G6-B6)*24,2))) | K6: =IF(D6="","",IFERROR(VLOOKUP(D6,Assumptions!$A$9:$B$13,2,FALSE),"")) | L6: =IF(A6="","",IF(B6="","Check dates",IF(G6="","Pending",IF(OR(G6<B6,G6>Assumptions!$B$3),"Check dates",IF(OR(J6="",K6=""),"Check target",IF(J6<=K6,"Yes","No")))))) | M6: =IF(A6="","",IF(B6="","Enter inquiry time",IF(B6>Assumptions!$B$3,"Check inquiry time",IF(G6<>"",IF(OR(G6<B6,G6>Assumptions!$B$3),"Check response time",IF(K6="","Check target",IF(J6>K6,"Review late response",""))),IF(K6="","Check target",IF((Assumptions!$B$3-B6)*24>K6,"Pending past target","Pending"))))))
A7: FX-LD-003 | B7: 46268.333 | C7: Fictional Cedar Household | D7: Referral | E7: Personal Auto | F7: Morgan Demo | G7: 46268.458 | H7: Contacted | I7: Fictional referral example. | J7: =IF(OR(B7="",G7=""),"",IF(OR(G7<B7,G7>Assumptions!$B$3),"",ROUND((G7-B7)*24,2))) | K7: =IF(D7="","",IFERROR(VLOOKUP(D7,Assumptions!$A$9:$B$13,2,FALSE),"")) | L7: =IF(A7="","",IF(B7="","Check dates",IF(G7="","Pending",IF(OR(G7<B7,G7>Assumptions!$B$3),"Check dates",IF(OR(J7="",K7=""),"Check target",IF(J7<=K7,"Yes","No")))))) | M7: =IF(A7="","",IF(B7="","Enter inquiry time",IF(B7>Assumptions!$B$3,"Check inquiry time",IF(G7<>"",IF(OR(G7<B7,G7>Assumptions!$B$3),"Check response time",IF(K7="","Check target",IF(J7>K7,"Review late response",""))),IF(K7="","Check target",IF((Assumptions!$B$3-B7)*24>K7,"Pending past target","Pending"))))))
A8: FX-LD-004 | B8: 46269.583 | C8: Fictional Delta Pet Care | D8: Walk-In | E8: Small Business | F8: Riley Placeholder | G8: 46269.667 | H8: Quoting | I8: Demonstrates a response beyond the target. | J8: =IF(OR(B8="",G8=""),"",IF(OR(G8<B8,G8>Assumptions!$B$3),"",ROUND((G8-B8)*24,2))) | K8: =IF(D8="","",IFERROR(VLOOKUP(D8,Assumptions!$A$9:$B$13,2,FALSE),"")) | L8: =IF(A8="","",IF(B8="","Check dates",IF(G8="","Pending",IF(OR(G8<B8,G8>Assumptions!$B$3),"Check dates",IF(OR(J8="",K8=""),"Check target",IF(J8<=K8,"Yes","No")))))) | M8: =IF(A8="","",IF(B8="","Enter inquiry time",IF(B8>Assumptions!$B$3,"Check inquiry time",IF(G8<>"",IF(OR(G8<B8,G8>Assumptions!$B$3),"Check response time",IF(K8="","Check target",IF(J8>K8,"Review late response",""))),IF(K8="","Check target",IF((Assumptions!$B$3-B8)*24>K8,"Pending past target","Pending"))))))
A9: FX-LD-005 | B9: 46270.5 | C9: Fictional Ember Household | D9: Community Event | E9: Renters | F9: Casey Example | G9: 46271.75 | H9: Closed | I9: Fictional event inquiry example. | J9: =IF(OR(B9="",G9=""),"",IF(OR(G9<B9,G9>Assumptions!$B$3),"",ROUND((G9-B9)*24,2))) | K9: =IF(D9="","",IFERROR(VLOOKUP(D9,Assumptions!$A$9:$B$13,2,FALSE),"")) | L9: =IF(A9="","",IF(B9="","Check dates",IF(G9="","Pending",IF(OR(G9<B9,G9>Assumptions!$B$3),"Check dates",IF(OR(J9="",K9=""),"Check target",IF(J9<=K9,"Yes","No")))))) | M9: =IF(A9="","",IF(B9="","Enter inquiry time",IF(B9>Assumptions!$B$3,"Check inquiry time",IF(G9<>"",IF(OR(G9<B9,G9>Assumptions!$B$3),"Check response time",IF(K9="","Check target",IF(J9>K9,"Review late response",""))),IF(K9="","Check target",IF((Assumptions!$B$3-B9)*24>K9,"Pending past target","Pending"))))))
A10: FX-LD-006 | B10: 46273.667 | C10: Fictional Foxtail Workshop | D10: Website Form | E10: Small Business | F10: Jordan Sample | G10: 46273.708 | H10: Contacted | I10: Boundary example: response equals target. | J10: =IF(OR(B10="",G10=""),"",IF(OR(G10<B10,G10>Assumptions!$B$3),"",ROUND((G10-B10)*24,2))) | K10: =IF(D10="","",IFERROR(VLOOKUP(D10,Assumptions!$A$9:$B$13,2,FALSE),"")) | L10: =IF(A10="","",IF(B10="","Check dates",IF(G10="","Pending",IF(OR(G10<B10,G10>Assumptions!$B$3),"Check dates",IF(OR(J10="",K10=""),"Check target",IF(J10<=K10,"Yes","No")))))) | M10: =IF(A10="","",IF(B10="","Enter inquiry time",IF(B10>Assumptions!$B$3,"Check inquiry time",IF(G10<>"",IF(OR(G10<B10,G10>Assumptions!$B$3),"Check response time",IF(K10="","Check target",IF(J10>K10,"Review late response",""))),IF(K10="","Check target",IF((Assumptions!$B$3-B10)*24>K10,"Pending past target","Pending"))))))
A11: FX-LD-007 | B11: 46275.698 | C11: Fictional Harbor Craft Shop | D11: Phone Inquiry | E11: Small Business | F11: Morgan Demo | H11: New | I11: Pending within the response target at cutoff. | J11: =IF(OR(B11="",G11=""),"",IF(OR(G11<B11,G11>Assumptions!$B$3),"",ROUND((G11-B11)*24,2))) | K11: =IF(D11="","",IFERROR(VLOOKUP(D11,Assumptions!$A$9:$B$13,2,FALSE),"")) | L11: =IF(A11="","",IF(B11="","Check dates",IF(G11="","Pending",IF(OR(G11<B11,G11>Assumptions!$B$3),"Check dates",IF(OR(J11="",K11=""),"Check target",IF(J11<=K11,"Yes","No")))))) | M11: =IF(A11="","",IF(B11="","Enter inquiry time",IF(B11>Assumptions!$B$3,"Check inquiry time",IF(G11<>"",IF(OR(G11<B11,G11>Assumptions!$B$3),"Check response time",IF(K11="","Check target",IF(J11>K11,"Review late response",""))),IF(K11="","Check target",IF((Assumptions!$B$3-B11)*24>K11,"Pending past target","Pending"))))))
A12: FX-LD-008 | B12: 46275.417 | C12: Fictional Indigo Household | D12: Referral | E12: Umbrella | F12: Riley Placeholder | H12: New | I12: Pending beyond the response target at cutoff. | J12: =IF(OR(B12="",G12=""),"",IF(OR(G12<B12,G12>Assumptions!$B$3),"",ROUND((G12-B12)*24,2))) | K12: =IF(D12="","",IFERROR(VLOOKUP(D12,Assumptions!$A$9:$B$13,2,FALSE),"")) | L12: =IF(A12="","",IF(B12="","Check dates",IF(G12="","Pending",IF(OR(G12<B12,G12>Assumptions!$B$3),"Check dates",IF(OR(J12="",K12=""),"Check target",IF(J12<=K12,"Yes","No")))))) | M12: =IF(A12="","",IF(B12="","Enter inquiry time",IF(B12>Assumptions!$B$3,"Check inquiry time",IF(G12<>"",IF(OR(G12<B12,G12>Assumptions!$B$3),"Check response time",IF(K12="","Check target",IF(J12>K12,"Review late response",""))),IF(K12="","Check target",IF((Assumptions!$B$3-B12)*24>K12,"Pending past target","Pending"))))))
A13: FX-LD-009 | B13: 46276.375 | C13: Fictional Juniper Design | D13: Website Form | E13: Small Business | F13: Casey Example | H13: New | I13: Demonstrates a future inquiry-time review alert. | J13: =IF(OR(B13="",G13=""),"",IF(OR(G13<B13,G13>Assumptions!$B$3),"",ROUND((G13-B13)*24,2))) | K13: =IF(D13="","",IFERROR(VLOOKUP(D13,Assumptions!$A$9:$B$13,2,FALSE),"")) | L13: =IF(A13="","",IF(B13="","Check dates",IF(G13="","Pending",IF(OR(G13<B13,G13>Assumptions!$B$3),"Check dates",IF(OR(J13="",K13=""),"Check target",IF(J13<=K13,"Yes","No")))))) | M13: =IF(A13="","",IF(B13="","Enter inquiry time",IF(B13>Assumptions!$B$3,"Check inquiry time",IF(G13<>"",IF(OR(G13<B13,G13>Assumptions!$B$3),"Check response time",IF(K13="","Check target",IF(J13>K13,"Review late response",""))),IF(K13="","Check target",IF((Assumptions!$B$3-B13)*24>K13,"Pending past target","Pending"))))))
A14: FX-LD-010 | B14: 46274.458 | C14: Fictional Meadow Household | D14: Walk-In | E14: Personal Auto | F14: Jordan Sample | G14: 46274.438 | H14: Contacted | I14: Demonstrates a response-before-inquiry review alert. | J14: =IF(OR(B14="",G14=""),"",IF(OR(G14<B14,G14>Assumptions!$B$3),"",ROUND((G14-B14)*24,2))) | K14: =IF(D14="","",IFERROR(VLOOKUP(D14,Assumptions!$A$9:$B$13,2,FALSE),"")) | L14: =IF(A14="","",IF(B14="","Check dates",IF(G14="","Pending",IF(OR(G14<B14,G14>Assumptions!$B$3),"Check dates",IF(OR(J14="",K14=""),"Check target",IF(J14<=K14,"Yes","No")))))) | M14: =IF(A14="","",IF(B14="","Enter inquiry time",IF(B14>Assumptions!$B$3,"Check inquiry time",IF(G14<>"",IF(OR(G14<B14,G14>Assumptions!$B$3),"Check response time",IF(K14="","Check target",IF(J14>K14,"Review late response",""))),IF(K14="","Check target",IF((Assumptions!$B$3-B14)*24>K14,"Pending past target","Pending"))))))
J15: =IF(OR(B15="",G15=""),"",IF(OR(G15<B15,G15>Assumptions!$B$3),"",ROUND((G15-B15)*24,2))) | K15: =IF(D15="","",IFERROR(VLOOKUP(D15,Assumptions!$A$9:$B$13,2,FALSE),"")) | L15: =IF(A15="","",IF(B15="","Check dates",IF(G15="","Pending",IF(OR(G15<B15,G15>Assumptions!$B$3),"Check dates",IF(OR(J15="",K15=""),"Check target",IF(J15<=K15,"Yes","No")))))) | M15: =IF(A15="","",IF(B15="","Enter inquiry time",IF(B15>Assumptions!$B$3,"Check inquiry time",IF(G15<>"",IF(OR(G15<B15,G15>Assumptions!$B$3),"Check response time",IF(K15="","Check target",IF(J15>K15,"Review late response",""))),IF(K15="","Check target",IF((Assumptions!$B$3-B15)*24>K15,"Pending past target","Pending"))))))
J16: =IF(OR(B16="",G16=""),"",IF(OR(G16<B16,G16>Assumptions!$B$3),"",ROUND((G16-B16)*24,2))) | K16: =IF(D16="","",IFERROR(VLOOKUP(D16,Assumptions!$A$9:$B$13,2,FALSE),"")) | L16: =IF(A16="","",IF(B16="","Check dates",IF(G16="","Pending",IF(OR(G16<B16,G16>Assumptions!$B$3),"Check dates",IF(OR(J16="",K16=""),"Check target",IF(J16<=K16,"Yes","No")))))) | M16: =IF(A16="","",IF(B16="","Enter inquiry time",IF(B16>Assumptions!$B$3,"Check inquiry time",IF(G16<>"",IF(OR(G16<B16,G16>Assumptions!$B$3),"Check response time",IF(K16="","Check target",IF(J16>K16,"Review late response",""))),IF(K16="","Check target",IF((Assumptions!$B$3-B16)*24>K16,"Pending past target","Pending"))))))
J17: =IF(OR(B17="",G17=""),"",IF(OR(G17<B17,G17>Assumptions!$B$3),"",ROUND((G17-B17)*24,2))) | K17: =IF(D17="","",IFERROR(VLOOKUP(D17,Assumptions!$A$9:$B$13,2,FALSE),"")) | L17: =IF(A17="","",IF(B17="","Check dates",IF(G17="","Pending",IF(OR(G17<B17,G17>Assumptions!$B$3),"Check dates",IF(OR(J17="",K17=""),"Check target",IF(J17<=K17,"Yes","No")))))) | M17: =IF(A17="","",IF(B17="","Enter inquiry time",IF(B17>Assumptions!$B$3,"Check inquiry time",IF(G17<>"",IF(OR(G17<B17,G17>Assumptions!$B$3),"Check response time",IF(K17="","Check target",IF(J17>K17,"Review late response",""))),IF(K17="","Check target",IF((Assumptions!$B$3-B17)*24>K17,"Pending past target","Pending"))))))
J18: =IF(OR(B18="",G18=""),"",IF(OR(G18<B18,G18>Assumptions!$B$3),"",ROUND((G18-B18)*24,2))) | K18: =IF(D18="","",IFERROR(VLOOKUP(D18,Assumptions!$A$9:$B$13,2,FALSE),"")) | L18: =IF(A18="","",IF(B18="","Check dates",IF(G18="","Pending",IF(OR(G18<B18,G18>Assumptions!$B$3),"Check dates",IF(OR(J18="",K18=""),"Check target",IF(J18<=K18,"Yes","No")))))) | M18: =IF(A18="","",IF(B18="","Enter inquiry time",IF(B18>Assumptions!$B$3,"Check inquiry time",IF(G18<>"",IF(OR(G18<B18,G18>Assumptions!$B$3),"Check response time",IF(K18="","Check target",IF(J18>K18,"Review late response",""))),IF(K18="","Check target",IF((Assumptions!$B$3-B18)*24>K18,"Pending past target","Pending"))))))
J19: =IF(OR(B19="",G19=""),"",IF(OR(G19<B19,G19>Assumptions!$B$3),"",ROUND((G19-B19)*24,2))) | K19: =IF(D19="","",IFERROR(VLOOKUP(D19,Assumptions!$A$9:$B$13,2,FALSE),"")) | L19: =IF(A19="","",IF(B19="","Check dates",IF(G19="","Pending",IF(OR(G19<B19,G19>Assumptions!$B$3),"Check dates",IF(OR(J19="",K19=""),"Check target",IF(J19<=K19,"Yes","No")))))) | M19: =IF(A19="","",IF(B19="","Enter inquiry time",IF(B19>Assumptions!$B$3,"Check inquiry time",IF(G19<>"",IF(OR(G19<B19,G19>Assumptions!$B$3),"Check response time",IF(K19="","Check target",IF(J19>K19,"Review late response",""))),IF(K19="","Check target",IF((Assumptions!$B$3-B19)*24>K19,"Pending past target","Pending"))))))
J20: =IF(OR(B20="",G20=""),"",IF(OR(G20<B20,G20>Assumptions!$B$3),"",ROUND((G20-B20)*24,2))) | K20: =IF(D20="","",IFERROR(VLOOKUP(D20,Assumptions!$A$9:$B$13,2,FALSE),"")) | L20: =IF(A20="","",IF(B20="","Check dates",IF(G20="","Pending",IF(OR(G20<B20,G20>Assumptions!$B$3),"Check dates",IF(OR(J20="",K20=""),"Check target",IF(J20<=K20,"Yes","No")))))) | M20: =IF(A20="","",IF(B20="","Enter inquiry time",IF(B20>Assumptions!$B$3,"Check inquiry time",IF(G20<>"",IF(OR(G20<B20,G20>Assumptions!$B$3),"Check response time",IF(K20="","Check target",IF(J20>K20,"Review late response",""))),IF(K20="","Check target",IF((Assumptions!$B$3-B20)*24>K20,"Pending past target","Pending"))))))
J21: =IF(OR(B21="",G21=""),"",IF(OR(G21<B21,G21>Assumptions!$B$3),"",ROUND((G21-B21)*24,2))) | K21: =IF(D21="","",IFERROR(VLOOKUP(D21,Assumptions!$A$9:$B$13,2,FALSE),"")) | L21: =IF(A21="","",IF(B21="","Check dates",IF(G21="","Pending",IF(OR(G21<B21,G21>Assumptions!$B$3),"Check dates",IF(OR(J21="",K21=""),"Check target",IF(J21<=K21,"Yes","No")))))) | M21: =IF(A21="","",IF(B21="","Enter inquiry time",IF(B21>Assumptions!$B$3,"Check inquiry time",IF(G21<>"",IF(OR(G21<B21,G21>Assumptions!$B$3),"Check response time",IF(K21="","Check target",IF(J21>K21,"Review late response",""))),IF(K21="","Check target",IF((Assumptions!$B$3-B21)*24>K21,"Pending past target","Pending"))))))
J22: =IF(OR(B22="",G22=""),"",IF(OR(G22<B22,G22>Assumptions!$B$3),"",ROUND((G22-B22)*24,2))) | K22: =IF(D22="","",IFERROR(VLOOKUP(D22,Assumptions!$A$9:$B$13,2,FALSE),"")) | L22: =IF(A22="","",IF(B22="","Check dates",IF(G22="","Pending",IF(OR(G22<B22,G22>Assumptions!$B$3),"Check dates",IF(OR(J22="",K22=""),"Check target",IF(J22<=K22,"Yes","No")))))) | M22: =IF(A22="","",IF(B22="","Enter inquiry time",IF(B22>Assumptions!$B$3,"Check inquiry time",IF(G22<>"",IF(OR(G22<B22,G22>Assumptions!$B$3),"Check response time",IF(K22="","Check target",IF(J22>K22,"Review late response",""))),IF(K22="","Check target",IF((Assumptions!$B$3-B22)*24>K22,"Pending past target","Pending"))))))
J23: =IF(OR(B23="",G23=""),"",IF(OR(G23<B23,G23>Assumptions!$B$3),"",ROUND((G23-B23)*24,2))) | K23: =IF(D23="","",IFERROR(VLOOKUP(D23,Assumptions!$A$9:$B$13,2,FALSE),"")) | L23: =IF(A23="","",IF(B23="","Check dates",IF(G23="","Pending",IF(OR(G23<B23,G23>Assumptions!$B$3),"Check dates",IF(OR(J23="",K23=""),"Check target",IF(J23<=K23,"Yes","No")))))) | M23: =IF(A23="","",IF(B23="","Enter inquiry time",IF(B23>Assumptions!$B$3,"Check inquiry time",IF(G23<>"",IF(OR(G23<B23,G23>Assumptions!$B$3),"Check response time",IF(K23="","Check target",IF(J23>K23,"Review late response",""))),IF(K23="","Check target",IF((Assumptions!$B$3-B23)*24>K23,"Pending past target","Pending"))))))
J24: =IF(OR(B24="",G24=""),"",IF(OR(G24<B24,G24>Assumptions!$B$3),"",ROUND((G24-B24)*24,2))) | K24: =IF(D24="","",IFERROR(VLOOKUP(D24,Assumptions!$A$9:$B$13,2,FALSE),"")) | L24: =IF(A24="","",IF(B24="","Check dates",IF(G24="","Pending",IF(OR(G24<B24,G24>Assumptions!$B$3),"Check dates",IF(OR(J24="",K24=""),"Check target",IF(J24<=K24,"Yes","No")))))) | M24: =IF(A24="","",IF(B24="","Enter inquiry time",IF(B24>Assumptions!$B$3,"Check inquiry time",IF(G24<>"",IF(OR(G24<B24,G24>Assumptions!$B$3),"Check response time",IF(K24="","Check target",IF(J24>K24,"Review late response",""))),IF(K24="","Check target",IF((Assumptions!$B$3-B24)*24>K24,"Pending past target","Pending"))))))
J25: =IF(OR(B25="",G25=""),"",IF(OR(G25<B25,G25>Assumptions!$B$3),"",ROUND((G25-B25)*24,2))) | K25: =IF(D25="","",IFERROR(VLOOKUP(D25,Assumptions!$A$9:$B$13,2,FALSE),"")) | L25: =IF(A25="","",IF(B25="","Check dates",IF(G25="","Pending",IF(OR(G25<B25,G25>Assumptions!$B$3),"Check dates",IF(OR(J25="",K25=""),"Check target",IF(J25<=K25,"Yes","No")))))) | M25: =IF(A25="","",IF(B25="","Enter inquiry time",IF(B25>Assumptions!$B$3,"Check inquiry time",IF(G25<>"",IF(OR(G25<B25,G25>Assumptions!$B$3),"Check response time",IF(K25="","Check target",IF(J25>K25,"Review late response",""))),IF(K25="","Check target",IF((Assumptions!$B$3-B25)*24>K25,"Pending past target","Pending"))))))
J26: =IF(OR(B26="",G26=""),"",IF(OR(G26<B26,G26>Assumptions!$B$3),"",ROUND((G26-B26)*24,2))) | K26: =IF(D26="","",IFERROR(VLOOKUP(D26,Assumptions!$A$9:$B$13,2,FALSE),"")) | L26: =IF(A26="","",IF(B26="","Check dates",IF(G26="","Pending",IF(OR(G26<B26,G26>Assumptions!$B$3),"Check dates",IF(OR(J26="",K26=""),"Check target",IF(J26<=K26,"Yes","No")))))) | M26: =IF(A26="","",IF(B26="","Enter inquiry time",IF(B26>Assumptions!$B$3,"Check inquiry time",IF(G26<>"",IF(OR(G26<B26,G26>Assumptions!$B$3),"Check response time",IF(K26="","Check target",IF(J26>K26,"Review late response",""))),IF(K26="","Check target",IF((Assumptions!$B$3-B26)*24>K26,"Pending past target","Pending"))))))
... J104: =IF(OR(B104="",G104=""),"",IF(OR(G104<B104,G104>Assumptions!$B$3),"",ROUND((G104-B104)*24,2))) | K104: =IF(D104="","",IFERROR(VLOOKUP(D104,Assumptions!$A$9:$B$13,2,FALSE),"")) | L104: =IF(A104="","",IF(B104="","Check dates",IF(G104="","Pending",IF(OR(G104<B104,G104>Assumptions!$B$3),"Check dates",IF(OR(J104="",K104=""),"Check target",IF(J104<=K104,"Yes","No")))))) | M104: =IF(A104="","",IF(B104="","Enter inquiry time",IF(B104>Assumptions!$B$3,"Check inquiry time",IF(G104<>"",IF(OR(G104<B104,G104>Assumptions!$B$3),"Check response time",IF(K104="","Check target",IF(J104>K104,"Review late response",""))),IF(K104="","Check target",IF((Assumptions!$B$3-B104)*24>K104,"Pending past target","Pending"))))))

Sheet Assumptions
A1: Insurance Lead Response Time Tracker — Assumptions
A2: Edit yellow cells to reflect the agency workflow. Response targets are administrative goals, not service guarantees.
A3: Reporting cutoff | B3: 46275.708
A4: Earliest accepted timestamp | B4: 42625
A5: Latest accepted timestamp | B5: 49925
A6: Maximum target hours allowed | B6: 168
A8: Inquiry Source | B8: Target Hours | D8: Line of Business | F8: Assigned Owner | H8: Lead Status
A9: Website Form | B9: 1 | D9: Personal Auto | F9: Casey Example | H9: New
A10: Phone Inquiry | B10: 0.5 | D10: Homeowners | F10: Jordan Sample | H10: Contacted
A11: Referral | B11: 4 | D11: Renters | F11: Morgan Demo | H11: Quoting
A12: Walk-In | B12: 1 | D12: Small Business | F12: Riley Placeholder | H12: Closed
A13: Community Event | B13: 24 | D13: Umbrella | H13: Disqualified
