Workbook

Sheet Summary
A1: Insurance Lost Quote Analysis Summary
A2: Results use only entered records and editable assumptions; all examples are fictional.
A4: Indicator | B4: Value | D4: Indicator | E4: Value | G4: Indicator | H4: Value
A5: Lost Quotes | B5: =COUNTIFS('Lost Quotes'!$A$5:$A$104,"<>",'Lost Quotes'!$C$5:$C$104,">="&'Assumptions'!$B$5,'Lost Quotes'!$C$5:$C$104,"<="&'Assumptions'!$B$6) | D5: Quoted Premium | E5: =IF($B$5=0,"",SUMIFS('Lost Quotes'!$H$5:$H$104,'Lost Quotes'!$A$5:$A$104,"<>",'Lost Quotes'!$C$5:$C$104,">="&'Assumptions'!$B$5,'Lost Quotes'!$C$5:$C$104,"<="&'Assumptions'!$B$6)) | G5: Average Quoted Premium | H5: =IFERROR($E$5/$B$5,"")
A6: Price Loss Share | B6: =IFERROR(COUNTIFS('Lost Quotes'!$A$5:$A$104,"<>",'Lost Quotes'!$C$5:$C$104,">="&'Assumptions'!$B$5,'Lost Quotes'!$C$5:$C$104,"<="&'Assumptions'!$B$6,'Lost Quotes'!$I$5:$I$104,"Price")/$B$5,"") | D6: Average Decision Days | E6: =IFERROR(SUMIFS('Lost Quotes'!$M$5:$M$104,'Lost Quotes'!$A$5:$A$104,"<>",'Lost Quotes'!$C$5:$C$104,">="&'Assumptions'!$B$5,'Lost Quotes'!$C$5:$C$104,"<="&'Assumptions'!$B$6)/COUNTIFS('Lost Quotes'!$A$5:$A$104,"<>",'Lost Quotes'!$C$5:$C$104,">="&'Assumptions'!$B$5,'Lost Quotes'!$C$5:$C$104,"<="&'Assumptions'!$B$6,'Lost Quotes'!$M$5:$M$104,">=0"),"") | G6: Pending Reviews | H6: =COUNTIFS('Lost Quotes'!$A$5:$A$104,"<>",'Lost Quotes'!$C$5:$C$104,">="&'Assumptions'!$B$5,'Lost Quotes'!$C$5:$C$104,"<="&'Assumptions'!$B$6,'Lost Quotes'!$N$5:$N$104,"Pending Review")
A8: Reporting Start | B8: ='Assumptions'!$B$5 | D8: Reporting End | E8: ='Assumptions'!$B$6 | G8: Rows with Alerts | H8: =COUNTIFS('Lost Quotes'!$A$5:$A$104,"<>",'Lost Quotes'!$C$5:$C$104,">="&'Assumptions'!$B$5,'Lost Quotes'!$C$5:$C$104,"<="&'Assumptions'!$B$6,'Lost Quotes'!$P$5:$P$104,"<>")
A11: Lost Reason | B11: Category | C11: Lost Quotes | D11: Quoted Premium | F11: Carrier | G11: Lost Quotes | H11: Quoted Premium | J11: Product | K11: Lost Quotes | L11: Quoted Premium
A12: ='Assumptions'!$G$5 | B12: ='Assumptions'!$H$5 | C12: =IF($A12="","",COUNTIFS('Lost Quotes'!$A$5:$A$104,"<>",'Lost Quotes'!$C$5:$C$104,">="&'Assumptions'!$B$5,'Lost Quotes'!$C$5:$C$104,"<="&'Assumptions'!$B$6,'Lost Quotes'!$I$5:$I$104,$A12)) | D12: =IF($C12=0,"",SUMIFS('Lost Quotes'!$H$5:$H$104,'Lost Quotes'!$A$5:$A$104,"<>",'Lost Quotes'!$C$5:$C$104,">="&'Assumptions'!$B$5,'Lost Quotes'!$C$5:$C$104,"<="&'Assumptions'!$B$6,'Lost Quotes'!$I$5:$I$104,$A12)) | F12: ='Assumptions'!$E$5 | G12: =IF($F12="","",COUNTIFS('Lost Quotes'!$A$5:$A$104,"<>",'Lost Quotes'!$C$5:$C$104,">="&'Assumptions'!$B$5,'Lost Quotes'!$C$5:$C$104,"<="&'Assumptions'!$B$6,'Lost Quotes'!$F$5:$F$104,$F12)) | H12: =IF($G12=0,"",SUMIFS('Lost Quotes'!$H$5:$H$104,'Lost Quotes'!$A$5:$A$104,"<>",'Lost Quotes'!$C$5:$C$104,">="&'Assumptions'!$B$5,'Lost Quotes'!$C$5:$C$104,"<="&'Assumptions'!$B$6,'Lost Quotes'!$F$5:$F$104,$F12)) | J12: ='Assumptions'!$D$5 | K12: =IF($J12="","",COUNTIFS('Lost Quotes'!$A$5:$A$104,"<>",'Lost Quotes'!$C$5:$C$104,">="&'Assumptions'!$B$5,'Lost Quotes'!$C$5:$C$104,"<="&'Assumptions'!$B$6,'Lost Quotes'!$E$5:$E$104,$J12)) | L12: =IF($K12=0,"",SUMIFS('Lost Quotes'!$H$5:$H$104,'Lost Quotes'!$A$5:$A$104,"<>",'Lost Quotes'!$C$5:$C$104,">="&'Assumptions'!$B$5,'Lost Quotes'!$C$5:$C$104,"<="&'Assumptions'!$B$6,'Lost Quotes'!$E$5:$E$104,$J12))
A13: ='Assumptions'!$G$6 | B13: ='Assumptions'!$H$6 | C13: =IF($A13="","",COUNTIFS('Lost Quotes'!$A$5:$A$104,"<>",'Lost Quotes'!$C$5:$C$104,">="&'Assumptions'!$B$5,'Lost Quotes'!$C$5:$C$104,"<="&'Assumptions'!$B$6,'Lost Quotes'!$I$5:$I$104,$A13)) | D13: =IF($C13=0,"",SUMIFS('Lost Quotes'!$H$5:$H$104,'Lost Quotes'!$A$5:$A$104,"<>",'Lost Quotes'!$C$5:$C$104,">="&'Assumptions'!$B$5,'Lost Quotes'!$C$5:$C$104,"<="&'Assumptions'!$B$6,'Lost Quotes'!$I$5:$I$104,$A13)) | F13: ='Assumptions'!$E$6 | G13: =IF($F13="","",COUNTIFS('Lost Quotes'!$A$5:$A$104,"<>",'Lost Quotes'!$C$5:$C$104,">="&'Assumptions'!$B$5,'Lost Quotes'!$C$5:$C$104,"<="&'Assumptions'!$B$6,'Lost Quotes'!$F$5:$F$104,$F13)) | H13: =IF($G13=0,"",SUMIFS('Lost Quotes'!$H$5:$H$104,'Lost Quotes'!$A$5:$A$104,"<>",'Lost Quotes'!$C$5:$C$104,">="&'Assumptions'!$B$5,'Lost Quotes'!$C$5:$C$104,"<="&'Assumptions'!$B$6,'Lost Quotes'!$F$5:$F$104,$F13)) | J13: ='Assumptions'!$D$6 | K13: =IF($J13="","",COUNTIFS('Lost Quotes'!$A$5:$A$104,"<>",'Lost Quotes'!$C$5:$C$104,">="&'Assumptions'!$B$5,'Lost Quotes'!$C$5:$C$104,"<="&'Assumptions'!$B$6,'Lost Quotes'!$E$5:$E$104,$J13)) | L13: =IF($K13=0,"",SUMIFS('Lost Quotes'!$H$5:$H$104,'Lost Quotes'!$A$5:$A$104,"<>",'Lost Quotes'!$C$5:$C$104,">="&'Assumptions'!$B$5,'Lost Quotes'!$C$5:$C$104,"<="&'Assumptions'!$B$6,'Lost Quotes'!$E$5:$E$104,$J13))
A14: ='Assumptions'!$G$7 | B14: ='Assumptions'!$H$7 | C14: =IF($A14="","",COUNTIFS('Lost Quotes'!$A$5:$A$104,"<>",'Lost Quotes'!$C$5:$C$104,">="&'Assumptions'!$B$5,'Lost Quotes'!$C$5:$C$104,"<="&'Assumptions'!$B$6,'Lost Quotes'!$I$5:$I$104,$A14)) | D14: =IF($C14=0,"",SUMIFS('Lost Quotes'!$H$5:$H$104,'Lost Quotes'!$A$5:$A$104,"<>",'Lost Quotes'!$C$5:$C$104,">="&'Assumptions'!$B$5,'Lost Quotes'!$C$5:$C$104,"<="&'Assumptions'!$B$6,'Lost Quotes'!$I$5:$I$104,$A14)) | F14: ='Assumptions'!$E$7 | G14: =IF($F14="","",COUNTIFS('Lost Quotes'!$A$5:$A$104,"<>",'Lost Quotes'!$C$5:$C$104,">="&'Assumptions'!$B$5,'Lost Quotes'!$C$5:$C$104,"<="&'Assumptions'!$B$6,'Lost Quotes'!$F$5:$F$104,$F14)) | H14: =IF($G14=0,"",SUMIFS('Lost Quotes'!$H$5:$H$104,'Lost Quotes'!$A$5:$A$104,"<>",'Lost Quotes'!$C$5:$C$104,">="&'Assumptions'!$B$5,'Lost Quotes'!$C$5:$C$104,"<="&'Assumptions'!$B$6,'Lost Quotes'!$F$5:$F$104,$F14)) | J14: ='Assumptions'!$D$7 | K14: =IF($J14="","",COUNTIFS('Lost Quotes'!$A$5:$A$104,"<>",'Lost Quotes'!$C$5:$C$104,">="&'Assumptions'!$B$5,'Lost Quotes'!$C$5:$C$104,"<="&'Assumptions'!$B$6,'Lost Quotes'!$E$5:$E$104,$J14)) | L14: =IF($K14=0,"",SUMIFS('Lost Quotes'!$H$5:$H$104,'Lost Quotes'!$A$5:$A$104,"<>",'Lost Quotes'!$C$5:$C$104,">="&'Assumptions'!$B$5,'Lost Quotes'!$C$5:$C$104,"<="&'Assumptions'!$B$6,'Lost Quotes'!$E$5:$E$104,$J14))
A15: ='Assumptions'!$G$8 | B15: ='Assumptions'!$H$8 | C15: =IF($A15="","",COUNTIFS('Lost Quotes'!$A$5:$A$104,"<>",'Lost Quotes'!$C$5:$C$104,">="&'Assumptions'!$B$5,'Lost Quotes'!$C$5:$C$104,"<="&'Assumptions'!$B$6,'Lost Quotes'!$I$5:$I$104,$A15)) | D15: =IF($C15=0,"",SUMIFS('Lost Quotes'!$H$5:$H$104,'Lost Quotes'!$A$5:$A$104,"<>",'Lost Quotes'!$C$5:$C$104,">="&'Assumptions'!$B$5,'Lost Quotes'!$C$5:$C$104,"<="&'Assumptions'!$B$6,'Lost Quotes'!$I$5:$I$104,$A15)) | F15: ='Assumptions'!$E$8 | G15: =IF($F15="","",COUNTIFS('Lost Quotes'!$A$5:$A$104,"<>",'Lost Quotes'!$C$5:$C$104,">="&'Assumptions'!$B$5,'Lost Quotes'!$C$5:$C$104,"<="&'Assumptions'!$B$6,'Lost Quotes'!$F$5:$F$104,$F15)) | H15: =IF($G15=0,"",SUMIFS('Lost Quotes'!$H$5:$H$104,'Lost Quotes'!$A$5:$A$104,"<>",'Lost Quotes'!$C$5:$C$104,">="&'Assumptions'!$B$5,'Lost Quotes'!$C$5:$C$104,"<="&'Assumptions'!$B$6,'Lost Quotes'!$F$5:$F$104,$F15)) | J15: ='Assumptions'!$D$8 | K15: =IF($J15="","",COUNTIFS('Lost Quotes'!$A$5:$A$104,"<>",'Lost Quotes'!$C$5:$C$104,">="&'Assumptions'!$B$5,'Lost Quotes'!$C$5:$C$104,"<="&'Assumptions'!$B$6,'Lost Quotes'!$E$5:$E$104,$J15)) | L15: =IF($K15=0,"",SUMIFS('Lost Quotes'!$H$5:$H$104,'Lost Quotes'!$A$5:$A$104,"<>",'Lost Quotes'!$C$5:$C$104,">="&'Assumptions'!$B$5,'Lost Quotes'!$C$5:$C$104,"<="&'Assumptions'!$B$6,'Lost Quotes'!$E$5:$E$104,$J15))
A16: ='Assumptions'!$G$9 | B16: ='Assumptions'!$H$9 | C16: =IF($A16="","",COUNTIFS('Lost Quotes'!$A$5:$A$104,"<>",'Lost Quotes'!$C$5:$C$104,">="&'Assumptions'!$B$5,'Lost Quotes'!$C$5:$C$104,"<="&'Assumptions'!$B$6,'Lost Quotes'!$I$5:$I$104,$A16)) | D16: =IF($C16=0,"",SUMIFS('Lost Quotes'!$H$5:$H$104,'Lost Quotes'!$A$5:$A$104,"<>",'Lost Quotes'!$C$5:$C$104,">="&'Assumptions'!$B$5,'Lost Quotes'!$C$5:$C$104,"<="&'Assumptions'!$B$6,'Lost Quotes'!$I$5:$I$104,$A16)) | F16: ='Assumptions'!$E$9 | G16: =IF($F16="","",COUNTIFS('Lost Quotes'!$A$5:$A$104,"<>",'Lost Quotes'!$C$5:$C$104,">="&'Assumptions'!$B$5,'Lost Quotes'!$C$5:$C$104,"<="&'Assumptions'!$B$6,'Lost Quotes'!$F$5:$F$104,$F16)) | H16: =IF($G16=0,"",SUMIFS('Lost Quotes'!$H$5:$H$104,'Lost Quotes'!$A$5:$A$104,"<>",'Lost Quotes'!$C$5:$C$104,">="&'Assumptions'!$B$5,'Lost Quotes'!$C$5:$C$104,"<="&'Assumptions'!$B$6,'Lost Quotes'!$F$5:$F$104,$F16)) | J16: ='Assumptions'!$D$9 | K16: =IF($J16="","",COUNTIFS('Lost Quotes'!$A$5:$A$104,"<>",'Lost Quotes'!$C$5:$C$104,">="&'Assumptions'!$B$5,'Lost Quotes'!$C$5:$C$104,"<="&'Assumptions'!$B$6,'Lost Quotes'!$E$5:$E$104,$J16)) | L16: =IF($K16=0,"",SUMIFS('Lost Quotes'!$H$5:$H$104,'Lost Quotes'!$A$5:$A$104,"<>",'Lost Quotes'!$C$5:$C$104,">="&'Assumptions'!$B$5,'Lost Quotes'!$C$5:$C$104,"<="&'Assumptions'!$B$6,'Lost Quotes'!$E$5:$E$104,$J16))
A17: ='Assumptions'!$G$10 | B17: ='Assumptions'!$H$10 | C17: =IF($A17="","",COUNTIFS('Lost Quotes'!$A$5:$A$104,"<>",'Lost Quotes'!$C$5:$C$104,">="&'Assumptions'!$B$5,'Lost Quotes'!$C$5:$C$104,"<="&'Assumptions'!$B$6,'Lost Quotes'!$I$5:$I$104,$A17)) | D17: =IF($C17=0,"",SUMIFS('Lost Quotes'!$H$5:$H$104,'Lost Quotes'!$A$5:$A$104,"<>",'Lost Quotes'!$C$5:$C$104,">="&'Assumptions'!$B$5,'Lost Quotes'!$C$5:$C$104,"<="&'Assumptions'!$B$6,'Lost Quotes'!$I$5:$I$104,$A17)) | F17: ='Assumptions'!$E$10 | G17: =IF($F17="","",COUNTIFS('Lost Quotes'!$A$5:$A$104,"<>",'Lost Quotes'!$C$5:$C$104,">="&'Assumptions'!$B$5,'Lost Quotes'!$C$5:$C$104,"<="&'Assumptions'!$B$6,'Lost Quotes'!$F$5:$F$104,$F17)) | H17: =IF($G17=0,"",SUMIFS('Lost Quotes'!$H$5:$H$104,'Lost Quotes'!$A$5:$A$104,"<>",'Lost Quotes'!$C$5:$C$104,">="&'Assumptions'!$B$5,'Lost Quotes'!$C$5:$C$104,"<="&'Assumptions'!$B$6,'Lost Quotes'!$F$5:$F$104,$F17)) | J17: ='Assumptions'!$D$10 | K17: =IF($J17="","",COUNTIFS('Lost Quotes'!$A$5:$A$104,"<>",'Lost Quotes'!$C$5:$C$104,">="&'Assumptions'!$B$5,'Lost Quotes'!$C$5:$C$104,"<="&'Assumptions'!$B$6,'Lost Quotes'!$E$5:$E$104,$J17)) | L17: =IF($K17=0,"",SUMIFS('Lost Quotes'!$H$5:$H$104,'Lost Quotes'!$A$5:$A$104,"<>",'Lost Quotes'!$C$5:$C$104,">="&'Assumptions'!$B$5,'Lost Quotes'!$C$5:$C$104,"<="&'Assumptions'!$B$6,'Lost Quotes'!$E$5:$E$104,$J17))
A18: ='Assumptions'!$G$11 | B18: ='Assumptions'!$H$11 | C18: =IF($A18="","",COUNTIFS('Lost Quotes'!$A$5:$A$104,"<>",'Lost Quotes'!$C$5:$C$104,">="&'Assumptions'!$B$5,'Lost Quotes'!$C$5:$C$104,"<="&'Assumptions'!$B$6,'Lost Quotes'!$I$5:$I$104,$A18)) | D18: =IF($C18=0,"",SUMIFS('Lost Quotes'!$H$5:$H$104,'Lost Quotes'!$A$5:$A$104,"<>",'Lost Quotes'!$C$5:$C$104,">="&'Assumptions'!$B$5,'Lost Quotes'!$C$5:$C$104,"<="&'Assumptions'!$B$6,'Lost Quotes'!$I$5:$I$104,$A18)) | J18: ='Assumptions'!$D$11 | K18: =IF($J18="","",COUNTIFS('Lost Quotes'!$A$5:$A$104,"<>",'Lost Quotes'!$C$5:$C$104,">="&'Assumptions'!$B$5,'Lost Quotes'!$C$5:$C$104,"<="&'Assumptions'!$B$6,'Lost Quotes'!$E$5:$E$104,$J18)) | L18: =IF($K18=0,"",SUMIFS('Lost Quotes'!$H$5:$H$104,'Lost Quotes'!$A$5:$A$104,"<>",'Lost Quotes'!$C$5:$C$104,">="&'Assumptions'!$B$5,'Lost Quotes'!$C$5:$C$104,"<="&'Assumptions'!$B$6,'Lost Quotes'!$E$5:$E$104,$J18))
A19: ='Assumptions'!$G$12 | B19: ='Assumptions'!$H$12 | C19: =IF($A19="","",COUNTIFS('Lost Quotes'!$A$5:$A$104,"<>",'Lost Quotes'!$C$5:$C$104,">="&'Assumptions'!$B$5,'Lost Quotes'!$C$5:$C$104,"<="&'Assumptions'!$B$6,'Lost Quotes'!$I$5:$I$104,$A19)) | D19: =IF($C19=0,"",SUMIFS('Lost Quotes'!$H$5:$H$104,'Lost Quotes'!$A$5:$A$104,"<>",'Lost Quotes'!$C$5:$C$104,">="&'Assumptions'!$B$5,'Lost Quotes'!$C$5:$C$104,"<="&'Assumptions'!$B$6,'Lost Quotes'!$I$5:$I$104,$A19)) | J19: ='Assumptions'!$D$12 | K19: =IF($J19="","",COUNTIFS('Lost Quotes'!$A$5:$A$104,"<>",'Lost Quotes'!$C$5:$C$104,">="&'Assumptions'!$B$5,'Lost Quotes'!$C$5:$C$104,"<="&'Assumptions'!$B$6,'Lost Quotes'!$E$5:$E$104,$J19)) | L19: =IF($K19=0,"",SUMIFS('Lost Quotes'!$H$5:$H$104,'Lost Quotes'!$A$5:$A$104,"<>",'Lost Quotes'!$C$5:$C$104,">="&'Assumptions'!$B$5,'Lost Quotes'!$C$5:$C$104,"<="&'Assumptions'!$B$6,'Lost Quotes'!$E$5:$E$104,$J19))
A20: ='Assumptions'!$G$13 | B20: ='Assumptions'!$H$13 | C20: =IF($A20="","",COUNTIFS('Lost Quotes'!$A$5:$A$104,"<>",'Lost Quotes'!$C$5:$C$104,">="&'Assumptions'!$B$5,'Lost Quotes'!$C$5:$C$104,"<="&'Assumptions'!$B$6,'Lost Quotes'!$I$5:$I$104,$A20)) | D20: =IF($C20=0,"",SUMIFS('Lost Quotes'!$H$5:$H$104,'Lost Quotes'!$A$5:$A$104,"<>",'Lost Quotes'!$C$5:$C$104,">="&'Assumptions'!$B$5,'Lost Quotes'!$C$5:$C$104,"<="&'Assumptions'!$B$6,'Lost Quotes'!$I$5:$I$104,$A20)) | J20: ='Assumptions'!$D$13 | K20: =IF($J20="","",COUNTIFS('Lost Quotes'!$A$5:$A$104,"<>",'Lost Quotes'!$C$5:$C$104,">="&'Assumptions'!$B$5,'Lost Quotes'!$C$5:$C$104,"<="&'Assumptions'!$B$6,'Lost Quotes'!$E$5:$E$104,$J20)) | L20: =IF($K20=0,"",SUMIFS('Lost Quotes'!$H$5:$H$104,'Lost Quotes'!$A$5:$A$104,"<>",'Lost Quotes'!$C$5:$C$104,">="&'Assumptions'!$B$5,'Lost Quotes'!$C$5:$C$104,"<="&'Assumptions'!$B$6,'Lost Quotes'!$E$5:$E$104,$J20))
J23: Producer | K23: Lost Quotes | L23: Quoted Premium
J24: ='Assumptions'!$F$5 | K24: =IF($J24="","",COUNTIFS('Lost Quotes'!$A$5:$A$104,"<>",'Lost Quotes'!$C$5:$C$104,">="&'Assumptions'!$B$5,'Lost Quotes'!$C$5:$C$104,"<="&'Assumptions'!$B$6,'Lost Quotes'!$G$5:$G$104,$J24)) | L24: =IF($K24=0,"",SUMIFS('Lost Quotes'!$H$5:$H$104,'Lost Quotes'!$A$5:$A$104,"<>",'Lost Quotes'!$C$5:$C$104,">="&'Assumptions'!$B$5,'Lost Quotes'!$C$5:$C$104,"<="&'Assumptions'!$B$6,'Lost Quotes'!$G$5:$G$104,$J24))
J25: ='Assumptions'!$F$6 | K25: =IF($J25="","",COUNTIFS('Lost Quotes'!$A$5:$A$104,"<>",'Lost Quotes'!$C$5:$C$104,">="&'Assumptions'!$B$5,'Lost Quotes'!$C$5:$C$104,"<="&'Assumptions'!$B$6,'Lost Quotes'!$G$5:$G$104,$J25)) | L25: =IF($K25=0,"",SUMIFS('Lost Quotes'!$H$5:$H$104,'Lost Quotes'!$A$5:$A$104,"<>",'Lost Quotes'!$C$5:$C$104,">="&'Assumptions'!$B$5,'Lost Quotes'!$C$5:$C$104,"<="&'Assumptions'!$B$6,'Lost Quotes'!$G$5:$G$104,$J25))
J26: ='Assumptions'!$F$7 | K26: =IF($J26="","",COUNTIFS('Lost Quotes'!$A$5:$A$104,"<>",'Lost Quotes'!$C$5:$C$104,">="&'Assumptions'!$B$5,'Lost Quotes'!$C$5:$C$104,"<="&'Assumptions'!$B$6,'Lost Quotes'!$G$5:$G$104,$J26)) | L26: =IF($K26=0,"",SUMIFS('Lost Quotes'!$H$5:$H$104,'Lost Quotes'!$A$5:$A$104,"<>",'Lost Quotes'!$C$5:$C$104,">="&'Assumptions'!$B$5,'Lost Quotes'!$C$5:$C$104,"<="&'Assumptions'!$B$6,'Lost Quotes'!$G$5:$G$104,$J26))
J27: ='Assumptions'!$F$8 | K27: =IF($J27="","",COUNTIFS('Lost Quotes'!$A$5:$A$104,"<>",'Lost Quotes'!$C$5:$C$104,">="&'Assumptions'!$B$5,'Lost Quotes'!$C$5:$C$104,"<="&'Assumptions'!$B$6,'Lost Quotes'!$G$5:$G$104,$J27)) | L27: =IF($K27=0,"",SUMIFS('Lost Quotes'!$H$5:$H$104,'Lost Quotes'!$A$5:$A$104,"<>",'Lost Quotes'!$C$5:$C$104,">="&'Assumptions'!$B$5,'Lost Quotes'!$C$5:$C$104,"<="&'Assumptions'!$B$6,'Lost Quotes'!$G$5:$G$104,$J27))
J28: ='Assumptions'!$F$9 | K28: =IF($J28="","",COUNTIFS('Lost Quotes'!$A$5:$A$104,"<>",'Lost Quotes'!$C$5:$C$104,">="&'Assumptions'!$B$5,'Lost Quotes'!$C$5:$C$104,"<="&'Assumptions'!$B$6,'Lost Quotes'!$G$5:$G$104,$J28)) | L28: =IF($K28=0,"",SUMIFS('Lost Quotes'!$H$5:$H$104,'Lost Quotes'!$A$5:$A$104,"<>",'Lost Quotes'!$C$5:$C$104,">="&'Assumptions'!$B$5,'Lost Quotes'!$C$5:$C$104,"<="&'Assumptions'!$B$6,'Lost Quotes'!$G$5:$G$104,$J28))

Sheet Lost Quotes
A1: Insurance Lost Quote Analysis
A2: Enter administrative lost-quote details. Yellow cells are editable; alerts request a human check.
A4: Quote ID | B4: Quote Date | C4: Lost Date | D4: Prospect / Organization | E4: Product | F4: Carrier Quoted | G4: Producer | H4: Quoted Annual Premium | I4: Lost Reason | J4: Reason Category | K4: Competitor Premium | L4: Premium Gap | M4: Days to Decision | N4: Review Status | O4: Decision Notes | P4: Review Alert
A5: FQ-001 | B5: 46011 | C5: 46023 | D5: Fictional Blue Lantern Bakery LLC | E5: Businessowners | F5: Fictional Harbor Mutual | G5: Fictional Avery Quill | H5: 4850 | I5: Price | J5: =IF($A5="","",IFERROR(VLOOKUP($I5,'Assumptions'!$G$5:$H$13,2,FALSE),"Check reason")) | K5: 4200 | L5: =IF($A5="","",IF(OR($H5="",$K5=""),"",IFERROR($H5-$K5,""))) | M5: =IF($A5="","",IF(OR($B5="",$C5=""),"",IFERROR($C5-$B5,""))) | N5: Reviewed | O5: The fictional prospect selected a lower stated premium. | P5: =IF($A5="","",IF(OR($B5="",$C5="",$D5="",$E5="",$F5="",$G5="",$H5="",$I5="",$N5=""),"Check required inputs",IF($C5<$B5,"Check date order",IF($J5="Check reason","Check reason list",IF($M5>'Assumptions'!$B$7,"Check long decision time",IF(AND($I5="Price",$K5=""),"Check competitor premium",""))))))
A6: FQ-002 | B6: 46056 | C6: 46065 | D6: Fictional Juniper Kite Household | E6: Personal Auto | F6: Fictional Pine State Indemnity | G6: Fictional Morgan Vale | H6: 1890 | I6: Carrier Preference | J6: =IF($A6="","",IFERROR(VLOOKUP($I6,'Assumptions'!$G$5:$H$13,2,FALSE),"Check reason")) | L6: =IF($A6="","",IF(OR($H6="",$K6=""),"",IFERROR($H6-$K6,""))) | M6: =IF($A6="","",IF(OR($B6="",$C6=""),"",IFERROR($C6-$B6,""))) | N6: Reviewed | O6: The fictional prospect preferred an existing carrier relationship. | P6: =IF($A6="","",IF(OR($B6="",$C6="",$D6="",$E6="",$F6="",$G6="",$H6="",$I6="",$N6=""),"Check required inputs",IF($C6<$B6,"Check date order",IF($J6="Check reason","Check reason list",IF($M6>'Assumptions'!$B$7,"Check long decision time",IF(AND($I6="Price",$K6=""),"Check competitor premium",""))))))
A7: FQ-003 | B7: 46041 | C7: 46095 | D7: Fictional Copper Finch Studio LLC | E7: General Liability | F7: Fictional Cedar Trail Casualty | G7: Fictional Riley North | H7: 1325 | I7: No Response | J7: =IF($A7="","",IFERROR(VLOOKUP($I7,'Assumptions'!$G$5:$H$13,2,FALSE),"Check reason")) | L7: =IF($A7="","",IF(OR($H7="",$K7=""),"",IFERROR($H7-$K7,""))) | M7: =IF($A7="","",IF(OR($B7="",$C7=""),"",IFERROR($C7-$B7,""))) | N7: Pending Review | O7: No decision was reported after the fictional prospect stopped responding. | P7: =IF($A7="","",IF(OR($B7="",$C7="",$D7="",$E7="",$F7="",$G7="",$H7="",$I7="",$N7=""),"Check required inputs",IF($C7<$B7,"Check date order",IF($J7="Check reason","Check reason list",IF($M7>'Assumptions'!$B$7,"Check long decision time",IF(AND($I7="Price",$K7=""),"Check competitor premium",""))))))
A8: FQ-004 | B8: 46107 | C8: 46125 | D8: Fictional Moonbeam Bicycle Shop LLC | E8: Commercial Auto | F8: Fictional Lantern Peak Insurance | G8: Fictional Jordan Wren | H8: 7350 | I8: Eligibility / Appetite | J8: =IF($A8="","",IFERROR(VLOOKUP($I8,'Assumptions'!$G$5:$H$13,2,FALSE),"Check reason")) | L8: =IF($A8="","",IF(OR($H8="",$K8=""),"",IFERROR($H8-$K8,""))) | M8: =IF($A8="","",IF(OR($B8="",$C8=""),"",IFERROR($C8-$B8,""))) | N8: Action Logged | O8: The submitted business description did not fit the quoted carrier appetite. | P8: =IF($A8="","",IF(OR($B8="",$C8="",$D8="",$E8="",$F8="",$G8="",$H8="",$I8="",$N8=""),"Check required inputs",IF($C8<$B8,"Check date order",IF($J8="Check reason","Check reason list",IF($M8>'Assumptions'!$B$7,"Check long decision time",IF(AND($I8="Price",$K8=""),"Check competitor premium",""))))))
A9: FQ-005 | B9: 46133 | C9: 46155 | D9: Fictional Paper Comet Household | E9: Homeowners | F9: Fictional Meadowline Assurance | G9: Fictional Casey Bloom | H9: 2640 | I9: Bundling Elsewhere | J9: =IF($A9="","",IFERROR(VLOOKUP($I9,'Assumptions'!$G$5:$H$13,2,FALSE),"Check reason")) | K9: 2510 | L9: =IF($A9="","",IF(OR($H9="",$K9=""),"",IFERROR($H9-$K9,""))) | M9: =IF($A9="","",IF(OR($B9="",$C9=""),"",IFERROR($C9-$B9,""))) | N9: Reviewed | O9: The fictional household retained an existing bundled arrangement. | P9: =IF($A9="","",IF(OR($B9="",$C9="",$D9="",$E9="",$F9="",$G9="",$H9="",$I9="",$N9=""),"Check required inputs",IF($C9<$B9,"Check date order",IF($J9="Check reason","Check reason list",IF($M9>'Assumptions'!$B$7,"Check long decision time",IF(AND($I9="Price",$K9=""),"Check competitor premium",""))))))
A10: FQ-006 | B10: 46169 | C10: 46185 | D10: Fictional Velvet Acorn Tenant | E10: Renters | F10: Fictional Blue Heron Underwriters | G10: Fictional Avery Quill | H10: 312 | I10: Timing / No Decision | J10: =IF($A10="","",IFERROR(VLOOKUP($I10,'Assumptions'!$G$5:$H$13,2,FALSE),"Check reason")) | L10: =IF($A10="","",IF(OR($H10="",$K10=""),"",IFERROR($H10-$K10,""))) | M10: =IF($A10="","",IF(OR($B10="",$C10=""),"",IFERROR($C10-$B10,""))) | N10: Pending Review | O10: The fictional prospect postponed the planned move. | P10: =IF($A10="","",IF(OR($B10="",$C10="",$D10="",$E10="",$F10="",$G10="",$H10="",$I10="",$N10=""),"Check required inputs",IF($C10<$B10,"Check date order",IF($J10="Check reason","Check reason list",IF($M10>'Assumptions'!$B$7,"Check long decision time",IF(AND($I10="Price",$K10=""),"Check competitor premium",""))))))
A11: FQ-007 | B11: 46180 | C11: 46215 | D11: Fictional Silver Thimble Workshop LLC | E11: Workers Compensation | F11: Fictional Harbor Mutual | G11: Fictional Morgan Vale | H11: 9680 | I11: Coverage Terms | J11: =IF($A11="","",IFERROR(VLOOKUP($I11,'Assumptions'!$G$5:$H$13,2,FALSE),"Check reason")) | K11: 9900 | L11: =IF($A11="","",IF(OR($H11="",$K11=""),"",IFERROR($H11-$K11,""))) | M11: =IF($A11="","",IF(OR($B11="",$C11=""),"",IFERROR($C11-$B11,""))) | N11: Action Logged | O11: The fictional business selected different stated policy terms. | P11: =IF($A11="","",IF(OR($B11="",$C11="",$D11="",$E11="",$F11="",$G11="",$H11="",$I11="",$N11=""),"Check required inputs",IF($C11<$B11,"Check date order",IF($J11="Check reason","Check reason list",IF($M11>'Assumptions'!$B$7,"Check long decision time",IF(AND($I11="Price",$K11=""),"Check competitor premium",""))))))
A12: FQ-008 | B12: 46233 | C12: 46240 | D12: Fictional Marble Fox Household | E12: Personal Umbrella | F12: Fictional Pine State Indemnity | G12: Fictional Riley North | H12: 525 | I12: Service Experience | J12: =IF($A12="","",IFERROR(VLOOKUP($I12,'Assumptions'!$G$5:$H$13,2,FALSE),"Check reason")) | L12: =IF($A12="","",IF(OR($H12="",$K12=""),"",IFERROR($H12-$K12,""))) | M12: =IF($A12="","",IF(OR($B12="",$C12=""),"",IFERROR($C12-$B12,""))) | N12: Reviewed | O12: The fictional prospect cited a prior service preference. | P12: =IF($A12="","",IF(OR($B12="",$C12="",$D12="",$E12="",$F12="",$G12="",$H12="",$I12="",$N12=""),"Check required inputs",IF($C12<$B12,"Check date order",IF($J12="Check reason","Check reason list",IF($M12>'Assumptions'!$B$7,"Check long decision time",IF(AND($I12="Price",$K12=""),"Check competitor premium",""))))))
A13: FQ-009 | B13: 46231 | C13: 46261 | D13: Fictional Sunny Orbit Cafe LLC | E13: Commercial Property | F13: Fictional Cedar Trail Casualty | G13: Fictional Jordan Wren | H13: 11250 | I13: Other | J13: =IF($A13="","",IFERROR(VLOOKUP($I13,'Assumptions'!$G$5:$H$13,2,FALSE),"Check reason")) | L13: =IF($A13="","",IF(OR($H13="",$K13=""),"",IFERROR($H13-$K13,""))) | M13: =IF($A13="","",IF(OR($B13="",$C13=""),"",IFERROR($C13-$B13,""))) | N13: Action Logged | O13: The fictional business changed its project scope before purchase. | P13: =IF($A13="","",IF(OR($B13="",$C13="",$D13="",$E13="",$F13="",$G13="",$H13="",$I13="",$N13=""),"Check required inputs",IF($C13<$B13,"Check date order",IF($J13="Check reason","Check reason list",IF($M13>'Assumptions'!$B$7,"Check long decision time",IF(AND($I13="Price",$K13=""),"Check competitor premium",""))))))
A14: FQ-010 | B14: 46259 | C14: 46275 | D14: Fictional Fern and Fable Household | E14: Homeowners | F14: Fictional Lantern Peak Insurance | G14: Fictional Casey Bloom | H14: 3185 | I14: Price | J14: =IF($A14="","",IFERROR(VLOOKUP($I14,'Assumptions'!$G$5:$H$13,2,FALSE),"Check reason")) | L14: =IF($A14="","",IF(OR($H14="",$K14=""),"",IFERROR($H14-$K14,""))) | M14: =IF($A14="","",IF(OR($B14="",$C14=""),"",IFERROR($C14-$B14,""))) | N14: Pending Review | O14: The fictional prospect cited price without providing a competing amount. | P14: =IF($A14="","",IF(OR($B14="",$C14="",$D14="",$E14="",$F14="",$G14="",$H14="",$I14="",$N14=""),"Check required inputs",IF($C14<$B14,"Check date order",IF($J14="Check reason","Check reason list",IF($M14>'Assumptions'!$B$7,"Check long decision time",IF(AND($I14="Price",$K14=""),"Check competitor premium",""))))))
J15: =IF($A15="","",IFERROR(VLOOKUP($I15,'Assumptions'!$G$5:$H$13,2,FALSE),"Check reason")) | L15: =IF($A15="","",IF(OR($H15="",$K15=""),"",IFERROR($H15-$K15,""))) | M15: =IF($A15="","",IF(OR($B15="",$C15=""),"",IFERROR($C15-$B15,""))) | P15: =IF($A15="","",IF(OR($B15="",$C15="",$D15="",$E15="",$F15="",$G15="",$H15="",$I15="",$N15=""),"Check required inputs",IF($C15<$B15,"Check date order",IF($J15="Check reason","Check reason list",IF($M15>'Assumptions'!$B$7,"Check long decision time",IF(AND($I15="Price",$K15=""),"Check competitor premium",""))))))
J16: =IF($A16="","",IFERROR(VLOOKUP($I16,'Assumptions'!$G$5:$H$13,2,FALSE),"Check reason")) | L16: =IF($A16="","",IF(OR($H16="",$K16=""),"",IFERROR($H16-$K16,""))) | M16: =IF($A16="","",IF(OR($B16="",$C16=""),"",IFERROR($C16-$B16,""))) | P16: =IF($A16="","",IF(OR($B16="",$C16="",$D16="",$E16="",$F16="",$G16="",$H16="",$I16="",$N16=""),"Check required inputs",IF($C16<$B16,"Check date order",IF($J16="Check reason","Check reason list",IF($M16>'Assumptions'!$B$7,"Check long decision time",IF(AND($I16="Price",$K16=""),"Check competitor premium",""))))))
J17: =IF($A17="","",IFERROR(VLOOKUP($I17,'Assumptions'!$G$5:$H$13,2,FALSE),"Check reason")) | L17: =IF($A17="","",IF(OR($H17="",$K17=""),"",IFERROR($H17-$K17,""))) | M17: =IF($A17="","",IF(OR($B17="",$C17=""),"",IFERROR($C17-$B17,""))) | P17: =IF($A17="","",IF(OR($B17="",$C17="",$D17="",$E17="",$F17="",$G17="",$H17="",$I17="",$N17=""),"Check required inputs",IF($C17<$B17,"Check date order",IF($J17="Check reason","Check reason list",IF($M17>'Assumptions'!$B$7,"Check long decision time",IF(AND($I17="Price",$K17=""),"Check competitor premium",""))))))
J18: =IF($A18="","",IFERROR(VLOOKUP($I18,'Assumptions'!$G$5:$H$13,2,FALSE),"Check reason")) | L18: =IF($A18="","",IF(OR($H18="",$K18=""),"",IFERROR($H18-$K18,""))) | M18: =IF($A18="","",IF(OR($B18="",$C18=""),"",IFERROR($C18-$B18,""))) | P18: =IF($A18="","",IF(OR($B18="",$C18="",$D18="",$E18="",$F18="",$G18="",$H18="",$I18="",$N18=""),"Check required inputs",IF($C18<$B18,"Check date order",IF($J18="Check reason","Check reason list",IF($M18>'Assumptions'!$B$7,"Check long decision time",IF(AND($I18="Price",$K18=""),"Check competitor premium",""))))))
J19: =IF($A19="","",IFERROR(VLOOKUP($I19,'Assumptions'!$G$5:$H$13,2,FALSE),"Check reason")) | L19: =IF($A19="","",IF(OR($H19="",$K19=""),"",IFERROR($H19-$K19,""))) | M19: =IF($A19="","",IF(OR($B19="",$C19=""),"",IFERROR($C19-$B19,""))) | P19: =IF($A19="","",IF(OR($B19="",$C19="",$D19="",$E19="",$F19="",$G19="",$H19="",$I19="",$N19=""),"Check required inputs",IF($C19<$B19,"Check date order",IF($J19="Check reason","Check reason list",IF($M19>'Assumptions'!$B$7,"Check long decision time",IF(AND($I19="Price",$K19=""),"Check competitor premium",""))))))
J20: =IF($A20="","",IFERROR(VLOOKUP($I20,'Assumptions'!$G$5:$H$13,2,FALSE),"Check reason")) | L20: =IF($A20="","",IF(OR($H20="",$K20=""),"",IFERROR($H20-$K20,""))) | M20: =IF($A20="","",IF(OR($B20="",$C20=""),"",IFERROR($C20-$B20,""))) | P20: =IF($A20="","",IF(OR($B20="",$C20="",$D20="",$E20="",$F20="",$G20="",$H20="",$I20="",$N20=""),"Check required inputs",IF($C20<$B20,"Check date order",IF($J20="Check reason","Check reason list",IF($M20>'Assumptions'!$B$7,"Check long decision time",IF(AND($I20="Price",$K20=""),"Check competitor premium",""))))))
J21: =IF($A21="","",IFERROR(VLOOKUP($I21,'Assumptions'!$G$5:$H$13,2,FALSE),"Check reason")) | L21: =IF($A21="","",IF(OR($H21="",$K21=""),"",IFERROR($H21-$K21,""))) | M21: =IF($A21="","",IF(OR($B21="",$C21=""),"",IFERROR($C21-$B21,""))) | P21: =IF($A21="","",IF(OR($B21="",$C21="",$D21="",$E21="",$F21="",$G21="",$H21="",$I21="",$N21=""),"Check required inputs",IF($C21<$B21,"Check date order",IF($J21="Check reason","Check reason list",IF($M21>'Assumptions'!$B$7,"Check long decision time",IF(AND($I21="Price",$K21=""),"Check competitor premium",""))))))
J22: =IF($A22="","",IFERROR(VLOOKUP($I22,'Assumptions'!$G$5:$H$13,2,FALSE),"Check reason")) | L22: =IF($A22="","",IF(OR($H22="",$K22=""),"",IFERROR($H22-$K22,""))) | M22: =IF($A22="","",IF(OR($B22="",$C22=""),"",IFERROR($C22-$B22,""))) | P22: =IF($A22="","",IF(OR($B22="",$C22="",$D22="",$E22="",$F22="",$G22="",$H22="",$I22="",$N22=""),"Check required inputs",IF($C22<$B22,"Check date order",IF($J22="Check reason","Check reason list",IF($M22>'Assumptions'!$B$7,"Check long decision time",IF(AND($I22="Price",$K22=""),"Check competitor premium",""))))))
J23: =IF($A23="","",IFERROR(VLOOKUP($I23,'Assumptions'!$G$5:$H$13,2,FALSE),"Check reason")) | L23: =IF($A23="","",IF(OR($H23="",$K23=""),"",IFERROR($H23-$K23,""))) | M23: =IF($A23="","",IF(OR($B23="",$C23=""),"",IFERROR($C23-$B23,""))) | P23: =IF($A23="","",IF(OR($B23="",$C23="",$D23="",$E23="",$F23="",$G23="",$H23="",$I23="",$N23=""),"Check required inputs",IF($C23<$B23,"Check date order",IF($J23="Check reason","Check reason list",IF($M23>'Assumptions'!$B$7,"Check long decision time",IF(AND($I23="Price",$K23=""),"Check competitor premium",""))))))
J24: =IF($A24="","",IFERROR(VLOOKUP($I24,'Assumptions'!$G$5:$H$13,2,FALSE),"Check reason")) | L24: =IF($A24="","",IF(OR($H24="",$K24=""),"",IFERROR($H24-$K24,""))) | M24: =IF($A24="","",IF(OR($B24="",$C24=""),"",IFERROR($C24-$B24,""))) | P24: =IF($A24="","",IF(OR($B24="",$C24="",$D24="",$E24="",$F24="",$G24="",$H24="",$I24="",$N24=""),"Check required inputs",IF($C24<$B24,"Check date order",IF($J24="Check reason","Check reason list",IF($M24>'Assumptions'!$B$7,"Check long decision time",IF(AND($I24="Price",$K24=""),"Check competitor premium",""))))))
J25: =IF($A25="","",IFERROR(VLOOKUP($I25,'Assumptions'!$G$5:$H$13,2,FALSE),"Check reason")) | L25: =IF($A25="","",IF(OR($H25="",$K25=""),"",IFERROR($H25-$K25,""))) | M25: =IF($A25="","",IF(OR($B25="",$C25=""),"",IFERROR($C25-$B25,""))) | P25: =IF($A25="","",IF(OR($B25="",$C25="",$D25="",$E25="",$F25="",$G25="",$H25="",$I25="",$N25=""),"Check required inputs",IF($C25<$B25,"Check date order",IF($J25="Check reason","Check reason list",IF($M25>'Assumptions'!$B$7,"Check long decision time",IF(AND($I25="Price",$K25=""),"Check competitor premium",""))))))
J26: =IF($A26="","",IFERROR(VLOOKUP($I26,'Assumptions'!$G$5:$H$13,2,FALSE),"Check reason")) | L26: =IF($A26="","",IF(OR($H26="",$K26=""),"",IFERROR($H26-$K26,""))) | M26: =IF($A26="","",IF(OR($B26="",$C26=""),"",IFERROR($C26-$B26,""))) | P26: =IF($A26="","",IF(OR($B26="",$C26="",$D26="",$E26="",$F26="",$G26="",$H26="",$I26="",$N26=""),"Check required inputs",IF($C26<$B26,"Check date order",IF($J26="Check reason","Check reason list",IF($M26>'Assumptions'!$B$7,"Check long decision time",IF(AND($I26="Price",$K26=""),"Check competitor premium",""))))))
... J104: =IF($A104="","",IFERROR(VLOOKUP($I104,'Assumptions'!$G$5:$H$13,2,FALSE),"Check reason")) | L104: =IF($A104="","",IF(OR($H104="",$K104=""),"",IFERROR($H104-$K104,""))) | M104: =IF($A104="","",IF(OR($B104="",$C104=""),"",IFERROR($C104-$B104,""))) | P104: =IF($A104="","",IF(OR($B104="",$C104="",$D104="",$E104="",$F104="",$G104="",$H104="",$I104="",$N104=""),"Check required inputs",IF($C104<$B104,"Check date order",IF($J104="Check reason","Check reason list",IF($M104>'Assumptions'!$B$7,"Check long decision time",IF(AND($I104="Price",$K104=""),"Check competitor premium",""))))))

Sheet Assumptions
A1: Lost Quote Assumptions
A2: Edit the visible reporting limits and stable classification lists as agency needs change.
A4: Setting | B4: Value | C4: Notes | D4: Product | E4: Carrier | F4: Producer | G4: Lost Reason | H4: Reason Category | I4: Review Status
A5: Report Start Date | B5: 46023 | C5: Lost dates on or after this date appear on Summary. | D5: Personal Auto | E5: Fictional Harbor Mutual | F5: Fictional Avery Quill | G5: Price | H5: Cost | I5: Pending Review
A6: Report End Date | B6: 46275 | C6: Lost dates on or before this date appear on Summary. | D6: Homeowners | E6: Fictional Pine State Indemnity | F6: Fictional Morgan Vale | G6: Coverage Terms | H6: Product Fit | I6: Reviewed
A7: Long Decision Alert (days) | B7: 45 | C7: Decision periods above this value request a human check. | D7: Renters | E7: Fictional Cedar Trail Casualty | F7: Fictional Riley North | G7: Carrier Preference | H7: Carrier Fit | I7: Action Logged
A8: Earliest Allowed Entry Date | B8: 45292 | C8: Minimum date accepted in the input sheet. | D8: Personal Umbrella | E8: Fictional Lantern Peak Insurance | F8: Fictional Jordan Wren | G8: Timing / No Decision | H8: Timing
A9: Latest Allowed Entry Date | B9: 46752 | C9: Maximum date accepted in the input sheet. | D9: Businessowners | E9: Fictional Meadowline Assurance | F9: Fictional Casey Bloom | G9: No Response | H9: Engagement
A10: Maximum Premium Entry | B10: 1000000 | C10: Maximum annual premium accepted as an administrative input. | D10: General Liability | E10: Fictional Blue Heron Underwriters | G10: Bundling Elsewhere | H10: Relationship
D11: Commercial Auto | G11: Eligibility / Appetite | H11: Eligibility
D12: Workers Compensation | G12: Service Experience | H12: Experience
D13: Commercial Property | G13: Other | H13: Other
