Workbook

Sheet Summary
A1: Insurance Multi-Policy Household Map — Summary
A2: Administrative indicators are calculated from entered records. Verify source documents before acting; this workbook does not provide coverage recommendations. | G2: Calculated as of | H2: =TODAY()
A4: Portfolio Indicator | B4: Calculated Value | D4: Data Check | E4: Calculated Value
A5: Households entered | B5: =COUNTIF(Households!$A$5:$A$104,"<>") | D5: Policies needing household check | E5: =COUNTIF(Policies!$M$5:$M$104,"Check ID")
A6: Active policies | B6: =COUNTIF(Policies!$E$5:$E$104,"Active") | D6: Items needing map check | E6: =COUNTIF('Insured Items'!$K$5:$K$104,"Check ID")+COUNTIF('Insured Items'!$L$5:$L$104,"Check Policy")
A7: Active annual premium | B7: =SUMIF(Policies!$E$5:$E$104,"Active",Policies!$H$5:$H$104) | D7: Households needing review check | E7: =COUNTIF(Households!$N$5:$N$104,"Review Check")+COUNTIF(Households!$N$5:$N$104,"Check Review Date")+COUNTIF(Households!$N$5:$N$104,"Check Future Date")
A8: Active renewals within alert horizon | B8: =COUNTIFS(Policies!$E$5:$E$104,"Active",Policies!$G$5:$G$104,">="&TODAY(),Policies!$G$5:$G$104,"<="&TODAY()+'Assumptions'!$H$5) | D8: Households with active policies | E8: =COUNTIF(Households!$J$5:$J$104,">0")
A9: Active policies past renewal date | B9: =COUNTIFS(Policies!$E$5:$E$104,"Active",Policies!$G$5:$G$104,">0",Policies!$G$5:$G$104,"<"&TODAY()) | D9: Average active annual premium | E9: =IFERROR(B7/B6,"")
A10: Items entered | B10: =COUNTIF('Insured Items'!$A$5:$A$104,"<>") | D10: Households marked contact pending | E10: =COUNTIF(Households!$H$5:$H$104,"Contact Pending")
A13: Active Renewal Window | B13: Policy Count | D13: Active Policy Type | E13: Policy Count
A14: Past Due | B14: =COUNTIFS(Policies!$E$5:$E$104,"Active",Policies!$L$5:$L$104,$A14) | D14: ='Assumptions'!A5 | E14: =IF($D14="","",COUNTIFS(Policies!$C$5:$C$104,$D14,Policies!$E$5:$E$104,"Active"))
A15: 0-30 Days | B15: =COUNTIFS(Policies!$E$5:$E$104,"Active",Policies!$L$5:$L$104,$A15) | D15: ='Assumptions'!A6 | E15: =IF($D15="","",COUNTIFS(Policies!$C$5:$C$104,$D15,Policies!$E$5:$E$104,"Active"))
A16: 31-60 Days | B16: =COUNTIFS(Policies!$E$5:$E$104,"Active",Policies!$L$5:$L$104,$A16) | D16: ='Assumptions'!A7 | E16: =IF($D16="","",COUNTIFS(Policies!$C$5:$C$104,$D16,Policies!$E$5:$E$104,"Active"))
A17: 61-90 Days | B17: =COUNTIFS(Policies!$E$5:$E$104,"Active",Policies!$L$5:$L$104,$A17) | D17: ='Assumptions'!A8 | E17: =IF($D17="","",COUNTIFS(Policies!$C$5:$C$104,$D17,Policies!$E$5:$E$104,"Active"))
A18: Over 90 Days | B18: =COUNTIFS(Policies!$E$5:$E$104,"Active",Policies!$L$5:$L$104,$A18) | D18: ='Assumptions'!A9 | E18: =IF($D18="","",COUNTIFS(Policies!$C$5:$C$104,$D18,Policies!$E$5:$E$104,"Active"))
D19: ='Assumptions'!A10 | E19: =IF($D19="","",COUNTIFS(Policies!$C$5:$C$104,$D19,Policies!$E$5:$E$104,"Active"))
D20: ='Assumptions'!A11 | E20: =IF($D20="","",COUNTIFS(Policies!$C$5:$C$104,$D20,Policies!$E$5:$E$104,"Active"))
D21: ='Assumptions'!A12 | E21: =IF($D21="","",COUNTIFS(Policies!$C$5:$C$104,$D21,Policies!$E$5:$E$104,"Active"))

Sheet Households
A1: Insurance Multi-Policy Household Map — Households
A2: Enter fictional household records in yellow cells. Calculated columns summarize mapped policies, items, and review checks.
A4: Household ID | B4: Household Name | C4: Primary Contact | D4: City | E4: State | F4: ZIP Code | G4: Account Owner | H4: Review Status | I4: Last Review Date | J4: Active Policies | K4: Mapped Items | L4: Active Annual Premium | M4: Next Renewal | N4: Review Alert
A5: HH-F001 | B5: Northwind Lantern Household (Fictional) | C5: Avery Quill (Fictional) | D5: Example Harbor | E5: ZZ | F5: 00001 | G5: Casey Vale (Fictional) | H5: Current | I5: 46156 | J5: =IF($A5="","",COUNTIFS(Policies!$B$5:$B$104,$A5,Policies!$E$5:$E$104,"Active")) | K5: =IF($A5="","",COUNTIFS('Insured Items'!$B$5:$B$104,$A5,'Insured Items'!$I$5:$I$104,"Mapped",'Insured Items'!$K$5:$K$104,"Matched",'Insured Items'!$L$5:$L$104,"Matched")) | L5: =IF($A5="","",IF($J5=0,"",SUMIFS(Policies!$H$5:$H$104,Policies!$B$5:$B$104,$A5,Policies!$E$5:$E$104,"Active"))) | M5: =IF($A5="","",IFERROR(SUMIFS(Policies!$G$5:$G$104,Policies!$B$5:$B$104,$A5,Policies!$E$5:$E$104,"Active",Policies!$N$5:$N$104,"Next")/COUNTIFS(Policies!$B$5:$B$104,$A5,Policies!$E$5:$E$104,"Active",Policies!$N$5:$N$104,"Next"),"")) | N5: =IF($A5="","",IF($H5="Inactive","Not Active",IF($I5="","Check Review Date",IF($I5>TODAY(),"Check Future Date",IF(TODAY()-$I5>'Assumptions'!$H$6,"Review Check","Current")))))
A6: HH-F002 | B6: Copper Meadow Household (Fictional) | C6: Blake Rowan (Fictional) | D6: Sample Junction | E6: ZZ | F6: 00002 | G6: Jordan Reed (Fictional) | H6: Review Due | I6: 45776 | J6: =IF($A6="","",COUNTIFS(Policies!$B$5:$B$104,$A6,Policies!$E$5:$E$104,"Active")) | K6: =IF($A6="","",COUNTIFS('Insured Items'!$B$5:$B$104,$A6,'Insured Items'!$I$5:$I$104,"Mapped",'Insured Items'!$K$5:$K$104,"Matched",'Insured Items'!$L$5:$L$104,"Matched")) | L6: =IF($A6="","",IF($J6=0,"",SUMIFS(Policies!$H$5:$H$104,Policies!$B$5:$B$104,$A6,Policies!$E$5:$E$104,"Active"))) | M6: =IF($A6="","",IFERROR(SUMIFS(Policies!$G$5:$G$104,Policies!$B$5:$B$104,$A6,Policies!$E$5:$E$104,"Active",Policies!$N$5:$N$104,"Next")/COUNTIFS(Policies!$B$5:$B$104,$A6,Policies!$E$5:$E$104,"Active",Policies!$N$5:$N$104,"Next"),"")) | N6: =IF($A6="","",IF($H6="Inactive","Not Active",IF($I6="","Check Review Date",IF($I6>TODAY(),"Check Future Date",IF(TODAY()-$I6>'Assumptions'!$H$6,"Review Check","Current")))))
A7: HH-F003 | B7: Silver Kite Household (Fictional) | C7: Cameron Wren (Fictional) | D7: Test Valley | E7: ZZ | F7: 00003 | G7: Casey Vale (Fictional) | H7: Contact Pending | J7: =IF($A7="","",COUNTIFS(Policies!$B$5:$B$104,$A7,Policies!$E$5:$E$104,"Active")) | K7: =IF($A7="","",COUNTIFS('Insured Items'!$B$5:$B$104,$A7,'Insured Items'!$I$5:$I$104,"Mapped",'Insured Items'!$K$5:$K$104,"Matched",'Insured Items'!$L$5:$L$104,"Matched")) | L7: =IF($A7="","",IF($J7=0,"",SUMIFS(Policies!$H$5:$H$104,Policies!$B$5:$B$104,$A7,Policies!$E$5:$E$104,"Active"))) | M7: =IF($A7="","",IFERROR(SUMIFS(Policies!$G$5:$G$104,Policies!$B$5:$B$104,$A7,Policies!$E$5:$E$104,"Active",Policies!$N$5:$N$104,"Next")/COUNTIFS(Policies!$B$5:$B$104,$A7,Policies!$E$5:$E$104,"Active",Policies!$N$5:$N$104,"Next"),"")) | N7: =IF($A7="","",IF($H7="Inactive","Not Active",IF($I7="","Check Review Date",IF($I7>TODAY(),"Check Future Date",IF(TODAY()-$I7>'Assumptions'!$H$6,"Review Check","Current")))))
A8: HH-F004 | B8: Maple Orbit Household (Fictional) | C8: Devon Lark (Fictional) | D8: Example Harbor | E8: ZZ | F8: 00004 | G8: Morgan Pike (Fictional) | H8: Current | I8: 46281 | J8: =IF($A8="","",COUNTIFS(Policies!$B$5:$B$104,$A8,Policies!$E$5:$E$104,"Active")) | K8: =IF($A8="","",COUNTIFS('Insured Items'!$B$5:$B$104,$A8,'Insured Items'!$I$5:$I$104,"Mapped",'Insured Items'!$K$5:$K$104,"Matched",'Insured Items'!$L$5:$L$104,"Matched")) | L8: =IF($A8="","",IF($J8=0,"",SUMIFS(Policies!$H$5:$H$104,Policies!$B$5:$B$104,$A8,Policies!$E$5:$E$104,"Active"))) | M8: =IF($A8="","",IFERROR(SUMIFS(Policies!$G$5:$G$104,Policies!$B$5:$B$104,$A8,Policies!$E$5:$E$104,"Active",Policies!$N$5:$N$104,"Next")/COUNTIFS(Policies!$B$5:$B$104,$A8,Policies!$E$5:$E$104,"Active",Policies!$N$5:$N$104,"Next"),"")) | N8: =IF($A8="","",IF($H8="Inactive","Not Active",IF($I8="","Check Review Date",IF($I8>TODAY(),"Check Future Date",IF(TODAY()-$I8>'Assumptions'!$H$6,"Review Check","Current")))))
A9: HH-F005 | B9: Golden Acorn Household (Fictional) | C9: Emery Lake (Fictional) | D9: Sample Junction | E9: ZZ | F9: 00005 | G9: Taylor Finch (Fictional) | H9: Current | I9: 45911 | J9: =IF($A9="","",COUNTIFS(Policies!$B$5:$B$104,$A9,Policies!$E$5:$E$104,"Active")) | K9: =IF($A9="","",COUNTIFS('Insured Items'!$B$5:$B$104,$A9,'Insured Items'!$I$5:$I$104,"Mapped",'Insured Items'!$K$5:$K$104,"Matched",'Insured Items'!$L$5:$L$104,"Matched")) | L9: =IF($A9="","",IF($J9=0,"",SUMIFS(Policies!$H$5:$H$104,Policies!$B$5:$B$104,$A9,Policies!$E$5:$E$104,"Active"))) | M9: =IF($A9="","",IFERROR(SUMIFS(Policies!$G$5:$G$104,Policies!$B$5:$B$104,$A9,Policies!$E$5:$E$104,"Active",Policies!$N$5:$N$104,"Next")/COUNTIFS(Policies!$B$5:$B$104,$A9,Policies!$E$5:$E$104,"Active",Policies!$N$5:$N$104,"Next"),"")) | N9: =IF($A9="","",IF($H9="Inactive","Not Active",IF($I9="","Check Review Date",IF($I9>TODAY(),"Check Future Date",IF(TODAY()-$I9>'Assumptions'!$H$6,"Review Check","Current")))))
A10: HH-F006 | B10: Blue Compass Household (Fictional) | C10: Finley Moss (Fictional) | D10: Test Valley | E10: ZZ | F10: 00006 | G10: Jordan Reed (Fictional) | H10: Review Due | I10: 45910 | J10: =IF($A10="","",COUNTIFS(Policies!$B$5:$B$104,$A10,Policies!$E$5:$E$104,"Active")) | K10: =IF($A10="","",COUNTIFS('Insured Items'!$B$5:$B$104,$A10,'Insured Items'!$I$5:$I$104,"Mapped",'Insured Items'!$K$5:$K$104,"Matched",'Insured Items'!$L$5:$L$104,"Matched")) | L10: =IF($A10="","",IF($J10=0,"",SUMIFS(Policies!$H$5:$H$104,Policies!$B$5:$B$104,$A10,Policies!$E$5:$E$104,"Active"))) | M10: =IF($A10="","",IFERROR(SUMIFS(Policies!$G$5:$G$104,Policies!$B$5:$B$104,$A10,Policies!$E$5:$E$104,"Active",Policies!$N$5:$N$104,"Next")/COUNTIFS(Policies!$B$5:$B$104,$A10,Policies!$E$5:$E$104,"Active",Policies!$N$5:$N$104,"Next"),"")) | N10: =IF($A10="","",IF($H10="Inactive","Not Active",IF($I10="","Check Review Date",IF($I10>TODAY(),"Check Future Date",IF(TODAY()-$I10>'Assumptions'!$H$6,"Review Check","Current")))))
A11: HH-F007 | B11: Crimson Pebble Household (Fictional) | C11: Gray Willow (Fictional) | D11: Model Crossing | E11: ZZ | F11: 00007 | G11: Morgan Pike (Fictional) | H11: Current | I11: 46246 | J11: =IF($A11="","",COUNTIFS(Policies!$B$5:$B$104,$A11,Policies!$E$5:$E$104,"Active")) | K11: =IF($A11="","",COUNTIFS('Insured Items'!$B$5:$B$104,$A11,'Insured Items'!$I$5:$I$104,"Mapped",'Insured Items'!$K$5:$K$104,"Matched",'Insured Items'!$L$5:$L$104,"Matched")) | L11: =IF($A11="","",IF($J11=0,"",SUMIFS(Policies!$H$5:$H$104,Policies!$B$5:$B$104,$A11,Policies!$E$5:$E$104,"Active"))) | M11: =IF($A11="","",IFERROR(SUMIFS(Policies!$G$5:$G$104,Policies!$B$5:$B$104,$A11,Policies!$E$5:$E$104,"Active",Policies!$N$5:$N$104,"Next")/COUNTIFS(Policies!$B$5:$B$104,$A11,Policies!$E$5:$E$104,"Active",Policies!$N$5:$N$104,"Next"),"")) | N11: =IF($A11="","",IF($H11="Inactive","Not Active",IF($I11="","Check Review Date",IF($I11>TODAY(),"Check Future Date",IF(TODAY()-$I11>'Assumptions'!$H$6,"Review Check","Current")))))
A12: HH-F008 | B12: Ivory Signal Household (Fictional) | C12: Harper Flint (Fictional) | D12: Model Crossing | E12: ZZ | F12: 00008 | G12: Taylor Finch (Fictional) | H12: Current | I12: 46076 | J12: =IF($A12="","",COUNTIFS(Policies!$B$5:$B$104,$A12,Policies!$E$5:$E$104,"Active")) | K12: =IF($A12="","",COUNTIFS('Insured Items'!$B$5:$B$104,$A12,'Insured Items'!$I$5:$I$104,"Mapped",'Insured Items'!$K$5:$K$104,"Matched",'Insured Items'!$L$5:$L$104,"Matched")) | L12: =IF($A12="","",IF($J12=0,"",SUMIFS(Policies!$H$5:$H$104,Policies!$B$5:$B$104,$A12,Policies!$E$5:$E$104,"Active"))) | M12: =IF($A12="","",IFERROR(SUMIFS(Policies!$G$5:$G$104,Policies!$B$5:$B$104,$A12,Policies!$E$5:$E$104,"Active",Policies!$N$5:$N$104,"Next")/COUNTIFS(Policies!$B$5:$B$104,$A12,Policies!$E$5:$E$104,"Active",Policies!$N$5:$N$104,"Next"),"")) | N12: =IF($A12="","",IF($H12="Inactive","Not Active",IF($I12="","Check Review Date",IF($I12>TODAY(),"Check Future Date",IF(TODAY()-$I12>'Assumptions'!$H$6,"Review Check","Current")))))
A13: HH-F009 | B13: Violet Anchor Household (Fictional) | C13: Indigo Bloom (Fictional) | D13: Demo Ridge | E13: ZZ | F13: 00009 | G13: Casey Vale (Fictional) | H13: Inactive | J13: =IF($A13="","",COUNTIFS(Policies!$B$5:$B$104,$A13,Policies!$E$5:$E$104,"Active")) | K13: =IF($A13="","",COUNTIFS('Insured Items'!$B$5:$B$104,$A13,'Insured Items'!$I$5:$I$104,"Mapped",'Insured Items'!$K$5:$K$104,"Matched",'Insured Items'!$L$5:$L$104,"Matched")) | L13: =IF($A13="","",IF($J13=0,"",SUMIFS(Policies!$H$5:$H$104,Policies!$B$5:$B$104,$A13,Policies!$E$5:$E$104,"Active"))) | M13: =IF($A13="","",IFERROR(SUMIFS(Policies!$G$5:$G$104,Policies!$B$5:$B$104,$A13,Policies!$E$5:$E$104,"Active",Policies!$N$5:$N$104,"Next")/COUNTIFS(Policies!$B$5:$B$104,$A13,Policies!$E$5:$E$104,"Active",Policies!$N$5:$N$104,"Next"),"")) | N13: =IF($A13="","",IF($H13="Inactive","Not Active",IF($I13="","Check Review Date",IF($I13>TODAY(),"Check Future Date",IF(TODAY()-$I13>'Assumptions'!$H$6,"Review Check","Current")))))
A14: HH-F010 | B14: Cedar Moon Household (Fictional) | C14: Jules Ember (Fictional) | D14: Demo Ridge | E14: ZZ | F14: 00010 | G14: Jordan Reed (Fictional) | H14: Contact Pending | I14: 45576 | J14: =IF($A14="","",COUNTIFS(Policies!$B$5:$B$104,$A14,Policies!$E$5:$E$104,"Active")) | K14: =IF($A14="","",COUNTIFS('Insured Items'!$B$5:$B$104,$A14,'Insured Items'!$I$5:$I$104,"Mapped",'Insured Items'!$K$5:$K$104,"Matched",'Insured Items'!$L$5:$L$104,"Matched")) | L14: =IF($A14="","",IF($J14=0,"",SUMIFS(Policies!$H$5:$H$104,Policies!$B$5:$B$104,$A14,Policies!$E$5:$E$104,"Active"))) | M14: =IF($A14="","",IFERROR(SUMIFS(Policies!$G$5:$G$104,Policies!$B$5:$B$104,$A14,Policies!$E$5:$E$104,"Active",Policies!$N$5:$N$104,"Next")/COUNTIFS(Policies!$B$5:$B$104,$A14,Policies!$E$5:$E$104,"Active",Policies!$N$5:$N$104,"Next"),"")) | N14: =IF($A14="","",IF($H14="Inactive","Not Active",IF($I14="","Check Review Date",IF($I14>TODAY(),"Check Future Date",IF(TODAY()-$I14>'Assumptions'!$H$6,"Review Check","Current")))))
J15: =IF($A15="","",COUNTIFS(Policies!$B$5:$B$104,$A15,Policies!$E$5:$E$104,"Active")) | K15: =IF($A15="","",COUNTIFS('Insured Items'!$B$5:$B$104,$A15,'Insured Items'!$I$5:$I$104,"Mapped",'Insured Items'!$K$5:$K$104,"Matched",'Insured Items'!$L$5:$L$104,"Matched")) | L15: =IF($A15="","",IF($J15=0,"",SUMIFS(Policies!$H$5:$H$104,Policies!$B$5:$B$104,$A15,Policies!$E$5:$E$104,"Active"))) | M15: =IF($A15="","",IFERROR(SUMIFS(Policies!$G$5:$G$104,Policies!$B$5:$B$104,$A15,Policies!$E$5:$E$104,"Active",Policies!$N$5:$N$104,"Next")/COUNTIFS(Policies!$B$5:$B$104,$A15,Policies!$E$5:$E$104,"Active",Policies!$N$5:$N$104,"Next"),"")) | N15: =IF($A15="","",IF($H15="Inactive","Not Active",IF($I15="","Check Review Date",IF($I15>TODAY(),"Check Future Date",IF(TODAY()-$I15>'Assumptions'!$H$6,"Review Check","Current")))))
J16: =IF($A16="","",COUNTIFS(Policies!$B$5:$B$104,$A16,Policies!$E$5:$E$104,"Active")) | K16: =IF($A16="","",COUNTIFS('Insured Items'!$B$5:$B$104,$A16,'Insured Items'!$I$5:$I$104,"Mapped",'Insured Items'!$K$5:$K$104,"Matched",'Insured Items'!$L$5:$L$104,"Matched")) | L16: =IF($A16="","",IF($J16=0,"",SUMIFS(Policies!$H$5:$H$104,Policies!$B$5:$B$104,$A16,Policies!$E$5:$E$104,"Active"))) | M16: =IF($A16="","",IFERROR(SUMIFS(Policies!$G$5:$G$104,Policies!$B$5:$B$104,$A16,Policies!$E$5:$E$104,"Active",Policies!$N$5:$N$104,"Next")/COUNTIFS(Policies!$B$5:$B$104,$A16,Policies!$E$5:$E$104,"Active",Policies!$N$5:$N$104,"Next"),"")) | N16: =IF($A16="","",IF($H16="Inactive","Not Active",IF($I16="","Check Review Date",IF($I16>TODAY(),"Check Future Date",IF(TODAY()-$I16>'Assumptions'!$H$6,"Review Check","Current")))))
J17: =IF($A17="","",COUNTIFS(Policies!$B$5:$B$104,$A17,Policies!$E$5:$E$104,"Active")) | K17: =IF($A17="","",COUNTIFS('Insured Items'!$B$5:$B$104,$A17,'Insured Items'!$I$5:$I$104,"Mapped",'Insured Items'!$K$5:$K$104,"Matched",'Insured Items'!$L$5:$L$104,"Matched")) | L17: =IF($A17="","",IF($J17=0,"",SUMIFS(Policies!$H$5:$H$104,Policies!$B$5:$B$104,$A17,Policies!$E$5:$E$104,"Active"))) | M17: =IF($A17="","",IFERROR(SUMIFS(Policies!$G$5:$G$104,Policies!$B$5:$B$104,$A17,Policies!$E$5:$E$104,"Active",Policies!$N$5:$N$104,"Next")/COUNTIFS(Policies!$B$5:$B$104,$A17,Policies!$E$5:$E$104,"Active",Policies!$N$5:$N$104,"Next"),"")) | N17: =IF($A17="","",IF($H17="Inactive","Not Active",IF($I17="","Check Review Date",IF($I17>TODAY(),"Check Future Date",IF(TODAY()-$I17>'Assumptions'!$H$6,"Review Check","Current")))))
J18: =IF($A18="","",COUNTIFS(Policies!$B$5:$B$104,$A18,Policies!$E$5:$E$104,"Active")) | K18: =IF($A18="","",COUNTIFS('Insured Items'!$B$5:$B$104,$A18,'Insured Items'!$I$5:$I$104,"Mapped",'Insured Items'!$K$5:$K$104,"Matched",'Insured Items'!$L$5:$L$104,"Matched")) | L18: =IF($A18="","",IF($J18=0,"",SUMIFS(Policies!$H$5:$H$104,Policies!$B$5:$B$104,$A18,Policies!$E$5:$E$104,"Active"))) | M18: =IF($A18="","",IFERROR(SUMIFS(Policies!$G$5:$G$104,Policies!$B$5:$B$104,$A18,Policies!$E$5:$E$104,"Active",Policies!$N$5:$N$104,"Next")/COUNTIFS(Policies!$B$5:$B$104,$A18,Policies!$E$5:$E$104,"Active",Policies!$N$5:$N$104,"Next"),"")) | N18: =IF($A18="","",IF($H18="Inactive","Not Active",IF($I18="","Check Review Date",IF($I18>TODAY(),"Check Future Date",IF(TODAY()-$I18>'Assumptions'!$H$6,"Review Check","Current")))))
J19: =IF($A19="","",COUNTIFS(Policies!$B$5:$B$104,$A19,Policies!$E$5:$E$104,"Active")) | K19: =IF($A19="","",COUNTIFS('Insured Items'!$B$5:$B$104,$A19,'Insured Items'!$I$5:$I$104,"Mapped",'Insured Items'!$K$5:$K$104,"Matched",'Insured Items'!$L$5:$L$104,"Matched")) | L19: =IF($A19="","",IF($J19=0,"",SUMIFS(Policies!$H$5:$H$104,Policies!$B$5:$B$104,$A19,Policies!$E$5:$E$104,"Active"))) | M19: =IF($A19="","",IFERROR(SUMIFS(Policies!$G$5:$G$104,Policies!$B$5:$B$104,$A19,Policies!$E$5:$E$104,"Active",Policies!$N$5:$N$104,"Next")/COUNTIFS(Policies!$B$5:$B$104,$A19,Policies!$E$5:$E$104,"Active",Policies!$N$5:$N$104,"Next"),"")) | N19: =IF($A19="","",IF($H19="Inactive","Not Active",IF($I19="","Check Review Date",IF($I19>TODAY(),"Check Future Date",IF(TODAY()-$I19>'Assumptions'!$H$6,"Review Check","Current")))))
J20: =IF($A20="","",COUNTIFS(Policies!$B$5:$B$104,$A20,Policies!$E$5:$E$104,"Active")) | K20: =IF($A20="","",COUNTIFS('Insured Items'!$B$5:$B$104,$A20,'Insured Items'!$I$5:$I$104,"Mapped",'Insured Items'!$K$5:$K$104,"Matched",'Insured Items'!$L$5:$L$104,"Matched")) | L20: =IF($A20="","",IF($J20=0,"",SUMIFS(Policies!$H$5:$H$104,Policies!$B$5:$B$104,$A20,Policies!$E$5:$E$104,"Active"))) | M20: =IF($A20="","",IFERROR(SUMIFS(Policies!$G$5:$G$104,Policies!$B$5:$B$104,$A20,Policies!$E$5:$E$104,"Active",Policies!$N$5:$N$104,"Next")/COUNTIFS(Policies!$B$5:$B$104,$A20,Policies!$E$5:$E$104,"Active",Policies!$N$5:$N$104,"Next"),"")) | N20: =IF($A20="","",IF($H20="Inactive","Not Active",IF($I20="","Check Review Date",IF($I20>TODAY(),"Check Future Date",IF(TODAY()-$I20>'Assumptions'!$H$6,"Review Check","Current")))))
J21: =IF($A21="","",COUNTIFS(Policies!$B$5:$B$104,$A21,Policies!$E$5:$E$104,"Active")) | K21: =IF($A21="","",COUNTIFS('Insured Items'!$B$5:$B$104,$A21,'Insured Items'!$I$5:$I$104,"Mapped",'Insured Items'!$K$5:$K$104,"Matched",'Insured Items'!$L$5:$L$104,"Matched")) | L21: =IF($A21="","",IF($J21=0,"",SUMIFS(Policies!$H$5:$H$104,Policies!$B$5:$B$104,$A21,Policies!$E$5:$E$104,"Active"))) | M21: =IF($A21="","",IFERROR(SUMIFS(Policies!$G$5:$G$104,Policies!$B$5:$B$104,$A21,Policies!$E$5:$E$104,"Active",Policies!$N$5:$N$104,"Next")/COUNTIFS(Policies!$B$5:$B$104,$A21,Policies!$E$5:$E$104,"Active",Policies!$N$5:$N$104,"Next"),"")) | N21: =IF($A21="","",IF($H21="Inactive","Not Active",IF($I21="","Check Review Date",IF($I21>TODAY(),"Check Future Date",IF(TODAY()-$I21>'Assumptions'!$H$6,"Review Check","Current")))))
J22: =IF($A22="","",COUNTIFS(Policies!$B$5:$B$104,$A22,Policies!$E$5:$E$104,"Active")) | K22: =IF($A22="","",COUNTIFS('Insured Items'!$B$5:$B$104,$A22,'Insured Items'!$I$5:$I$104,"Mapped",'Insured Items'!$K$5:$K$104,"Matched",'Insured Items'!$L$5:$L$104,"Matched")) | L22: =IF($A22="","",IF($J22=0,"",SUMIFS(Policies!$H$5:$H$104,Policies!$B$5:$B$104,$A22,Policies!$E$5:$E$104,"Active"))) | M22: =IF($A22="","",IFERROR(SUMIFS(Policies!$G$5:$G$104,Policies!$B$5:$B$104,$A22,Policies!$E$5:$E$104,"Active",Policies!$N$5:$N$104,"Next")/COUNTIFS(Policies!$B$5:$B$104,$A22,Policies!$E$5:$E$104,"Active",Policies!$N$5:$N$104,"Next"),"")) | N22: =IF($A22="","",IF($H22="Inactive","Not Active",IF($I22="","Check Review Date",IF($I22>TODAY(),"Check Future Date",IF(TODAY()-$I22>'Assumptions'!$H$6,"Review Check","Current")))))
J23: =IF($A23="","",COUNTIFS(Policies!$B$5:$B$104,$A23,Policies!$E$5:$E$104,"Active")) | K23: =IF($A23="","",COUNTIFS('Insured Items'!$B$5:$B$104,$A23,'Insured Items'!$I$5:$I$104,"Mapped",'Insured Items'!$K$5:$K$104,"Matched",'Insured Items'!$L$5:$L$104,"Matched")) | L23: =IF($A23="","",IF($J23=0,"",SUMIFS(Policies!$H$5:$H$104,Policies!$B$5:$B$104,$A23,Policies!$E$5:$E$104,"Active"))) | M23: =IF($A23="","",IFERROR(SUMIFS(Policies!$G$5:$G$104,Policies!$B$5:$B$104,$A23,Policies!$E$5:$E$104,"Active",Policies!$N$5:$N$104,"Next")/COUNTIFS(Policies!$B$5:$B$104,$A23,Policies!$E$5:$E$104,"Active",Policies!$N$5:$N$104,"Next"),"")) | N23: =IF($A23="","",IF($H23="Inactive","Not Active",IF($I23="","Check Review Date",IF($I23>TODAY(),"Check Future Date",IF(TODAY()-$I23>'Assumptions'!$H$6,"Review Check","Current")))))
J24: =IF($A24="","",COUNTIFS(Policies!$B$5:$B$104,$A24,Policies!$E$5:$E$104,"Active")) | K24: =IF($A24="","",COUNTIFS('Insured Items'!$B$5:$B$104,$A24,'Insured Items'!$I$5:$I$104,"Mapped",'Insured Items'!$K$5:$K$104,"Matched",'Insured Items'!$L$5:$L$104,"Matched")) | L24: =IF($A24="","",IF($J24=0,"",SUMIFS(Policies!$H$5:$H$104,Policies!$B$5:$B$104,$A24,Policies!$E$5:$E$104,"Active"))) | M24: =IF($A24="","",IFERROR(SUMIFS(Policies!$G$5:$G$104,Policies!$B$5:$B$104,$A24,Policies!$E$5:$E$104,"Active",Policies!$N$5:$N$104,"Next")/COUNTIFS(Policies!$B$5:$B$104,$A24,Policies!$E$5:$E$104,"Active",Policies!$N$5:$N$104,"Next"),"")) | N24: =IF($A24="","",IF($H24="Inactive","Not Active",IF($I24="","Check Review Date",IF($I24>TODAY(),"Check Future Date",IF(TODAY()-$I24>'Assumptions'!$H$6,"Review Check","Current")))))
J25: =IF($A25="","",COUNTIFS(Policies!$B$5:$B$104,$A25,Policies!$E$5:$E$104,"Active")) | K25: =IF($A25="","",COUNTIFS('Insured Items'!$B$5:$B$104,$A25,'Insured Items'!$I$5:$I$104,"Mapped",'Insured Items'!$K$5:$K$104,"Matched",'Insured Items'!$L$5:$L$104,"Matched")) | L25: =IF($A25="","",IF($J25=0,"",SUMIFS(Policies!$H$5:$H$104,Policies!$B$5:$B$104,$A25,Policies!$E$5:$E$104,"Active"))) | M25: =IF($A25="","",IFERROR(SUMIFS(Policies!$G$5:$G$104,Policies!$B$5:$B$104,$A25,Policies!$E$5:$E$104,"Active",Policies!$N$5:$N$104,"Next")/COUNTIFS(Policies!$B$5:$B$104,$A25,Policies!$E$5:$E$104,"Active",Policies!$N$5:$N$104,"Next"),"")) | N25: =IF($A25="","",IF($H25="Inactive","Not Active",IF($I25="","Check Review Date",IF($I25>TODAY(),"Check Future Date",IF(TODAY()-$I25>'Assumptions'!$H$6,"Review Check","Current")))))
J26: =IF($A26="","",COUNTIFS(Policies!$B$5:$B$104,$A26,Policies!$E$5:$E$104,"Active")) | K26: =IF($A26="","",COUNTIFS('Insured Items'!$B$5:$B$104,$A26,'Insured Items'!$I$5:$I$104,"Mapped",'Insured Items'!$K$5:$K$104,"Matched",'Insured Items'!$L$5:$L$104,"Matched")) | L26: =IF($A26="","",IF($J26=0,"",SUMIFS(Policies!$H$5:$H$104,Policies!$B$5:$B$104,$A26,Policies!$E$5:$E$104,"Active"))) | M26: =IF($A26="","",IFERROR(SUMIFS(Policies!$G$5:$G$104,Policies!$B$5:$B$104,$A26,Policies!$E$5:$E$104,"Active",Policies!$N$5:$N$104,"Next")/COUNTIFS(Policies!$B$5:$B$104,$A26,Policies!$E$5:$E$104,"Active",Policies!$N$5:$N$104,"Next"),"")) | N26: =IF($A26="","",IF($H26="Inactive","Not Active",IF($I26="","Check Review Date",IF($I26>TODAY(),"Check Future Date",IF(TODAY()-$I26>'Assumptions'!$H$6,"Review Check","Current")))))
... J104: =IF($A104="","",COUNTIFS(Policies!$B$5:$B$104,$A104,Policies!$E$5:$E$104,"Active")) | K104: =IF($A104="","",COUNTIFS('Insured Items'!$B$5:$B$104,$A104,'Insured Items'!$I$5:$I$104,"Mapped",'Insured Items'!$K$5:$K$104,"Matched",'Insured Items'!$L$5:$L$104,"Matched")) | L104: =IF($A104="","",IF($J104=0,"",SUMIFS(Policies!$H$5:$H$104,Policies!$B$5:$B$104,$A104,Policies!$E$5:$E$104,"Active"))) | M104: =IF($A104="","",IFERROR(SUMIFS(Policies!$G$5:$G$104,Policies!$B$5:$B$104,$A104,Policies!$E$5:$E$104,"Active",Policies!$N$5:$N$104,"Next")/COUNTIFS(Policies!$B$5:$B$104,$A104,Policies!$E$5:$E$104,"Active",Policies!$N$5:$N$104,"Next"),"")) | N104: =IF($A104="","",IF($H104="Inactive","Not Active",IF($I104="","Check Review Date",IF($I104>TODAY(),"Check Future Date",IF(TODAY()-$I104>'Assumptions'!$H$6,"Review Check","Current")))))

Sheet Policies
A1: Insurance Multi-Policy Household Map — Policies
A2: Enter fictional policy records in yellow cells. Renewal and household-match fields are administrative prompts for human review.
A4: Policy Ref | B4: Household ID | C4: Policy Type | D4: Carrier | E4: Policy Status | F4: Effective Date | G4: Renewal Date | H4: Annual Premium | I4: Service Owner | J4: Policy Description | K4: Days to Renewal | L4: Renewal Window | M4: Household Match | N4: Household Renewal Order
A5: P-F1001 | B5: HH-F001 | C5: Personal Auto | D5: Harbor Lantern Mutual (Fictional) | E5: Active | F5: 45929 | G5: 46294 | H5: 1480 | I5: Casey Vale (Fictional) | J5: Two fictional automobiles listed for administrative mapping. | K5: =IF(OR($A5="",$G5=""),"",$G5-TODAY()) | L5: =IF($A5="","",IF($E5<>"Active","Not Active",IF($G5="","Check Date",IF($G5<TODAY(),"Past Due",IF($G5<=TODAY()+30,"0-30 Days",IF($G5<=TODAY()+60,"31-60 Days",IF($G5<=TODAY()+90,"61-90 Days","Over 90 Days"))))))) | M5: =IF($B5="","",IF(COUNTIF(Households!$A$5:$A$104,$B5)>0,"Matched","Check ID")) | N5: =IF(OR($A5="",$B5="",$E5<>"Active",$G5=""),"",IF(COUNTIFS($B$5:$B$104,$B5,$E$5:$E$104,"Active",$G$5:$G$104,">0",$G$5:$G$104,"<"&$G5)=0,"Next","Later"))
A6: P-F1002 | B6: HH-F001 | C6: Homeowners | D6: Cedar Signal Insurance (Fictional) | E6: Active | F6: 45985 | G6: 46350 | H6: 1925 | I6: Casey Vale (Fictional) | J6: Fictional residence policy record. | K6: =IF(OR($A6="",$G6=""),"",$G6-TODAY()) | L6: =IF($A6="","",IF($E6<>"Active","Not Active",IF($G6="","Check Date",IF($G6<TODAY(),"Past Due",IF($G6<=TODAY()+30,"0-30 Days",IF($G6<=TODAY()+60,"31-60 Days",IF($G6<=TODAY()+90,"61-90 Days","Over 90 Days"))))))) | M6: =IF($B6="","",IF(COUNTIF(Households!$A$5:$A$104,$B6)>0,"Matched","Check ID")) | N6: =IF(OR($A6="",$B6="",$E6<>"Active",$G6=""),"",IF(COUNTIFS($B$5:$B$104,$B6,$E$5:$E$104,"Active",$G$5:$G$104,">0",$G$5:$G$104,"<"&$G6)=0,"Next","Later"))
A7: P-F1003 | B7: HH-F002 | C7: Renters | D7: Blue Orbit Indemnity (Fictional) | E7: Active | F7: 46031 | G7: 46396 | H7: 340 | I7: Jordan Reed (Fictional) | J7: Fictional renters policy record. | K7: =IF(OR($A7="",$G7=""),"",$G7-TODAY()) | L7: =IF($A7="","",IF($E7<>"Active","Not Active",IF($G7="","Check Date",IF($G7<TODAY(),"Past Due",IF($G7<=TODAY()+30,"0-30 Days",IF($G7<=TODAY()+60,"31-60 Days",IF($G7<=TODAY()+90,"61-90 Days","Over 90 Days"))))))) | M7: =IF($B7="","",IF(COUNTIF(Households!$A$5:$A$104,$B7)>0,"Matched","Check ID")) | N7: =IF(OR($A7="",$B7="",$E7<>"Active",$G7=""),"",IF(COUNTIFS($B$5:$B$104,$B7,$E$5:$E$104,"Active",$G$5:$G$104,">0",$G$5:$G$104,"<"&$G7)=0,"Next","Later"))
A8: P-F1004 | B8: HH-F002 | C8: Personal Auto | D8: Harbor Lantern Mutual (Fictional) | E8: Active | F8: 45903 | G8: 46268 | H8: 1210 | I8: Jordan Reed (Fictional) | J8: Past renewal date entered for a human follow-up test. | K8: =IF(OR($A8="",$G8=""),"",$G8-TODAY()) | L8: =IF($A8="","",IF($E8<>"Active","Not Active",IF($G8="","Check Date",IF($G8<TODAY(),"Past Due",IF($G8<=TODAY()+30,"0-30 Days",IF($G8<=TODAY()+60,"31-60 Days",IF($G8<=TODAY()+90,"61-90 Days","Over 90 Days"))))))) | M8: =IF($B8="","",IF(COUNTIF(Households!$A$5:$A$104,$B8)>0,"Matched","Check ID")) | N8: =IF(OR($A8="",$B8="",$E8<>"Active",$G8=""),"",IF(COUNTIFS($B$5:$B$104,$B8,$E$5:$E$104,"Active",$G$5:$G$104,">0",$G$5:$G$104,"<"&$G8)=0,"Next","Later"))
A9: P-F1005 | B9: HH-F003 | C9: Umbrella | D9: Maple Compass Casualty (Fictional) | E9: Active | F9: 45956 | G9: 46321 | H9: 510 | I9: Casey Vale (Fictional) | J9: Fictional umbrella policy record. | K9: =IF(OR($A9="",$G9=""),"",$G9-TODAY()) | L9: =IF($A9="","",IF($E9<>"Active","Not Active",IF($G9="","Check Date",IF($G9<TODAY(),"Past Due",IF($G9<=TODAY()+30,"0-30 Days",IF($G9<=TODAY()+60,"31-60 Days",IF($G9<=TODAY()+90,"61-90 Days","Over 90 Days"))))))) | M9: =IF($B9="","",IF(COUNTIF(Households!$A$5:$A$104,$B9)>0,"Matched","Check ID")) | N9: =IF(OR($A9="",$B9="",$E9<>"Active",$G9=""),"",IF(COUNTIFS($B$5:$B$104,$B9,$E$5:$E$104,"Active",$G$5:$G$104,">0",$G$5:$G$104,"<"&$G9)=0,"Next","Later"))
A10: P-F1006 | B10: HH-F003 | C10: Homeowners | D10: Cedar Signal Insurance (Fictional) | E10: Active | F10: 45956 | G10: 46321 | H10: 2340 | I10: Casey Vale (Fictional) | J10: Same renewal date used to test a household date tie. | K10: =IF(OR($A10="",$G10=""),"",$G10-TODAY()) | L10: =IF($A10="","",IF($E10<>"Active","Not Active",IF($G10="","Check Date",IF($G10<TODAY(),"Past Due",IF($G10<=TODAY()+30,"0-30 Days",IF($G10<=TODAY()+60,"31-60 Days",IF($G10<=TODAY()+90,"61-90 Days","Over 90 Days"))))))) | M10: =IF($B10="","",IF(COUNTIF(Households!$A$5:$A$104,$B10)>0,"Matched","Check ID")) | N10: =IF(OR($A10="",$B10="",$E10<>"Active",$G10=""),"",IF(COUNTIFS($B$5:$B$104,$B10,$E$5:$E$104,"Active",$G$5:$G$104,">0",$G$5:$G$104,"<"&$G10)=0,"Next","Later"))
A11: P-F1007 | B11: HH-F004 | C11: Watercraft | D11: Silver Current Underwriters (Fictional) | E11: Pending | F11: 46291 | G11: 46656 | H11: 620 | I11: Morgan Pike (Fictional) | J11: Pending fictional watercraft record. | K11: =IF(OR($A11="",$G11=""),"",$G11-TODAY()) | L11: =IF($A11="","",IF($E11<>"Active","Not Active",IF($G11="","Check Date",IF($G11<TODAY(),"Past Due",IF($G11<=TODAY()+30,"0-30 Days",IF($G11<=TODAY()+60,"31-60 Days",IF($G11<=TODAY()+90,"61-90 Days","Over 90 Days"))))))) | M11: =IF($B11="","",IF(COUNTIF(Households!$A$5:$A$104,$B11)>0,"Matched","Check ID")) | N11: =IF(OR($A11="",$B11="",$E11<>"Active",$G11=""),"",IF(COUNTIFS($B$5:$B$104,$B11,$E$5:$E$104,"Active",$G$5:$G$104,">0",$G$5:$G$104,"<"&$G11)=0,"Next","Later"))
A12: P-F1008 | B12: HH-F005 | C12: Personal Auto | D12: Blue Orbit Indemnity (Fictional) | E12: Cancelled | F12: 45876 | G12: 46241 | H12: 980 | I12: Taylor Finch (Fictional) | J12: Cancelled fictional policy record retained for mapping history. | K12: =IF(OR($A12="",$G12=""),"",$G12-TODAY()) | L12: =IF($A12="","",IF($E12<>"Active","Not Active",IF($G12="","Check Date",IF($G12<TODAY(),"Past Due",IF($G12<=TODAY()+30,"0-30 Days",IF($G12<=TODAY()+60,"31-60 Days",IF($G12<=TODAY()+90,"61-90 Days","Over 90 Days"))))))) | M12: =IF($B12="","",IF(COUNTIF(Households!$A$5:$A$104,$B12)>0,"Matched","Check ID")) | N12: =IF(OR($A12="",$B12="",$E12<>"Active",$G12=""),"",IF(COUNTIFS($B$5:$B$104,$B12,$E$5:$E$104,"Active",$G$5:$G$104,">0",$G$5:$G$104,"<"&$G12)=0,"Next","Later"))
A13: P-F1009 | B13: HH-F006 | C13: Homeowners | D13: Maple Compass Casualty (Fictional) | E13: Active | F13: 46000 | G13: 46365 | H13: 2060 | I13: Jordan Reed (Fictional) | J13: Fictional residence policy record. | K13: =IF(OR($A13="",$G13=""),"",$G13-TODAY()) | L13: =IF($A13="","",IF($E13<>"Active","Not Active",IF($G13="","Check Date",IF($G13<TODAY(),"Past Due",IF($G13<=TODAY()+30,"0-30 Days",IF($G13<=TODAY()+60,"31-60 Days",IF($G13<=TODAY()+90,"61-90 Days","Over 90 Days"))))))) | M13: =IF($B13="","",IF(COUNTIF(Households!$A$5:$A$104,$B13)>0,"Matched","Check ID")) | N13: =IF(OR($A13="",$B13="",$E13<>"Active",$G13=""),"",IF(COUNTIFS($B$5:$B$104,$B13,$E$5:$E$104,"Active",$G$5:$G$104,">0",$G$5:$G$104,"<"&$G13)=0,"Next","Later"))
A14: P-F1010 | B14: HH-F007 | C14: Recreational Vehicle | D14: Cedar Signal Insurance (Fictional) | E14: Active | F14: 46276 | G14: 46641 | H14: 760 | I14: Morgan Pike (Fictional) | J14: Fictional recreational vehicle policy record. | K14: =IF(OR($A14="",$G14=""),"",$G14-TODAY()) | L14: =IF($A14="","",IF($E14<>"Active","Not Active",IF($G14="","Check Date",IF($G14<TODAY(),"Past Due",IF($G14<=TODAY()+30,"0-30 Days",IF($G14<=TODAY()+60,"31-60 Days",IF($G14<=TODAY()+90,"61-90 Days","Over 90 Days"))))))) | M14: =IF($B14="","",IF(COUNTIF(Households!$A$5:$A$104,$B14)>0,"Matched","Check ID")) | N14: =IF(OR($A14="",$B14="",$E14<>"Active",$G14=""),"",IF(COUNTIFS($B$5:$B$104,$B14,$E$5:$E$104,"Active",$G$5:$G$104,">0",$G$5:$G$104,"<"&$G14)=0,"Next","Later"))
A15: P-F1011 | B15: HH-F008 | C15: Personal Auto | D15: Harbor Lantern Mutual (Fictional) | E15: Active | F15: 45941 | G15: 46306 | H15: 1375 | I15: Taylor Finch (Fictional) | J15: Thirty-day renewal boundary test. | K15: =IF(OR($A15="",$G15=""),"",$G15-TODAY()) | L15: =IF($A15="","",IF($E15<>"Active","Not Active",IF($G15="","Check Date",IF($G15<TODAY(),"Past Due",IF($G15<=TODAY()+30,"0-30 Days",IF($G15<=TODAY()+60,"31-60 Days",IF($G15<=TODAY()+90,"61-90 Days","Over 90 Days"))))))) | M15: =IF($B15="","",IF(COUNTIF(Households!$A$5:$A$104,$B15)>0,"Matched","Check ID")) | N15: =IF(OR($A15="",$B15="",$E15<>"Active",$G15=""),"",IF(COUNTIFS($B$5:$B$104,$B15,$E$5:$E$104,"Active",$G$5:$G$104,">0",$G$5:$G$104,"<"&$G15)=0,"Next","Later"))
A16: P-F1012 | B16: HH-F999 | C16: Renters | D16: Silver Current Underwriters (Fictional) | E16: Active | F16: 45971 | G16: 46336 | H16: 0 | I16: Casey Vale (Fictional) | J16: Unmatched fictional household ID and zero-amount boundary test. | K16: =IF(OR($A16="",$G16=""),"",$G16-TODAY()) | L16: =IF($A16="","",IF($E16<>"Active","Not Active",IF($G16="","Check Date",IF($G16<TODAY(),"Past Due",IF($G16<=TODAY()+30,"0-30 Days",IF($G16<=TODAY()+60,"31-60 Days",IF($G16<=TODAY()+90,"61-90 Days","Over 90 Days"))))))) | M16: =IF($B16="","",IF(COUNTIF(Households!$A$5:$A$104,$B16)>0,"Matched","Check ID")) | N16: =IF(OR($A16="",$B16="",$E16<>"Active",$G16=""),"",IF(COUNTIFS($B$5:$B$104,$B16,$E$5:$E$104,"Active",$G$5:$G$104,">0",$G$5:$G$104,"<"&$G16)=0,"Next","Later"))
K17: =IF(OR($A17="",$G17=""),"",$G17-TODAY()) | L17: =IF($A17="","",IF($E17<>"Active","Not Active",IF($G17="","Check Date",IF($G17<TODAY(),"Past Due",IF($G17<=TODAY()+30,"0-30 Days",IF($G17<=TODAY()+60,"31-60 Days",IF($G17<=TODAY()+90,"61-90 Days","Over 90 Days"))))))) | M17: =IF($B17="","",IF(COUNTIF(Households!$A$5:$A$104,$B17)>0,"Matched","Check ID")) | N17: =IF(OR($A17="",$B17="",$E17<>"Active",$G17=""),"",IF(COUNTIFS($B$5:$B$104,$B17,$E$5:$E$104,"Active",$G$5:$G$104,">0",$G$5:$G$104,"<"&$G17)=0,"Next","Later"))
K18: =IF(OR($A18="",$G18=""),"",$G18-TODAY()) | L18: =IF($A18="","",IF($E18<>"Active","Not Active",IF($G18="","Check Date",IF($G18<TODAY(),"Past Due",IF($G18<=TODAY()+30,"0-30 Days",IF($G18<=TODAY()+60,"31-60 Days",IF($G18<=TODAY()+90,"61-90 Days","Over 90 Days"))))))) | M18: =IF($B18="","",IF(COUNTIF(Households!$A$5:$A$104,$B18)>0,"Matched","Check ID")) | N18: =IF(OR($A18="",$B18="",$E18<>"Active",$G18=""),"",IF(COUNTIFS($B$5:$B$104,$B18,$E$5:$E$104,"Active",$G$5:$G$104,">0",$G$5:$G$104,"<"&$G18)=0,"Next","Later"))
K19: =IF(OR($A19="",$G19=""),"",$G19-TODAY()) | L19: =IF($A19="","",IF($E19<>"Active","Not Active",IF($G19="","Check Date",IF($G19<TODAY(),"Past Due",IF($G19<=TODAY()+30,"0-30 Days",IF($G19<=TODAY()+60,"31-60 Days",IF($G19<=TODAY()+90,"61-90 Days","Over 90 Days"))))))) | M19: =IF($B19="","",IF(COUNTIF(Households!$A$5:$A$104,$B19)>0,"Matched","Check ID")) | N19: =IF(OR($A19="",$B19="",$E19<>"Active",$G19=""),"",IF(COUNTIFS($B$5:$B$104,$B19,$E$5:$E$104,"Active",$G$5:$G$104,">0",$G$5:$G$104,"<"&$G19)=0,"Next","Later"))
K20: =IF(OR($A20="",$G20=""),"",$G20-TODAY()) | L20: =IF($A20="","",IF($E20<>"Active","Not Active",IF($G20="","Check Date",IF($G20<TODAY(),"Past Due",IF($G20<=TODAY()+30,"0-30 Days",IF($G20<=TODAY()+60,"31-60 Days",IF($G20<=TODAY()+90,"61-90 Days","Over 90 Days"))))))) | M20: =IF($B20="","",IF(COUNTIF(Households!$A$5:$A$104,$B20)>0,"Matched","Check ID")) | N20: =IF(OR($A20="",$B20="",$E20<>"Active",$G20=""),"",IF(COUNTIFS($B$5:$B$104,$B20,$E$5:$E$104,"Active",$G$5:$G$104,">0",$G$5:$G$104,"<"&$G20)=0,"Next","Later"))
K21: =IF(OR($A21="",$G21=""),"",$G21-TODAY()) | L21: =IF($A21="","",IF($E21<>"Active","Not Active",IF($G21="","Check Date",IF($G21<TODAY(),"Past Due",IF($G21<=TODAY()+30,"0-30 Days",IF($G21<=TODAY()+60,"31-60 Days",IF($G21<=TODAY()+90,"61-90 Days","Over 90 Days"))))))) | M21: =IF($B21="","",IF(COUNTIF(Households!$A$5:$A$104,$B21)>0,"Matched","Check ID")) | N21: =IF(OR($A21="",$B21="",$E21<>"Active",$G21=""),"",IF(COUNTIFS($B$5:$B$104,$B21,$E$5:$E$104,"Active",$G$5:$G$104,">0",$G$5:$G$104,"<"&$G21)=0,"Next","Later"))
K22: =IF(OR($A22="",$G22=""),"",$G22-TODAY()) | L22: =IF($A22="","",IF($E22<>"Active","Not Active",IF($G22="","Check Date",IF($G22<TODAY(),"Past Due",IF($G22<=TODAY()+30,"0-30 Days",IF($G22<=TODAY()+60,"31-60 Days",IF($G22<=TODAY()+90,"61-90 Days","Over 90 Days"))))))) | M22: =IF($B22="","",IF(COUNTIF(Households!$A$5:$A$104,$B22)>0,"Matched","Check ID")) | N22: =IF(OR($A22="",$B22="",$E22<>"Active",$G22=""),"",IF(COUNTIFS($B$5:$B$104,$B22,$E$5:$E$104,"Active",$G$5:$G$104,">0",$G$5:$G$104,"<"&$G22)=0,"Next","Later"))
K23: =IF(OR($A23="",$G23=""),"",$G23-TODAY()) | L23: =IF($A23="","",IF($E23<>"Active","Not Active",IF($G23="","Check Date",IF($G23<TODAY(),"Past Due",IF($G23<=TODAY()+30,"0-30 Days",IF($G23<=TODAY()+60,"31-60 Days",IF($G23<=TODAY()+90,"61-90 Days","Over 90 Days"))))))) | M23: =IF($B23="","",IF(COUNTIF(Households!$A$5:$A$104,$B23)>0,"Matched","Check ID")) | N23: =IF(OR($A23="",$B23="",$E23<>"Active",$G23=""),"",IF(COUNTIFS($B$5:$B$104,$B23,$E$5:$E$104,"Active",$G$5:$G$104,">0",$G$5:$G$104,"<"&$G23)=0,"Next","Later"))
K24: =IF(OR($A24="",$G24=""),"",$G24-TODAY()) | L24: =IF($A24="","",IF($E24<>"Active","Not Active",IF($G24="","Check Date",IF($G24<TODAY(),"Past Due",IF($G24<=TODAY()+30,"0-30 Days",IF($G24<=TODAY()+60,"31-60 Days",IF($G24<=TODAY()+90,"61-90 Days","Over 90 Days"))))))) | M24: =IF($B24="","",IF(COUNTIF(Households!$A$5:$A$104,$B24)>0,"Matched","Check ID")) | N24: =IF(OR($A24="",$B24="",$E24<>"Active",$G24=""),"",IF(COUNTIFS($B$5:$B$104,$B24,$E$5:$E$104,"Active",$G$5:$G$104,">0",$G$5:$G$104,"<"&$G24)=0,"Next","Later"))
K25: =IF(OR($A25="",$G25=""),"",$G25-TODAY()) | L25: =IF($A25="","",IF($E25<>"Active","Not Active",IF($G25="","Check Date",IF($G25<TODAY(),"Past Due",IF($G25<=TODAY()+30,"0-30 Days",IF($G25<=TODAY()+60,"31-60 Days",IF($G25<=TODAY()+90,"61-90 Days","Over 90 Days"))))))) | M25: =IF($B25="","",IF(COUNTIF(Households!$A$5:$A$104,$B25)>0,"Matched","Check ID")) | N25: =IF(OR($A25="",$B25="",$E25<>"Active",$G25=""),"",IF(COUNTIFS($B$5:$B$104,$B25,$E$5:$E$104,"Active",$G$5:$G$104,">0",$G$5:$G$104,"<"&$G25)=0,"Next","Later"))
K26: =IF(OR($A26="",$G26=""),"",$G26-TODAY()) | L26: =IF($A26="","",IF($E26<>"Active","Not Active",IF($G26="","Check Date",IF($G26<TODAY(),"Past Due",IF($G26<=TODAY()+30,"0-30 Days",IF($G26<=TODAY()+60,"31-60 Days",IF($G26<=TODAY()+90,"61-90 Days","Over 90 Days"))))))) | M26: =IF($B26="","",IF(COUNTIF(Households!$A$5:$A$104,$B26)>0,"Matched","Check ID")) | N26: =IF(OR($A26="",$B26="",$E26<>"Active",$G26=""),"",IF(COUNTIFS($B$5:$B$104,$B26,$E$5:$E$104,"Active",$G$5:$G$104,">0",$G$5:$G$104,"<"&$G26)=0,"Next","Later"))
K27: =IF(OR($A27="",$G27=""),"",$G27-TODAY()) | L27: =IF($A27="","",IF($E27<>"Active","Not Active",IF($G27="","Check Date",IF($G27<TODAY(),"Past Due",IF($G27<=TODAY()+30,"0-30 Days",IF($G27<=TODAY()+60,"31-60 Days",IF($G27<=TODAY()+90,"61-90 Days","Over 90 Days"))))))) | M27: =IF($B27="","",IF(COUNTIF(Households!$A$5:$A$104,$B27)>0,"Matched","Check ID")) | N27: =IF(OR($A27="",$B27="",$E27<>"Active",$G27=""),"",IF(COUNTIFS($B$5:$B$104,$B27,$E$5:$E$104,"Active",$G$5:$G$104,">0",$G$5:$G$104,"<"&$G27)=0,"Next","Later"))
K28: =IF(OR($A28="",$G28=""),"",$G28-TODAY()) | L28: =IF($A28="","",IF($E28<>"Active","Not Active",IF($G28="","Check Date",IF($G28<TODAY(),"Past Due",IF($G28<=TODAY()+30,"0-30 Days",IF($G28<=TODAY()+60,"31-60 Days",IF($G28<=TODAY()+90,"61-90 Days","Over 90 Days"))))))) | M28: =IF($B28="","",IF(COUNTIF(Households!$A$5:$A$104,$B28)>0,"Matched","Check ID")) | N28: =IF(OR($A28="",$B28="",$E28<>"Active",$G28=""),"",IF(COUNTIFS($B$5:$B$104,$B28,$E$5:$E$104,"Active",$G$5:$G$104,">0",$G$5:$G$104,"<"&$G28)=0,"Next","Later"))
... K104: =IF(OR($A104="",$G104=""),"",$G104-TODAY()) | L104: =IF($A104="","",IF($E104<>"Active","Not Active",IF($G104="","Check Date",IF($G104<TODAY(),"Past Due",IF($G104<=TODAY()+30,"0-30 Days",IF($G104<=TODAY()+60,"31-60 Days",IF($G104<=TODAY()+90,"61-90 Days","Over 90 Days"))))))) | M104: =IF($B104="","",IF(COUNTIF(Households!$A$5:$A$104,$B104)>0,"Matched","Check ID")) | N104: =IF(OR($A104="",$B104="",$E104<>"Active",$G104=""),"",IF(COUNTIFS($B$5:$B$104,$B104,$E$5:$E$104,"Active",$G$5:$G$104,">0",$G$5:$G$104,"<"&$G104)=0,"Next","Later"))

Sheet Insured Items
A1: Insurance Multi-Policy Household Map — Insured Items
A2: Enter fictional item records in yellow cells. Match results identify household or policy references that need a human check.
A4: Item ID | B4: Household ID | C4: Policy Ref | D4: Item Type | E4: Item Description | F4: Model or Build Year | G4: Identifier or Location | H4: Recorded Amount | I4: Item Status | J4: Record Owner | K4: Household Match | L4: Policy Match | M4: Notes
A5: I-F2001 | B5: HH-F001 | C5: P-F1001 | D5: Automobile | E5: 2022 Cedar Comet sedan (Fictional) | F5: 2022 | G5: FICTIONAL-VIN-001 | H5: 24000 | I5: Mapped | J5: Casey Vale (Fictional) | K5: =IF($B5="","",IF(COUNTIF(Households!$A$5:$A$104,$B5)>0,"Matched","Check ID")) | L5: =IF(OR($B5="",$C5=""),"",IF(COUNTIFS(Policies!$A$5:$A$104,$C5,Policies!$B$5:$B$104,$B5)>0,"Matched","Check Policy")) | M5: Administrative item-to-policy link.
A6: I-F2002 | B6: HH-F001 | C6: P-F1001 | D6: Automobile | E6: 2020 Maple Meteor wagon (Fictional) | F6: 2020 | G6: FICTIONAL-VIN-002 | H6: 18500 | I6: Mapped | J6: Casey Vale (Fictional) | K6: =IF($B6="","",IF(COUNTIF(Households!$A$5:$A$104,$B6)>0,"Matched","Check ID")) | L6: =IF(OR($B6="",$C6=""),"",IF(COUNTIFS(Policies!$A$5:$A$104,$C6,Policies!$B$5:$B$104,$B6)>0,"Matched","Check Policy")) | M6: Second fictional automobile.
A7: I-F2003 | B7: HH-F001 | C7: P-F1002 | D7: Residence | E7: Northwind Lantern residence (Fictional) | F7: 1998 | G7: 1 Example Way, Example Harbor, ZZ | H7: 385000 | I7: Mapped | J7: Casey Vale (Fictional) | K7: =IF($B7="","",IF(COUNTIF(Households!$A$5:$A$104,$B7)>0,"Matched","Check ID")) | L7: =IF(OR($B7="",$C7=""),"",IF(COUNTIFS(Policies!$A$5:$A$104,$C7,Policies!$B$5:$B$104,$B7)>0,"Matched","Check Policy")) | M7: Recorded amount is an administrative input only.
A8: I-F2004 | B8: HH-F002 | C8: P-F1003 | D8: Location | E8: Copper Meadow rental location (Fictional) | F8: 2015 | G8: 2 Sample Lane, Sample Junction, ZZ | H8: 0 | I8: Mapped | J8: Jordan Reed (Fictional) | K8: =IF($B8="","",IF(COUNTIF(Households!$A$5:$A$104,$B8)>0,"Matched","Check ID")) | L8: =IF(OR($B8="",$C8=""),"",IF(COUNTIFS(Policies!$A$5:$A$104,$C8,Policies!$B$5:$B$104,$B8)>0,"Matched","Check Policy")) | M8: Zero recorded-amount boundary test.
A9: I-F2005 | B9: HH-F002 | C9: P-F1004 | D9: Automobile | E9: 2019 Silver Sprout hatchback (Fictional) | F9: 2019 | G9: FICTIONAL-VIN-005 | H9: 13200 | I9: Mapped | J9: Jordan Reed (Fictional) | K9: =IF($B9="","",IF(COUNTIF(Households!$A$5:$A$104,$B9)>0,"Matched","Check ID")) | L9: =IF(OR($B9="",$C9=""),"",IF(COUNTIFS(Policies!$A$5:$A$104,$C9,Policies!$B$5:$B$104,$B9)>0,"Matched","Check Policy")) | M9: Administrative item-to-policy link.
A10: I-F2006 | B10: HH-F003 | C10: P-F1006 | D10: Residence | E10: Silver Kite residence (Fictional) | F10: 2004 | G10: 3 Test Avenue, Test Valley, ZZ | H10: 420000 | I10: Mapped | J10: Casey Vale (Fictional) | K10: =IF($B10="","",IF(COUNTIF(Households!$A$5:$A$104,$B10)>0,"Matched","Check ID")) | L10: =IF(OR($B10="",$C10=""),"",IF(COUNTIFS(Policies!$A$5:$A$104,$C10,Policies!$B$5:$B$104,$B10)>0,"Matched","Check Policy")) | M10: Fictional residence record.
A11: I-F2007 | B11: HH-F004 | C11: P-F1007 | D11: Watercraft | E11: 2018 Blue Finch runabout (Fictional) | F11: 2018 | G11: FICTIONAL-HULL-007 | H11: 27000 | I11: Mapped | J11: Morgan Pike (Fictional) | K11: =IF($B11="","",IF(COUNTIF(Households!$A$5:$A$104,$B11)>0,"Matched","Check ID")) | L11: =IF(OR($B11="",$C11=""),"",IF(COUNTIFS(Policies!$A$5:$A$104,$C11,Policies!$B$5:$B$104,$B11)>0,"Matched","Check Policy")) | M11: Pending policy reference retained for review.
A12: I-F2008 | B12: HH-F005 | C12: P-F1008 | D12: Automobile | E12: 2016 Copper Cloud coupe (Fictional) | F12: 2016 | G12: FICTIONAL-VIN-008 | H12: 0 | I12: Removed | J12: Taylor Finch (Fictional) | K12: =IF($B12="","",IF(COUNTIF(Households!$A$5:$A$104,$B12)>0,"Matched","Check ID")) | L12: =IF(OR($B12="",$C12=""),"",IF(COUNTIFS(Policies!$A$5:$A$104,$C12,Policies!$B$5:$B$104,$B12)>0,"Matched","Check Policy")) | M12: Removed fictional item record.
A13: I-F2009 | B13: HH-F006 | C13: P-F1009 | D13: Residence | E13: Blue Compass residence (Fictional) | F13: 2001 | G13: 6 Test Avenue, Test Valley, ZZ | H13: 510000 | I13: Mapped | J13: Jordan Reed (Fictional) | K13: =IF($B13="","",IF(COUNTIF(Households!$A$5:$A$104,$B13)>0,"Matched","Check ID")) | L13: =IF(OR($B13="",$C13=""),"",IF(COUNTIFS(Policies!$A$5:$A$104,$C13,Policies!$B$5:$B$104,$B13)>0,"Matched","Check Policy")) | M13: Fictional residence record.
A14: I-F2010 | B14: HH-F007 | C14: P-F1010 | D14: Recreational Vehicle | E14: 2021 Crimson Trail camper (Fictional) | F14: 2021 | G14: FICTIONAL-RV-010 | H14: 46000 | I14: Mapped | J14: Morgan Pike (Fictional) | K14: =IF($B14="","",IF(COUNTIF(Households!$A$5:$A$104,$B14)>0,"Matched","Check ID")) | L14: =IF(OR($B14="",$C14=""),"",IF(COUNTIFS(Policies!$A$5:$A$104,$C14,Policies!$B$5:$B$104,$B14)>0,"Matched","Check Policy")) | M14: Fictional recreational vehicle.
A15: I-F2011 | B15: HH-F002 | C15: P-F1005 | D15: Jewelry Item | E15: Fictional silver star pendant | F15: 2024 | G15: FICTIONAL-ITEM-011 | H15: 3200 | I15: Review Needed | J15: Jordan Reed (Fictional) | K15: =IF($B15="","",IF(COUNTIF(Households!$A$5:$A$104,$B15)>0,"Matched","Check ID")) | L15: =IF(OR($B15="",$C15=""),"",IF(COUNTIFS(Policies!$A$5:$A$104,$C15,Policies!$B$5:$B$104,$B15)>0,"Matched","Check Policy")) | M15: Policy belongs to another household; confirm the references.
A16: I-F2012 | B16: HH-F998 | C16: P-F1001 | D16: Other Scheduled Item | E16: Fictional future-model utility trailer | F16: 2027 | G16: FICTIONAL-ITEM-012 | H16: 8700 | I16: Review Needed | J16: Casey Vale (Fictional) | K16: =IF($B16="","",IF(COUNTIF(Households!$A$5:$A$104,$B16)>0,"Matched","Check ID")) | L16: =IF(OR($B16="",$C16=""),"",IF(COUNTIFS(Policies!$A$5:$A$104,$C16,Policies!$B$5:$B$104,$B16)>0,"Matched","Check Policy")) | M16: Unmatched household ID and maximum-year boundary test.
K17: =IF($B17="","",IF(COUNTIF(Households!$A$5:$A$104,$B17)>0,"Matched","Check ID")) | L17: =IF(OR($B17="",$C17=""),"",IF(COUNTIFS(Policies!$A$5:$A$104,$C17,Policies!$B$5:$B$104,$B17)>0,"Matched","Check Policy"))
K18: =IF($B18="","",IF(COUNTIF(Households!$A$5:$A$104,$B18)>0,"Matched","Check ID")) | L18: =IF(OR($B18="",$C18=""),"",IF(COUNTIFS(Policies!$A$5:$A$104,$C18,Policies!$B$5:$B$104,$B18)>0,"Matched","Check Policy"))
K19: =IF($B19="","",IF(COUNTIF(Households!$A$5:$A$104,$B19)>0,"Matched","Check ID")) | L19: =IF(OR($B19="",$C19=""),"",IF(COUNTIFS(Policies!$A$5:$A$104,$C19,Policies!$B$5:$B$104,$B19)>0,"Matched","Check Policy"))
K20: =IF($B20="","",IF(COUNTIF(Households!$A$5:$A$104,$B20)>0,"Matched","Check ID")) | L20: =IF(OR($B20="",$C20=""),"",IF(COUNTIFS(Policies!$A$5:$A$104,$C20,Policies!$B$5:$B$104,$B20)>0,"Matched","Check Policy"))
K21: =IF($B21="","",IF(COUNTIF(Households!$A$5:$A$104,$B21)>0,"Matched","Check ID")) | L21: =IF(OR($B21="",$C21=""),"",IF(COUNTIFS(Policies!$A$5:$A$104,$C21,Policies!$B$5:$B$104,$B21)>0,"Matched","Check Policy"))
K22: =IF($B22="","",IF(COUNTIF(Households!$A$5:$A$104,$B22)>0,"Matched","Check ID")) | L22: =IF(OR($B22="",$C22=""),"",IF(COUNTIFS(Policies!$A$5:$A$104,$C22,Policies!$B$5:$B$104,$B22)>0,"Matched","Check Policy"))
K23: =IF($B23="","",IF(COUNTIF(Households!$A$5:$A$104,$B23)>0,"Matched","Check ID")) | L23: =IF(OR($B23="",$C23=""),"",IF(COUNTIFS(Policies!$A$5:$A$104,$C23,Policies!$B$5:$B$104,$B23)>0,"Matched","Check Policy"))
K24: =IF($B24="","",IF(COUNTIF(Households!$A$5:$A$104,$B24)>0,"Matched","Check ID")) | L24: =IF(OR($B24="",$C24=""),"",IF(COUNTIFS(Policies!$A$5:$A$104,$C24,Policies!$B$5:$B$104,$B24)>0,"Matched","Check Policy"))
K25: =IF($B25="","",IF(COUNTIF(Households!$A$5:$A$104,$B25)>0,"Matched","Check ID")) | L25: =IF(OR($B25="",$C25=""),"",IF(COUNTIFS(Policies!$A$5:$A$104,$C25,Policies!$B$5:$B$104,$B25)>0,"Matched","Check Policy"))
K26: =IF($B26="","",IF(COUNTIF(Households!$A$5:$A$104,$B26)>0,"Matched","Check ID")) | L26: =IF(OR($B26="",$C26=""),"",IF(COUNTIFS(Policies!$A$5:$A$104,$C26,Policies!$B$5:$B$104,$B26)>0,"Matched","Check Policy"))
K27: =IF($B27="","",IF(COUNTIF(Households!$A$5:$A$104,$B27)>0,"Matched","Check ID")) | L27: =IF(OR($B27="",$C27=""),"",IF(COUNTIFS(Policies!$A$5:$A$104,$C27,Policies!$B$5:$B$104,$B27)>0,"Matched","Check Policy"))
K28: =IF($B28="","",IF(COUNTIF(Households!$A$5:$A$104,$B28)>0,"Matched","Check ID")) | L28: =IF(OR($B28="",$C28=""),"",IF(COUNTIFS(Policies!$A$5:$A$104,$C28,Policies!$B$5:$B$104,$B28)>0,"Matched","Check Policy"))
... K104: =IF($B104="","",IF(COUNTIF(Households!$A$5:$A$104,$B104)>0,"Matched","Check ID")) | L104: =IF(OR($B104="",$C104=""),"",IF(COUNTIFS(Policies!$A$5:$A$104,$C104,Policies!$B$5:$B$104,$B104)>0,"Matched","Check Policy"))

Sheet Assumptions
A1: Insurance Multi-Policy Household Map — Assumptions
A2: Edit stable lists and operational limits here. These entries support administrative checks only.
A4: Policy Types | B4: Policy Statuses | C4: Item Types | D4: Item Statuses | E4: Review Statuses | F4: Record Owners | G4: Parameter | H4: Value | I4: Administrative Note
A5: Personal Auto | B5: Active | C5: Automobile | D5: Mapped | E5: Current | F5: Casey Vale (Fictional) | G5: Renewal alert horizon (days) | H5: 90 | I5: Used to flag active renewal dates for human review.
A6: Homeowners | B6: Pending | C6: Residence | D6: Review Needed | E6: Review Due | F6: Jordan Reed (Fictional) | G6: Review age threshold (days) | H6: 365 | I6: Used to identify an older household review date.
A7: Renters | B7: Cancelled | C7: Jewelry Item | D7: Removed | E7: Contact Pending | F7: Morgan Pike (Fictional) | G7: Earliest accepted date | H7: 42370 | I7: Editable lower date limit for entered records.
A8: Umbrella | B8: Expired | C8: Watercraft | E8: Inactive | F8: Taylor Finch (Fictional) | G8: Latest accepted date | H8: 48213 | I8: Editable upper date limit for entered records.
A9: Watercraft | C9: Recreational Vehicle | G9: Maximum annual premium | H9: 1000000 | I9: Administrative input limit; not a pricing representation.
A10: Recreational Vehicle | C10: Motorcycle | G10: Maximum model or build year | H10: 2027 | I10: Editable year limit for item records.
A11: Motorcycle | C11: Other Scheduled Item | G11: Maximum recorded amount | H11: 5000000 | I11: Administrative input limit; not a coverage recommendation.
A12: Flood | C12: Location
