Workbook

Sheet Summary
A1: Insurance Partner Referral Summary
A2: Indicators use entered records and the editable as of date. Alerts prompt a human check; verify source records before follow-up.
A3: As of Date | B3: =IF(ISNUMBER(Assumptions!$B$4),Assumptions!$B$4,"Check assumptions")
A4: Indicator | B4: Value | D4: Month | E4: Received | F4: Sent | H4: Status | I4: Count
A5: Total referrals | B5: =COUNTIF(Referrals!$A$5:$A$154,"<>") | D5: =IF(ISNUMBER(Assumptions!$B$4),DATE(YEAR(Assumptions!$B$4),MONTH(Assumptions!$B$4)-11,1),"") | E5: =IF(NOT(ISNUMBER(D5)),"",COUNTIFS(Referrals!$B$5:$B$154,">="&D5,Referrals!$B$5:$B$154,"<"&DATE(YEAR(D5),MONTH(D5)+1,1),Referrals!$C$5:$C$154,E$4)) | F5: =IF(NOT(ISNUMBER(D5)),"",COUNTIFS(Referrals!$B$5:$B$154,">="&D5,Referrals!$B$5:$B$154,"<"&DATE(YEAR(D5),MONTH(D5)+1,1),Referrals!$C$5:$C$154,F$4)) | H5: =Assumptions!F4 | I5: =COUNTIFS(Referrals!$A$5:$A$154,"<>",Referrals!$I$5:$I$154,H5)
A6: Received referrals | B6: =COUNTIFS(Referrals!$A$5:$A$154,"<>",Referrals!$C$5:$C$154,Assumptions!$E$4) | D6: =IF(ISNUMBER(D5),DATE(YEAR(D5),MONTH(D5)+1,1),"") | E6: =IF(NOT(ISNUMBER(D6)),"",COUNTIFS(Referrals!$B$5:$B$154,">="&D6,Referrals!$B$5:$B$154,"<"&DATE(YEAR(D6),MONTH(D6)+1,1),Referrals!$C$5:$C$154,E$4)) | F6: =IF(NOT(ISNUMBER(D6)),"",COUNTIFS(Referrals!$B$5:$B$154,">="&D6,Referrals!$B$5:$B$154,"<"&DATE(YEAR(D6),MONTH(D6)+1,1),Referrals!$C$5:$C$154,F$4)) | H6: =Assumptions!F5 | I6: =COUNTIFS(Referrals!$A$5:$A$154,"<>",Referrals!$I$5:$I$154,H6)
A7: Sent referrals | B7: =COUNTIFS(Referrals!$A$5:$A$154,"<>",Referrals!$C$5:$C$154,Assumptions!$E$5) | D7: =IF(ISNUMBER(D6),DATE(YEAR(D6),MONTH(D6)+1,1),"") | E7: =IF(NOT(ISNUMBER(D7)),"",COUNTIFS(Referrals!$B$5:$B$154,">="&D7,Referrals!$B$5:$B$154,"<"&DATE(YEAR(D7),MONTH(D7)+1,1),Referrals!$C$5:$C$154,E$4)) | F7: =IF(NOT(ISNUMBER(D7)),"",COUNTIFS(Referrals!$B$5:$B$154,">="&D7,Referrals!$B$5:$B$154,"<"&DATE(YEAR(D7),MONTH(D7)+1,1),Referrals!$C$5:$C$154,F$4)) | H7: =Assumptions!F6 | I7: =COUNTIFS(Referrals!$A$5:$A$154,"<>",Referrals!$I$5:$I$154,H7)
A8: Open referrals | B8: =COUNTIF(Referrals!$A$5:$A$154,"<>")-COUNTIFS(Referrals!$A$5:$A$154,"<>",Referrals!$I$5:$I$154,Assumptions!$F$7)-COUNTIFS(Referrals!$A$5:$A$154,"<>",Referrals!$I$5:$I$154,Assumptions!$F$8)-COUNTIFS(Referrals!$A$5:$A$154,"<>",Referrals!$I$5:$I$154,Assumptions!$F$9) | D8: =IF(ISNUMBER(D7),DATE(YEAR(D7),MONTH(D7)+1,1),"") | E8: =IF(NOT(ISNUMBER(D8)),"",COUNTIFS(Referrals!$B$5:$B$154,">="&D8,Referrals!$B$5:$B$154,"<"&DATE(YEAR(D8),MONTH(D8)+1,1),Referrals!$C$5:$C$154,E$4)) | F8: =IF(NOT(ISNUMBER(D8)),"",COUNTIFS(Referrals!$B$5:$B$154,">="&D8,Referrals!$B$5:$B$154,"<"&DATE(YEAR(D8),MONTH(D8)+1,1),Referrals!$C$5:$C$154,F$4)) | H8: =Assumptions!F7 | I8: =COUNTIFS(Referrals!$A$5:$A$154,"<>",Referrals!$I$5:$I$154,H8)
A9: Won referrals | B9: =COUNTIFS(Referrals!$A$5:$A$154,"<>",Referrals!$I$5:$I$154,Assumptions!$F$7) | D9: =IF(ISNUMBER(D8),DATE(YEAR(D8),MONTH(D8)+1,1),"") | E9: =IF(NOT(ISNUMBER(D9)),"",COUNTIFS(Referrals!$B$5:$B$154,">="&D9,Referrals!$B$5:$B$154,"<"&DATE(YEAR(D9),MONTH(D9)+1,1),Referrals!$C$5:$C$154,E$4)) | F9: =IF(NOT(ISNUMBER(D9)),"",COUNTIFS(Referrals!$B$5:$B$154,">="&D9,Referrals!$B$5:$B$154,"<"&DATE(YEAR(D9),MONTH(D9)+1,1),Referrals!$C$5:$C$154,F$4)) | H9: =Assumptions!F8 | I9: =COUNTIFS(Referrals!$A$5:$A$154,"<>",Referrals!$I$5:$I$154,H9)
A10: Won estimated premium | B10: =SUMIF(Referrals!$I$5:$I$154,Assumptions!$F$7,Referrals!$L$5:$L$154) | D10: =IF(ISNUMBER(D9),DATE(YEAR(D9),MONTH(D9)+1,1),"") | E10: =IF(NOT(ISNUMBER(D10)),"",COUNTIFS(Referrals!$B$5:$B$154,">="&D10,Referrals!$B$5:$B$154,"<"&DATE(YEAR(D10),MONTH(D10)+1,1),Referrals!$C$5:$C$154,E$4)) | F10: =IF(NOT(ISNUMBER(D10)),"",COUNTIFS(Referrals!$B$5:$B$154,">="&D10,Referrals!$B$5:$B$154,"<"&DATE(YEAR(D10),MONTH(D10)+1,1),Referrals!$C$5:$C$154,F$4)) | H10: =Assumptions!F9 | I10: =COUNTIFS(Referrals!$A$5:$A$154,"<>",Referrals!$I$5:$I$154,H10)
A11: Win rate on closed outcomes | B11: =IFERROR(COUNTIFS(Referrals!$A$5:$A$154,"<>",Referrals!$I$5:$I$154,Assumptions!$F$7)/(COUNTIFS(Referrals!$A$5:$A$154,"<>",Referrals!$I$5:$I$154,Assumptions!$F$7)+COUNTIFS(Referrals!$A$5:$A$154,"<>",Referrals!$I$5:$I$154,Assumptions!$F$8)+COUNTIFS(Referrals!$A$5:$A$154,"<>",Referrals!$I$5:$I$154,Assumptions!$F$9)),"") | D11: =IF(ISNUMBER(D10),DATE(YEAR(D10),MONTH(D10)+1,1),"") | E11: =IF(NOT(ISNUMBER(D11)),"",COUNTIFS(Referrals!$B$5:$B$154,">="&D11,Referrals!$B$5:$B$154,"<"&DATE(YEAR(D11),MONTH(D11)+1,1),Referrals!$C$5:$C$154,E$4)) | F11: =IF(NOT(ISNUMBER(D11)),"",COUNTIFS(Referrals!$B$5:$B$154,">="&D11,Referrals!$B$5:$B$154,"<"&DATE(YEAR(D11),MONTH(D11)+1,1),Referrals!$C$5:$C$154,F$4))
A12: Overdue follow-ups | B12: =COUNTIF(Referrals!$O$5:$O$154,"Overdue") | D12: =IF(ISNUMBER(D11),DATE(YEAR(D11),MONTH(D11)+1,1),"") | E12: =IF(NOT(ISNUMBER(D12)),"",COUNTIFS(Referrals!$B$5:$B$154,">="&D12,Referrals!$B$5:$B$154,"<"&DATE(YEAR(D12),MONTH(D12)+1,1),Referrals!$C$5:$C$154,E$4)) | F12: =IF(NOT(ISNUMBER(D12)),"",COUNTIFS(Referrals!$B$5:$B$154,">="&D12,Referrals!$B$5:$B$154,"<"&DATE(YEAR(D12),MONTH(D12)+1,1),Referrals!$C$5:$C$154,F$4))
A13: Due soon follow-ups | B13: =COUNTIF(Referrals!$O$5:$O$154,"Due soon") | D13: =IF(ISNUMBER(D12),DATE(YEAR(D12),MONTH(D12)+1,1),"") | E13: =IF(NOT(ISNUMBER(D13)),"",COUNTIFS(Referrals!$B$5:$B$154,">="&D13,Referrals!$B$5:$B$154,"<"&DATE(YEAR(D13),MONTH(D13)+1,1),Referrals!$C$5:$C$154,E$4)) | F13: =IF(NOT(ISNUMBER(D13)),"",COUNTIFS(Referrals!$B$5:$B$154,">="&D13,Referrals!$B$5:$B$154,"<"&DATE(YEAR(D13),MONTH(D13)+1,1),Referrals!$C$5:$C$154,F$4))
A14: Open past age threshold | B14: =COUNTIFS(Referrals!$A$5:$A$154,"<>",Referrals!$N$5:$N$154,">="&Assumptions!$B$6,Referrals!$I$5:$I$154,"<>"&Assumptions!$F$7,Referrals!$I$5:$I$154,"<>"&Assumptions!$F$8,Referrals!$I$5:$I$154,"<>"&Assumptions!$F$9) | D14: =IF(ISNUMBER(D13),DATE(YEAR(D13),MONTH(D13)+1,1),"") | E14: =IF(NOT(ISNUMBER(D14)),"",COUNTIFS(Referrals!$B$5:$B$154,">="&D14,Referrals!$B$5:$B$154,"<"&DATE(YEAR(D14),MONTH(D14)+1,1),Referrals!$C$5:$C$154,E$4)) | F14: =IF(NOT(ISNUMBER(D14)),"",COUNTIFS(Referrals!$B$5:$B$154,">="&D14,Referrals!$B$5:$B$154,"<"&DATE(YEAR(D14),MONTH(D14)+1,1),Referrals!$C$5:$C$154,F$4))
A15: Active partners | B15: =COUNTIFS(Partners!$A$5:$A$104,"<>",Partners!$F$5:$F$104,Assumptions!$G$4) | D15: =IF(ISNUMBER(D14),DATE(YEAR(D14),MONTH(D14)+1,1),"") | E15: =IF(NOT(ISNUMBER(D15)),"",COUNTIFS(Referrals!$B$5:$B$154,">="&D15,Referrals!$B$5:$B$154,"<"&DATE(YEAR(D15),MONTH(D15)+1,1),Referrals!$C$5:$C$154,E$4)) | F15: =IF(NOT(ISNUMBER(D15)),"",COUNTIFS(Referrals!$B$5:$B$154,">="&D15,Referrals!$B$5:$B$154,"<"&DATE(YEAR(D15),MONTH(D15)+1,1),Referrals!$C$5:$C$154,F$4))
A16: Last referral date | B16: =IF(COUNT(Referrals!$B$5:$B$154)=0,"",MAX(Referrals!$B$5:$B$154)) | D16: =IF(ISNUMBER(D15),DATE(YEAR(D15),MONTH(D15)+1,1),"") | E16: =IF(NOT(ISNUMBER(D16)),"",COUNTIFS(Referrals!$B$5:$B$154,">="&D16,Referrals!$B$5:$B$154,"<"&DATE(YEAR(D16),MONTH(D16)+1,1),Referrals!$C$5:$C$154,E$4)) | F16: =IF(NOT(ISNUMBER(D16)),"",COUNTIFS(Referrals!$B$5:$B$154,">="&D16,Referrals!$B$5:$B$154,"<"&DATE(YEAR(D16),MONTH(D16)+1,1),Referrals!$C$5:$C$154,F$4))
A17: Open estimated premium | B17: =SUMIF(Referrals!$I$5:$I$154,Assumptions!$F$4,Referrals!$L$5:$L$154)+SUMIF(Referrals!$I$5:$I$154,Assumptions!$F$5,Referrals!$L$5:$L$154)+SUMIF(Referrals!$I$5:$I$154,Assumptions!$F$6,Referrals!$L$5:$L$154)
A18: Average age or duration (days) | B18: =IFERROR(AVERAGE(Referrals!$N$5:$N$154),"")

Sheet Referrals
A1: Insurance Partner Referral Tracker
A2: Record referrals exchanged with named professional partners. Estimated premium is an administrative input, not a quote or coverage recommendation.
A4: Referral ID | B4: Referral Date | C4: Direction | D4: Partner ID | E4: Partner Name | F4: Referred Party | G4: Line of Business | H4: Agency Owner | I4: Status | J4: Follow-up Due | K4: Closed Date | L4: Estimated Annual Premium | M4: Quote / Policy Ref | N4: Days Open | O4: Follow-up Alert
A5: FIC-R-1001 | B5: 46200 | C5: Received | D5: FIC-P-001 | E5: =IF(D5="","",IFERROR(VLOOKUP(D5,Partners!$A$5:$B$104,2,FALSE),"Check partner ID")) | F5: Maple Comet Bakery LLC (Fictional) | G5: Business Owners | H5: Morgan Vale (Fictional) | I5: Won | J5: 46215 | K5: 46230 | L5: 8200 | M5: FIC-Q-A101 | N5: =IF(A5="","",IF(OR(NOT(ISNUMBER(B5)),NOT(ISNUMBER(Assumptions!$B$4))),"",MAX(0,IF(AND(K5<>"",ISNUMBER(K5)),K5,Assumptions!$B$4)-B5))) | O5: =IF(A5="","",IF(OR(I5=Assumptions!$F$7,I5=Assumptions!$F$8,I5=Assumptions!$F$9),"Closed",IF(OR(NOT(ISNUMBER(Assumptions!$B$4)),NOT(ISNUMBER(Assumptions!$B$5))),"Check assumptions",IF(NOT(ISNUMBER(J5)),"Set date",IF(J5<Assumptions!$B$4,"Overdue",IF(J5<=Assumptions!$B$4+Assumptions!$B$5,"Due soon","On track")))))) | Q5: =Assumptions!E4 | R5: =Assumptions!F4 | S5: =Assumptions!H4 | T5: =Assumptions!J4 | U5: =IF(Partners!A5="","",Partners!A5) | V5: =Assumptions!B4 | W5: =Assumptions!B5 | X5: =Assumptions!B6 | Y5: =Assumptions!B7
A6: FIC-R-1002 | B6: 46233 | C6: Sent | D6: FIC-P-002 | E6: =IF(D6="","",IFERROR(VLOOKUP(D6,Partners!$A$5:$B$104,2,FALSE),"Check partner ID")) | F6: Tessa North (Fictional) | G6: Personal Auto | H6: Riley Ember (Fictional) | I6: Lost | J6: 46241 | K6: 46247 | L6: 2100 | M6: FIC-Q-A102 | N6: =IF(A6="","",IF(OR(NOT(ISNUMBER(B6)),NOT(ISNUMBER(Assumptions!$B$4))),"",MAX(0,IF(AND(K6<>"",ISNUMBER(K6)),K6,Assumptions!$B$4)-B6))) | O6: =IF(A6="","",IF(OR(I6=Assumptions!$F$7,I6=Assumptions!$F$8,I6=Assumptions!$F$9),"Closed",IF(OR(NOT(ISNUMBER(Assumptions!$B$4)),NOT(ISNUMBER(Assumptions!$B$5))),"Check assumptions",IF(NOT(ISNUMBER(J6)),"Set date",IF(J6<Assumptions!$B$4,"Overdue",IF(J6<=Assumptions!$B$4+Assumptions!$B$5,"Due soon","On track")))))) | Q6: =Assumptions!E5 | R6: =Assumptions!F5 | S6: =Assumptions!H5 | T6: =Assumptions!J5 | U6: =IF(Partners!A6="","",Partners!A6)
A7: FIC-R-1003 | B7: 46255 | C7: Received | D7: FIC-P-003 | E7: =IF(D7="","",IFERROR(VLOOKUP(D7,Partners!$A$5:$B$104,2,FALSE),"Check partner ID")) | F7: Copper Finch Workshop LLC (Fictional) | G7: Commercial Auto | H7: Jordan Lake (Fictional) | I7: Quoted | J7: 46273 | L7: 12600 | M7: FIC-Q-A103 | N7: =IF(A7="","",IF(OR(NOT(ISNUMBER(B7)),NOT(ISNUMBER(Assumptions!$B$4))),"",MAX(0,IF(AND(K7<>"",ISNUMBER(K7)),K7,Assumptions!$B$4)-B7))) | O7: =IF(A7="","",IF(OR(I7=Assumptions!$F$7,I7=Assumptions!$F$8,I7=Assumptions!$F$9),"Closed",IF(OR(NOT(ISNUMBER(Assumptions!$B$4)),NOT(ISNUMBER(Assumptions!$B$5))),"Check assumptions",IF(NOT(ISNUMBER(J7)),"Set date",IF(J7<Assumptions!$B$4,"Overdue",IF(J7<=Assumptions!$B$4+Assumptions!$B$5,"Due soon","On track")))))) | R7: =Assumptions!F6 | S7: =Assumptions!H6 | T7: =Assumptions!J6 | U7: =IF(Partners!A7="","",Partners!A7)
A8: FIC-R-1004 | B8: 46267 | C8: Sent | D8: FIC-P-004 | E8: =IF(D8="","",IFERROR(VLOOKUP(D8,Partners!$A$5:$B$104,2,FALSE),"Check partner ID")) | F8: Eli Rowan (Fictional) | G8: Homeowners | H8: Morgan Vale (Fictional) | I8: Contacted | J8: 46277 | L8: 1800 | M8: FIC-Q-A104 | N8: =IF(A8="","",IF(OR(NOT(ISNUMBER(B8)),NOT(ISNUMBER(Assumptions!$B$4))),"",MAX(0,IF(AND(K8<>"",ISNUMBER(K8)),K8,Assumptions!$B$4)-B8))) | O8: =IF(A8="","",IF(OR(I8=Assumptions!$F$7,I8=Assumptions!$F$8,I8=Assumptions!$F$9),"Closed",IF(OR(NOT(ISNUMBER(Assumptions!$B$4)),NOT(ISNUMBER(Assumptions!$B$5))),"Check assumptions",IF(NOT(ISNUMBER(J8)),"Set date",IF(J8<Assumptions!$B$4,"Overdue",IF(J8<=Assumptions!$B$4+Assumptions!$B$5,"Due soon","On track")))))) | R8: =Assumptions!F7 | S8: =Assumptions!H7 | T8: ="" | U8: =IF(Partners!A8="","",Partners!A8)
A9: FIC-R-1005 | B9: 46272 | C9: Received | D9: FIC-P-005 | E9: =IF(D9="","",IFERROR(VLOOKUP(D9,Partners!$A$5:$B$104,2,FALSE),"Check partner ID")) | F9: Lumen Fox Design LLC (Fictional) | G9: General Liability | H9: Riley Ember (Fictional) | I9: New | J9: 46282 | L9: 4300 | M9: FIC-Q-A105 | N9: =IF(A9="","",IF(OR(NOT(ISNUMBER(B9)),NOT(ISNUMBER(Assumptions!$B$4))),"",MAX(0,IF(AND(K9<>"",ISNUMBER(K9)),K9,Assumptions!$B$4)-B9))) | O9: =IF(A9="","",IF(OR(I9=Assumptions!$F$7,I9=Assumptions!$F$8,I9=Assumptions!$F$9),"Closed",IF(OR(NOT(ISNUMBER(Assumptions!$B$4)),NOT(ISNUMBER(Assumptions!$B$5))),"Check assumptions",IF(NOT(ISNUMBER(J9)),"Set date",IF(J9<Assumptions!$B$4,"Overdue",IF(J9<=Assumptions!$B$4+Assumptions!$B$5,"Due soon","On track")))))) | R9: =Assumptions!F8 | S9: =Assumptions!H8 | T9: ="" | U9: =IF(Partners!A9="","",Partners!A9)
A10: FIC-R-1006 | B10: 46244 | C10: Received | D10: FIC-P-001 | E10: =IF(D10="","",IFERROR(VLOOKUP(D10,Partners!$A$5:$B$104,2,FALSE),"Check partner ID")) | F10: Nora Pine (Fictional) | G10: Renters | H10: Jordan Lake (Fictional) | I10: Declined | J10: 46250 | K10: 46250 | L10: 0 | M10: FIC-Q-A106 | N10: =IF(A10="","",IF(OR(NOT(ISNUMBER(B10)),NOT(ISNUMBER(Assumptions!$B$4))),"",MAX(0,IF(AND(K10<>"",ISNUMBER(K10)),K10,Assumptions!$B$4)-B10))) | O10: =IF(A10="","",IF(OR(I10=Assumptions!$F$7,I10=Assumptions!$F$8,I10=Assumptions!$F$9),"Closed",IF(OR(NOT(ISNUMBER(Assumptions!$B$4)),NOT(ISNUMBER(Assumptions!$B$5))),"Check assumptions",IF(NOT(ISNUMBER(J10)),"Set date",IF(J10<Assumptions!$B$4,"Overdue",IF(J10<=Assumptions!$B$4+Assumptions!$B$5,"Due soon","On track")))))) | R10: =Assumptions!F9 | S10: =Assumptions!H9 | T10: ="" | U10: =IF(Partners!A10="","",Partners!A10)
A11: FIC-R-1007 | B11: 46261 | C11: Sent | D11: FIC-P-006 | E11: =IF(D11="","",IFERROR(VLOOKUP(D11,Partners!$A$5:$B$104,2,FALSE),"Check partner ID")) | F11: Orbit Meadow Rentals LLC (Fictional) | G11: Business Owners | H11: Morgan Vale (Fictional) | I11: Won | J11: 46268 | K11: 46270 | L11: 9500 | M11: FIC-POL-A107 | N11: =IF(A11="","",IF(OR(NOT(ISNUMBER(B11)),NOT(ISNUMBER(Assumptions!$B$4))),"",MAX(0,IF(AND(K11<>"",ISNUMBER(K11)),K11,Assumptions!$B$4)-B11))) | O11: =IF(A11="","",IF(OR(I11=Assumptions!$F$7,I11=Assumptions!$F$8,I11=Assumptions!$F$9),"Closed",IF(OR(NOT(ISNUMBER(Assumptions!$B$4)),NOT(ISNUMBER(Assumptions!$B$5))),"Check assumptions",IF(NOT(ISNUMBER(J11)),"Set date",IF(J11<Assumptions!$B$4,"Overdue",IF(J11<=Assumptions!$B$4+Assumptions!$B$5,"Due soon","On track")))))) | R11: ="" | S11: =Assumptions!H10 | T11: ="" | U11: =IF(Partners!A11="","",Partners!A11)
A12: FIC-R-1008 | B12: 46247 | C12: Received | D12: FIC-P-007 | E12: =IF(D12="","",IFERROR(VLOOKUP(D12,Partners!$A$5:$B$104,2,FALSE),"Check partner ID")) | F12: Milo Brook (Fictional) | G12: Umbrella | H12: Riley Ember (Fictional) | I12: Quoted | J12: 46274 | L12: 6200 | M12: FIC-Q-A108 | N12: =IF(A12="","",IF(OR(NOT(ISNUMBER(B12)),NOT(ISNUMBER(Assumptions!$B$4))),"",MAX(0,IF(AND(K12<>"",ISNUMBER(K12)),K12,Assumptions!$B$4)-B12))) | O12: =IF(A12="","",IF(OR(I12=Assumptions!$F$7,I12=Assumptions!$F$8,I12=Assumptions!$F$9),"Closed",IF(OR(NOT(ISNUMBER(Assumptions!$B$4)),NOT(ISNUMBER(Assumptions!$B$5))),"Check assumptions",IF(NOT(ISNUMBER(J12)),"Set date",IF(J12<Assumptions!$B$4,"Overdue",IF(J12<=Assumptions!$B$4+Assumptions!$B$5,"Due soon","On track")))))) | R12: ="" | S12: =Assumptions!H11 | T12: ="" | U12: =IF(Partners!A12="","",Partners!A12)
A13: FIC-R-1009 | B13: 46274 | C13: Received | D13: FIC-P-008 | E13: =IF(D13="","",IFERROR(VLOOKUP(D13,Partners!$A$5:$B$104,2,FALSE),"Check partner ID")) | F13: Amber Kite Crafts LLC (Fictional) | G13: Workers' Compensation | H13: Jordan Lake (Fictional) | I13: New | L13: 1500 | M13: FIC-Q-A109 | N13: =IF(A13="","",IF(OR(NOT(ISNUMBER(B13)),NOT(ISNUMBER(Assumptions!$B$4))),"",MAX(0,IF(AND(K13<>"",ISNUMBER(K13)),K13,Assumptions!$B$4)-B13))) | O13: =IF(A13="","",IF(OR(I13=Assumptions!$F$7,I13=Assumptions!$F$8,I13=Assumptions!$F$9),"Closed",IF(OR(NOT(ISNUMBER(Assumptions!$B$4)),NOT(ISNUMBER(Assumptions!$B$5))),"Check assumptions",IF(NOT(ISNUMBER(J13)),"Set date",IF(J13<Assumptions!$B$4,"Overdue",IF(J13<=Assumptions!$B$4+Assumptions!$B$5,"Due soon","On track")))))) | R13: ="" | S13: =Assumptions!H12 | T13: ="" | U13: =IF(Partners!A13="","",Partners!A13)
A14: FIC-R-1010 | B14: 46220 | C14: Sent | D14: FIC-P-003 | E14: =IF(D14="","",IFERROR(VLOOKUP(D14,Partners!$A$5:$B$104,2,FALSE),"Check partner ID")) | F14: Sage Harbor Studio LLC (Fictional) | G14: Commercial Auto | H14: Morgan Vale (Fictional) | I14: Lost | J14: 46230 | K14: 46235 | L14: 7200 | M14: FIC-Q-A110 | N14: =IF(A14="","",IF(OR(NOT(ISNUMBER(B14)),NOT(ISNUMBER(Assumptions!$B$4))),"",MAX(0,IF(AND(K14<>"",ISNUMBER(K14)),K14,Assumptions!$B$4)-B14))) | O14: =IF(A14="","",IF(OR(I14=Assumptions!$F$7,I14=Assumptions!$F$8,I14=Assumptions!$F$9),"Closed",IF(OR(NOT(ISNUMBER(Assumptions!$B$4)),NOT(ISNUMBER(Assumptions!$B$5))),"Check assumptions",IF(NOT(ISNUMBER(J14)),"Set date",IF(J14<Assumptions!$B$4,"Overdue",IF(J14<=Assumptions!$B$4+Assumptions!$B$5,"Due soon","On track")))))) | R14: ="" | S14: ="" | T14: ="" | U14: =IF(Partners!A14="","",Partners!A14)
E15: =IF(D15="","",IFERROR(VLOOKUP(D15,Partners!$A$5:$B$104,2,FALSE),"Check partner ID")) | N15: =IF(A15="","",IF(OR(NOT(ISNUMBER(B15)),NOT(ISNUMBER(Assumptions!$B$4))),"",MAX(0,IF(AND(K15<>"",ISNUMBER(K15)),K15,Assumptions!$B$4)-B15))) | O15: =IF(A15="","",IF(OR(I15=Assumptions!$F$7,I15=Assumptions!$F$8,I15=Assumptions!$F$9),"Closed",IF(OR(NOT(ISNUMBER(Assumptions!$B$4)),NOT(ISNUMBER(Assumptions!$B$5))),"Check assumptions",IF(NOT(ISNUMBER(J15)),"Set date",IF(J15<Assumptions!$B$4,"Overdue",IF(J15<=Assumptions!$B$4+Assumptions!$B$5,"Due soon","On track")))))) | R15: ="" | S15: ="" | T15: ="" | U15: =IF(Partners!A15="","",Partners!A15)
E16: =IF(D16="","",IFERROR(VLOOKUP(D16,Partners!$A$5:$B$104,2,FALSE),"Check partner ID")) | N16: =IF(A16="","",IF(OR(NOT(ISNUMBER(B16)),NOT(ISNUMBER(Assumptions!$B$4))),"",MAX(0,IF(AND(K16<>"",ISNUMBER(K16)),K16,Assumptions!$B$4)-B16))) | O16: =IF(A16="","",IF(OR(I16=Assumptions!$F$7,I16=Assumptions!$F$8,I16=Assumptions!$F$9),"Closed",IF(OR(NOT(ISNUMBER(Assumptions!$B$4)),NOT(ISNUMBER(Assumptions!$B$5))),"Check assumptions",IF(NOT(ISNUMBER(J16)),"Set date",IF(J16<Assumptions!$B$4,"Overdue",IF(J16<=Assumptions!$B$4+Assumptions!$B$5,"Due soon","On track")))))) | R16: ="" | S16: ="" | T16: ="" | U16: =IF(Partners!A16="","",Partners!A16)
E17: =IF(D17="","",IFERROR(VLOOKUP(D17,Partners!$A$5:$B$104,2,FALSE),"Check partner ID")) | N17: =IF(A17="","",IF(OR(NOT(ISNUMBER(B17)),NOT(ISNUMBER(Assumptions!$B$4))),"",MAX(0,IF(AND(K17<>"",ISNUMBER(K17)),K17,Assumptions!$B$4)-B17))) | O17: =IF(A17="","",IF(OR(I17=Assumptions!$F$7,I17=Assumptions!$F$8,I17=Assumptions!$F$9),"Closed",IF(OR(NOT(ISNUMBER(Assumptions!$B$4)),NOT(ISNUMBER(Assumptions!$B$5))),"Check assumptions",IF(NOT(ISNUMBER(J17)),"Set date",IF(J17<Assumptions!$B$4,"Overdue",IF(J17<=Assumptions!$B$4+Assumptions!$B$5,"Due soon","On track")))))) | R17: ="" | S17: ="" | T17: ="" | U17: =IF(Partners!A17="","",Partners!A17)
E18: =IF(D18="","",IFERROR(VLOOKUP(D18,Partners!$A$5:$B$104,2,FALSE),"Check partner ID")) | N18: =IF(A18="","",IF(OR(NOT(ISNUMBER(B18)),NOT(ISNUMBER(Assumptions!$B$4))),"",MAX(0,IF(AND(K18<>"",ISNUMBER(K18)),K18,Assumptions!$B$4)-B18))) | O18: =IF(A18="","",IF(OR(I18=Assumptions!$F$7,I18=Assumptions!$F$8,I18=Assumptions!$F$9),"Closed",IF(OR(NOT(ISNUMBER(Assumptions!$B$4)),NOT(ISNUMBER(Assumptions!$B$5))),"Check assumptions",IF(NOT(ISNUMBER(J18)),"Set date",IF(J18<Assumptions!$B$4,"Overdue",IF(J18<=Assumptions!$B$4+Assumptions!$B$5,"Due soon","On track")))))) | R18: ="" | S18: ="" | T18: ="" | U18: =IF(Partners!A18="","",Partners!A18)
E19: =IF(D19="","",IFERROR(VLOOKUP(D19,Partners!$A$5:$B$104,2,FALSE),"Check partner ID")) | N19: =IF(A19="","",IF(OR(NOT(ISNUMBER(B19)),NOT(ISNUMBER(Assumptions!$B$4))),"",MAX(0,IF(AND(K19<>"",ISNUMBER(K19)),K19,Assumptions!$B$4)-B19))) | O19: =IF(A19="","",IF(OR(I19=Assumptions!$F$7,I19=Assumptions!$F$8,I19=Assumptions!$F$9),"Closed",IF(OR(NOT(ISNUMBER(Assumptions!$B$4)),NOT(ISNUMBER(Assumptions!$B$5))),"Check assumptions",IF(NOT(ISNUMBER(J19)),"Set date",IF(J19<Assumptions!$B$4,"Overdue",IF(J19<=Assumptions!$B$4+Assumptions!$B$5,"Due soon","On track")))))) | R19: ="" | S19: ="" | T19: ="" | U19: =IF(Partners!A19="","",Partners!A19)
E20: =IF(D20="","",IFERROR(VLOOKUP(D20,Partners!$A$5:$B$104,2,FALSE),"Check partner ID")) | N20: =IF(A20="","",IF(OR(NOT(ISNUMBER(B20)),NOT(ISNUMBER(Assumptions!$B$4))),"",MAX(0,IF(AND(K20<>"",ISNUMBER(K20)),K20,Assumptions!$B$4)-B20))) | O20: =IF(A20="","",IF(OR(I20=Assumptions!$F$7,I20=Assumptions!$F$8,I20=Assumptions!$F$9),"Closed",IF(OR(NOT(ISNUMBER(Assumptions!$B$4)),NOT(ISNUMBER(Assumptions!$B$5))),"Check assumptions",IF(NOT(ISNUMBER(J20)),"Set date",IF(J20<Assumptions!$B$4,"Overdue",IF(J20<=Assumptions!$B$4+Assumptions!$B$5,"Due soon","On track")))))) | R20: ="" | S20: ="" | T20: ="" | U20: =IF(Partners!A20="","",Partners!A20)
E21: =IF(D21="","",IFERROR(VLOOKUP(D21,Partners!$A$5:$B$104,2,FALSE),"Check partner ID")) | N21: =IF(A21="","",IF(OR(NOT(ISNUMBER(B21)),NOT(ISNUMBER(Assumptions!$B$4))),"",MAX(0,IF(AND(K21<>"",ISNUMBER(K21)),K21,Assumptions!$B$4)-B21))) | O21: =IF(A21="","",IF(OR(I21=Assumptions!$F$7,I21=Assumptions!$F$8,I21=Assumptions!$F$9),"Closed",IF(OR(NOT(ISNUMBER(Assumptions!$B$4)),NOT(ISNUMBER(Assumptions!$B$5))),"Check assumptions",IF(NOT(ISNUMBER(J21)),"Set date",IF(J21<Assumptions!$B$4,"Overdue",IF(J21<=Assumptions!$B$4+Assumptions!$B$5,"Due soon","On track")))))) | R21: ="" | S21: ="" | T21: ="" | U21: =IF(Partners!A21="","",Partners!A21)
E22: =IF(D22="","",IFERROR(VLOOKUP(D22,Partners!$A$5:$B$104,2,FALSE),"Check partner ID")) | N22: =IF(A22="","",IF(OR(NOT(ISNUMBER(B22)),NOT(ISNUMBER(Assumptions!$B$4))),"",MAX(0,IF(AND(K22<>"",ISNUMBER(K22)),K22,Assumptions!$B$4)-B22))) | O22: =IF(A22="","",IF(OR(I22=Assumptions!$F$7,I22=Assumptions!$F$8,I22=Assumptions!$F$9),"Closed",IF(OR(NOT(ISNUMBER(Assumptions!$B$4)),NOT(ISNUMBER(Assumptions!$B$5))),"Check assumptions",IF(NOT(ISNUMBER(J22)),"Set date",IF(J22<Assumptions!$B$4,"Overdue",IF(J22<=Assumptions!$B$4+Assumptions!$B$5,"Due soon","On track")))))) | R22: ="" | S22: ="" | T22: ="" | U22: =IF(Partners!A22="","",Partners!A22)
E23: =IF(D23="","",IFERROR(VLOOKUP(D23,Partners!$A$5:$B$104,2,FALSE),"Check partner ID")) | N23: =IF(A23="","",IF(OR(NOT(ISNUMBER(B23)),NOT(ISNUMBER(Assumptions!$B$4))),"",MAX(0,IF(AND(K23<>"",ISNUMBER(K23)),K23,Assumptions!$B$4)-B23))) | O23: =IF(A23="","",IF(OR(I23=Assumptions!$F$7,I23=Assumptions!$F$8,I23=Assumptions!$F$9),"Closed",IF(OR(NOT(ISNUMBER(Assumptions!$B$4)),NOT(ISNUMBER(Assumptions!$B$5))),"Check assumptions",IF(NOT(ISNUMBER(J23)),"Set date",IF(J23<Assumptions!$B$4,"Overdue",IF(J23<=Assumptions!$B$4+Assumptions!$B$5,"Due soon","On track")))))) | R23: ="" | S23: ="" | T23: ="" | U23: =IF(Partners!A23="","",Partners!A23)
E24: =IF(D24="","",IFERROR(VLOOKUP(D24,Partners!$A$5:$B$104,2,FALSE),"Check partner ID")) | N24: =IF(A24="","",IF(OR(NOT(ISNUMBER(B24)),NOT(ISNUMBER(Assumptions!$B$4))),"",MAX(0,IF(AND(K24<>"",ISNUMBER(K24)),K24,Assumptions!$B$4)-B24))) | O24: =IF(A24="","",IF(OR(I24=Assumptions!$F$7,I24=Assumptions!$F$8,I24=Assumptions!$F$9),"Closed",IF(OR(NOT(ISNUMBER(Assumptions!$B$4)),NOT(ISNUMBER(Assumptions!$B$5))),"Check assumptions",IF(NOT(ISNUMBER(J24)),"Set date",IF(J24<Assumptions!$B$4,"Overdue",IF(J24<=Assumptions!$B$4+Assumptions!$B$5,"Due soon","On track")))))) | R24: ="" | S24: ="" | T24: ="" | U24: =IF(Partners!A24="","",Partners!A24)
E25: =IF(D25="","",IFERROR(VLOOKUP(D25,Partners!$A$5:$B$104,2,FALSE),"Check partner ID")) | N25: =IF(A25="","",IF(OR(NOT(ISNUMBER(B25)),NOT(ISNUMBER(Assumptions!$B$4))),"",MAX(0,IF(AND(K25<>"",ISNUMBER(K25)),K25,Assumptions!$B$4)-B25))) | O25: =IF(A25="","",IF(OR(I25=Assumptions!$F$7,I25=Assumptions!$F$8,I25=Assumptions!$F$9),"Closed",IF(OR(NOT(ISNUMBER(Assumptions!$B$4)),NOT(ISNUMBER(Assumptions!$B$5))),"Check assumptions",IF(NOT(ISNUMBER(J25)),"Set date",IF(J25<Assumptions!$B$4,"Overdue",IF(J25<=Assumptions!$B$4+Assumptions!$B$5,"Due soon","On track")))))) | R25: ="" | S25: ="" | T25: ="" | U25: =IF(Partners!A25="","",Partners!A25)
E26: =IF(D26="","",IFERROR(VLOOKUP(D26,Partners!$A$5:$B$104,2,FALSE),"Check partner ID")) | N26: =IF(A26="","",IF(OR(NOT(ISNUMBER(B26)),NOT(ISNUMBER(Assumptions!$B$4))),"",MAX(0,IF(AND(K26<>"",ISNUMBER(K26)),K26,Assumptions!$B$4)-B26))) | O26: =IF(A26="","",IF(OR(I26=Assumptions!$F$7,I26=Assumptions!$F$8,I26=Assumptions!$F$9),"Closed",IF(OR(NOT(ISNUMBER(Assumptions!$B$4)),NOT(ISNUMBER(Assumptions!$B$5))),"Check assumptions",IF(NOT(ISNUMBER(J26)),"Set date",IF(J26<Assumptions!$B$4,"Overdue",IF(J26<=Assumptions!$B$4+Assumptions!$B$5,"Due soon","On track")))))) | R26: ="" | S26: ="" | T26: ="" | U26: =IF(Partners!A26="","",Partners!A26)
... E104: =IF(D104="","",IFERROR(VLOOKUP(D104,Partners!$A$5:$B$104,2,FALSE),"Check partner ID")) | N104: =IF(A104="","",IF(OR(NOT(ISNUMBER(B104)),NOT(ISNUMBER(Assumptions!$B$4))),"",MAX(0,IF(AND(K104<>"",ISNUMBER(K104)),K104,Assumptions!$B$4)-B104))) | O104: =IF(A104="","",IF(OR(I104=Assumptions!$F$7,I104=Assumptions!$F$8,I104=Assumptions!$F$9),"Closed",IF(OR(NOT(ISNUMBER(Assumptions!$B$4)),NOT(ISNUMBER(Assumptions!$B$5))),"Check assumptions",IF(NOT(ISNUMBER(J104)),"Set date",IF(J104<Assumptions!$B$4,"Overdue",IF(J104<=Assumptions!$B$4+Assumptions!$B$5,"Due soon","On track")))))) | R104: ="" | S104: ="" | T104: ="" | U104: =IF(Partners!A104="","",Partners!A104)
E105: =IF(D105="","",IFERROR(VLOOKUP(D105,Partners!$A$5:$B$104,2,FALSE),"Check partner ID")) | N105: =IF(A105="","",IF(OR(NOT(ISNUMBER(B105)),NOT(ISNUMBER(Assumptions!$B$4))),"",MAX(0,IF(AND(K105<>"",ISNUMBER(K105)),K105,Assumptions!$B$4)-B105))) | O105: =IF(A105="","",IF(OR(I105=Assumptions!$F$7,I105=Assumptions!$F$8,I105=Assumptions!$F$9),"Closed",IF(OR(NOT(ISNUMBER(Assumptions!$B$4)),NOT(ISNUMBER(Assumptions!$B$5))),"Check assumptions",IF(NOT(ISNUMBER(J105)),"Set date",IF(J105<Assumptions!$B$4,"Overdue",IF(J105<=Assumptions!$B$4+Assumptions!$B$5,"Due soon","On track")))))) | R105: ="" | S105: ="" | T105: ="" | U105: =""
E106: =IF(D106="","",IFERROR(VLOOKUP(D106,Partners!$A$5:$B$104,2,FALSE),"Check partner ID")) | N106: =IF(A106="","",IF(OR(NOT(ISNUMBER(B106)),NOT(ISNUMBER(Assumptions!$B$4))),"",MAX(0,IF(AND(K106<>"",ISNUMBER(K106)),K106,Assumptions!$B$4)-B106))) | O106: =IF(A106="","",IF(OR(I106=Assumptions!$F$7,I106=Assumptions!$F$8,I106=Assumptions!$F$9),"Closed",IF(OR(NOT(ISNUMBER(Assumptions!$B$4)),NOT(ISNUMBER(Assumptions!$B$5))),"Check assumptions",IF(NOT(ISNUMBER(J106)),"Set date",IF(J106<Assumptions!$B$4,"Overdue",IF(J106<=Assumptions!$B$4+Assumptions!$B$5,"Due soon","On track")))))) | R106: ="" | S106: ="" | T106: ="" | U106: =""
E107: =IF(D107="","",IFERROR(VLOOKUP(D107,Partners!$A$5:$B$104,2,FALSE),"Check partner ID")) | N107: =IF(A107="","",IF(OR(NOT(ISNUMBER(B107)),NOT(ISNUMBER(Assumptions!$B$4))),"",MAX(0,IF(AND(K107<>"",ISNUMBER(K107)),K107,Assumptions!$B$4)-B107))) | O107: =IF(A107="","",IF(OR(I107=Assumptions!$F$7,I107=Assumptions!$F$8,I107=Assumptions!$F$9),"Closed",IF(OR(NOT(ISNUMBER(Assumptions!$B$4)),NOT(ISNUMBER(Assumptions!$B$5))),"Check assumptions",IF(NOT(ISNUMBER(J107)),"Set date",IF(J107<Assumptions!$B$4,"Overdue",IF(J107<=Assumptions!$B$4+Assumptions!$B$5,"Due soon","On track")))))) | R107: ="" | S107: ="" | T107: ="" | U107: =""
E108: =IF(D108="","",IFERROR(VLOOKUP(D108,Partners!$A$5:$B$104,2,FALSE),"Check partner ID")) | N108: =IF(A108="","",IF(OR(NOT(ISNUMBER(B108)),NOT(ISNUMBER(Assumptions!$B$4))),"",MAX(0,IF(AND(K108<>"",ISNUMBER(K108)),K108,Assumptions!$B$4)-B108))) | O108: =IF(A108="","",IF(OR(I108=Assumptions!$F$7,I108=Assumptions!$F$8,I108=Assumptions!$F$9),"Closed",IF(OR(NOT(ISNUMBER(Assumptions!$B$4)),NOT(ISNUMBER(Assumptions!$B$5))),"Check assumptions",IF(NOT(ISNUMBER(J108)),"Set date",IF(J108<Assumptions!$B$4,"Overdue",IF(J108<=Assumptions!$B$4+Assumptions!$B$5,"Due soon","On track")))))) | R108: ="" | S108: ="" | T108: ="" | U108: =""
E109: =IF(D109="","",IFERROR(VLOOKUP(D109,Partners!$A$5:$B$104,2,FALSE),"Check partner ID")) | N109: =IF(A109="","",IF(OR(NOT(ISNUMBER(B109)),NOT(ISNUMBER(Assumptions!$B$4))),"",MAX(0,IF(AND(K109<>"",ISNUMBER(K109)),K109,Assumptions!$B$4)-B109))) | O109: =IF(A109="","",IF(OR(I109=Assumptions!$F$7,I109=Assumptions!$F$8,I109=Assumptions!$F$9),"Closed",IF(OR(NOT(ISNUMBER(Assumptions!$B$4)),NOT(ISNUMBER(Assumptions!$B$5))),"Check assumptions",IF(NOT(ISNUMBER(J109)),"Set date",IF(J109<Assumptions!$B$4,"Overdue",IF(J109<=Assumptions!$B$4+Assumptions!$B$5,"Due soon","On track")))))) | R109: ="" | S109: ="" | T109: ="" | U109: =""
E110: =IF(D110="","",IFERROR(VLOOKUP(D110,Partners!$A$5:$B$104,2,FALSE),"Check partner ID")) | N110: =IF(A110="","",IF(OR(NOT(ISNUMBER(B110)),NOT(ISNUMBER(Assumptions!$B$4))),"",MAX(0,IF(AND(K110<>"",ISNUMBER(K110)),K110,Assumptions!$B$4)-B110))) | O110: =IF(A110="","",IF(OR(I110=Assumptions!$F$7,I110=Assumptions!$F$8,I110=Assumptions!$F$9),"Closed",IF(OR(NOT(ISNUMBER(Assumptions!$B$4)),NOT(ISNUMBER(Assumptions!$B$5))),"Check assumptions",IF(NOT(ISNUMBER(J110)),"Set date",IF(J110<Assumptions!$B$4,"Overdue",IF(J110<=Assumptions!$B$4+Assumptions!$B$5,"Due soon","On track")))))) | R110: ="" | S110: ="" | T110: ="" | U110: =""
E111: =IF(D111="","",IFERROR(VLOOKUP(D111,Partners!$A$5:$B$104,2,FALSE),"Check partner ID")) | N111: =IF(A111="","",IF(OR(NOT(ISNUMBER(B111)),NOT(ISNUMBER(Assumptions!$B$4))),"",MAX(0,IF(AND(K111<>"",ISNUMBER(K111)),K111,Assumptions!$B$4)-B111))) | O111: =IF(A111="","",IF(OR(I111=Assumptions!$F$7,I111=Assumptions!$F$8,I111=Assumptions!$F$9),"Closed",IF(OR(NOT(ISNUMBER(Assumptions!$B$4)),NOT(ISNUMBER(Assumptions!$B$5))),"Check assumptions",IF(NOT(ISNUMBER(J111)),"Set date",IF(J111<Assumptions!$B$4,"Overdue",IF(J111<=Assumptions!$B$4+Assumptions!$B$5,"Due soon","On track")))))) | R111: ="" | S111: ="" | T111: ="" | U111: =""
E112: =IF(D112="","",IFERROR(VLOOKUP(D112,Partners!$A$5:$B$104,2,FALSE),"Check partner ID")) | N112: =IF(A112="","",IF(OR(NOT(ISNUMBER(B112)),NOT(ISNUMBER(Assumptions!$B$4))),"",MAX(0,IF(AND(K112<>"",ISNUMBER(K112)),K112,Assumptions!$B$4)-B112))) | O112: =IF(A112="","",IF(OR(I112=Assumptions!$F$7,I112=Assumptions!$F$8,I112=Assumptions!$F$9),"Closed",IF(OR(NOT(ISNUMBER(Assumptions!$B$4)),NOT(ISNUMBER(Assumptions!$B$5))),"Check assumptions",IF(NOT(ISNUMBER(J112)),"Set date",IF(J112<Assumptions!$B$4,"Overdue",IF(J112<=Assumptions!$B$4+Assumptions!$B$5,"Due soon","On track")))))) | R112: ="" | S112: ="" | T112: ="" | U112: =""
E113: =IF(D113="","",IFERROR(VLOOKUP(D113,Partners!$A$5:$B$104,2,FALSE),"Check partner ID")) | N113: =IF(A113="","",IF(OR(NOT(ISNUMBER(B113)),NOT(ISNUMBER(Assumptions!$B$4))),"",MAX(0,IF(AND(K113<>"",ISNUMBER(K113)),K113,Assumptions!$B$4)-B113))) | O113: =IF(A113="","",IF(OR(I113=Assumptions!$F$7,I113=Assumptions!$F$8,I113=Assumptions!$F$9),"Closed",IF(OR(NOT(ISNUMBER(Assumptions!$B$4)),NOT(ISNUMBER(Assumptions!$B$5))),"Check assumptions",IF(NOT(ISNUMBER(J113)),"Set date",IF(J113<Assumptions!$B$4,"Overdue",IF(J113<=Assumptions!$B$4+Assumptions!$B$5,"Due soon","On track")))))) | R113: ="" | S113: ="" | T113: ="" | U113: =""
E114: =IF(D114="","",IFERROR(VLOOKUP(D114,Partners!$A$5:$B$104,2,FALSE),"Check partner ID")) | N114: =IF(A114="","",IF(OR(NOT(ISNUMBER(B114)),NOT(ISNUMBER(Assumptions!$B$4))),"",MAX(0,IF(AND(K114<>"",ISNUMBER(K114)),K114,Assumptions!$B$4)-B114))) | O114: =IF(A114="","",IF(OR(I114=Assumptions!$F$7,I114=Assumptions!$F$8,I114=Assumptions!$F$9),"Closed",IF(OR(NOT(ISNUMBER(Assumptions!$B$4)),NOT(ISNUMBER(Assumptions!$B$5))),"Check assumptions",IF(NOT(ISNUMBER(J114)),"Set date",IF(J114<Assumptions!$B$4,"Overdue",IF(J114<=Assumptions!$B$4+Assumptions!$B$5,"Due soon","On track")))))) | R114: ="" | S114: ="" | T114: ="" | U114: =""
E115: =IF(D115="","",IFERROR(VLOOKUP(D115,Partners!$A$5:$B$104,2,FALSE),"Check partner ID")) | N115: =IF(A115="","",IF(OR(NOT(ISNUMBER(B115)),NOT(ISNUMBER(Assumptions!$B$4))),"",MAX(0,IF(AND(K115<>"",ISNUMBER(K115)),K115,Assumptions!$B$4)-B115))) | O115: =IF(A115="","",IF(OR(I115=Assumptions!$F$7,I115=Assumptions!$F$8,I115=Assumptions!$F$9),"Closed",IF(OR(NOT(ISNUMBER(Assumptions!$B$4)),NOT(ISNUMBER(Assumptions!$B$5))),"Check assumptions",IF(NOT(ISNUMBER(J115)),"Set date",IF(J115<Assumptions!$B$4,"Overdue",IF(J115<=Assumptions!$B$4+Assumptions!$B$5,"Due soon","On track")))))) | R115: ="" | S115: ="" | T115: ="" | U115: =""
E116: =IF(D116="","",IFERROR(VLOOKUP(D116,Partners!$A$5:$B$104,2,FALSE),"Check partner ID")) | N116: =IF(A116="","",IF(OR(NOT(ISNUMBER(B116)),NOT(ISNUMBER(Assumptions!$B$4))),"",MAX(0,IF(AND(K116<>"",ISNUMBER(K116)),K116,Assumptions!$B$4)-B116))) | O116: =IF(A116="","",IF(OR(I116=Assumptions!$F$7,I116=Assumptions!$F$8,I116=Assumptions!$F$9),"Closed",IF(OR(NOT(ISNUMBER(Assumptions!$B$4)),NOT(ISNUMBER(Assumptions!$B$5))),"Check assumptions",IF(NOT(ISNUMBER(J116)),"Set date",IF(J116<Assumptions!$B$4,"Overdue",IF(J116<=Assumptions!$B$4+Assumptions!$B$5,"Due soon","On track")))))) | R116: ="" | S116: ="" | T116: ="" | U116: =""
... E154: =IF(D154="","",IFERROR(VLOOKUP(D154,Partners!$A$5:$B$104,2,FALSE),"Check partner ID")) | N154: =IF(A154="","",IF(OR(NOT(ISNUMBER(B154)),NOT(ISNUMBER(Assumptions!$B$4))),"",MAX(0,IF(AND(K154<>"",ISNUMBER(K154)),K154,Assumptions!$B$4)-B154))) | O154: =IF(A154="","",IF(OR(I154=Assumptions!$F$7,I154=Assumptions!$F$8,I154=Assumptions!$F$9),"Closed",IF(OR(NOT(ISNUMBER(Assumptions!$B$4)),NOT(ISNUMBER(Assumptions!$B$5))),"Check assumptions",IF(NOT(ISNUMBER(J154)),"Set date",IF(J154<Assumptions!$B$4,"Overdue",IF(J154<=Assumptions!$B$4+Assumptions!$B$5,"Due soon","On track")))))) | R154: ="" | S154: ="" | T154: ="" | U154: =""

Sheet Partners
A1: Professional Partner Directory
A2: Maintain fictional example partners and agency review dates. Review flags are administrative prompts only.
A4: Partner ID | B4: Partner Name | C4: Organization Type | D4: Primary Contact | E4: Agency Owner | F4: Status | G4: Start Date | H4: Next Review | I4: Referral Count | J4: Review Flag
A5: FIC-P-001 | B5: Juniper Kite Legal Studio LLC (Fictional) | C5: Legal Professional | D5: Ava Quill (Fictional) | E5: Morgan Vale (Fictional) | F5: Active | G5: 45875 | H5: 46265 | I5: =IF(A5="","",COUNTIF(Referrals!$D$5:$D$154,A5)) | J5: =IF(A5="","",IF(F5=Assumptions!$G$6,"Inactive",IF(OR(NOT(ISNUMBER(Assumptions!$B$4)),NOT(ISNUMBER(Assumptions!$B$5))),"Check assumptions",IF(NOT(ISNUMBER(H5)),"Set date",IF(H5<Assumptions!$B$4,"Review overdue",IF(H5<=Assumptions!$B$4+Assumptions!$B$5,"Review soon","Scheduled")))))) | L5: =Assumptions!I4 | M5: =Assumptions!J4 | N5: =Assumptions!G4 | O5: =Assumptions!B4
A6: FIC-P-002 | B6: Cedar Lantern Mortgage Studio LLC (Fictional) | C6: Mortgage Professional | D6: Noah Fable (Fictional) | E6: Riley Ember (Fictional) | F6: Active | G6: 45945 | H6: 46280 | I6: =IF(A6="","",COUNTIF(Referrals!$D$5:$D$154,A6)) | J6: =IF(A6="","",IF(F6=Assumptions!$G$6,"Inactive",IF(OR(NOT(ISNUMBER(Assumptions!$B$4)),NOT(ISNUMBER(Assumptions!$B$5))),"Check assumptions",IF(NOT(ISNUMBER(H6)),"Set date",IF(H6<Assumptions!$B$4,"Review overdue",IF(H6<=Assumptions!$B$4+Assumptions!$B$5,"Review soon","Scheduled")))))) | L6: =Assumptions!I5 | M6: =Assumptions!J5 | N6: =Assumptions!G5 | O6: =Assumptions!B5
A7: FIC-P-003 | B7: Copper Heron Realty Group LLC (Fictional) | C7: Real Estate Professional | D7: Mina Story (Fictional) | E7: Jordan Lake (Fictional) | F7: Active | G7: 46000 | H7: 46325 | I7: =IF(A7="","",COUNTIF(Referrals!$D$5:$D$154,A7)) | J7: =IF(A7="","",IF(F7=Assumptions!$G$6,"Inactive",IF(OR(NOT(ISNUMBER(Assumptions!$B$4)),NOT(ISNUMBER(Assumptions!$B$5))),"Check assumptions",IF(NOT(ISNUMBER(H7)),"Set date",IF(H7<Assumptions!$B$4,"Review overdue",IF(H7<=Assumptions!$B$4+Assumptions!$B$5,"Review soon","Scheduled")))))) | L7: =Assumptions!I6 | M7: =Assumptions!J6 | N7: =Assumptions!G6 | O7: =Assumptions!B7
A8: FIC-P-004 | B8: Silver Acorn Accounting LLC (Fictional) | C8: Accounting Professional | D8: Theo Page (Fictional) | E8: Morgan Vale (Fictional) | F8: Active | G8: 46055 | H8: 46395 | I8: =IF(A8="","",COUNTIF(Referrals!$D$5:$D$154,A8)) | J8: =IF(A8="","",IF(F8=Assumptions!$G$6,"Inactive",IF(OR(NOT(ISNUMBER(Assumptions!$B$4)),NOT(ISNUMBER(Assumptions!$B$5))),"Check assumptions",IF(NOT(ISNUMBER(H8)),"Set date",IF(H8<Assumptions!$B$4,"Review overdue",IF(H8<=Assumptions!$B$4+Assumptions!$B$5,"Review soon","Scheduled")))))) | L8: =Assumptions!I7 | M8: ="" | N8: =""
A9: FIC-P-005 | B9: Blue Comet Auto Gallery LLC (Fictional) | C9: Auto Dealer | D9: Iris Tale (Fictional) | E9: Riley Ember (Fictional) | F9: On Hold | G9: 46095 | H9: 46274 | I9: =IF(A9="","",COUNTIF(Referrals!$D$5:$D$154,A9)) | J9: =IF(A9="","",IF(F9=Assumptions!$G$6,"Inactive",IF(OR(NOT(ISNUMBER(Assumptions!$B$4)),NOT(ISNUMBER(Assumptions!$B$5))),"Check assumptions",IF(NOT(ISNUMBER(H9)),"Set date",IF(H9<Assumptions!$B$4,"Review overdue",IF(H9<=Assumptions!$B$4+Assumptions!$B$5,"Review soon","Scheduled")))))) | L9: =Assumptions!I8 | M9: ="" | N9: =""
A10: FIC-P-006 | B10: Maple Orbit Property Services LLC (Fictional) | C10: Property Manager | D10: Owen Myth (Fictional) | E10: Jordan Lake (Fictional) | F10: Active | G10: 46135 | I10: =IF(A10="","",COUNTIF(Referrals!$D$5:$D$154,A10)) | J10: =IF(A10="","",IF(F10=Assumptions!$G$6,"Inactive",IF(OR(NOT(ISNUMBER(Assumptions!$B$4)),NOT(ISNUMBER(Assumptions!$B$5))),"Check assumptions",IF(NOT(ISNUMBER(H10)),"Set date",IF(H10<Assumptions!$B$4,"Review overdue",IF(H10<=Assumptions!$B$4+Assumptions!$B$5,"Review soon","Scheduled")))))) | L10: =Assumptions!I9 | M10: ="" | N10: =""
A11: FIC-P-007 | B11: Golden Finch Community Circle (Fictional) | C11: Community Organization | D11: Lena Verse (Fictional) | E11: Morgan Vale (Fictional) | F11: Inactive | G11: 45775 | I11: =IF(A11="","",COUNTIF(Referrals!$D$5:$D$154,A11)) | J11: =IF(A11="","",IF(F11=Assumptions!$G$6,"Inactive",IF(OR(NOT(ISNUMBER(Assumptions!$B$4)),NOT(ISNUMBER(Assumptions!$B$5))),"Check assumptions",IF(NOT(ISNUMBER(H11)),"Set date",IF(H11<Assumptions!$B$4,"Review overdue",IF(H11<=Assumptions!$B$4+Assumptions!$B$5,"Review soon","Scheduled")))))) | L11: =Assumptions!I10 | M11: ="" | N11: =""
A12: FIC-P-008 | B12: Willow Rocket Advisory LLC (Fictional) | C12: Other | D12: Ezra Novel (Fictional) | E12: Riley Ember (Fictional) | F12: Active | G12: 46180 | H12: 46282 | I12: =IF(A12="","",COUNTIF(Referrals!$D$5:$D$154,A12)) | J12: =IF(A12="","",IF(F12=Assumptions!$G$6,"Inactive",IF(OR(NOT(ISNUMBER(Assumptions!$B$4)),NOT(ISNUMBER(Assumptions!$B$5))),"Check assumptions",IF(NOT(ISNUMBER(H12)),"Set date",IF(H12<Assumptions!$B$4,"Review overdue",IF(H12<=Assumptions!$B$4+Assumptions!$B$5,"Review soon","Scheduled")))))) | L12: =Assumptions!I11 | M12: ="" | N12: =""
I13: =IF(A13="","",COUNTIF(Referrals!$D$5:$D$154,A13)) | J13: =IF(A13="","",IF(F13=Assumptions!$G$6,"Inactive",IF(OR(NOT(ISNUMBER(Assumptions!$B$4)),NOT(ISNUMBER(Assumptions!$B$5))),"Check assumptions",IF(NOT(ISNUMBER(H13)),"Set date",IF(H13<Assumptions!$B$4,"Review overdue",IF(H13<=Assumptions!$B$4+Assumptions!$B$5,"Review soon","Scheduled")))))) | L13: ="" | M13: ="" | N13: =""
I14: =IF(A14="","",COUNTIF(Referrals!$D$5:$D$154,A14)) | J14: =IF(A14="","",IF(F14=Assumptions!$G$6,"Inactive",IF(OR(NOT(ISNUMBER(Assumptions!$B$4)),NOT(ISNUMBER(Assumptions!$B$5))),"Check assumptions",IF(NOT(ISNUMBER(H14)),"Set date",IF(H14<Assumptions!$B$4,"Review overdue",IF(H14<=Assumptions!$B$4+Assumptions!$B$5,"Review soon","Scheduled")))))) | L14: ="" | M14: ="" | N14: =""
I15: =IF(A15="","",COUNTIF(Referrals!$D$5:$D$154,A15)) | J15: =IF(A15="","",IF(F15=Assumptions!$G$6,"Inactive",IF(OR(NOT(ISNUMBER(Assumptions!$B$4)),NOT(ISNUMBER(Assumptions!$B$5))),"Check assumptions",IF(NOT(ISNUMBER(H15)),"Set date",IF(H15<Assumptions!$B$4,"Review overdue",IF(H15<=Assumptions!$B$4+Assumptions!$B$5,"Review soon","Scheduled")))))) | L15: ="" | M15: ="" | N15: =""
I16: =IF(A16="","",COUNTIF(Referrals!$D$5:$D$154,A16)) | J16: =IF(A16="","",IF(F16=Assumptions!$G$6,"Inactive",IF(OR(NOT(ISNUMBER(Assumptions!$B$4)),NOT(ISNUMBER(Assumptions!$B$5))),"Check assumptions",IF(NOT(ISNUMBER(H16)),"Set date",IF(H16<Assumptions!$B$4,"Review overdue",IF(H16<=Assumptions!$B$4+Assumptions!$B$5,"Review soon","Scheduled")))))) | L16: ="" | M16: ="" | N16: =""
I17: =IF(A17="","",COUNTIF(Referrals!$D$5:$D$154,A17)) | J17: =IF(A17="","",IF(F17=Assumptions!$G$6,"Inactive",IF(OR(NOT(ISNUMBER(Assumptions!$B$4)),NOT(ISNUMBER(Assumptions!$B$5))),"Check assumptions",IF(NOT(ISNUMBER(H17)),"Set date",IF(H17<Assumptions!$B$4,"Review overdue",IF(H17<=Assumptions!$B$4+Assumptions!$B$5,"Review soon","Scheduled")))))) | L17: ="" | M17: ="" | N17: =""
I18: =IF(A18="","",COUNTIF(Referrals!$D$5:$D$154,A18)) | J18: =IF(A18="","",IF(F18=Assumptions!$G$6,"Inactive",IF(OR(NOT(ISNUMBER(Assumptions!$B$4)),NOT(ISNUMBER(Assumptions!$B$5))),"Check assumptions",IF(NOT(ISNUMBER(H18)),"Set date",IF(H18<Assumptions!$B$4,"Review overdue",IF(H18<=Assumptions!$B$4+Assumptions!$B$5,"Review soon","Scheduled")))))) | L18: ="" | M18: ="" | N18: =""
I19: =IF(A19="","",COUNTIF(Referrals!$D$5:$D$154,A19)) | J19: =IF(A19="","",IF(F19=Assumptions!$G$6,"Inactive",IF(OR(NOT(ISNUMBER(Assumptions!$B$4)),NOT(ISNUMBER(Assumptions!$B$5))),"Check assumptions",IF(NOT(ISNUMBER(H19)),"Set date",IF(H19<Assumptions!$B$4,"Review overdue",IF(H19<=Assumptions!$B$4+Assumptions!$B$5,"Review soon","Scheduled")))))) | L19: ="" | M19: ="" | N19: =""
I20: =IF(A20="","",COUNTIF(Referrals!$D$5:$D$154,A20)) | J20: =IF(A20="","",IF(F20=Assumptions!$G$6,"Inactive",IF(OR(NOT(ISNUMBER(Assumptions!$B$4)),NOT(ISNUMBER(Assumptions!$B$5))),"Check assumptions",IF(NOT(ISNUMBER(H20)),"Set date",IF(H20<Assumptions!$B$4,"Review overdue",IF(H20<=Assumptions!$B$4+Assumptions!$B$5,"Review soon","Scheduled")))))) | L20: ="" | M20: ="" | N20: =""
I21: =IF(A21="","",COUNTIF(Referrals!$D$5:$D$154,A21)) | J21: =IF(A21="","",IF(F21=Assumptions!$G$6,"Inactive",IF(OR(NOT(ISNUMBER(Assumptions!$B$4)),NOT(ISNUMBER(Assumptions!$B$5))),"Check assumptions",IF(NOT(ISNUMBER(H21)),"Set date",IF(H21<Assumptions!$B$4,"Review overdue",IF(H21<=Assumptions!$B$4+Assumptions!$B$5,"Review soon","Scheduled")))))) | L21: ="" | M21: ="" | N21: =""
I22: =IF(A22="","",COUNTIF(Referrals!$D$5:$D$154,A22)) | J22: =IF(A22="","",IF(F22=Assumptions!$G$6,"Inactive",IF(OR(NOT(ISNUMBER(Assumptions!$B$4)),NOT(ISNUMBER(Assumptions!$B$5))),"Check assumptions",IF(NOT(ISNUMBER(H22)),"Set date",IF(H22<Assumptions!$B$4,"Review overdue",IF(H22<=Assumptions!$B$4+Assumptions!$B$5,"Review soon","Scheduled")))))) | L22: ="" | M22: ="" | N22: =""
I23: =IF(A23="","",COUNTIF(Referrals!$D$5:$D$154,A23)) | J23: =IF(A23="","",IF(F23=Assumptions!$G$6,"Inactive",IF(OR(NOT(ISNUMBER(Assumptions!$B$4)),NOT(ISNUMBER(Assumptions!$B$5))),"Check assumptions",IF(NOT(ISNUMBER(H23)),"Set date",IF(H23<Assumptions!$B$4,"Review overdue",IF(H23<=Assumptions!$B$4+Assumptions!$B$5,"Review soon","Scheduled")))))) | L23: ="" | M23: ="" | N23: =""
I24: =IF(A24="","",COUNTIF(Referrals!$D$5:$D$154,A24)) | J24: =IF(A24="","",IF(F24=Assumptions!$G$6,"Inactive",IF(OR(NOT(ISNUMBER(Assumptions!$B$4)),NOT(ISNUMBER(Assumptions!$B$5))),"Check assumptions",IF(NOT(ISNUMBER(H24)),"Set date",IF(H24<Assumptions!$B$4,"Review overdue",IF(H24<=Assumptions!$B$4+Assumptions!$B$5,"Review soon","Scheduled")))))) | L24: ="" | M24: ="" | N24: =""
... I104: =IF(A104="","",COUNTIF(Referrals!$D$5:$D$154,A104)) | J104: =IF(A104="","",IF(F104=Assumptions!$G$6,"Inactive",IF(OR(NOT(ISNUMBER(Assumptions!$B$4)),NOT(ISNUMBER(Assumptions!$B$5))),"Check assumptions",IF(NOT(ISNUMBER(H104)),"Set date",IF(H104<Assumptions!$B$4,"Review overdue",IF(H104<=Assumptions!$B$4+Assumptions!$B$5,"Review soon","Scheduled")))))) | L104: ="" | M104: ="" | N104: =""

Sheet Assumptions
A1: Referral Tracker Assumptions
A2: Edit highlighted dates, limits, and stable choice lists as agency procedures change. Keep status meanings consistent with the formulas.
A3: Setting | B3: Value | C3: Use | E3: Direction | F3: Referral Status | G3: Partner Status | H3: Line of Business | I3: Organization Type | J3: Agency Owner
A4: As of Date | B4: 46275 | C4: Controls aging, follow-up, and summary calculations. | E4: Received | F4: New | G4: Active | H4: Personal Auto | I4: Legal Professional | J4: Morgan Vale (Fictional)
A5: Due Soon Window (days) | B5: 7 | C5: Flags upcoming referral and partner review dates. | E5: Sent | F5: Contacted | G5: On Hold | H5: Homeowners | I5: Mortgage Professional | J5: Riley Ember (Fictional)
A6: Stale Open Threshold (days) | B6: 30 | C6: Counts older open referrals for human review. | F6: Quoted | G6: Inactive | H6: Renters | I6: Real Estate Professional | J6: Jordan Lake (Fictional)
A7: Future Planning Limit (days) | B7: 730 | C7: Limits future follow-up and review dates. | F7: Won | H7: Commercial Auto | I7: Accounting Professional
F8: Lost | H8: Business Owners | I8: Auto Dealer
F9: Declined | H9: General Liability | I9: Property Manager
H10: Workers' Compensation | I10: Community Organization
H11: Umbrella | I11: Other
H12: Life
