Workbook

Sheet Summary
A1: Policy Cancellation Summary
A2: Calculated from entered records; alerts indicate items for human review. | D2: Review date | E2: =Assumptions!$B$2
A3: Total cancellation records | B3: =COUNTIF(Cancellations!$A$5:$A$124,"<>") | D3: Open annual premium | E3: =IF($B$3=0,"",IF(Assumptions!$A$9="",0,SUMIFS(Cancellations!$H$5:$H$124,Cancellations!$J$5:$J$124,Assumptions!$A$9))+IF(Assumptions!$A$10="",0,SUMIFS(Cancellations!$H$5:$H$124,Cancellations!$J$5:$J$124,Assumptions!$A$10))+IF(Assumptions!$A$11="",0,SUMIFS(Cancellations!$H$5:$H$124,Cancellations!$J$5:$J$124,Assumptions!$A$11))+IF(Assumptions!$A$12="",0,SUMIFS(Cancellations!$H$5:$H$124,Cancellations!$J$5:$J$124,Assumptions!$A$12))) | G3: Status | H3: Record Count
A4: Open workflow records | B4: =IF($B$3=0,"",IF(Assumptions!$A$9="",0,COUNTIF(Cancellations!$J$5:$J$124,Assumptions!$A$9))+IF(Assumptions!$A$10="",0,COUNTIF(Cancellations!$J$5:$J$124,Assumptions!$A$10))+IF(Assumptions!$A$11="",0,COUNTIF(Cancellations!$J$5:$J$124,Assumptions!$A$11))+IF(Assumptions!$A$12="",0,COUNTIF(Cancellations!$J$5:$J$124,Assumptions!$A$12))) | D4: Retained annual premium | E4: =IF(OR($B$3=0,Assumptions!$D$10=""),"",SUMIFS(Cancellations!$H$5:$H$124,Cancellations!$M$5:$M$124,Assumptions!$D$10)) | G4: =Assumptions!$A$9 | H4: =IF($G4="","",COUNTIF(Cancellations!$J$5:$J$124,$G4))
A5: Past effective date checks | B5: =IF($B$3=0,"",COUNTIF(Cancellations!$Q$5:$Q$124,"Past effective date - review")) | D5: Completed cancellation annual premium | E5: =IF(OR($B$3=0,Assumptions!$D$11=""),"",SUMIFS(Cancellations!$H$5:$H$124,Cancellations!$M$5:$M$124,Assumptions!$D$11)) | G5: =Assumptions!$A$10 | H5: =IF($G5="","",COUNTIF(Cancellations!$J$5:$J$124,$G5))
A6: Follow-ups due | B6: =IF($B$3=0,"",COUNTIF(Cancellations!$Q$5:$Q$124,"Follow-up due")) | D6: Finalized record retention rate | E6: =IF(OR(Assumptions!$D$10="",Assumptions!$D$11=""),"",IFERROR(COUNTIF(Cancellations!$M$5:$M$124,Assumptions!$D$10)/(COUNTIF(Cancellations!$M$5:$M$124,Assumptions!$D$10)+COUNTIF(Cancellations!$M$5:$M$124,Assumptions!$D$11)),"")) | G6: =Assumptions!$A$11 | H6: =IF($G6="","",COUNTIF(Cancellations!$J$5:$J$124,$G6))
A7: Effective within warning horizon | B7: =IF($B$3=0,"",COUNTIF(Cancellations!$Q$5:$Q$124,"Effective soon")) | D7: Open records missing owner | E7: =IF($B$3=0,"",IF(Assumptions!$A$9="",0,COUNTIFS(Cancellations!$J$5:$J$124,Assumptions!$A$9,Cancellations!$I$5:$I$124,""))+IF(Assumptions!$A$10="",0,COUNTIFS(Cancellations!$J$5:$J$124,Assumptions!$A$10,Cancellations!$I$5:$I$124,""))+IF(Assumptions!$A$11="",0,COUNTIFS(Cancellations!$J$5:$J$124,Assumptions!$A$11,Cancellations!$I$5:$I$124,""))+IF(Assumptions!$A$12="",0,COUNTIFS(Cancellations!$J$5:$J$124,Assumptions!$A$12,Cancellations!$I$5:$I$124,""))) | G7: =Assumptions!$A$12 | H7: =IF($G7="","",COUNTIF(Cancellations!$J$5:$J$124,$G7))
A8: Records missing effective date | B8: =IF($B$3=0,"",COUNTIF(Cancellations!$Q$5:$Q$124,"Add effective date")) | D8: Open records missing action | E8: =IF($B$3=0,"",IF(Assumptions!$A$9="",0,COUNTIFS(Cancellations!$J$5:$J$124,Assumptions!$A$9,Cancellations!$K$5:$K$124,""))+IF(Assumptions!$A$10="",0,COUNTIFS(Cancellations!$J$5:$J$124,Assumptions!$A$10,Cancellations!$K$5:$K$124,""))+IF(Assumptions!$A$11="",0,COUNTIFS(Cancellations!$J$5:$J$124,Assumptions!$A$11,Cancellations!$K$5:$K$124,""))+IF(Assumptions!$A$12="",0,COUNTIFS(Cancellations!$J$5:$J$124,Assumptions!$A$12,Cancellations!$K$5:$K$124,""))) | G8: =Assumptions!$A$13 | H8: =IF($G8="","",COUNTIF(Cancellations!$J$5:$J$124,$G8))
A9: Other date checks | B9: =IF($B$3=0,"",COUNTIF(Cancellations!$Q$5:$Q$124,"Date sequence check")+COUNTIF(Cancellations!$Q$5:$Q$124,"Follow-up after effective - review")) | D9: Records missing status | E9: =IF($B$3=0,"",COUNTIFS(Cancellations!$A$5:$A$124,"<>",Cancellations!$J$5:$J$124,"")) | G9: =Assumptions!$A$14 | H9: =IF($G9="","",COUNTIF(Cancellations!$J$5:$J$124,$G9))
G10: =Assumptions!$A$15 | H10: =IF($G10="","",COUNTIF(Cancellations!$J$5:$J$124,$G10))

Sheet Cancellations
A1: Insurance Policy Cancellation Tracker
A2: Administrative entries only. Calculated alerts prompt a human check and do not verify coverage or policy status.
A4: Cancellation ID | B4: Policy Reference | C4: Fictional Insured | D4: Fictional Carrier | E4: Notice Received | F4: Cancellation Effective | G4: Reason | H4: Annual Premium | I4: Owner | J4: Status | K4: Save Action | L4: Next Follow-Up | M4: Outcome | N4: Closed Date | O4: Days to Effective | P4: Notice Lead Days | Q4: Review Alert | R4: Record Notes
A5: FIC-CXL-001 | B5: FIC-POL-1001 | C5: Juniper Kite Bakery LLC (Fictional) | D5: Fictional Harbor Mutual (Fictional) | E5: 46263 | F5: 46277 | G5: Nonpayment notice | H5: 4800 | I5: Avery Demo (Fictional) | J5: Contact Needed | K5: Call to verify administrative details | L5: 46274 | M5: Pending | O5: =IF(OR($A5="",$F5="",Assumptions!$B$2=""),"",IFERROR($F5-Assumptions!$B$2,"")) | P5: =IF(OR($A5="",$E5="",$F5=""),"",IFERROR($F5-$E5,"")) | Q5: =IF($A5="","",IF(OR(Assumptions!$B$2="",Assumptions!$B$3="",Assumptions!$B$4="",Assumptions!$B$5="",Assumptions!$B$6="",Assumptions!$B$5<Assumptions!$B$4,COUNTBLANK(Assumptions!$A$9:$A$15)>0),"Check assumptions",IF($J5="","Add status",IF($F5="","Add effective date",IF(AND($E5<>"",$F5<$E5),"Date sequence check",IF(OR($J5=Assumptions!$A$13,$J5=Assumptions!$A$14,$J5=Assumptions!$A$15),"Closed",IF(AND($L5<>"",$L5>$F5),"Follow-up after effective - review",IF($F5<Assumptions!$B$2,"Past effective date - review",IF(AND($L5<>"",$L5<=Assumptions!$B$2),"Follow-up due",IF($F5-Assumptions!$B$2<=Assumptions!$B$3,"Effective soon",IF($L5="","Add follow-up date","Monitor"))))))))))) | R5: Notice copy logged for review.
A6: FIC-CXL-002 | B6: FIC-POL-1002 | C6: Blue Acorn Bicycle Shop LLC (Fictional) | D6: Imaginary Prairie Indemnity (Fictional) | E6: 46267 | F6: 46280 | G6: Nonpayment notice | H6: 6350 | I6: Jordan Sample (Fictional) | J6: Save in Progress | K6: Request missing payment confirmation | L6: 46276 | M6: Pending | O6: =IF(OR($A6="",$F6="",Assumptions!$B$2=""),"",IFERROR($F6-Assumptions!$B$2,"")) | P6: =IF(OR($A6="",$E6="",$F6=""),"",IFERROR($F6-$E6,"")) | Q6: =IF($A6="","",IF(OR(Assumptions!$B$2="",Assumptions!$B$3="",Assumptions!$B$4="",Assumptions!$B$5="",Assumptions!$B$6="",Assumptions!$B$5<Assumptions!$B$4,COUNTBLANK(Assumptions!$A$9:$A$15)>0),"Check assumptions",IF($J6="","Add status",IF($F6="","Add effective date",IF(AND($E6<>"",$F6<$E6),"Date sequence check",IF(OR($J6=Assumptions!$A$13,$J6=Assumptions!$A$14,$J6=Assumptions!$A$15),"Closed",IF(AND($L6<>"",$L6>$F6),"Follow-up after effective - review",IF($F6<Assumptions!$B$2,"Past effective date - review",IF(AND($L6<>"",$L6<=Assumptions!$B$2),"Follow-up due",IF($F6-Assumptions!$B$2<=Assumptions!$B$3,"Effective soon",IF($L6="","Add follow-up date","Monitor"))))))))))) | R6: Waiting for an administrative response.
A7: FIC-CXL-003 | B7: FIC-POL-1003 | C7: Orbit Lantern Studio LLC (Fictional) | D7: Sample Summit Casualty (Fictional) | E7: 46255 | F7: 46272 | G7: Underwriting notice | H7: 9125 | I7: Morgan Example (Fictional) | J7: Pending Decision | K7: Review submitted documentation | L7: 46271 | M7: Pending | O7: =IF(OR($A7="",$F7="",Assumptions!$B$2=""),"",IFERROR($F7-Assumptions!$B$2,"")) | P7: =IF(OR($A7="",$E7="",$F7=""),"",IFERROR($F7-$E7,"")) | Q7: =IF($A7="","",IF(OR(Assumptions!$B$2="",Assumptions!$B$3="",Assumptions!$B$4="",Assumptions!$B$5="",Assumptions!$B$6="",Assumptions!$B$5<Assumptions!$B$4,COUNTBLANK(Assumptions!$A$9:$A$15)>0),"Check assumptions",IF($J7="","Add status",IF($F7="","Add effective date",IF(AND($E7<>"",$F7<$E7),"Date sequence check",IF(OR($J7=Assumptions!$A$13,$J7=Assumptions!$A$14,$J7=Assumptions!$A$15),"Closed",IF(AND($L7<>"",$L7>$F7),"Follow-up after effective - review",IF($F7<Assumptions!$B$2,"Past effective date - review",IF(AND($L7<>"",$L7<=Assumptions!$B$2),"Follow-up due",IF($F7-Assumptions!$B$2<=Assumptions!$B$3,"Effective soon",IF($L7="","Add follow-up date","Monitor"))))))))))) | R7: Effective date has passed; human review is needed.
A8: FIC-CXL-004 | B8: FIC-POL-1004 | C8: Maple Rocket Garden Co. (Fictional) | D8: Demo Lantern Insurance (Fictional) | E8: 46260 | F8: 46290 | G8: Nonpayment notice | H8: 3725 | I8: Avery Demo (Fictional) | J8: Policy Retained | K8: Logged payment confirmation supplied by client | M8: Policy Retained | N8: 46273 | O8: =IF(OR($A8="",$F8="",Assumptions!$B$2=""),"",IFERROR($F8-Assumptions!$B$2,"")) | P8: =IF(OR($A8="",$E8="",$F8=""),"",IFERROR($F8-$E8,"")) | Q8: =IF($A8="","",IF(OR(Assumptions!$B$2="",Assumptions!$B$3="",Assumptions!$B$4="",Assumptions!$B$5="",Assumptions!$B$6="",Assumptions!$B$5<Assumptions!$B$4,COUNTBLANK(Assumptions!$A$9:$A$15)>0),"Check assumptions",IF($J8="","Add status",IF($F8="","Add effective date",IF(AND($E8<>"",$F8<$E8),"Date sequence check",IF(OR($J8=Assumptions!$A$13,$J8=Assumptions!$A$14,$J8=Assumptions!$A$15),"Closed",IF(AND($L8<>"",$L8>$F8),"Follow-up after effective - review",IF($F8<Assumptions!$B$2,"Past effective date - review",IF(AND($L8<>"",$L8<=Assumptions!$B$2),"Follow-up due",IF($F8-Assumptions!$B$2<=Assumptions!$B$3,"Effective soon",IF($L8="","Add follow-up date","Monitor"))))))))))) | R8: Record marked retained from entered information.
A9: FIC-CXL-005 | B9: FIC-POL-1005 | C9: Cedar Comet Books LLC (Fictional) | D9: Placeholder Valley Underwriters (Fictional) | E9: 46245 | F9: 46265 | G9: Insured requested cancellation | H9: 5200 | I9: Riley Test (Fictional) | J9: Cancellation Confirmed | K9: Documented the fictional insured request | M9: Cancellation Completed | N9: 46263 | O9: =IF(OR($A9="",$F9="",Assumptions!$B$2=""),"",IFERROR($F9-Assumptions!$B$2,"")) | P9: =IF(OR($A9="",$E9="",$F9=""),"",IFERROR($F9-$E9,"")) | Q9: =IF($A9="","",IF(OR(Assumptions!$B$2="",Assumptions!$B$3="",Assumptions!$B$4="",Assumptions!$B$5="",Assumptions!$B$6="",Assumptions!$B$5<Assumptions!$B$4,COUNTBLANK(Assumptions!$A$9:$A$15)>0),"Check assumptions",IF($J9="","Add status",IF($F9="","Add effective date",IF(AND($E9<>"",$F9<$E9),"Date sequence check",IF(OR($J9=Assumptions!$A$13,$J9=Assumptions!$A$14,$J9=Assumptions!$A$15),"Closed",IF(AND($L9<>"",$L9>$F9),"Follow-up after effective - review",IF($F9<Assumptions!$B$2,"Past effective date - review",IF(AND($L9<>"",$L9<=Assumptions!$B$2),"Follow-up due",IF($F9-Assumptions!$B$2<=Assumptions!$B$3,"Effective soon",IF($L9="","Add follow-up date","Monitor"))))))))))) | R9: Administrative cancellation record completed.
A10: FIC-CXL-006 | B10: FIC-POL-1006 | C10: Silver Thimble Cafe LLC (Fictional) | D10: Fictional Harbor Mutual (Fictional) | E10: 46271 | F10: 46295 | G10: Carrier withdrawal notice | H10: 11800 | J10: New Notice | M10: Pending | O10: =IF(OR($A10="",$F10="",Assumptions!$B$2=""),"",IFERROR($F10-Assumptions!$B$2,"")) | P10: =IF(OR($A10="",$E10="",$F10=""),"",IFERROR($F10-$E10,"")) | Q10: =IF($A10="","",IF(OR(Assumptions!$B$2="",Assumptions!$B$3="",Assumptions!$B$4="",Assumptions!$B$5="",Assumptions!$B$6="",Assumptions!$B$5<Assumptions!$B$4,COUNTBLANK(Assumptions!$A$9:$A$15)>0),"Check assumptions",IF($J10="","Add status",IF($F10="","Add effective date",IF(AND($E10<>"",$F10<$E10),"Date sequence check",IF(OR($J10=Assumptions!$A$13,$J10=Assumptions!$A$14,$J10=Assumptions!$A$15),"Closed",IF(AND($L10<>"",$L10>$F10),"Follow-up after effective - review",IF($F10<Assumptions!$B$2,"Past effective date - review",IF(AND($L10<>"",$L10<=Assumptions!$B$2),"Follow-up due",IF($F10-Assumptions!$B$2<=Assumptions!$B$3,"Effective soon",IF($L10="","Add follow-up date","Monitor"))))))))))) | R10: Unassigned sample tests missing owner and follow-up fields.
A11: FIC-CXL-007 | B11: FIC-POL-1007 | C11: Pebble Moon Pet Spa LLC (Fictional) | D11: Imaginary Prairie Indemnity (Fictional) | E11: 46273 | G11: Other | H11: 0 | I11: Casey Placeholder (Fictional) | J11: New Notice | K11: Review notice for an effective date | L11: 46276 | M11: Pending | O11: =IF(OR($A11="",$F11="",Assumptions!$B$2=""),"",IFERROR($F11-Assumptions!$B$2,"")) | P11: =IF(OR($A11="",$E11="",$F11=""),"",IFERROR($F11-$E11,"")) | Q11: =IF($A11="","",IF(OR(Assumptions!$B$2="",Assumptions!$B$3="",Assumptions!$B$4="",Assumptions!$B$5="",Assumptions!$B$6="",Assumptions!$B$5<Assumptions!$B$4,COUNTBLANK(Assumptions!$A$9:$A$15)>0),"Check assumptions",IF($J11="","Add status",IF($F11="","Add effective date",IF(AND($E11<>"",$F11<$E11),"Date sequence check",IF(OR($J11=Assumptions!$A$13,$J11=Assumptions!$A$14,$J11=Assumptions!$A$15),"Closed",IF(AND($L11<>"",$L11>$F11),"Follow-up after effective - review",IF($F11<Assumptions!$B$2,"Past effective date - review",IF(AND($L11<>"",$L11<=Assumptions!$B$2),"Follow-up due",IF($F11-Assumptions!$B$2<=Assumptions!$B$3,"Effective soon",IF($L11="","Add follow-up date","Monitor"))))))))))) | R11: Zero-dollar boundary example; effective date is not entered.
A12: FIC-CXL-008 | B12: FIC-POL-1008 | C12: Bright Badger Workshop LLC (Fictional) | D12: Sample Summit Casualty (Fictional) | E12: 46269 | F12: 46315 | G12: Policy replacement request | H12: 7450 | I12: Morgan Example (Fictional) | J12: Pending Decision | K12: Compare entered replacement documentation | L12: 46285 | M12: Pending | O12: =IF(OR($A12="",$F12="",Assumptions!$B$2=""),"",IFERROR($F12-Assumptions!$B$2,"")) | P12: =IF(OR($A12="",$E12="",$F12=""),"",IFERROR($F12-$E12,"")) | Q12: =IF($A12="","",IF(OR(Assumptions!$B$2="",Assumptions!$B$3="",Assumptions!$B$4="",Assumptions!$B$5="",Assumptions!$B$6="",Assumptions!$B$5<Assumptions!$B$4,COUNTBLANK(Assumptions!$A$9:$A$15)>0),"Check assumptions",IF($J12="","Add status",IF($F12="","Add effective date",IF(AND($E12<>"",$F12<$E12),"Date sequence check",IF(OR($J12=Assumptions!$A$13,$J12=Assumptions!$A$14,$J12=Assumptions!$A$15),"Closed",IF(AND($L12<>"",$L12>$F12),"Follow-up after effective - review",IF($F12<Assumptions!$B$2,"Past effective date - review",IF(AND($L12<>"",$L12<=Assumptions!$B$2),"Follow-up due",IF($F12-Assumptions!$B$2<=Assumptions!$B$3,"Effective soon",IF($L12="","Add follow-up date","Monitor"))))))))))) | R12: Future follow-up remains within the entered effective date.
A13: FIC-CXL-009 | B13: FIC-POL-1009 | C13: Velvet Compass Florals LLC (Fictional) | D13: Demo Lantern Insurance (Fictional) | E13: 46235 | F13: 46255 | G13: Duplicate policy cleanup | H13: 2890 | I13: Jordan Sample (Fictional) | J13: Closed - Other | K13: Closed duplicate administrative record | M13: Closed - Other | N13: 46257 | O13: =IF(OR($A13="",$F13="",Assumptions!$B$2=""),"",IFERROR($F13-Assumptions!$B$2,"")) | P13: =IF(OR($A13="",$E13="",$F13=""),"",IFERROR($F13-$E13,"")) | Q13: =IF($A13="","",IF(OR(Assumptions!$B$2="",Assumptions!$B$3="",Assumptions!$B$4="",Assumptions!$B$5="",Assumptions!$B$6="",Assumptions!$B$5<Assumptions!$B$4,COUNTBLANK(Assumptions!$A$9:$A$15)>0),"Check assumptions",IF($J13="","Add status",IF($F13="","Add effective date",IF(AND($E13<>"",$F13<$E13),"Date sequence check",IF(OR($J13=Assumptions!$A$13,$J13=Assumptions!$A$14,$J13=Assumptions!$A$15),"Closed",IF(AND($L13<>"",$L13>$F13),"Follow-up after effective - review",IF($F13<Assumptions!$B$2,"Past effective date - review",IF(AND($L13<>"",$L13<=Assumptions!$B$2),"Follow-up due",IF($F13-Assumptions!$B$2<=Assumptions!$B$3,"Effective soon",IF($L13="","Add follow-up date","Monitor"))))))))))) | R13: Closed for an entered administrative reason.
A14: FIC-CXL-010 | B14: FIC-POL-1010 | C14: Cloudberry Clockworks LLC (Fictional) | D14: Placeholder Valley Underwriters (Fictional) | E14: 46268 | F14: 46282 | G14: Underwriting notice | H14: 15400 | I14: Riley Test (Fictional) | J14: Contact Needed | K14: Confirm receipt of requested records | L14: 46277 | M14: Pending | O14: =IF(OR($A14="",$F14="",Assumptions!$B$2=""),"",IFERROR($F14-Assumptions!$B$2,"")) | P14: =IF(OR($A14="",$E14="",$F14=""),"",IFERROR($F14-$E14,"")) | Q14: =IF($A14="","",IF(OR(Assumptions!$B$2="",Assumptions!$B$3="",Assumptions!$B$4="",Assumptions!$B$5="",Assumptions!$B$6="",Assumptions!$B$5<Assumptions!$B$4,COUNTBLANK(Assumptions!$A$9:$A$15)>0),"Check assumptions",IF($J14="","Add status",IF($F14="","Add effective date",IF(AND($E14<>"",$F14<$E14),"Date sequence check",IF(OR($J14=Assumptions!$A$13,$J14=Assumptions!$A$14,$J14=Assumptions!$A$15),"Closed",IF(AND($L14<>"",$L14>$F14),"Follow-up after effective - review",IF($F14<Assumptions!$B$2,"Past effective date - review",IF(AND($L14<>"",$L14<=Assumptions!$B$2),"Follow-up due",IF($F14-Assumptions!$B$2<=Assumptions!$B$3,"Effective soon",IF($L14="","Add follow-up date","Monitor"))))))))))) | R14: Boundary example at the editable warning horizon.
O15: =IF(OR($A15="",$F15="",Assumptions!$B$2=""),"",IFERROR($F15-Assumptions!$B$2,"")) | P15: =IF(OR($A15="",$E15="",$F15=""),"",IFERROR($F15-$E15,"")) | Q15: =IF($A15="","",IF(OR(Assumptions!$B$2="",Assumptions!$B$3="",Assumptions!$B$4="",Assumptions!$B$5="",Assumptions!$B$6="",Assumptions!$B$5<Assumptions!$B$4,COUNTBLANK(Assumptions!$A$9:$A$15)>0),"Check assumptions",IF($J15="","Add status",IF($F15="","Add effective date",IF(AND($E15<>"",$F15<$E15),"Date sequence check",IF(OR($J15=Assumptions!$A$13,$J15=Assumptions!$A$14,$J15=Assumptions!$A$15),"Closed",IF(AND($L15<>"",$L15>$F15),"Follow-up after effective - review",IF($F15<Assumptions!$B$2,"Past effective date - review",IF(AND($L15<>"",$L15<=Assumptions!$B$2),"Follow-up due",IF($F15-Assumptions!$B$2<=Assumptions!$B$3,"Effective soon",IF($L15="","Add follow-up date","Monitor")))))))))))
O16: =IF(OR($A16="",$F16="",Assumptions!$B$2=""),"",IFERROR($F16-Assumptions!$B$2,"")) | P16: =IF(OR($A16="",$E16="",$F16=""),"",IFERROR($F16-$E16,"")) | Q16: =IF($A16="","",IF(OR(Assumptions!$B$2="",Assumptions!$B$3="",Assumptions!$B$4="",Assumptions!$B$5="",Assumptions!$B$6="",Assumptions!$B$5<Assumptions!$B$4,COUNTBLANK(Assumptions!$A$9:$A$15)>0),"Check assumptions",IF($J16="","Add status",IF($F16="","Add effective date",IF(AND($E16<>"",$F16<$E16),"Date sequence check",IF(OR($J16=Assumptions!$A$13,$J16=Assumptions!$A$14,$J16=Assumptions!$A$15),"Closed",IF(AND($L16<>"",$L16>$F16),"Follow-up after effective - review",IF($F16<Assumptions!$B$2,"Past effective date - review",IF(AND($L16<>"",$L16<=Assumptions!$B$2),"Follow-up due",IF($F16-Assumptions!$B$2<=Assumptions!$B$3,"Effective soon",IF($L16="","Add follow-up date","Monitor")))))))))))
O17: =IF(OR($A17="",$F17="",Assumptions!$B$2=""),"",IFERROR($F17-Assumptions!$B$2,"")) | P17: =IF(OR($A17="",$E17="",$F17=""),"",IFERROR($F17-$E17,"")) | Q17: =IF($A17="","",IF(OR(Assumptions!$B$2="",Assumptions!$B$3="",Assumptions!$B$4="",Assumptions!$B$5="",Assumptions!$B$6="",Assumptions!$B$5<Assumptions!$B$4,COUNTBLANK(Assumptions!$A$9:$A$15)>0),"Check assumptions",IF($J17="","Add status",IF($F17="","Add effective date",IF(AND($E17<>"",$F17<$E17),"Date sequence check",IF(OR($J17=Assumptions!$A$13,$J17=Assumptions!$A$14,$J17=Assumptions!$A$15),"Closed",IF(AND($L17<>"",$L17>$F17),"Follow-up after effective - review",IF($F17<Assumptions!$B$2,"Past effective date - review",IF(AND($L17<>"",$L17<=Assumptions!$B$2),"Follow-up due",IF($F17-Assumptions!$B$2<=Assumptions!$B$3,"Effective soon",IF($L17="","Add follow-up date","Monitor")))))))))))
O18: =IF(OR($A18="",$F18="",Assumptions!$B$2=""),"",IFERROR($F18-Assumptions!$B$2,"")) | P18: =IF(OR($A18="",$E18="",$F18=""),"",IFERROR($F18-$E18,"")) | Q18: =IF($A18="","",IF(OR(Assumptions!$B$2="",Assumptions!$B$3="",Assumptions!$B$4="",Assumptions!$B$5="",Assumptions!$B$6="",Assumptions!$B$5<Assumptions!$B$4,COUNTBLANK(Assumptions!$A$9:$A$15)>0),"Check assumptions",IF($J18="","Add status",IF($F18="","Add effective date",IF(AND($E18<>"",$F18<$E18),"Date sequence check",IF(OR($J18=Assumptions!$A$13,$J18=Assumptions!$A$14,$J18=Assumptions!$A$15),"Closed",IF(AND($L18<>"",$L18>$F18),"Follow-up after effective - review",IF($F18<Assumptions!$B$2,"Past effective date - review",IF(AND($L18<>"",$L18<=Assumptions!$B$2),"Follow-up due",IF($F18-Assumptions!$B$2<=Assumptions!$B$3,"Effective soon",IF($L18="","Add follow-up date","Monitor")))))))))))
O19: =IF(OR($A19="",$F19="",Assumptions!$B$2=""),"",IFERROR($F19-Assumptions!$B$2,"")) | P19: =IF(OR($A19="",$E19="",$F19=""),"",IFERROR($F19-$E19,"")) | Q19: =IF($A19="","",IF(OR(Assumptions!$B$2="",Assumptions!$B$3="",Assumptions!$B$4="",Assumptions!$B$5="",Assumptions!$B$6="",Assumptions!$B$5<Assumptions!$B$4,COUNTBLANK(Assumptions!$A$9:$A$15)>0),"Check assumptions",IF($J19="","Add status",IF($F19="","Add effective date",IF(AND($E19<>"",$F19<$E19),"Date sequence check",IF(OR($J19=Assumptions!$A$13,$J19=Assumptions!$A$14,$J19=Assumptions!$A$15),"Closed",IF(AND($L19<>"",$L19>$F19),"Follow-up after effective - review",IF($F19<Assumptions!$B$2,"Past effective date - review",IF(AND($L19<>"",$L19<=Assumptions!$B$2),"Follow-up due",IF($F19-Assumptions!$B$2<=Assumptions!$B$3,"Effective soon",IF($L19="","Add follow-up date","Monitor")))))))))))
O20: =IF(OR($A20="",$F20="",Assumptions!$B$2=""),"",IFERROR($F20-Assumptions!$B$2,"")) | P20: =IF(OR($A20="",$E20="",$F20=""),"",IFERROR($F20-$E20,"")) | Q20: =IF($A20="","",IF(OR(Assumptions!$B$2="",Assumptions!$B$3="",Assumptions!$B$4="",Assumptions!$B$5="",Assumptions!$B$6="",Assumptions!$B$5<Assumptions!$B$4,COUNTBLANK(Assumptions!$A$9:$A$15)>0),"Check assumptions",IF($J20="","Add status",IF($F20="","Add effective date",IF(AND($E20<>"",$F20<$E20),"Date sequence check",IF(OR($J20=Assumptions!$A$13,$J20=Assumptions!$A$14,$J20=Assumptions!$A$15),"Closed",IF(AND($L20<>"",$L20>$F20),"Follow-up after effective - review",IF($F20<Assumptions!$B$2,"Past effective date - review",IF(AND($L20<>"",$L20<=Assumptions!$B$2),"Follow-up due",IF($F20-Assumptions!$B$2<=Assumptions!$B$3,"Effective soon",IF($L20="","Add follow-up date","Monitor")))))))))))
O21: =IF(OR($A21="",$F21="",Assumptions!$B$2=""),"",IFERROR($F21-Assumptions!$B$2,"")) | P21: =IF(OR($A21="",$E21="",$F21=""),"",IFERROR($F21-$E21,"")) | Q21: =IF($A21="","",IF(OR(Assumptions!$B$2="",Assumptions!$B$3="",Assumptions!$B$4="",Assumptions!$B$5="",Assumptions!$B$6="",Assumptions!$B$5<Assumptions!$B$4,COUNTBLANK(Assumptions!$A$9:$A$15)>0),"Check assumptions",IF($J21="","Add status",IF($F21="","Add effective date",IF(AND($E21<>"",$F21<$E21),"Date sequence check",IF(OR($J21=Assumptions!$A$13,$J21=Assumptions!$A$14,$J21=Assumptions!$A$15),"Closed",IF(AND($L21<>"",$L21>$F21),"Follow-up after effective - review",IF($F21<Assumptions!$B$2,"Past effective date - review",IF(AND($L21<>"",$L21<=Assumptions!$B$2),"Follow-up due",IF($F21-Assumptions!$B$2<=Assumptions!$B$3,"Effective soon",IF($L21="","Add follow-up date","Monitor")))))))))))
O22: =IF(OR($A22="",$F22="",Assumptions!$B$2=""),"",IFERROR($F22-Assumptions!$B$2,"")) | P22: =IF(OR($A22="",$E22="",$F22=""),"",IFERROR($F22-$E22,"")) | Q22: =IF($A22="","",IF(OR(Assumptions!$B$2="",Assumptions!$B$3="",Assumptions!$B$4="",Assumptions!$B$5="",Assumptions!$B$6="",Assumptions!$B$5<Assumptions!$B$4,COUNTBLANK(Assumptions!$A$9:$A$15)>0),"Check assumptions",IF($J22="","Add status",IF($F22="","Add effective date",IF(AND($E22<>"",$F22<$E22),"Date sequence check",IF(OR($J22=Assumptions!$A$13,$J22=Assumptions!$A$14,$J22=Assumptions!$A$15),"Closed",IF(AND($L22<>"",$L22>$F22),"Follow-up after effective - review",IF($F22<Assumptions!$B$2,"Past effective date - review",IF(AND($L22<>"",$L22<=Assumptions!$B$2),"Follow-up due",IF($F22-Assumptions!$B$2<=Assumptions!$B$3,"Effective soon",IF($L22="","Add follow-up date","Monitor")))))))))))
O23: =IF(OR($A23="",$F23="",Assumptions!$B$2=""),"",IFERROR($F23-Assumptions!$B$2,"")) | P23: =IF(OR($A23="",$E23="",$F23=""),"",IFERROR($F23-$E23,"")) | Q23: =IF($A23="","",IF(OR(Assumptions!$B$2="",Assumptions!$B$3="",Assumptions!$B$4="",Assumptions!$B$5="",Assumptions!$B$6="",Assumptions!$B$5<Assumptions!$B$4,COUNTBLANK(Assumptions!$A$9:$A$15)>0),"Check assumptions",IF($J23="","Add status",IF($F23="","Add effective date",IF(AND($E23<>"",$F23<$E23),"Date sequence check",IF(OR($J23=Assumptions!$A$13,$J23=Assumptions!$A$14,$J23=Assumptions!$A$15),"Closed",IF(AND($L23<>"",$L23>$F23),"Follow-up after effective - review",IF($F23<Assumptions!$B$2,"Past effective date - review",IF(AND($L23<>"",$L23<=Assumptions!$B$2),"Follow-up due",IF($F23-Assumptions!$B$2<=Assumptions!$B$3,"Effective soon",IF($L23="","Add follow-up date","Monitor")))))))))))
O24: =IF(OR($A24="",$F24="",Assumptions!$B$2=""),"",IFERROR($F24-Assumptions!$B$2,"")) | P24: =IF(OR($A24="",$E24="",$F24=""),"",IFERROR($F24-$E24,"")) | Q24: =IF($A24="","",IF(OR(Assumptions!$B$2="",Assumptions!$B$3="",Assumptions!$B$4="",Assumptions!$B$5="",Assumptions!$B$6="",Assumptions!$B$5<Assumptions!$B$4,COUNTBLANK(Assumptions!$A$9:$A$15)>0),"Check assumptions",IF($J24="","Add status",IF($F24="","Add effective date",IF(AND($E24<>"",$F24<$E24),"Date sequence check",IF(OR($J24=Assumptions!$A$13,$J24=Assumptions!$A$14,$J24=Assumptions!$A$15),"Closed",IF(AND($L24<>"",$L24>$F24),"Follow-up after effective - review",IF($F24<Assumptions!$B$2,"Past effective date - review",IF(AND($L24<>"",$L24<=Assumptions!$B$2),"Follow-up due",IF($F24-Assumptions!$B$2<=Assumptions!$B$3,"Effective soon",IF($L24="","Add follow-up date","Monitor")))))))))))
O25: =IF(OR($A25="",$F25="",Assumptions!$B$2=""),"",IFERROR($F25-Assumptions!$B$2,"")) | P25: =IF(OR($A25="",$E25="",$F25=""),"",IFERROR($F25-$E25,"")) | Q25: =IF($A25="","",IF(OR(Assumptions!$B$2="",Assumptions!$B$3="",Assumptions!$B$4="",Assumptions!$B$5="",Assumptions!$B$6="",Assumptions!$B$5<Assumptions!$B$4,COUNTBLANK(Assumptions!$A$9:$A$15)>0),"Check assumptions",IF($J25="","Add status",IF($F25="","Add effective date",IF(AND($E25<>"",$F25<$E25),"Date sequence check",IF(OR($J25=Assumptions!$A$13,$J25=Assumptions!$A$14,$J25=Assumptions!$A$15),"Closed",IF(AND($L25<>"",$L25>$F25),"Follow-up after effective - review",IF($F25<Assumptions!$B$2,"Past effective date - review",IF(AND($L25<>"",$L25<=Assumptions!$B$2),"Follow-up due",IF($F25-Assumptions!$B$2<=Assumptions!$B$3,"Effective soon",IF($L25="","Add follow-up date","Monitor")))))))))))
O26: =IF(OR($A26="",$F26="",Assumptions!$B$2=""),"",IFERROR($F26-Assumptions!$B$2,"")) | P26: =IF(OR($A26="",$E26="",$F26=""),"",IFERROR($F26-$E26,"")) | Q26: =IF($A26="","",IF(OR(Assumptions!$B$2="",Assumptions!$B$3="",Assumptions!$B$4="",Assumptions!$B$5="",Assumptions!$B$6="",Assumptions!$B$5<Assumptions!$B$4,COUNTBLANK(Assumptions!$A$9:$A$15)>0),"Check assumptions",IF($J26="","Add status",IF($F26="","Add effective date",IF(AND($E26<>"",$F26<$E26),"Date sequence check",IF(OR($J26=Assumptions!$A$13,$J26=Assumptions!$A$14,$J26=Assumptions!$A$15),"Closed",IF(AND($L26<>"",$L26>$F26),"Follow-up after effective - review",IF($F26<Assumptions!$B$2,"Past effective date - review",IF(AND($L26<>"",$L26<=Assumptions!$B$2),"Follow-up due",IF($F26-Assumptions!$B$2<=Assumptions!$B$3,"Effective soon",IF($L26="","Add follow-up date","Monitor")))))))))))
... O124: =IF(OR($A124="",$F124="",Assumptions!$B$2=""),"",IFERROR($F124-Assumptions!$B$2,"")) | P124: =IF(OR($A124="",$E124="",$F124=""),"",IFERROR($F124-$E124,"")) | Q124: =IF($A124="","",IF(OR(Assumptions!$B$2="",Assumptions!$B$3="",Assumptions!$B$4="",Assumptions!$B$5="",Assumptions!$B$6="",Assumptions!$B$5<Assumptions!$B$4,COUNTBLANK(Assumptions!$A$9:$A$15)>0),"Check assumptions",IF($J124="","Add status",IF($F124="","Add effective date",IF(AND($E124<>"",$F124<$E124),"Date sequence check",IF(OR($J124=Assumptions!$A$13,$J124=Assumptions!$A$14,$J124=Assumptions!$A$15),"Closed",IF(AND($L124<>"",$L124>$F124),"Follow-up after effective - review",IF($F124<Assumptions!$B$2,"Past effective date - review",IF(AND($L124<>"",$L124<=Assumptions!$B$2),"Follow-up due",IF($F124-Assumptions!$B$2<=Assumptions!$B$3,"Effective soon",IF($L124="","Add follow-up date","Monitor")))))))))))

Sheet Assumptions
A1: Cancellation Tracker Assumptions
A2: Review date | B2: 46275 | C2: Used for days remaining and time-based review prompts.
A3: Warning horizon (days) | B3: 7 | C3: Records at or below this many calendar days are marked effective soon.
A4: Earliest accepted record date | B4: 44197 | C4: Editable lower limit for entered notice and activity dates.
A5: Latest accepted record date | B5: 50040 | C5: Editable upper limit for entered notice and activity dates.
A6: Maximum annual premium input | B6: 10000000 | C6: Administrative data-entry limit; not a pricing or coverage limit.
A7: Edit the yellow cells as needed. Alerts are prompts for human review and do not confirm policy status.
A8: Status | B8: Reason | C8: Owner | D8: Outcome | E8: Carrier
A9: New Notice | B9: Nonpayment notice | C9: Avery Demo (Fictional) | D9: Pending | E9: Fictional Harbor Mutual (Fictional)
A10: Contact Needed | B10: Insured requested cancellation | C10: Jordan Sample (Fictional) | D10: Policy Retained | E10: Imaginary Prairie Indemnity (Fictional)
A11: Save in Progress | B11: Underwriting notice | C11: Morgan Example (Fictional) | D11: Cancellation Completed | E11: Sample Summit Casualty (Fictional)
A12: Pending Decision | B12: Carrier withdrawal notice | C12: Riley Test (Fictional) | D12: Closed - Other | E12: Demo Lantern Insurance (Fictional)
A13: Policy Retained | B13: Duplicate policy cleanup | C13: Casey Placeholder (Fictional) | E13: Placeholder Valley Underwriters (Fictional)
A14: Cancellation Confirmed | B14: Policy replacement request
A15: Closed - Other | B15: Other
