Workbook

Sheet Summary
A1: Insurance Policy Document Checklist Summary
A2: Calculated indicators from the fictional administrative records on the Checklist sheet.
A4: Total Tracked | C4: Required Items | E4: Received Required | G4: Completion Rate
A5: =COUNTIF(Checklist!$A$5:$A$104,"<>") | C5: =COUNTIFS(Checklist!$A$5:$A$104,"<>",Checklist!$F$5:$F$104,"Yes") | E5: =COUNTIFS(Checklist!$A$5:$A$104,"<>",Checklist!$F$5:$F$104,"Yes",Checklist!$I$5:$I$104,"<>") | G5: =IFERROR(E5/C5,0)
A7: Open Required | C7: Due Soon | E7: Overdue | G7: Marked Follow-Up
A8: =COUNTIFS(Checklist!$A$5:$A$104,"<>",Checklist!$F$5:$F$104,"Yes",Checklist!$I$5:$I$104,"",Checklist!$J$5:$J$104,"<>Not Applicable") | C8: =COUNTIF(Checklist!$N$5:$N$104,"Due Soon") | E8: =COUNTIF(Checklist!$N$5:$N$104,"Overdue") | G8: =COUNTIF(Checklist!$J$5:$J$104,"Needs Follow-Up")
A11: Timing | B11: Count
A12: Received On Time | B12: =COUNTIF(Checklist!$N$5:$N$104,A12)
A13: Received Late | B13: =COUNTIF(Checklist!$N$5:$N$104,A13)
A14: Open | B14: =COUNTIF(Checklist!$N$5:$N$104,A14)
A15: Due Soon | B15: =COUNTIF(Checklist!$N$5:$N$104,A15)
A16: Overdue | B16: =COUNTIF(Checklist!$N$5:$N$104,A16)

Sheet Checklist
A1: Insurance Policy Document Checklist
A2: Administrative checklist for application, quote, binder, issued-policy, and related documents. All examples are fictional.
A3: Yellow cells are editable. Alerts prompt a human check and do not verify external records.
A4: Checklist ID | B4: Client or Account | C4: Policy or Transaction Ref | D4: Transaction Type | E4: Document Type | F4: Required? | G4: Requested Date | H4: Due Date | I4: Received Date | J4: Review Status | K4: Owner | L4: Administrative Notes | M4: Days Open | N4: Timing | O4: Attention
A5: TEST-CHK-001 | B5: Fictional Acorn Bakery LLC | C5: TEST-POL-1001 | D5: New Business | E5: Application | F5: Yes | G5: 46259 | H5: 46266 | I5: 46263 | J5: Reviewed | K5: Jordan Vale (Fictional) | L5: Signed application reviewed. | M5: =IF($A5="","",IFERROR(IF(OR($F5="No",$J5="Not Applicable"),"",IF($G5="","",IF($I5<>"",MAX(0,$I5-$G5),MAX(0,TODAY()-$G5)))),"")) | N5: =IF($A5="","",IFERROR(IF($F5="No","Not Required",IF($J5="Not Applicable","Not Applicable",IF($I5<>"",IF($H5="","Received",IF($I5<=$H5,"Received On Time","Received Late")),IF($H5="","No Due Date",IF(TODAY()>$H5,"Overdue",IF(TODAY()+Assumptions!$B$5>=$H5,"Due Soon","Open")))))),"Check Inputs")) | O5: =IF($A5="","",IFERROR(IF($F5="","Set required flag",IF($J5="","Set review status",IF(AND(OR($H5<>"",$I5<>""),$G5=""),"Add requested date",IF(AND($G5<>"",$H5<>"",$H5<$G5),"Check dates",IF(AND($G5<>"",$I5<>"",$I5<$G5),"Check dates",IF(AND($F5="Yes",$H5=""),"Set due date",IF(AND(OR($J5="Received",$J5="Reviewed"),$I5=""),"Add received date",IF(AND($I5<>"",NOT(OR($J5="Received",$J5="Reviewed",$J5="Needs Follow-Up"))),"Align status/date",IF($J5="Needs Follow-Up","Human follow-up",IF($N5="Overdue","Human follow-up",IF($N5="Due Soon","Review soon","OK"))))))))))),"Check inputs"))
A6: TEST-CHK-002 | B6: Fictional Acorn Bakery LLC | C6: TEST-POL-1001 | D6: New Business | E6: Quote | F6: Yes | G6: 46259 | H6: 46262 | I6: 46261 | J6: Reviewed | K6: Jordan Vale (Fictional) | L6: Quote copy filed for reference. | M6: =IF($A6="","",IFERROR(IF(OR($F6="No",$J6="Not Applicable"),"",IF($G6="","",IF($I6<>"",MAX(0,$I6-$G6),MAX(0,TODAY()-$G6)))),"")) | N6: =IF($A6="","",IFERROR(IF($F6="No","Not Required",IF($J6="Not Applicable","Not Applicable",IF($I6<>"",IF($H6="","Received",IF($I6<=$H6,"Received On Time","Received Late")),IF($H6="","No Due Date",IF(TODAY()>$H6,"Overdue",IF(TODAY()+Assumptions!$B$5>=$H6,"Due Soon","Open")))))),"Check Inputs")) | O6: =IF($A6="","",IFERROR(IF($F6="","Set required flag",IF($J6="","Set review status",IF(AND(OR($H6<>"",$I6<>""),$G6=""),"Add requested date",IF(AND($G6<>"",$H6<>"",$H6<$G6),"Check dates",IF(AND($G6<>"",$I6<>"",$I6<$G6),"Check dates",IF(AND($F6="Yes",$H6=""),"Set due date",IF(AND(OR($J6="Received",$J6="Reviewed"),$I6=""),"Add received date",IF(AND($I6<>"",NOT(OR($J6="Received",$J6="Reviewed",$J6="Needs Follow-Up"))),"Align status/date",IF($J6="Needs Follow-Up","Human follow-up",IF($N6="Overdue","Human follow-up",IF($N6="Due Soon","Review soon","OK"))))))))))),"Check inputs"))
A7: TEST-CHK-003 | B7: Fictional Acorn Bakery LLC | C7: TEST-POL-1001 | D7: New Business | E7: Binder | F7: Yes | G7: 46263 | H7: 46264 | I7: 46264 | J7: Received | K7: Casey Rowan (Fictional) | L7: Binder received on the due date. | M7: =IF($A7="","",IFERROR(IF(OR($F7="No",$J7="Not Applicable"),"",IF($G7="","",IF($I7<>"",MAX(0,$I7-$G7),MAX(0,TODAY()-$G7)))),"")) | N7: =IF($A7="","",IFERROR(IF($F7="No","Not Required",IF($J7="Not Applicable","Not Applicable",IF($I7<>"",IF($H7="","Received",IF($I7<=$H7,"Received On Time","Received Late")),IF($H7="","No Due Date",IF(TODAY()>$H7,"Overdue",IF(TODAY()+Assumptions!$B$5>=$H7,"Due Soon","Open")))))),"Check Inputs")) | O7: =IF($A7="","",IFERROR(IF($F7="","Set required flag",IF($J7="","Set review status",IF(AND(OR($H7<>"",$I7<>""),$G7=""),"Add requested date",IF(AND($G7<>"",$H7<>"",$H7<$G7),"Check dates",IF(AND($G7<>"",$I7<>"",$I7<$G7),"Check dates",IF(AND($F7="Yes",$H7=""),"Set due date",IF(AND(OR($J7="Received",$J7="Reviewed"),$I7=""),"Add received date",IF(AND($I7<>"",NOT(OR($J7="Received",$J7="Reviewed",$J7="Needs Follow-Up"))),"Align status/date",IF($J7="Needs Follow-Up","Human follow-up",IF($N7="Overdue","Human follow-up",IF($N7="Due Soon","Review soon","OK"))))))))))),"Check inputs"))
A8: TEST-CHK-004 | B8: Fictional Acorn Bakery LLC | C8: TEST-POL-1001 | D8: New Business | E8: Issued Policy | F8: Yes | G8: 46264 | H8: 46273 | J8: Requested | K8: Casey Rowan (Fictional) | L8: Human follow-up is pending. | M8: =IF($A8="","",IFERROR(IF(OR($F8="No",$J8="Not Applicable"),"",IF($G8="","",IF($I8<>"",MAX(0,$I8-$G8),MAX(0,TODAY()-$G8)))),"")) | N8: =IF($A8="","",IFERROR(IF($F8="No","Not Required",IF($J8="Not Applicable","Not Applicable",IF($I8<>"",IF($H8="","Received",IF($I8<=$H8,"Received On Time","Received Late")),IF($H8="","No Due Date",IF(TODAY()>$H8,"Overdue",IF(TODAY()+Assumptions!$B$5>=$H8,"Due Soon","Open")))))),"Check Inputs")) | O8: =IF($A8="","",IFERROR(IF($F8="","Set required flag",IF($J8="","Set review status",IF(AND(OR($H8<>"",$I8<>""),$G8=""),"Add requested date",IF(AND($G8<>"",$H8<>"",$H8<$G8),"Check dates",IF(AND($G8<>"",$I8<>"",$I8<$G8),"Check dates",IF(AND($F8="Yes",$H8=""),"Set due date",IF(AND(OR($J8="Received",$J8="Reviewed"),$I8=""),"Add received date",IF(AND($I8<>"",NOT(OR($J8="Received",$J8="Reviewed",$J8="Needs Follow-Up"))),"Align status/date",IF($J8="Needs Follow-Up","Human follow-up",IF($N8="Overdue","Human follow-up",IF($N8="Due Soon","Review soon","OK"))))))))))),"Check inputs"))
A9: TEST-CHK-005 | B9: Fictional Blue Kite Repair Co. | C9: TEST-POL-1002 | D9: Renewal | E9: Application | F9: Yes | G9: 46266 | H9: 46277 | J9: Requested | K9: Morgan Pike (Fictional) | L9: Awaiting the fictional account response. | M9: =IF($A9="","",IFERROR(IF(OR($F9="No",$J9="Not Applicable"),"",IF($G9="","",IF($I9<>"",MAX(0,$I9-$G9),MAX(0,TODAY()-$G9)))),"")) | N9: =IF($A9="","",IFERROR(IF($F9="No","Not Required",IF($J9="Not Applicable","Not Applicable",IF($I9<>"",IF($H9="","Received",IF($I9<=$H9,"Received On Time","Received Late")),IF($H9="","No Due Date",IF(TODAY()>$H9,"Overdue",IF(TODAY()+Assumptions!$B$5>=$H9,"Due Soon","Open")))))),"Check Inputs")) | O9: =IF($A9="","",IFERROR(IF($F9="","Set required flag",IF($J9="","Set review status",IF(AND(OR($H9<>"",$I9<>""),$G9=""),"Add requested date",IF(AND($G9<>"",$H9<>"",$H9<$G9),"Check dates",IF(AND($G9<>"",$I9<>"",$I9<$G9),"Check dates",IF(AND($F9="Yes",$H9=""),"Set due date",IF(AND(OR($J9="Received",$J9="Reviewed"),$I9=""),"Add received date",IF(AND($I9<>"",NOT(OR($J9="Received",$J9="Reviewed",$J9="Needs Follow-Up"))),"Align status/date",IF($J9="Needs Follow-Up","Human follow-up",IF($N9="Overdue","Human follow-up",IF($N9="Due Soon","Review soon","OK"))))))))))),"Check inputs"))
A10: TEST-CHK-006 | B10: Fictional Blue Kite Repair Co. | C10: TEST-POL-1002 | D10: Renewal | E10: Quote | F10: Yes | G10: 46266 | H10: 46270 | I10: 46272 | J10: Needs Follow-Up | K10: Morgan Pike (Fictional) | L10: Late receipt requires a human review. | M10: =IF($A10="","",IFERROR(IF(OR($F10="No",$J10="Not Applicable"),"",IF($G10="","",IF($I10<>"",MAX(0,$I10-$G10),MAX(0,TODAY()-$G10)))),"")) | N10: =IF($A10="","",IFERROR(IF($F10="No","Not Required",IF($J10="Not Applicable","Not Applicable",IF($I10<>"",IF($H10="","Received",IF($I10<=$H10,"Received On Time","Received Late")),IF($H10="","No Due Date",IF(TODAY()>$H10,"Overdue",IF(TODAY()+Assumptions!$B$5>=$H10,"Due Soon","Open")))))),"Check Inputs")) | O10: =IF($A10="","",IFERROR(IF($F10="","Set required flag",IF($J10="","Set review status",IF(AND(OR($H10<>"",$I10<>""),$G10=""),"Add requested date",IF(AND($G10<>"",$H10<>"",$H10<$G10),"Check dates",IF(AND($G10<>"",$I10<>"",$I10<$G10),"Check dates",IF(AND($F10="Yes",$H10=""),"Set due date",IF(AND(OR($J10="Received",$J10="Reviewed"),$I10=""),"Add received date",IF(AND($I10<>"",NOT(OR($J10="Received",$J10="Reviewed",$J10="Needs Follow-Up"))),"Align status/date",IF($J10="Needs Follow-Up","Human follow-up",IF($N10="Overdue","Human follow-up",IF($N10="Due Soon","Review soon","OK"))))))))))),"Check inputs"))
A11: TEST-CHK-007 | B11: Fictional Blue Kite Repair Co. | C11: TEST-POL-1002 | D11: Renewal | E11: Issued Policy | F11: Yes | G11: 46272 | H11: 46285 | J11: Not Started | K11: Taylor Elm (Fictional) | L11: Future administrative due date. | M11: =IF($A11="","",IFERROR(IF(OR($F11="No",$J11="Not Applicable"),"",IF($G11="","",IF($I11<>"",MAX(0,$I11-$G11),MAX(0,TODAY()-$G11)))),"")) | N11: =IF($A11="","",IFERROR(IF($F11="No","Not Required",IF($J11="Not Applicable","Not Applicable",IF($I11<>"",IF($H11="","Received",IF($I11<=$H11,"Received On Time","Received Late")),IF($H11="","No Due Date",IF(TODAY()>$H11,"Overdue",IF(TODAY()+Assumptions!$B$5>=$H11,"Due Soon","Open")))))),"Check Inputs")) | O11: =IF($A11="","",IFERROR(IF($F11="","Set required flag",IF($J11="","Set review status",IF(AND(OR($H11<>"",$I11<>""),$G11=""),"Add requested date",IF(AND($G11<>"",$H11<>"",$H11<$G11),"Check dates",IF(AND($G11<>"",$I11<>"",$I11<$G11),"Check dates",IF(AND($F11="Yes",$H11=""),"Set due date",IF(AND(OR($J11="Received",$J11="Reviewed"),$I11=""),"Add received date",IF(AND($I11<>"",NOT(OR($J11="Received",$J11="Reviewed",$J11="Needs Follow-Up"))),"Align status/date",IF($J11="Needs Follow-Up","Human follow-up",IF($N11="Overdue","Human follow-up",IF($N11="Due Soon","Review soon","OK"))))))))))),"Check inputs"))
A12: TEST-CHK-008 | B12: Fictional Cedar Finch Studio LLC | C12: TEST-POL-1003 | D12: Endorsement | E12: Endorsement | F12: Yes | G12: 46268 | H12: 46274 | I12: 46274 | J12: Reviewed | K12: Taylor Elm (Fictional) | L12: Endorsement document reviewed. | M12: =IF($A12="","",IFERROR(IF(OR($F12="No",$J12="Not Applicable"),"",IF($G12="","",IF($I12<>"",MAX(0,$I12-$G12),MAX(0,TODAY()-$G12)))),"")) | N12: =IF($A12="","",IFERROR(IF($F12="No","Not Required",IF($J12="Not Applicable","Not Applicable",IF($I12<>"",IF($H12="","Received",IF($I12<=$H12,"Received On Time","Received Late")),IF($H12="","No Due Date",IF(TODAY()>$H12,"Overdue",IF(TODAY()+Assumptions!$B$5>=$H12,"Due Soon","Open")))))),"Check Inputs")) | O12: =IF($A12="","",IFERROR(IF($F12="","Set required flag",IF($J12="","Set review status",IF(AND(OR($H12<>"",$I12<>""),$G12=""),"Add requested date",IF(AND($G12<>"",$H12<>"",$H12<$G12),"Check dates",IF(AND($G12<>"",$I12<>"",$I12<$G12),"Check dates",IF(AND($F12="Yes",$H12=""),"Set due date",IF(AND(OR($J12="Received",$J12="Reviewed"),$I12=""),"Add received date",IF(AND($I12<>"",NOT(OR($J12="Received",$J12="Reviewed",$J12="Needs Follow-Up"))),"Align status/date",IF($J12="Needs Follow-Up","Human follow-up",IF($N12="Overdue","Human follow-up",IF($N12="Due Soon","Review soon","OK"))))))))))),"Check inputs"))
A13: TEST-CHK-009 | B13: Fictional Cedar Finch Studio LLC | C13: TEST-POL-1003 | D13: Endorsement | E13: Proof of Prior Insurance | F13: No | J13: Not Applicable | K13: Taylor Elm (Fictional) | L13: Not required for this fictional transaction. | M13: =IF($A13="","",IFERROR(IF(OR($F13="No",$J13="Not Applicable"),"",IF($G13="","",IF($I13<>"",MAX(0,$I13-$G13),MAX(0,TODAY()-$G13)))),"")) | N13: =IF($A13="","",IFERROR(IF($F13="No","Not Required",IF($J13="Not Applicable","Not Applicable",IF($I13<>"",IF($H13="","Received",IF($I13<=$H13,"Received On Time","Received Late")),IF($H13="","No Due Date",IF(TODAY()>$H13,"Overdue",IF(TODAY()+Assumptions!$B$5>=$H13,"Due Soon","Open")))))),"Check Inputs")) | O13: =IF($A13="","",IFERROR(IF($F13="","Set required flag",IF($J13="","Set review status",IF(AND(OR($H13<>"",$I13<>""),$G13=""),"Add requested date",IF(AND($G13<>"",$H13<>"",$H13<$G13),"Check dates",IF(AND($G13<>"",$I13<>"",$I13<$G13),"Check dates",IF(AND($F13="Yes",$H13=""),"Set due date",IF(AND(OR($J13="Received",$J13="Reviewed"),$I13=""),"Add received date",IF(AND($I13<>"",NOT(OR($J13="Received",$J13="Reviewed",$J13="Needs Follow-Up"))),"Align status/date",IF($J13="Needs Follow-Up","Human follow-up",IF($N13="Overdue","Human follow-up",IF($N13="Due Soon","Review soon","OK"))))))))))),"Check inputs"))
A14: TEST-CHK-010 | B14: Fictional Driftwood Pet Goods LLC | C14: TEST-POL-1004 | D14: New Business | E14: Signed Disclosure | F14: Yes | G14: 46270 | J14: Requested | K14: Jordan Vale (Fictional) | L14: Due date needs a human entry. | M14: =IF($A14="","",IFERROR(IF(OR($F14="No",$J14="Not Applicable"),"",IF($G14="","",IF($I14<>"",MAX(0,$I14-$G14),MAX(0,TODAY()-$G14)))),"")) | N14: =IF($A14="","",IFERROR(IF($F14="No","Not Required",IF($J14="Not Applicable","Not Applicable",IF($I14<>"",IF($H14="","Received",IF($I14<=$H14,"Received On Time","Received Late")),IF($H14="","No Due Date",IF(TODAY()>$H14,"Overdue",IF(TODAY()+Assumptions!$B$5>=$H14,"Due Soon","Open")))))),"Check Inputs")) | O14: =IF($A14="","",IFERROR(IF($F14="","Set required flag",IF($J14="","Set review status",IF(AND(OR($H14<>"",$I14<>""),$G14=""),"Add requested date",IF(AND($G14<>"",$H14<>"",$H14<$G14),"Check dates",IF(AND($G14<>"",$I14<>"",$I14<$G14),"Check dates",IF(AND($F14="Yes",$H14=""),"Set due date",IF(AND(OR($J14="Received",$J14="Reviewed"),$I14=""),"Add received date",IF(AND($I14<>"",NOT(OR($J14="Received",$J14="Reviewed",$J14="Needs Follow-Up"))),"Align status/date",IF($J14="Needs Follow-Up","Human follow-up",IF($N14="Overdue","Human follow-up",IF($N14="Due Soon","Review soon","OK"))))))))))),"Check inputs"))
M15: =IF($A15="","",IFERROR(IF(OR($F15="No",$J15="Not Applicable"),"",IF($G15="","",IF($I15<>"",MAX(0,$I15-$G15),MAX(0,TODAY()-$G15)))),"")) | N15: =IF($A15="","",IFERROR(IF($F15="No","Not Required",IF($J15="Not Applicable","Not Applicable",IF($I15<>"",IF($H15="","Received",IF($I15<=$H15,"Received On Time","Received Late")),IF($H15="","No Due Date",IF(TODAY()>$H15,"Overdue",IF(TODAY()+Assumptions!$B$5>=$H15,"Due Soon","Open")))))),"Check Inputs")) | O15: =IF($A15="","",IFERROR(IF($F15="","Set required flag",IF($J15="","Set review status",IF(AND(OR($H15<>"",$I15<>""),$G15=""),"Add requested date",IF(AND($G15<>"",$H15<>"",$H15<$G15),"Check dates",IF(AND($G15<>"",$I15<>"",$I15<$G15),"Check dates",IF(AND($F15="Yes",$H15=""),"Set due date",IF(AND(OR($J15="Received",$J15="Reviewed"),$I15=""),"Add received date",IF(AND($I15<>"",NOT(OR($J15="Received",$J15="Reviewed",$J15="Needs Follow-Up"))),"Align status/date",IF($J15="Needs Follow-Up","Human follow-up",IF($N15="Overdue","Human follow-up",IF($N15="Due Soon","Review soon","OK"))))))))))),"Check inputs"))
M16: =IF($A16="","",IFERROR(IF(OR($F16="No",$J16="Not Applicable"),"",IF($G16="","",IF($I16<>"",MAX(0,$I16-$G16),MAX(0,TODAY()-$G16)))),"")) | N16: =IF($A16="","",IFERROR(IF($F16="No","Not Required",IF($J16="Not Applicable","Not Applicable",IF($I16<>"",IF($H16="","Received",IF($I16<=$H16,"Received On Time","Received Late")),IF($H16="","No Due Date",IF(TODAY()>$H16,"Overdue",IF(TODAY()+Assumptions!$B$5>=$H16,"Due Soon","Open")))))),"Check Inputs")) | O16: =IF($A16="","",IFERROR(IF($F16="","Set required flag",IF($J16="","Set review status",IF(AND(OR($H16<>"",$I16<>""),$G16=""),"Add requested date",IF(AND($G16<>"",$H16<>"",$H16<$G16),"Check dates",IF(AND($G16<>"",$I16<>"",$I16<$G16),"Check dates",IF(AND($F16="Yes",$H16=""),"Set due date",IF(AND(OR($J16="Received",$J16="Reviewed"),$I16=""),"Add received date",IF(AND($I16<>"",NOT(OR($J16="Received",$J16="Reviewed",$J16="Needs Follow-Up"))),"Align status/date",IF($J16="Needs Follow-Up","Human follow-up",IF($N16="Overdue","Human follow-up",IF($N16="Due Soon","Review soon","OK"))))))))))),"Check inputs"))
M17: =IF($A17="","",IFERROR(IF(OR($F17="No",$J17="Not Applicable"),"",IF($G17="","",IF($I17<>"",MAX(0,$I17-$G17),MAX(0,TODAY()-$G17)))),"")) | N17: =IF($A17="","",IFERROR(IF($F17="No","Not Required",IF($J17="Not Applicable","Not Applicable",IF($I17<>"",IF($H17="","Received",IF($I17<=$H17,"Received On Time","Received Late")),IF($H17="","No Due Date",IF(TODAY()>$H17,"Overdue",IF(TODAY()+Assumptions!$B$5>=$H17,"Due Soon","Open")))))),"Check Inputs")) | O17: =IF($A17="","",IFERROR(IF($F17="","Set required flag",IF($J17="","Set review status",IF(AND(OR($H17<>"",$I17<>""),$G17=""),"Add requested date",IF(AND($G17<>"",$H17<>"",$H17<$G17),"Check dates",IF(AND($G17<>"",$I17<>"",$I17<$G17),"Check dates",IF(AND($F17="Yes",$H17=""),"Set due date",IF(AND(OR($J17="Received",$J17="Reviewed"),$I17=""),"Add received date",IF(AND($I17<>"",NOT(OR($J17="Received",$J17="Reviewed",$J17="Needs Follow-Up"))),"Align status/date",IF($J17="Needs Follow-Up","Human follow-up",IF($N17="Overdue","Human follow-up",IF($N17="Due Soon","Review soon","OK"))))))))))),"Check inputs"))
M18: =IF($A18="","",IFERROR(IF(OR($F18="No",$J18="Not Applicable"),"",IF($G18="","",IF($I18<>"",MAX(0,$I18-$G18),MAX(0,TODAY()-$G18)))),"")) | N18: =IF($A18="","",IFERROR(IF($F18="No","Not Required",IF($J18="Not Applicable","Not Applicable",IF($I18<>"",IF($H18="","Received",IF($I18<=$H18,"Received On Time","Received Late")),IF($H18="","No Due Date",IF(TODAY()>$H18,"Overdue",IF(TODAY()+Assumptions!$B$5>=$H18,"Due Soon","Open")))))),"Check Inputs")) | O18: =IF($A18="","",IFERROR(IF($F18="","Set required flag",IF($J18="","Set review status",IF(AND(OR($H18<>"",$I18<>""),$G18=""),"Add requested date",IF(AND($G18<>"",$H18<>"",$H18<$G18),"Check dates",IF(AND($G18<>"",$I18<>"",$I18<$G18),"Check dates",IF(AND($F18="Yes",$H18=""),"Set due date",IF(AND(OR($J18="Received",$J18="Reviewed"),$I18=""),"Add received date",IF(AND($I18<>"",NOT(OR($J18="Received",$J18="Reviewed",$J18="Needs Follow-Up"))),"Align status/date",IF($J18="Needs Follow-Up","Human follow-up",IF($N18="Overdue","Human follow-up",IF($N18="Due Soon","Review soon","OK"))))))))))),"Check inputs"))
M19: =IF($A19="","",IFERROR(IF(OR($F19="No",$J19="Not Applicable"),"",IF($G19="","",IF($I19<>"",MAX(0,$I19-$G19),MAX(0,TODAY()-$G19)))),"")) | N19: =IF($A19="","",IFERROR(IF($F19="No","Not Required",IF($J19="Not Applicable","Not Applicable",IF($I19<>"",IF($H19="","Received",IF($I19<=$H19,"Received On Time","Received Late")),IF($H19="","No Due Date",IF(TODAY()>$H19,"Overdue",IF(TODAY()+Assumptions!$B$5>=$H19,"Due Soon","Open")))))),"Check Inputs")) | O19: =IF($A19="","",IFERROR(IF($F19="","Set required flag",IF($J19="","Set review status",IF(AND(OR($H19<>"",$I19<>""),$G19=""),"Add requested date",IF(AND($G19<>"",$H19<>"",$H19<$G19),"Check dates",IF(AND($G19<>"",$I19<>"",$I19<$G19),"Check dates",IF(AND($F19="Yes",$H19=""),"Set due date",IF(AND(OR($J19="Received",$J19="Reviewed"),$I19=""),"Add received date",IF(AND($I19<>"",NOT(OR($J19="Received",$J19="Reviewed",$J19="Needs Follow-Up"))),"Align status/date",IF($J19="Needs Follow-Up","Human follow-up",IF($N19="Overdue","Human follow-up",IF($N19="Due Soon","Review soon","OK"))))))))))),"Check inputs"))
M20: =IF($A20="","",IFERROR(IF(OR($F20="No",$J20="Not Applicable"),"",IF($G20="","",IF($I20<>"",MAX(0,$I20-$G20),MAX(0,TODAY()-$G20)))),"")) | N20: =IF($A20="","",IFERROR(IF($F20="No","Not Required",IF($J20="Not Applicable","Not Applicable",IF($I20<>"",IF($H20="","Received",IF($I20<=$H20,"Received On Time","Received Late")),IF($H20="","No Due Date",IF(TODAY()>$H20,"Overdue",IF(TODAY()+Assumptions!$B$5>=$H20,"Due Soon","Open")))))),"Check Inputs")) | O20: =IF($A20="","",IFERROR(IF($F20="","Set required flag",IF($J20="","Set review status",IF(AND(OR($H20<>"",$I20<>""),$G20=""),"Add requested date",IF(AND($G20<>"",$H20<>"",$H20<$G20),"Check dates",IF(AND($G20<>"",$I20<>"",$I20<$G20),"Check dates",IF(AND($F20="Yes",$H20=""),"Set due date",IF(AND(OR($J20="Received",$J20="Reviewed"),$I20=""),"Add received date",IF(AND($I20<>"",NOT(OR($J20="Received",$J20="Reviewed",$J20="Needs Follow-Up"))),"Align status/date",IF($J20="Needs Follow-Up","Human follow-up",IF($N20="Overdue","Human follow-up",IF($N20="Due Soon","Review soon","OK"))))))))))),"Check inputs"))
M21: =IF($A21="","",IFERROR(IF(OR($F21="No",$J21="Not Applicable"),"",IF($G21="","",IF($I21<>"",MAX(0,$I21-$G21),MAX(0,TODAY()-$G21)))),"")) | N21: =IF($A21="","",IFERROR(IF($F21="No","Not Required",IF($J21="Not Applicable","Not Applicable",IF($I21<>"",IF($H21="","Received",IF($I21<=$H21,"Received On Time","Received Late")),IF($H21="","No Due Date",IF(TODAY()>$H21,"Overdue",IF(TODAY()+Assumptions!$B$5>=$H21,"Due Soon","Open")))))),"Check Inputs")) | O21: =IF($A21="","",IFERROR(IF($F21="","Set required flag",IF($J21="","Set review status",IF(AND(OR($H21<>"",$I21<>""),$G21=""),"Add requested date",IF(AND($G21<>"",$H21<>"",$H21<$G21),"Check dates",IF(AND($G21<>"",$I21<>"",$I21<$G21),"Check dates",IF(AND($F21="Yes",$H21=""),"Set due date",IF(AND(OR($J21="Received",$J21="Reviewed"),$I21=""),"Add received date",IF(AND($I21<>"",NOT(OR($J21="Received",$J21="Reviewed",$J21="Needs Follow-Up"))),"Align status/date",IF($J21="Needs Follow-Up","Human follow-up",IF($N21="Overdue","Human follow-up",IF($N21="Due Soon","Review soon","OK"))))))))))),"Check inputs"))
M22: =IF($A22="","",IFERROR(IF(OR($F22="No",$J22="Not Applicable"),"",IF($G22="","",IF($I22<>"",MAX(0,$I22-$G22),MAX(0,TODAY()-$G22)))),"")) | N22: =IF($A22="","",IFERROR(IF($F22="No","Not Required",IF($J22="Not Applicable","Not Applicable",IF($I22<>"",IF($H22="","Received",IF($I22<=$H22,"Received On Time","Received Late")),IF($H22="","No Due Date",IF(TODAY()>$H22,"Overdue",IF(TODAY()+Assumptions!$B$5>=$H22,"Due Soon","Open")))))),"Check Inputs")) | O22: =IF($A22="","",IFERROR(IF($F22="","Set required flag",IF($J22="","Set review status",IF(AND(OR($H22<>"",$I22<>""),$G22=""),"Add requested date",IF(AND($G22<>"",$H22<>"",$H22<$G22),"Check dates",IF(AND($G22<>"",$I22<>"",$I22<$G22),"Check dates",IF(AND($F22="Yes",$H22=""),"Set due date",IF(AND(OR($J22="Received",$J22="Reviewed"),$I22=""),"Add received date",IF(AND($I22<>"",NOT(OR($J22="Received",$J22="Reviewed",$J22="Needs Follow-Up"))),"Align status/date",IF($J22="Needs Follow-Up","Human follow-up",IF($N22="Overdue","Human follow-up",IF($N22="Due Soon","Review soon","OK"))))))))))),"Check inputs"))
M23: =IF($A23="","",IFERROR(IF(OR($F23="No",$J23="Not Applicable"),"",IF($G23="","",IF($I23<>"",MAX(0,$I23-$G23),MAX(0,TODAY()-$G23)))),"")) | N23: =IF($A23="","",IFERROR(IF($F23="No","Not Required",IF($J23="Not Applicable","Not Applicable",IF($I23<>"",IF($H23="","Received",IF($I23<=$H23,"Received On Time","Received Late")),IF($H23="","No Due Date",IF(TODAY()>$H23,"Overdue",IF(TODAY()+Assumptions!$B$5>=$H23,"Due Soon","Open")))))),"Check Inputs")) | O23: =IF($A23="","",IFERROR(IF($F23="","Set required flag",IF($J23="","Set review status",IF(AND(OR($H23<>"",$I23<>""),$G23=""),"Add requested date",IF(AND($G23<>"",$H23<>"",$H23<$G23),"Check dates",IF(AND($G23<>"",$I23<>"",$I23<$G23),"Check dates",IF(AND($F23="Yes",$H23=""),"Set due date",IF(AND(OR($J23="Received",$J23="Reviewed"),$I23=""),"Add received date",IF(AND($I23<>"",NOT(OR($J23="Received",$J23="Reviewed",$J23="Needs Follow-Up"))),"Align status/date",IF($J23="Needs Follow-Up","Human follow-up",IF($N23="Overdue","Human follow-up",IF($N23="Due Soon","Review soon","OK"))))))))))),"Check inputs"))
M24: =IF($A24="","",IFERROR(IF(OR($F24="No",$J24="Not Applicable"),"",IF($G24="","",IF($I24<>"",MAX(0,$I24-$G24),MAX(0,TODAY()-$G24)))),"")) | N24: =IF($A24="","",IFERROR(IF($F24="No","Not Required",IF($J24="Not Applicable","Not Applicable",IF($I24<>"",IF($H24="","Received",IF($I24<=$H24,"Received On Time","Received Late")),IF($H24="","No Due Date",IF(TODAY()>$H24,"Overdue",IF(TODAY()+Assumptions!$B$5>=$H24,"Due Soon","Open")))))),"Check Inputs")) | O24: =IF($A24="","",IFERROR(IF($F24="","Set required flag",IF($J24="","Set review status",IF(AND(OR($H24<>"",$I24<>""),$G24=""),"Add requested date",IF(AND($G24<>"",$H24<>"",$H24<$G24),"Check dates",IF(AND($G24<>"",$I24<>"",$I24<$G24),"Check dates",IF(AND($F24="Yes",$H24=""),"Set due date",IF(AND(OR($J24="Received",$J24="Reviewed"),$I24=""),"Add received date",IF(AND($I24<>"",NOT(OR($J24="Received",$J24="Reviewed",$J24="Needs Follow-Up"))),"Align status/date",IF($J24="Needs Follow-Up","Human follow-up",IF($N24="Overdue","Human follow-up",IF($N24="Due Soon","Review soon","OK"))))))))))),"Check inputs"))
M25: =IF($A25="","",IFERROR(IF(OR($F25="No",$J25="Not Applicable"),"",IF($G25="","",IF($I25<>"",MAX(0,$I25-$G25),MAX(0,TODAY()-$G25)))),"")) | N25: =IF($A25="","",IFERROR(IF($F25="No","Not Required",IF($J25="Not Applicable","Not Applicable",IF($I25<>"",IF($H25="","Received",IF($I25<=$H25,"Received On Time","Received Late")),IF($H25="","No Due Date",IF(TODAY()>$H25,"Overdue",IF(TODAY()+Assumptions!$B$5>=$H25,"Due Soon","Open")))))),"Check Inputs")) | O25: =IF($A25="","",IFERROR(IF($F25="","Set required flag",IF($J25="","Set review status",IF(AND(OR($H25<>"",$I25<>""),$G25=""),"Add requested date",IF(AND($G25<>"",$H25<>"",$H25<$G25),"Check dates",IF(AND($G25<>"",$I25<>"",$I25<$G25),"Check dates",IF(AND($F25="Yes",$H25=""),"Set due date",IF(AND(OR($J25="Received",$J25="Reviewed"),$I25=""),"Add received date",IF(AND($I25<>"",NOT(OR($J25="Received",$J25="Reviewed",$J25="Needs Follow-Up"))),"Align status/date",IF($J25="Needs Follow-Up","Human follow-up",IF($N25="Overdue","Human follow-up",IF($N25="Due Soon","Review soon","OK"))))))))))),"Check inputs"))
M26: =IF($A26="","",IFERROR(IF(OR($F26="No",$J26="Not Applicable"),"",IF($G26="","",IF($I26<>"",MAX(0,$I26-$G26),MAX(0,TODAY()-$G26)))),"")) | N26: =IF($A26="","",IFERROR(IF($F26="No","Not Required",IF($J26="Not Applicable","Not Applicable",IF($I26<>"",IF($H26="","Received",IF($I26<=$H26,"Received On Time","Received Late")),IF($H26="","No Due Date",IF(TODAY()>$H26,"Overdue",IF(TODAY()+Assumptions!$B$5>=$H26,"Due Soon","Open")))))),"Check Inputs")) | O26: =IF($A26="","",IFERROR(IF($F26="","Set required flag",IF($J26="","Set review status",IF(AND(OR($H26<>"",$I26<>""),$G26=""),"Add requested date",IF(AND($G26<>"",$H26<>"",$H26<$G26),"Check dates",IF(AND($G26<>"",$I26<>"",$I26<$G26),"Check dates",IF(AND($F26="Yes",$H26=""),"Set due date",IF(AND(OR($J26="Received",$J26="Reviewed"),$I26=""),"Add received date",IF(AND($I26<>"",NOT(OR($J26="Received",$J26="Reviewed",$J26="Needs Follow-Up"))),"Align status/date",IF($J26="Needs Follow-Up","Human follow-up",IF($N26="Overdue","Human follow-up",IF($N26="Due Soon","Review soon","OK"))))))))))),"Check inputs"))
... M104: =IF($A104="","",IFERROR(IF(OR($F104="No",$J104="Not Applicable"),"",IF($G104="","",IF($I104<>"",MAX(0,$I104-$G104),MAX(0,TODAY()-$G104)))),"")) | N104: =IF($A104="","",IFERROR(IF($F104="No","Not Required",IF($J104="Not Applicable","Not Applicable",IF($I104<>"",IF($H104="","Received",IF($I104<=$H104,"Received On Time","Received Late")),IF($H104="","No Due Date",IF(TODAY()>$H104,"Overdue",IF(TODAY()+Assumptions!$B$5>=$H104,"Due Soon","Open")))))),"Check Inputs")) | O104: =IF($A104="","",IFERROR(IF($F104="","Set required flag",IF($J104="","Set review status",IF(AND(OR($H104<>"",$I104<>""),$G104=""),"Add requested date",IF(AND($G104<>"",$H104<>"",$H104<$G104),"Check dates",IF(AND($G104<>"",$I104<>"",$I104<$G104),"Check dates",IF(AND($F104="Yes",$H104=""),"Set due date",IF(AND(OR($J104="Received",$J104="Reviewed"),$I104=""),"Add received date",IF(AND($I104<>"",NOT(OR($J104="Received",$J104="Reviewed",$J104="Needs Follow-Up"))),"Align status/date",IF($J104="Needs Follow-Up","Human follow-up",IF($N104="Overdue","Human follow-up",IF($N104="Due Soon","Review soon","OK"))))))))))),"Check inputs"))

Sheet Assumptions
A1: Checklist Assumptions and Editable Choices
A2: Edit yellow cells as agency procedures change. Add replacement choices only within the highlighted list slots.
A4: Control | B4: Value | C4: Administrative Purpose
A5: Due Soon Window (Days) | B5: 7 | C5: Number of days before a due date that displays a review-soon alert.
A6: Earliest Entry Date | B6: 43831 | C6: Earliest date accepted in checklist date fields.
A7: Latest Entry Date | B7: 73415 | C7: Latest date accepted in checklist date fields.
A8: Allowed Window Maximum (Days) | B8: 60 | C8: Visible upper limit used to validate the due-soon window.
A11: Transaction Types | B11: Document Types | C11: Required Choices | D11: Review Statuses | E11: Owner Choices
A12: New Business | B12: Application | C12: Yes | D12: Not Started | E12: Jordan Vale (Fictional)
A13: Renewal | B13: Quote | C13: No | D13: Requested | E13: Casey Rowan (Fictional)
A14: Endorsement | B14: Binder | D14: Received | E14: Morgan Pike (Fictional)
A15: Cancellation | B15: Issued Policy | D15: Reviewed | E15: Taylor Elm (Fictional)
A16: Reinstatement | B16: Signed Disclosure | D16: Needs Follow-Up
A17: Rewrite | B17: Loss Run | D17: Not Applicable
B18: ID Card
B19: Endorsement
B20: Cancellation Request
B21: Proof of Prior Insurance
