Workbook

Sheet Summary
A1: Insurance Policy Register Summary
A2: Indicators are calculated from the Policy Register. All sample records are fictional.
A4: Indicator | B4: Calculated Value | D4: Policy Status | E4: Policy Count
A5: As of Date | B5: =TODAY() | D5: =IF(Assumptions!$B$10="","",Assumptions!$B$10) | E5: =IF(D5="","",COUNTIF('Policy Register'!$G$5:$G$104,D5))
A6: Total Registered Policies | B6: =COUNTIF('Policy Register'!$A$5:$A$104,"<>") | D6: =IF(Assumptions!$B$11="","",Assumptions!$B$11) | E6: =IF(D6="","",COUNTIF('Policy Register'!$G$5:$G$104,D6))
A7: Active Policies | B7: =COUNTIF('Policy Register'!$G$5:$G$104,Assumptions!$B$10) | D7: =IF(Assumptions!$B$12="","",Assumptions!$B$12) | E7: =IF(D7="","",COUNTIF('Policy Register'!$G$5:$G$104,D7))
A8: Pending Policies | B8: =COUNTIF('Policy Register'!$G$5:$G$104,Assumptions!$B$11) | D8: =IF(Assumptions!$B$13="","",Assumptions!$B$13) | E8: =IF(D8="","",COUNTIF('Policy Register'!$G$5:$G$104,D8))
A9: Inactive Policies | B9: =COUNTIF('Policy Register'!$G$5:$G$104,Assumptions!$B$12)+COUNTIF('Policy Register'!$G$5:$G$104,Assumptions!$B$13)+COUNTIF('Policy Register'!$G$5:$G$104,Assumptions!$B$14) | D9: =IF(Assumptions!$B$14="","",Assumptions!$B$14) | E9: =IF(D9="","",COUNTIF('Policy Register'!$G$5:$G$104,D9))
A10: Active Annual Premium | B10: =SUMIF('Policy Register'!$G$5:$G$104,Assumptions!$B$10,'Policy Register'!$H$5:$H$104)
A11: Average Active Annual Premium | B11: =IFERROR(SUMIF('Policy Register'!$G$5:$G$104,Assumptions!$B$10,'Policy Register'!$H$5:$H$104)/COUNTIF('Policy Register'!$G$5:$G$104,Assumptions!$B$10),"")
A12: Active Expiring Within Review Horizon | B12: =COUNTIFS('Policy Register'!$G$5:$G$104,Assumptions!$B$10,'Policy Register'!$F$5:$F$104,">="&TODAY(),'Policy Register'!$F$5:$F$104,"<="&TODAY()+Assumptions!$B$5)
A13: Active Past Expiration | B13: =COUNTIFS('Policy Register'!$G$5:$G$104,Assumptions!$B$10,'Policy Register'!$F$5:$F$104,"<"&TODAY())
A14: Rows Needing Human Check | B14: =COUNTIF('Policy Register'!$M$5:$M$104,"Check*")+COUNTIF('Policy Register'!$M$5:$M$104,"Review*")
A15: Active Share of Register | B15: =IFERROR(COUNTIF('Policy Register'!$G$5:$G$104,Assumptions!$B$10)/COUNTIF('Policy Register'!$A$5:$A$104,"<>"),"")

Sheet Policy Register
A1: Insurance Policy Register
A2: Administrative register only. Review flagged rows manually; this workbook does not provide external synchronization, official policy status, or coverage advice.
A4: Policy Reference | B4: Client / Named Insured | C4: Carrier | D4: Line of Business | E4: Effective Date | F4: Expiration Date | G4: Policy Status | H4: Annual Premium | I4: Producer | J4: Service Owner | K4: Term Days | L4: Days to Expiration | M4: Register Check
A5: FIC-POL-1001 | B5: Fictional Blue Kettle Bakery LLC | C5: Fictional Beacon Mutual | D5: Businessowners | E5: 45940 | F5: 46305 | G5: Active | H5: 4875 | I5: Fictional Producer Avery | J5: Fictional Service Team Alder | K5: =IF(OR(E5="",F5=""),"",IFERROR(F5-E5,"")) | L5: =IF(F5="","",IFERROR(F5-TODAY(),"")) | M5: =IF(COUNTA(A5:J5)=0,"",IF(COUNTBLANK(A5:J5)>0,"Check missing fields",IF(COUNTIF($A$5:$A$104,A5)>1,"Check duplicate reference",IF(F5<E5,"Check date order",IF(AND(G5=Assumptions!$B$10,F5<TODAY()),"Check past expiration",IF(AND(G5=Assumptions!$B$10,F5>=TODAY(),F5<=TODAY()+Assumptions!$B$5),"Review upcoming expiration","OK"))))))
A6: FIC-POL-1002 | B6: Fictional Maple Lantern Studio LLC | C6: Fictional Copperline Insurance | D6: Professional Liability | E6: 46030 | F6: 46395 | G6: Active | H6: 3260.5 | I6: Fictional Producer Blair | J6: Fictional Service Team Birch | K6: =IF(OR(E6="",F6=""),"",IFERROR(F6-E6,"")) | L6: =IF(F6="","",IFERROR(F6-TODAY(),"")) | M6: =IF(COUNTA(A6:J6)=0,"",IF(COUNTBLANK(A6:J6)>0,"Check missing fields",IF(COUNTIF($A$5:$A$104,A6)>1,"Check duplicate reference",IF(F6<E6,"Check date order",IF(AND(G6=Assumptions!$B$10,F6<TODAY()),"Check past expiration",IF(AND(G6=Assumptions!$B$10,F6>=TODAY(),F6<=TODAY()+Assumptions!$B$5),"Review upcoming expiration","OK"))))))
A7: FIC-POL-1003 | B7: Fictional Cedar Kite Hardware LLC | C7: Fictional Northwind Casualty | D7: Commercial Property | E7: 46295 | F7: 46660 | G7: Pending | H7: 0 | I7: Fictional Producer Casey | J7: Fictional Service Team Cedar | K7: =IF(OR(E7="",F7=""),"",IFERROR(F7-E7,"")) | L7: =IF(F7="","",IFERROR(F7-TODAY(),"")) | M7: =IF(COUNTA(A7:J7)=0,"",IF(COUNTBLANK(A7:J7)>0,"Check missing fields",IF(COUNTIF($A$5:$A$104,A7)>1,"Check duplicate reference",IF(F7<E7,"Check date order",IF(AND(G7=Assumptions!$B$10,F7<TODAY()),"Check past expiration",IF(AND(G7=Assumptions!$B$10,F7>=TODAY(),F7<=TODAY()+Assumptions!$B$5),"Review upcoming expiration","OK"))))))
A8: FIC-POL-1004 | B8: Fictional Silver Acorn Cafe LLC | C8: Fictional Juniper Indemnity | D8: General Liability | E8: 45880 | F8: 46245 | G8: Expired | H8: 2840 | I8: Fictional Producer Drew | J8: Fictional Service Team Dogwood | K8: =IF(OR(E8="",F8=""),"",IFERROR(F8-E8,"")) | L8: =IF(F8="","",IFERROR(F8-TODAY(),"")) | M8: =IF(COUNTA(A8:J8)=0,"",IF(COUNTBLANK(A8:J8)>0,"Check missing fields",IF(COUNTIF($A$5:$A$104,A8)>1,"Check duplicate reference",IF(F8<E8,"Check date order",IF(AND(G8=Assumptions!$B$10,F8<TODAY()),"Check past expiration",IF(AND(G8=Assumptions!$B$10,F8>=TODAY(),F8<=TODAY()+Assumptions!$B$5),"Review upcoming expiration","OK"))))))
A9: FIC-POL-1005 | B9: Fictional Orbit Paws Grooming LLC | C9: Fictional Harbor Peak Insurance | D9: Businessowners | E9: 46090 | F9: 46455 | G9: Cancelled | H9: 5215.75 | I9: Fictional Producer Avery | J9: Fictional Service Team Birch | K9: =IF(OR(E9="",F9=""),"",IFERROR(F9-E9,"")) | L9: =IF(F9="","",IFERROR(F9-TODAY(),"")) | M9: =IF(COUNTA(A9:J9)=0,"",IF(COUNTBLANK(A9:J9)>0,"Check missing fields",IF(COUNTIF($A$5:$A$104,A9)>1,"Check duplicate reference",IF(F9<E9,"Check date order",IF(AND(G9=Assumptions!$B$10,F9<TODAY()),"Check past expiration",IF(AND(G9=Assumptions!$B$10,F9>=TODAY(),F9<=TODAY()+Assumptions!$B$5),"Review upcoming expiration","OK"))))))
A10: FIC-POL-1006 | B10: Fictional Quiet Harbor Design LLC | C10: Fictional Prairie Star Underwriters | D10: Professional Liability | E10: 45900 | F10: 46265 | G10: Non-Renewed | H10: 1960 | I10: Fictional Producer Blair | J10: Fictional Service Team Cedar | K10: =IF(OR(E10="",F10=""),"",IFERROR(F10-E10,"")) | L10: =IF(F10="","",IFERROR(F10-TODAY(),"")) | M10: =IF(COUNTA(A10:J10)=0,"",IF(COUNTBLANK(A10:J10)>0,"Check missing fields",IF(COUNTIF($A$5:$A$104,A10)>1,"Check duplicate reference",IF(F10<E10,"Check date order",IF(AND(G10=Assumptions!$B$10,F10<TODAY()),"Check past expiration",IF(AND(G10=Assumptions!$B$10,F10>=TODAY(),F10<=TODAY()+Assumptions!$B$5),"Review upcoming expiration","OK"))))))
A11: FIC-POL-1007 | B11: Fictional Sunbeam Bicycle Shop LLC | C11: Fictional Beacon Mutual | D11: Commercial Auto | E11: 45910 | F11: 46275 | G11: Active | H11: 7380.25 | I11: Fictional Producer Casey | J11: Fictional Service Team Alder | K11: =IF(OR(E11="",F11=""),"",IFERROR(F11-E11,"")) | L11: =IF(F11="","",IFERROR(F11-TODAY(),"")) | M11: =IF(COUNTA(A11:J11)=0,"",IF(COUNTBLANK(A11:J11)>0,"Check missing fields",IF(COUNTIF($A$5:$A$104,A11)>1,"Check duplicate reference",IF(F11<E11,"Check date order",IF(AND(G11=Assumptions!$B$10,F11<TODAY()),"Check past expiration",IF(AND(G11=Assumptions!$B$10,F11>=TODAY(),F11<=TODAY()+Assumptions!$B$5),"Review upcoming expiration","OK"))))))
A12: FIC-POL-1008 | B12: Fictional Paper Finch Books LLC | C12: Fictional Copperline Insurance | D12: General Liability | E12: 45909 | F12: 46274 | G12: Active | H12: 2145 | I12: Fictional Producer Drew | J12: Fictional Service Team Dogwood | K12: =IF(OR(E12="",F12=""),"",IFERROR(F12-E12,"")) | L12: =IF(F12="","",IFERROR(F12-TODAY(),"")) | M12: =IF(COUNTA(A12:J12)=0,"",IF(COUNTBLANK(A12:J12)>0,"Check missing fields",IF(COUNTIF($A$5:$A$104,A12)>1,"Check duplicate reference",IF(F12<E12,"Check date order",IF(AND(G12=Assumptions!$B$10,F12<TODAY()),"Check past expiration",IF(AND(G12=Assumptions!$B$10,F12>=TODAY(),F12<=TODAY()+Assumptions!$B$5),"Review upcoming expiration","OK"))))))
A13: FIC-POL-1009 | B13: Fictional Meadow Compass Landscaping LLC | C13: Fictional Northwind Casualty | D13: Workers Compensation | E13: 45970 | F13: 46335 | G13: Active | H13: 9635.4 | I13: Fictional Producer Avery | J13: Fictional Service Team Cedar | K13: =IF(OR(E13="",F13=""),"",IFERROR(F13-E13,"")) | L13: =IF(F13="","",IFERROR(F13-TODAY(),"")) | M13: =IF(COUNTA(A13:J13)=0,"",IF(COUNTBLANK(A13:J13)>0,"Check missing fields",IF(COUNTIF($A$5:$A$104,A13)>1,"Check duplicate reference",IF(F13<E13,"Check date order",IF(AND(G13=Assumptions!$B$10,F13<TODAY()),"Check past expiration",IF(AND(G13=Assumptions!$B$10,F13>=TODAY(),F13<=TODAY()+Assumptions!$B$5),"Review upcoming expiration","OK"))))))
A14: FIC-POL-1010 | B14: Fictional Amber Rocket Consulting LLC | C14: Fictional Juniper Indemnity | D14: Umbrella | E14: 46275 | F14: 46640 | G14: Active | H14: 1285 | I14: Fictional Producer Blair | J14: Fictional Service Team Birch | K14: =IF(OR(E14="",F14=""),"",IFERROR(F14-E14,"")) | L14: =IF(F14="","",IFERROR(F14-TODAY(),"")) | M14: =IF(COUNTA(A14:J14)=0,"",IF(COUNTBLANK(A14:J14)>0,"Check missing fields",IF(COUNTIF($A$5:$A$104,A14)>1,"Check duplicate reference",IF(F14<E14,"Check date order",IF(AND(G14=Assumptions!$B$10,F14<TODAY()),"Check past expiration",IF(AND(G14=Assumptions!$B$10,F14>=TODAY(),F14<=TODAY()+Assumptions!$B$5),"Review upcoming expiration","OK"))))))
K15: =IF(OR(E15="",F15=""),"",IFERROR(F15-E15,"")) | L15: =IF(F15="","",IFERROR(F15-TODAY(),"")) | M15: =IF(COUNTA(A15:J15)=0,"",IF(COUNTBLANK(A15:J15)>0,"Check missing fields",IF(COUNTIF($A$5:$A$104,A15)>1,"Check duplicate reference",IF(F15<E15,"Check date order",IF(AND(G15=Assumptions!$B$10,F15<TODAY()),"Check past expiration",IF(AND(G15=Assumptions!$B$10,F15>=TODAY(),F15<=TODAY()+Assumptions!$B$5),"Review upcoming expiration","OK"))))))
K16: =IF(OR(E16="",F16=""),"",IFERROR(F16-E16,"")) | L16: =IF(F16="","",IFERROR(F16-TODAY(),"")) | M16: =IF(COUNTA(A16:J16)=0,"",IF(COUNTBLANK(A16:J16)>0,"Check missing fields",IF(COUNTIF($A$5:$A$104,A16)>1,"Check duplicate reference",IF(F16<E16,"Check date order",IF(AND(G16=Assumptions!$B$10,F16<TODAY()),"Check past expiration",IF(AND(G16=Assumptions!$B$10,F16>=TODAY(),F16<=TODAY()+Assumptions!$B$5),"Review upcoming expiration","OK"))))))
K17: =IF(OR(E17="",F17=""),"",IFERROR(F17-E17,"")) | L17: =IF(F17="","",IFERROR(F17-TODAY(),"")) | M17: =IF(COUNTA(A17:J17)=0,"",IF(COUNTBLANK(A17:J17)>0,"Check missing fields",IF(COUNTIF($A$5:$A$104,A17)>1,"Check duplicate reference",IF(F17<E17,"Check date order",IF(AND(G17=Assumptions!$B$10,F17<TODAY()),"Check past expiration",IF(AND(G17=Assumptions!$B$10,F17>=TODAY(),F17<=TODAY()+Assumptions!$B$5),"Review upcoming expiration","OK"))))))
K18: =IF(OR(E18="",F18=""),"",IFERROR(F18-E18,"")) | L18: =IF(F18="","",IFERROR(F18-TODAY(),"")) | M18: =IF(COUNTA(A18:J18)=0,"",IF(COUNTBLANK(A18:J18)>0,"Check missing fields",IF(COUNTIF($A$5:$A$104,A18)>1,"Check duplicate reference",IF(F18<E18,"Check date order",IF(AND(G18=Assumptions!$B$10,F18<TODAY()),"Check past expiration",IF(AND(G18=Assumptions!$B$10,F18>=TODAY(),F18<=TODAY()+Assumptions!$B$5),"Review upcoming expiration","OK"))))))
K19: =IF(OR(E19="",F19=""),"",IFERROR(F19-E19,"")) | L19: =IF(F19="","",IFERROR(F19-TODAY(),"")) | M19: =IF(COUNTA(A19:J19)=0,"",IF(COUNTBLANK(A19:J19)>0,"Check missing fields",IF(COUNTIF($A$5:$A$104,A19)>1,"Check duplicate reference",IF(F19<E19,"Check date order",IF(AND(G19=Assumptions!$B$10,F19<TODAY()),"Check past expiration",IF(AND(G19=Assumptions!$B$10,F19>=TODAY(),F19<=TODAY()+Assumptions!$B$5),"Review upcoming expiration","OK"))))))
K20: =IF(OR(E20="",F20=""),"",IFERROR(F20-E20,"")) | L20: =IF(F20="","",IFERROR(F20-TODAY(),"")) | M20: =IF(COUNTA(A20:J20)=0,"",IF(COUNTBLANK(A20:J20)>0,"Check missing fields",IF(COUNTIF($A$5:$A$104,A20)>1,"Check duplicate reference",IF(F20<E20,"Check date order",IF(AND(G20=Assumptions!$B$10,F20<TODAY()),"Check past expiration",IF(AND(G20=Assumptions!$B$10,F20>=TODAY(),F20<=TODAY()+Assumptions!$B$5),"Review upcoming expiration","OK"))))))
K21: =IF(OR(E21="",F21=""),"",IFERROR(F21-E21,"")) | L21: =IF(F21="","",IFERROR(F21-TODAY(),"")) | M21: =IF(COUNTA(A21:J21)=0,"",IF(COUNTBLANK(A21:J21)>0,"Check missing fields",IF(COUNTIF($A$5:$A$104,A21)>1,"Check duplicate reference",IF(F21<E21,"Check date order",IF(AND(G21=Assumptions!$B$10,F21<TODAY()),"Check past expiration",IF(AND(G21=Assumptions!$B$10,F21>=TODAY(),F21<=TODAY()+Assumptions!$B$5),"Review upcoming expiration","OK"))))))
K22: =IF(OR(E22="",F22=""),"",IFERROR(F22-E22,"")) | L22: =IF(F22="","",IFERROR(F22-TODAY(),"")) | M22: =IF(COUNTA(A22:J22)=0,"",IF(COUNTBLANK(A22:J22)>0,"Check missing fields",IF(COUNTIF($A$5:$A$104,A22)>1,"Check duplicate reference",IF(F22<E22,"Check date order",IF(AND(G22=Assumptions!$B$10,F22<TODAY()),"Check past expiration",IF(AND(G22=Assumptions!$B$10,F22>=TODAY(),F22<=TODAY()+Assumptions!$B$5),"Review upcoming expiration","OK"))))))
K23: =IF(OR(E23="",F23=""),"",IFERROR(F23-E23,"")) | L23: =IF(F23="","",IFERROR(F23-TODAY(),"")) | M23: =IF(COUNTA(A23:J23)=0,"",IF(COUNTBLANK(A23:J23)>0,"Check missing fields",IF(COUNTIF($A$5:$A$104,A23)>1,"Check duplicate reference",IF(F23<E23,"Check date order",IF(AND(G23=Assumptions!$B$10,F23<TODAY()),"Check past expiration",IF(AND(G23=Assumptions!$B$10,F23>=TODAY(),F23<=TODAY()+Assumptions!$B$5),"Review upcoming expiration","OK"))))))
K24: =IF(OR(E24="",F24=""),"",IFERROR(F24-E24,"")) | L24: =IF(F24="","",IFERROR(F24-TODAY(),"")) | M24: =IF(COUNTA(A24:J24)=0,"",IF(COUNTBLANK(A24:J24)>0,"Check missing fields",IF(COUNTIF($A$5:$A$104,A24)>1,"Check duplicate reference",IF(F24<E24,"Check date order",IF(AND(G24=Assumptions!$B$10,F24<TODAY()),"Check past expiration",IF(AND(G24=Assumptions!$B$10,F24>=TODAY(),F24<=TODAY()+Assumptions!$B$5),"Review upcoming expiration","OK"))))))
K25: =IF(OR(E25="",F25=""),"",IFERROR(F25-E25,"")) | L25: =IF(F25="","",IFERROR(F25-TODAY(),"")) | M25: =IF(COUNTA(A25:J25)=0,"",IF(COUNTBLANK(A25:J25)>0,"Check missing fields",IF(COUNTIF($A$5:$A$104,A25)>1,"Check duplicate reference",IF(F25<E25,"Check date order",IF(AND(G25=Assumptions!$B$10,F25<TODAY()),"Check past expiration",IF(AND(G25=Assumptions!$B$10,F25>=TODAY(),F25<=TODAY()+Assumptions!$B$5),"Review upcoming expiration","OK"))))))
K26: =IF(OR(E26="",F26=""),"",IFERROR(F26-E26,"")) | L26: =IF(F26="","",IFERROR(F26-TODAY(),"")) | M26: =IF(COUNTA(A26:J26)=0,"",IF(COUNTBLANK(A26:J26)>0,"Check missing fields",IF(COUNTIF($A$5:$A$104,A26)>1,"Check duplicate reference",IF(F26<E26,"Check date order",IF(AND(G26=Assumptions!$B$10,F26<TODAY()),"Check past expiration",IF(AND(G26=Assumptions!$B$10,F26>=TODAY(),F26<=TODAY()+Assumptions!$B$5),"Review upcoming expiration","OK"))))))
... K104: =IF(OR(E104="",F104=""),"",IFERROR(F104-E104,"")) | L104: =IF(F104="","",IFERROR(F104-TODAY(),"")) | M104: =IF(COUNTA(A104:J104)=0,"",IF(COUNTBLANK(A104:J104)>0,"Check missing fields",IF(COUNTIF($A$5:$A$104,A104)>1,"Check duplicate reference",IF(F104<E104,"Check date order",IF(AND(G104=Assumptions!$B$10,F104<TODAY()),"Check past expiration",IF(AND(G104=Assumptions!$B$10,F104>=TODAY(),F104<=TODAY()+Assumptions!$B$5),"Review upcoming expiration","OK"))))))

Sheet Assumptions
A1: Register Assumptions and Editable Lists
A2: Edit these administrative values as needed. They drive worksheet lists and reminders but do not establish policy terms, legal requirements, or compliance standards.
A4: Setting | B4: Editable Value | C4: Purpose
A5: Expiration Review Horizon | B5: 60 | C5: Calendar days from today, including the boundary date
A9: List Category | B9: Editable Choice
A10: Policy Status | B10: Active
A11: Policy Status | B11: Pending
A12: Policy Status | B12: Expired
A13: Policy Status | B13: Cancelled
A14: Policy Status | B14: Non-Renewed
A15: Line of Business | B15: Businessowners
A16: Line of Business | B16: Personal Auto
A17: Line of Business | B17: Homeowners
A18: Line of Business | B18: General Liability
A19: Line of Business | B19: Commercial Property
A20: Line of Business | B20: Workers Compensation
... A37: Service Owner | B37: Fictional Service Team Dogwood
