Workbook

Sheet Summary
A1: Insurance Policy Retention Cohort Dashboard
A2: =IF(Assumptions!$B$4="","Enter an as-of date on Assumptions.","As of "&TEXT(Assumptions!$B$4,"mm/dd/yyyy")&" — Retention uses resolved, eligible first-renewal outcomes.")
A3: Policies Entered | B3: =COUNTIF('Policy Records'!$A$5:$A$104,"<>") | C3: Eligible Policies | D3: =COUNTIF('Policy Records'!$K$5:$K$104,"Yes") | E3: Resolved Eligible | F3: =COUNTIFS('Policy Records'!$K$5:$K$104,"Yes",'Policy Records'!$L$5:$L$104,"Yes")+COUNTIFS('Policy Records'!$K$5:$K$104,"Yes",'Policy Records'!$L$5:$L$104,"No") | G3: Retained Policies | H3: =COUNTIFS('Policy Records'!$K$5:$K$104,"Yes",'Policy Records'!$L$5:$L$104,"Yes") | I3: Retention Rate | J3: =IFERROR(H3/F3,"")
A6: Overdue Outcome Checks | B6: =COUNTIF('Policy Records'!$N$5:$N$104,"Check overdue outcome") | C6: Future Pending | D6: =COUNTIFS('Policy Records'!$K$5:$K$104,"No",'Policy Records'!$H$5:$H$104,"Pending") | E6: Eligible Original Premium | F6: =IF(D3=0,"",SUMIFS('Policy Records'!$F$5:$F$104,'Policy Records'!$K$5:$K$104,"Yes")) | G6: Retained Renewal Premium | H6: =IF(H3=0,"",SUMIFS('Policy Records'!$J$5:$J$104,'Policy Records'!$K$5:$K$104,"Yes",'Policy Records'!$L$5:$L$104,"Yes")) | I6: Avg. Premium Change | J6: =IFERROR(SUMIFS('Policy Records'!$M$5:$M$104,'Policy Records'!$K$5:$K$104,"Yes",'Policy Records'!$L$5:$L$104,"Yes")/COUNTIFS('Policy Records'!$K$5:$K$104,"Yes",'Policy Records'!$L$5:$L$104,"Yes"),"")
A10: Original Start Cohort | B10: Policies | C10: Eligible | D10: Resolved | E10: Retained | F10: Retention Rate | G10: Outcome Checks | M10: Cohort | N10: Retention Rate
A11: =IFERROR(IF(ROWS($A$11:A11)<=Assumptions!$B$7,YEAR(Assumptions!$B$4)-Assumptions!$B$7+ROWS($A$11:A11),""),"") | B11: =IF(A11="","",COUNTIF('Policy Records'!$C$5:$C$104,A11)) | C11: =IF(A11="","",COUNTIFS('Policy Records'!$C$5:$C$104,A11,'Policy Records'!$K$5:$K$104,"Yes")) | D11: =IF(A11="","",COUNTIFS('Policy Records'!$C$5:$C$104,A11,'Policy Records'!$K$5:$K$104,"Yes",'Policy Records'!$L$5:$L$104,"Yes")+COUNTIFS('Policy Records'!$C$5:$C$104,A11,'Policy Records'!$K$5:$K$104,"Yes",'Policy Records'!$L$5:$L$104,"No")) | E11: =IF(A11="","",COUNTIFS('Policy Records'!$C$5:$C$104,A11,'Policy Records'!$K$5:$K$104,"Yes",'Policy Records'!$L$5:$L$104,"Yes")) | F11: =IF(A11="","",IFERROR(E11/D11,"")) | G11: =IF(A11="","",C11-D11) | M11: =A11 | N11: =IF(OR(M11="",D11=0),"",IFERROR(E11/D11,""))
A12: =IFERROR(IF(ROWS($A$11:A12)<=Assumptions!$B$7,YEAR(Assumptions!$B$4)-Assumptions!$B$7+ROWS($A$11:A12),""),"") | B12: =IF(A12="","",COUNTIF('Policy Records'!$C$5:$C$104,A12)) | C12: =IF(A12="","",COUNTIFS('Policy Records'!$C$5:$C$104,A12,'Policy Records'!$K$5:$K$104,"Yes")) | D12: =IF(A12="","",COUNTIFS('Policy Records'!$C$5:$C$104,A12,'Policy Records'!$K$5:$K$104,"Yes",'Policy Records'!$L$5:$L$104,"Yes")+COUNTIFS('Policy Records'!$C$5:$C$104,A12,'Policy Records'!$K$5:$K$104,"Yes",'Policy Records'!$L$5:$L$104,"No")) | E12: =IF(A12="","",COUNTIFS('Policy Records'!$C$5:$C$104,A12,'Policy Records'!$K$5:$K$104,"Yes",'Policy Records'!$L$5:$L$104,"Yes")) | F12: =IF(A12="","",IFERROR(E12/D12,"")) | G12: =IF(A12="","",C12-D12) | M12: =A12 | N12: =IF(OR(M12="",D12=0),"",IFERROR(E12/D12,""))
A13: =IFERROR(IF(ROWS($A$11:A13)<=Assumptions!$B$7,YEAR(Assumptions!$B$4)-Assumptions!$B$7+ROWS($A$11:A13),""),"") | B13: =IF(A13="","",COUNTIF('Policy Records'!$C$5:$C$104,A13)) | C13: =IF(A13="","",COUNTIFS('Policy Records'!$C$5:$C$104,A13,'Policy Records'!$K$5:$K$104,"Yes")) | D13: =IF(A13="","",COUNTIFS('Policy Records'!$C$5:$C$104,A13,'Policy Records'!$K$5:$K$104,"Yes",'Policy Records'!$L$5:$L$104,"Yes")+COUNTIFS('Policy Records'!$C$5:$C$104,A13,'Policy Records'!$K$5:$K$104,"Yes",'Policy Records'!$L$5:$L$104,"No")) | E13: =IF(A13="","",COUNTIFS('Policy Records'!$C$5:$C$104,A13,'Policy Records'!$K$5:$K$104,"Yes",'Policy Records'!$L$5:$L$104,"Yes")) | F13: =IF(A13="","",IFERROR(E13/D13,"")) | G13: =IF(A13="","",C13-D13) | M13: =A13 | N13: =IF(OR(M13="",D13=0),"",IFERROR(E13/D13,""))
A14: =IFERROR(IF(ROWS($A$11:A14)<=Assumptions!$B$7,YEAR(Assumptions!$B$4)-Assumptions!$B$7+ROWS($A$11:A14),""),"") | B14: =IF(A14="","",COUNTIF('Policy Records'!$C$5:$C$104,A14)) | C14: =IF(A14="","",COUNTIFS('Policy Records'!$C$5:$C$104,A14,'Policy Records'!$K$5:$K$104,"Yes")) | D14: =IF(A14="","",COUNTIFS('Policy Records'!$C$5:$C$104,A14,'Policy Records'!$K$5:$K$104,"Yes",'Policy Records'!$L$5:$L$104,"Yes")+COUNTIFS('Policy Records'!$C$5:$C$104,A14,'Policy Records'!$K$5:$K$104,"Yes",'Policy Records'!$L$5:$L$104,"No")) | E14: =IF(A14="","",COUNTIFS('Policy Records'!$C$5:$C$104,A14,'Policy Records'!$K$5:$K$104,"Yes",'Policy Records'!$L$5:$L$104,"Yes")) | F14: =IF(A14="","",IFERROR(E14/D14,"")) | G14: =IF(A14="","",C14-D14) | M14: =A14 | N14: =IF(OR(M14="",D14=0),"",IFERROR(E14/D14,""))
A15: =IFERROR(IF(ROWS($A$11:A15)<=Assumptions!$B$7,YEAR(Assumptions!$B$4)-Assumptions!$B$7+ROWS($A$11:A15),""),"") | B15: =IF(A15="","",COUNTIF('Policy Records'!$C$5:$C$104,A15)) | C15: =IF(A15="","",COUNTIFS('Policy Records'!$C$5:$C$104,A15,'Policy Records'!$K$5:$K$104,"Yes")) | D15: =IF(A15="","",COUNTIFS('Policy Records'!$C$5:$C$104,A15,'Policy Records'!$K$5:$K$104,"Yes",'Policy Records'!$L$5:$L$104,"Yes")+COUNTIFS('Policy Records'!$C$5:$C$104,A15,'Policy Records'!$K$5:$K$104,"Yes",'Policy Records'!$L$5:$L$104,"No")) | E15: =IF(A15="","",COUNTIFS('Policy Records'!$C$5:$C$104,A15,'Policy Records'!$K$5:$K$104,"Yes",'Policy Records'!$L$5:$L$104,"Yes")) | F15: =IF(A15="","",IFERROR(E15/D15,"")) | G15: =IF(A15="","",C15-D15) | M15: =A15 | N15: =IF(OR(M15="",D15=0),"",IFERROR(E15/D15,""))
A16: =IFERROR(IF(ROWS($A$11:A16)<=Assumptions!$B$7,YEAR(Assumptions!$B$4)-Assumptions!$B$7+ROWS($A$11:A16),""),"") | B16: =IF(A16="","",COUNTIF('Policy Records'!$C$5:$C$104,A16)) | C16: =IF(A16="","",COUNTIFS('Policy Records'!$C$5:$C$104,A16,'Policy Records'!$K$5:$K$104,"Yes")) | D16: =IF(A16="","",COUNTIFS('Policy Records'!$C$5:$C$104,A16,'Policy Records'!$K$5:$K$104,"Yes",'Policy Records'!$L$5:$L$104,"Yes")+COUNTIFS('Policy Records'!$C$5:$C$104,A16,'Policy Records'!$K$5:$K$104,"Yes",'Policy Records'!$L$5:$L$104,"No")) | E16: =IF(A16="","",COUNTIFS('Policy Records'!$C$5:$C$104,A16,'Policy Records'!$K$5:$K$104,"Yes",'Policy Records'!$L$5:$L$104,"Yes")) | F16: =IF(A16="","",IFERROR(E16/D16,"")) | G16: =IF(A16="","",C16-D16) | M16: =A16 | N16: =IF(OR(M16="",D16=0),"",IFERROR(E16/D16,""))
A17: =IFERROR(IF(ROWS($A$11:A17)<=Assumptions!$B$7,YEAR(Assumptions!$B$4)-Assumptions!$B$7+ROWS($A$11:A17),""),"") | B17: =IF(A17="","",COUNTIF('Policy Records'!$C$5:$C$104,A17)) | C17: =IF(A17="","",COUNTIFS('Policy Records'!$C$5:$C$104,A17,'Policy Records'!$K$5:$K$104,"Yes")) | D17: =IF(A17="","",COUNTIFS('Policy Records'!$C$5:$C$104,A17,'Policy Records'!$K$5:$K$104,"Yes",'Policy Records'!$L$5:$L$104,"Yes")+COUNTIFS('Policy Records'!$C$5:$C$104,A17,'Policy Records'!$K$5:$K$104,"Yes",'Policy Records'!$L$5:$L$104,"No")) | E17: =IF(A17="","",COUNTIFS('Policy Records'!$C$5:$C$104,A17,'Policy Records'!$K$5:$K$104,"Yes",'Policy Records'!$L$5:$L$104,"Yes")) | F17: =IF(A17="","",IFERROR(E17/D17,"")) | G17: =IF(A17="","",C17-D17) | M17: =A17 | N17: =IF(OR(M17="",D17=0),"",IFERROR(E17/D17,""))
A18: =IFERROR(IF(ROWS($A$11:A18)<=Assumptions!$B$7,YEAR(Assumptions!$B$4)-Assumptions!$B$7+ROWS($A$11:A18),""),"") | B18: =IF(A18="","",COUNTIF('Policy Records'!$C$5:$C$104,A18)) | C18: =IF(A18="","",COUNTIFS('Policy Records'!$C$5:$C$104,A18,'Policy Records'!$K$5:$K$104,"Yes")) | D18: =IF(A18="","",COUNTIFS('Policy Records'!$C$5:$C$104,A18,'Policy Records'!$K$5:$K$104,"Yes",'Policy Records'!$L$5:$L$104,"Yes")+COUNTIFS('Policy Records'!$C$5:$C$104,A18,'Policy Records'!$K$5:$K$104,"Yes",'Policy Records'!$L$5:$L$104,"No")) | E18: =IF(A18="","",COUNTIFS('Policy Records'!$C$5:$C$104,A18,'Policy Records'!$K$5:$K$104,"Yes",'Policy Records'!$L$5:$L$104,"Yes")) | F18: =IF(A18="","",IFERROR(E18/D18,"")) | G18: =IF(A18="","",C18-D18) | M18: =A18 | N18: =IF(OR(M18="",D18=0),"",IFERROR(E18/D18,""))
A19: =IFERROR(IF(ROWS($A$11:A19)<=Assumptions!$B$7,YEAR(Assumptions!$B$4)-Assumptions!$B$7+ROWS($A$11:A19),""),"") | B19: =IF(A19="","",COUNTIF('Policy Records'!$C$5:$C$104,A19)) | C19: =IF(A19="","",COUNTIFS('Policy Records'!$C$5:$C$104,A19,'Policy Records'!$K$5:$K$104,"Yes")) | D19: =IF(A19="","",COUNTIFS('Policy Records'!$C$5:$C$104,A19,'Policy Records'!$K$5:$K$104,"Yes",'Policy Records'!$L$5:$L$104,"Yes")+COUNTIFS('Policy Records'!$C$5:$C$104,A19,'Policy Records'!$K$5:$K$104,"Yes",'Policy Records'!$L$5:$L$104,"No")) | E19: =IF(A19="","",COUNTIFS('Policy Records'!$C$5:$C$104,A19,'Policy Records'!$K$5:$K$104,"Yes",'Policy Records'!$L$5:$L$104,"Yes")) | F19: =IF(A19="","",IFERROR(E19/D19,"")) | G19: =IF(A19="","",C19-D19)
A20: =IFERROR(IF(ROWS($A$11:A20)<=Assumptions!$B$7,YEAR(Assumptions!$B$4)-Assumptions!$B$7+ROWS($A$11:A20),""),"") | B20: =IF(A20="","",COUNTIF('Policy Records'!$C$5:$C$104,A20)) | C20: =IF(A20="","",COUNTIFS('Policy Records'!$C$5:$C$104,A20,'Policy Records'!$K$5:$K$104,"Yes")) | D20: =IF(A20="","",COUNTIFS('Policy Records'!$C$5:$C$104,A20,'Policy Records'!$K$5:$K$104,"Yes",'Policy Records'!$L$5:$L$104,"Yes")+COUNTIFS('Policy Records'!$C$5:$C$104,A20,'Policy Records'!$K$5:$K$104,"Yes",'Policy Records'!$L$5:$L$104,"No")) | E20: =IF(A20="","",COUNTIFS('Policy Records'!$C$5:$C$104,A20,'Policy Records'!$K$5:$K$104,"Yes",'Policy Records'!$L$5:$L$104,"Yes")) | F20: =IF(A20="","",IFERROR(E20/D20,"")) | G20: =IF(A20="","",C20-D20)
A21: =IFERROR(IF(ROWS($A$11:A21)<=Assumptions!$B$7,YEAR(Assumptions!$B$4)-Assumptions!$B$7+ROWS($A$11:A21),""),"") | B21: =IF(A21="","",COUNTIF('Policy Records'!$C$5:$C$104,A21)) | C21: =IF(A21="","",COUNTIFS('Policy Records'!$C$5:$C$104,A21,'Policy Records'!$K$5:$K$104,"Yes")) | D21: =IF(A21="","",COUNTIFS('Policy Records'!$C$5:$C$104,A21,'Policy Records'!$K$5:$K$104,"Yes",'Policy Records'!$L$5:$L$104,"Yes")+COUNTIFS('Policy Records'!$C$5:$C$104,A21,'Policy Records'!$K$5:$K$104,"Yes",'Policy Records'!$L$5:$L$104,"No")) | E21: =IF(A21="","",COUNTIFS('Policy Records'!$C$5:$C$104,A21,'Policy Records'!$K$5:$K$104,"Yes",'Policy Records'!$L$5:$L$104,"Yes")) | F21: =IF(A21="","",IFERROR(E21/D21,"")) | G21: =IF(A21="","",C21-D21)
A22: =IFERROR(IF(ROWS($A$11:A22)<=Assumptions!$B$7,YEAR(Assumptions!$B$4)-Assumptions!$B$7+ROWS($A$11:A22),""),"") | B22: =IF(A22="","",COUNTIF('Policy Records'!$C$5:$C$104,A22)) | C22: =IF(A22="","",COUNTIFS('Policy Records'!$C$5:$C$104,A22,'Policy Records'!$K$5:$K$104,"Yes")) | D22: =IF(A22="","",COUNTIFS('Policy Records'!$C$5:$C$104,A22,'Policy Records'!$K$5:$K$104,"Yes",'Policy Records'!$L$5:$L$104,"Yes")+COUNTIFS('Policy Records'!$C$5:$C$104,A22,'Policy Records'!$K$5:$K$104,"Yes",'Policy Records'!$L$5:$L$104,"No")) | E22: =IF(A22="","",COUNTIFS('Policy Records'!$C$5:$C$104,A22,'Policy Records'!$K$5:$K$104,"Yes",'Policy Records'!$L$5:$L$104,"Yes")) | F22: =IF(A22="","",IFERROR(E22/D22,"")) | G22: =IF(A22="","",C22-D22)
A25: Eligibility begins after the first renewal due date plus the editable grace period.
A26: Outcome checks are prompts for human review and do not represent carrier or system status.

Sheet Policy Records
A1: Policy Retention Records
A2: Enter one administrative record per original policy. Highlighted cells are editable; all examples are fictional.
A4: Policy Reference | B4: Original Start Date | C4: Cohort Year | D4: Line of Business | E4: Service Owner | F4: Original Annual Premium | G4: First Renewal Due | H4: Renewal Outcome | I4: Outcome Date | J4: Renewal Annual Premium | K4: Eligible as of Date | L4: Retained | M4: Premium Change | N4: Review Alert | O4: Administrative Notes | Q4: Line Choices | R4: Owner Choices | S4: Outcome Choices | T4: Input Limits
A5: FIC-POL-2019-001 | B5: 43539 | C5: =IF(B5="","",YEAR(B5)) | D5: Personal Auto | E5: Avery Quill — Fictional | F5: 1250 | G5: =IF(OR(B5="",Assumptions!$B$5=""),"",IFERROR(EDATE(B5,Assumptions!$B$5),"")) | H5: Renewed | I5: 43900 | J5: 1290 | K5: =IF(A5="","",IF(OR(G5="",Assumptions!$B$4="",Assumptions!$B$6=""),"",IF(G5+Assumptions!$B$6<=Assumptions!$B$4,"Yes","No"))) | L5: =IF(A5="","",IF(K5<>"Yes","",IF(H5="Renewed","Yes",IF(OR(H5="Not Renewed",H5="Canceled Before Renewal"),"No","")))) | M5: =IF(A5="","",IF(OR(L5<>"Yes",F5="",J5=""),"",IFERROR((J5-F5)/F5,""))) | N5: =IF(A5="","",IF(OR(B5="",D5="",E5="",F5=""),"Check required inputs",IF(AND(I5<>"",I5<B5),"Check date order",IF(AND(K5="Yes",OR(H5="",H5="Pending")),"Check overdue outcome",IF(AND(H5="Renewed",I5=""),"Check renewed date",IF(AND(H5="Renewed",J5=""),"Check renewed premium",IF(AND(OR(H5="Not Renewed",H5="Canceled Before Renewal"),I5=""),"Check outcome date",""))))))) | O5: Fictional first-renewal record. | Q5: =IF(Assumptions!D4="","",Assumptions!D4) | R5: =IF(Assumptions!E4="","",Assumptions!E4) | S5: =IF(Assumptions!F4="","",Assumptions!F4) | T5: =Assumptions!B9
A6: FIC-POL-2020-002 | B6: 43983 | C6: =IF(B6="","",YEAR(B6)) | D6: Homeowners | E6: Jordan Vale — Fictional | F6: 1840 | G6: =IF(OR(B6="",Assumptions!$B$5=""),"",IFERROR(EDATE(B6,Assumptions!$B$5),"")) | H6: Not Renewed | I6: 44336 | K6: =IF(A6="","",IF(OR(G6="",Assumptions!$B$4="",Assumptions!$B$6=""),"",IF(G6+Assumptions!$B$6<=Assumptions!$B$4,"Yes","No"))) | L6: =IF(A6="","",IF(K6<>"Yes","",IF(H6="Renewed","Yes",IF(OR(H6="Not Renewed",H6="Canceled Before Renewal"),"No","")))) | M6: =IF(A6="","",IF(OR(L6<>"Yes",F6="",J6=""),"",IFERROR((J6-F6)/F6,""))) | N6: =IF(A6="","",IF(OR(B6="",D6="",E6="",F6=""),"Check required inputs",IF(AND(I6<>"",I6<B6),"Check date order",IF(AND(K6="Yes",OR(H6="",H6="Pending")),"Check overdue outcome",IF(AND(H6="Renewed",I6=""),"Check renewed date",IF(AND(H6="Renewed",J6=""),"Check renewed premium",IF(AND(OR(H6="Not Renewed",H6="Canceled Before Renewal"),I6=""),"Check outcome date",""))))))) | O6: Fictional nonrenewal outcome. | Q6: =IF(Assumptions!D5="","",Assumptions!D5) | R6: =IF(Assumptions!E5="","",Assumptions!E5) | S6: =IF(Assumptions!F5="","",Assumptions!F5) | T6: =Assumptions!B4
A7: FIC-POL-2021-003 | B7: 44216 | C7: =IF(B7="","",YEAR(B7)) | D7: Commercial Package | E7: Morgan Finch — Fictional | F7: 6425 | G7: =IF(OR(B7="",Assumptions!$B$5=""),"",IFERROR(EDATE(B7,Assumptions!$B$5),"")) | H7: Renewed | I7: 44579 | J7: 6710 | K7: =IF(A7="","",IF(OR(G7="",Assumptions!$B$4="",Assumptions!$B$6=""),"",IF(G7+Assumptions!$B$6<=Assumptions!$B$4,"Yes","No"))) | L7: =IF(A7="","",IF(K7<>"Yes","",IF(H7="Renewed","Yes",IF(OR(H7="Not Renewed",H7="Canceled Before Renewal"),"No","")))) | M7: =IF(A7="","",IF(OR(L7<>"Yes",F7="",J7=""),"",IFERROR((J7-F7)/F7,""))) | N7: =IF(A7="","",IF(OR(B7="",D7="",E7="",F7=""),"Check required inputs",IF(AND(I7<>"",I7<B7),"Check date order",IF(AND(K7="Yes",OR(H7="",H7="Pending")),"Check overdue outcome",IF(AND(H7="Renewed",I7=""),"Check renewed date",IF(AND(H7="Renewed",J7=""),"Check renewed premium",IF(AND(OR(H7="Not Renewed",H7="Canceled Before Renewal"),I7=""),"Check outcome date",""))))))) | O7: Fictional commercial renewal. | Q7: =IF(Assumptions!D6="","",Assumptions!D6) | R7: =IF(Assumptions!E6="","",Assumptions!E6) | S7: =IF(Assumptions!F6="","",Assumptions!F6) | T7: =Assumptions!B10
A8: FIC-POL-2022-004 | B8: 44814 | C8: =IF(B8="","",YEAR(B8)) | D8: General Liability | E8: Riley North — Fictional | F8: 3180 | G8: =IF(OR(B8="",Assumptions!$B$5=""),"",IFERROR(EDATE(B8,Assumptions!$B$5),"")) | H8: Renewed | I8: 45177 | J8: 3255 | K8: =IF(A8="","",IF(OR(G8="",Assumptions!$B$4="",Assumptions!$B$6=""),"",IF(G8+Assumptions!$B$6<=Assumptions!$B$4,"Yes","No"))) | L8: =IF(A8="","",IF(K8<>"Yes","",IF(H8="Renewed","Yes",IF(OR(H8="Not Renewed",H8="Canceled Before Renewal"),"No","")))) | M8: =IF(A8="","",IF(OR(L8<>"Yes",F8="",J8=""),"",IFERROR((J8-F8)/F8,""))) | N8: =IF(A8="","",IF(OR(B8="",D8="",E8="",F8=""),"Check required inputs",IF(AND(I8<>"",I8<B8),"Check date order",IF(AND(K8="Yes",OR(H8="",H8="Pending")),"Check overdue outcome",IF(AND(H8="Renewed",I8=""),"Check renewed date",IF(AND(H8="Renewed",J8=""),"Check renewed premium",IF(AND(OR(H8="Not Renewed",H8="Canceled Before Renewal"),I8=""),"Check outcome date",""))))))) | O8: Fictional liability renewal. | Q8: =IF(Assumptions!D7="","",Assumptions!D7) | R8: =IF(Assumptions!E7="","",Assumptions!E7) | S8: =IF(Assumptions!F7="","",Assumptions!F7)
A9: FIC-POL-2023-005 | B9: 45021 | C9: =IF(B9="","",YEAR(B9)) | D9: Workers Compensation | E9: Avery Quill — Fictional | F9: 8920 | G9: =IF(OR(B9="",Assumptions!$B$5=""),"",IFERROR(EDATE(B9,Assumptions!$B$5),"")) | H9: Canceled Before Renewal | I9: 45323 | K9: =IF(A9="","",IF(OR(G9="",Assumptions!$B$4="",Assumptions!$B$6=""),"",IF(G9+Assumptions!$B$6<=Assumptions!$B$4,"Yes","No"))) | L9: =IF(A9="","",IF(K9<>"Yes","",IF(H9="Renewed","Yes",IF(OR(H9="Not Renewed",H9="Canceled Before Renewal"),"No","")))) | M9: =IF(A9="","",IF(OR(L9<>"Yes",F9="",J9=""),"",IFERROR((J9-F9)/F9,""))) | N9: =IF(A9="","",IF(OR(B9="",D9="",E9="",F9=""),"Check required inputs",IF(AND(I9<>"",I9<B9),"Check date order",IF(AND(K9="Yes",OR(H9="",H9="Pending")),"Check overdue outcome",IF(AND(H9="Renewed",I9=""),"Check renewed date",IF(AND(H9="Renewed",J9=""),"Check renewed premium",IF(AND(OR(H9="Not Renewed",H9="Canceled Before Renewal"),I9=""),"Check outcome date",""))))))) | O9: Fictional cancellation before first renewal. | Q9: =IF(Assumptions!D8="","",Assumptions!D8) | R9: =IF(Assumptions!E8="","",Assumptions!E8) | S9: =IF(Assumptions!F8="","",Assumptions!F8)
A10: FIC-POL-2024-006 | B10: 45336 | C10: =IF(B10="","",YEAR(B10)) | D10: Umbrella | E10: Jordan Vale — Fictional | F10: 680 | G10: =IF(OR(B10="",Assumptions!$B$5=""),"",IFERROR(EDATE(B10,Assumptions!$B$5),"")) | H10: Renewed | I10: 45698 | J10: 710 | K10: =IF(A10="","",IF(OR(G10="",Assumptions!$B$4="",Assumptions!$B$6=""),"",IF(G10+Assumptions!$B$6<=Assumptions!$B$4,"Yes","No"))) | L10: =IF(A10="","",IF(K10<>"Yes","",IF(H10="Renewed","Yes",IF(OR(H10="Not Renewed",H10="Canceled Before Renewal"),"No","")))) | M10: =IF(A10="","",IF(OR(L10<>"Yes",F10="",J10=""),"",IFERROR((J10-F10)/F10,""))) | N10: =IF(A10="","",IF(OR(B10="",D10="",E10="",F10=""),"Check required inputs",IF(AND(I10<>"",I10<B10),"Check date order",IF(AND(K10="Yes",OR(H10="",H10="Pending")),"Check overdue outcome",IF(AND(H10="Renewed",I10=""),"Check renewed date",IF(AND(H10="Renewed",J10=""),"Check renewed premium",IF(AND(OR(H10="Not Renewed",H10="Canceled Before Renewal"),I10=""),"Check outcome date",""))))))) | O10: Fictional umbrella renewal. | Q10: =IF(Assumptions!D9="","",Assumptions!D9) | R10: =IF(Assumptions!E9="","",Assumptions!E9) | S10: =IF(Assumptions!F9="","",Assumptions!F9)
A11: FIC-POL-2024-007 | B11: 45413 | C11: =IF(B11="","",YEAR(B11)) | D11: Personal Auto | E11: Morgan Finch — Fictional | F11: 1560 | G11: =IF(OR(B11="",Assumptions!$B$5=""),"",IFERROR(EDATE(B11,Assumptions!$B$5),"")) | H11: Pending | K11: =IF(A11="","",IF(OR(G11="",Assumptions!$B$4="",Assumptions!$B$6=""),"",IF(G11+Assumptions!$B$6<=Assumptions!$B$4,"Yes","No"))) | L11: =IF(A11="","",IF(K11<>"Yes","",IF(H11="Renewed","Yes",IF(OR(H11="Not Renewed",H11="Canceled Before Renewal"),"No","")))) | M11: =IF(A11="","",IF(OR(L11<>"Yes",F11="",J11=""),"",IFERROR((J11-F11)/F11,""))) | N11: =IF(A11="","",IF(OR(B11="",D11="",E11="",F11=""),"Check required inputs",IF(AND(I11<>"",I11<B11),"Check date order",IF(AND(K11="Yes",OR(H11="",H11="Pending")),"Check overdue outcome",IF(AND(H11="Renewed",I11=""),"Check renewed date",IF(AND(H11="Renewed",J11=""),"Check renewed premium",IF(AND(OR(H11="Not Renewed",H11="Canceled Before Renewal"),I11=""),"Check outcome date",""))))))) | O11: Fictional overdue outcome for human review. | Q11: =IF(Assumptions!D10="","",Assumptions!D10) | R11: =IF(Assumptions!E10="","",Assumptions!E10) | S11: =IF(Assumptions!F10="","",Assumptions!F10)
A12: FIC-POL-2025-008 | B12: 45672 | C12: =IF(B12="","",YEAR(B12)) | D12: Homeowners | E12: Riley North — Fictional | F12: 2110 | G12: =IF(OR(B12="",Assumptions!$B$5=""),"",IFERROR(EDATE(B12,Assumptions!$B$5),"")) | H12: Renewed | I12: 46034 | J12: 2195 | K12: =IF(A12="","",IF(OR(G12="",Assumptions!$B$4="",Assumptions!$B$6=""),"",IF(G12+Assumptions!$B$6<=Assumptions!$B$4,"Yes","No"))) | L12: =IF(A12="","",IF(K12<>"Yes","",IF(H12="Renewed","Yes",IF(OR(H12="Not Renewed",H12="Canceled Before Renewal"),"No","")))) | M12: =IF(A12="","",IF(OR(L12<>"Yes",F12="",J12=""),"",IFERROR((J12-F12)/F12,""))) | N12: =IF(A12="","",IF(OR(B12="",D12="",E12="",F12=""),"Check required inputs",IF(AND(I12<>"",I12<B12),"Check date order",IF(AND(K12="Yes",OR(H12="",H12="Pending")),"Check overdue outcome",IF(AND(H12="Renewed",I12=""),"Check renewed date",IF(AND(H12="Renewed",J12=""),"Check renewed premium",IF(AND(OR(H12="Not Renewed",H12="Canceled Before Renewal"),I12=""),"Check outcome date",""))))))) | O12: Fictional recent renewal. | Q12: =IF(Assumptions!D11="","",Assumptions!D11) | R12: =IF(Assumptions!E11="","",Assumptions!E11) | S12: =IF(Assumptions!F11="","",Assumptions!F11)
A13: FIC-POL-2025-009 | B13: 45992 | C13: =IF(B13="","",YEAR(B13)) | D13: Commercial Package | E13: Avery Quill — Fictional | F13: 7540 | G13: =IF(OR(B13="",Assumptions!$B$5=""),"",IFERROR(EDATE(B13,Assumptions!$B$5),"")) | H13: Pending | K13: =IF(A13="","",IF(OR(G13="",Assumptions!$B$4="",Assumptions!$B$6=""),"",IF(G13+Assumptions!$B$6<=Assumptions!$B$4,"Yes","No"))) | L13: =IF(A13="","",IF(K13<>"Yes","",IF(H13="Renewed","Yes",IF(OR(H13="Not Renewed",H13="Canceled Before Renewal"),"No","")))) | M13: =IF(A13="","",IF(OR(L13<>"Yes",F13="",J13=""),"",IFERROR((J13-F13)/F13,""))) | N13: =IF(A13="","",IF(OR(B13="",D13="",E13="",F13=""),"Check required inputs",IF(AND(I13<>"",I13<B13),"Check date order",IF(AND(K13="Yes",OR(H13="",H13="Pending")),"Check overdue outcome",IF(AND(H13="Renewed",I13=""),"Check renewed date",IF(AND(H13="Renewed",J13=""),"Check renewed premium",IF(AND(OR(H13="Not Renewed",H13="Canceled Before Renewal"),I13=""),"Check outcome date",""))))))) | O13: Fictional future first-renewal review. | Q13: =IF(Assumptions!D12="","",Assumptions!D12) | R13: =IF(Assumptions!E12="","",Assumptions!E12) | S13: =IF(Assumptions!F12="","",Assumptions!F12)
A14: FIC-POL-2026-010 | B14: 46054 | C14: =IF(B14="","",YEAR(B14)) | D14: General Liability | E14: Jordan Vale — Fictional | F14: 2860 | G14: =IF(OR(B14="",Assumptions!$B$5=""),"",IFERROR(EDATE(B14,Assumptions!$B$5),"")) | H14: Pending | K14: =IF(A14="","",IF(OR(G14="",Assumptions!$B$4="",Assumptions!$B$6=""),"",IF(G14+Assumptions!$B$6<=Assumptions!$B$4,"Yes","No"))) | L14: =IF(A14="","",IF(K14<>"Yes","",IF(H14="Renewed","Yes",IF(OR(H14="Not Renewed",H14="Canceled Before Renewal"),"No","")))) | M14: =IF(A14="","",IF(OR(L14<>"Yes",F14="",J14=""),"",IFERROR((J14-F14)/F14,""))) | N14: =IF(A14="","",IF(OR(B14="",D14="",E14="",F14=""),"Check required inputs",IF(AND(I14<>"",I14<B14),"Check date order",IF(AND(K14="Yes",OR(H14="",H14="Pending")),"Check overdue outcome",IF(AND(H14="Renewed",I14=""),"Check renewed date",IF(AND(H14="Renewed",J14=""),"Check renewed premium",IF(AND(OR(H14="Not Renewed",H14="Canceled Before Renewal"),I14=""),"Check outcome date",""))))))) | O14: Fictional current-year cohort record. | Q14: =IF(Assumptions!D13="","",Assumptions!D13) | R14: =IF(Assumptions!E13="","",Assumptions!E13) | S14: =IF(Assumptions!F13="","",Assumptions!F13)
C15: =IF(B15="","",YEAR(B15)) | G15: =IF(OR(B15="",Assumptions!$B$5=""),"",IFERROR(EDATE(B15,Assumptions!$B$5),"")) | K15: =IF(A15="","",IF(OR(G15="",Assumptions!$B$4="",Assumptions!$B$6=""),"",IF(G15+Assumptions!$B$6<=Assumptions!$B$4,"Yes","No"))) | L15: =IF(A15="","",IF(K15<>"Yes","",IF(H15="Renewed","Yes",IF(OR(H15="Not Renewed",H15="Canceled Before Renewal"),"No","")))) | M15: =IF(A15="","",IF(OR(L15<>"Yes",F15="",J15=""),"",IFERROR((J15-F15)/F15,""))) | N15: =IF(A15="","",IF(OR(B15="",D15="",E15="",F15=""),"Check required inputs",IF(AND(I15<>"",I15<B15),"Check date order",IF(AND(K15="Yes",OR(H15="",H15="Pending")),"Check overdue outcome",IF(AND(H15="Renewed",I15=""),"Check renewed date",IF(AND(H15="Renewed",J15=""),"Check renewed premium",IF(AND(OR(H15="Not Renewed",H15="Canceled Before Renewal"),I15=""),"Check outcome date",""))))))) | Q15: =IF(Assumptions!D14="","",Assumptions!D14) | R15: =IF(Assumptions!E14="","",Assumptions!E14) | S15: =IF(Assumptions!F14="","",Assumptions!F14)
C16: =IF(B16="","",YEAR(B16)) | G16: =IF(OR(B16="",Assumptions!$B$5=""),"",IFERROR(EDATE(B16,Assumptions!$B$5),"")) | K16: =IF(A16="","",IF(OR(G16="",Assumptions!$B$4="",Assumptions!$B$6=""),"",IF(G16+Assumptions!$B$6<=Assumptions!$B$4,"Yes","No"))) | L16: =IF(A16="","",IF(K16<>"Yes","",IF(H16="Renewed","Yes",IF(OR(H16="Not Renewed",H16="Canceled Before Renewal"),"No","")))) | M16: =IF(A16="","",IF(OR(L16<>"Yes",F16="",J16=""),"",IFERROR((J16-F16)/F16,""))) | N16: =IF(A16="","",IF(OR(B16="",D16="",E16="",F16=""),"Check required inputs",IF(AND(I16<>"",I16<B16),"Check date order",IF(AND(K16="Yes",OR(H16="",H16="Pending")),"Check overdue outcome",IF(AND(H16="Renewed",I16=""),"Check renewed date",IF(AND(H16="Renewed",J16=""),"Check renewed premium",IF(AND(OR(H16="Not Renewed",H16="Canceled Before Renewal"),I16=""),"Check outcome date",""))))))) | Q16: =IF(Assumptions!D15="","",Assumptions!D15) | R16: =IF(Assumptions!E15="","",Assumptions!E15) | S16: =IF(Assumptions!F15="","",Assumptions!F15)
C17: =IF(B17="","",YEAR(B17)) | G17: =IF(OR(B17="",Assumptions!$B$5=""),"",IFERROR(EDATE(B17,Assumptions!$B$5),"")) | K17: =IF(A17="","",IF(OR(G17="",Assumptions!$B$4="",Assumptions!$B$6=""),"",IF(G17+Assumptions!$B$6<=Assumptions!$B$4,"Yes","No"))) | L17: =IF(A17="","",IF(K17<>"Yes","",IF(H17="Renewed","Yes",IF(OR(H17="Not Renewed",H17="Canceled Before Renewal"),"No","")))) | M17: =IF(A17="","",IF(OR(L17<>"Yes",F17="",J17=""),"",IFERROR((J17-F17)/F17,""))) | N17: =IF(A17="","",IF(OR(B17="",D17="",E17="",F17=""),"Check required inputs",IF(AND(I17<>"",I17<B17),"Check date order",IF(AND(K17="Yes",OR(H17="",H17="Pending")),"Check overdue outcome",IF(AND(H17="Renewed",I17=""),"Check renewed date",IF(AND(H17="Renewed",J17=""),"Check renewed premium",IF(AND(OR(H17="Not Renewed",H17="Canceled Before Renewal"),I17=""),"Check outcome date",""))))))) | Q17: =IF(Assumptions!D16="","",Assumptions!D16) | R17: =IF(Assumptions!E16="","",Assumptions!E16) | S17: =IF(Assumptions!F16="","",Assumptions!F16)
C18: =IF(B18="","",YEAR(B18)) | G18: =IF(OR(B18="",Assumptions!$B$5=""),"",IFERROR(EDATE(B18,Assumptions!$B$5),"")) | K18: =IF(A18="","",IF(OR(G18="",Assumptions!$B$4="",Assumptions!$B$6=""),"",IF(G18+Assumptions!$B$6<=Assumptions!$B$4,"Yes","No"))) | L18: =IF(A18="","",IF(K18<>"Yes","",IF(H18="Renewed","Yes",IF(OR(H18="Not Renewed",H18="Canceled Before Renewal"),"No","")))) | M18: =IF(A18="","",IF(OR(L18<>"Yes",F18="",J18=""),"",IFERROR((J18-F18)/F18,""))) | N18: =IF(A18="","",IF(OR(B18="",D18="",E18="",F18=""),"Check required inputs",IF(AND(I18<>"",I18<B18),"Check date order",IF(AND(K18="Yes",OR(H18="",H18="Pending")),"Check overdue outcome",IF(AND(H18="Renewed",I18=""),"Check renewed date",IF(AND(H18="Renewed",J18=""),"Check renewed premium",IF(AND(OR(H18="Not Renewed",H18="Canceled Before Renewal"),I18=""),"Check outcome date",""))))))) | Q18: =IF(Assumptions!D17="","",Assumptions!D17) | R18: =IF(Assumptions!E17="","",Assumptions!E17) | S18: =IF(Assumptions!F17="","",Assumptions!F17)
C19: =IF(B19="","",YEAR(B19)) | G19: =IF(OR(B19="",Assumptions!$B$5=""),"",IFERROR(EDATE(B19,Assumptions!$B$5),"")) | K19: =IF(A19="","",IF(OR(G19="",Assumptions!$B$4="",Assumptions!$B$6=""),"",IF(G19+Assumptions!$B$6<=Assumptions!$B$4,"Yes","No"))) | L19: =IF(A19="","",IF(K19<>"Yes","",IF(H19="Renewed","Yes",IF(OR(H19="Not Renewed",H19="Canceled Before Renewal"),"No","")))) | M19: =IF(A19="","",IF(OR(L19<>"Yes",F19="",J19=""),"",IFERROR((J19-F19)/F19,""))) | N19: =IF(A19="","",IF(OR(B19="",D19="",E19="",F19=""),"Check required inputs",IF(AND(I19<>"",I19<B19),"Check date order",IF(AND(K19="Yes",OR(H19="",H19="Pending")),"Check overdue outcome",IF(AND(H19="Renewed",I19=""),"Check renewed date",IF(AND(H19="Renewed",J19=""),"Check renewed premium",IF(AND(OR(H19="Not Renewed",H19="Canceled Before Renewal"),I19=""),"Check outcome date",""))))))) | Q19: =IF(Assumptions!D18="","",Assumptions!D18) | R19: =IF(Assumptions!E18="","",Assumptions!E18) | S19: =IF(Assumptions!F18="","",Assumptions!F18)
C20: =IF(B20="","",YEAR(B20)) | G20: =IF(OR(B20="",Assumptions!$B$5=""),"",IFERROR(EDATE(B20,Assumptions!$B$5),"")) | K20: =IF(A20="","",IF(OR(G20="",Assumptions!$B$4="",Assumptions!$B$6=""),"",IF(G20+Assumptions!$B$6<=Assumptions!$B$4,"Yes","No"))) | L20: =IF(A20="","",IF(K20<>"Yes","",IF(H20="Renewed","Yes",IF(OR(H20="Not Renewed",H20="Canceled Before Renewal"),"No","")))) | M20: =IF(A20="","",IF(OR(L20<>"Yes",F20="",J20=""),"",IFERROR((J20-F20)/F20,""))) | N20: =IF(A20="","",IF(OR(B20="",D20="",E20="",F20=""),"Check required inputs",IF(AND(I20<>"",I20<B20),"Check date order",IF(AND(K20="Yes",OR(H20="",H20="Pending")),"Check overdue outcome",IF(AND(H20="Renewed",I20=""),"Check renewed date",IF(AND(H20="Renewed",J20=""),"Check renewed premium",IF(AND(OR(H20="Not Renewed",H20="Canceled Before Renewal"),I20=""),"Check outcome date",""))))))) | Q20: =IF(Assumptions!D19="","",Assumptions!D19) | R20: =IF(Assumptions!E19="","",Assumptions!E19) | S20: =IF(Assumptions!F19="","",Assumptions!F19)
C21: =IF(B21="","",YEAR(B21)) | G21: =IF(OR(B21="",Assumptions!$B$5=""),"",IFERROR(EDATE(B21,Assumptions!$B$5),"")) | K21: =IF(A21="","",IF(OR(G21="",Assumptions!$B$4="",Assumptions!$B$6=""),"",IF(G21+Assumptions!$B$6<=Assumptions!$B$4,"Yes","No"))) | L21: =IF(A21="","",IF(K21<>"Yes","",IF(H21="Renewed","Yes",IF(OR(H21="Not Renewed",H21="Canceled Before Renewal"),"No","")))) | M21: =IF(A21="","",IF(OR(L21<>"Yes",F21="",J21=""),"",IFERROR((J21-F21)/F21,""))) | N21: =IF(A21="","",IF(OR(B21="",D21="",E21="",F21=""),"Check required inputs",IF(AND(I21<>"",I21<B21),"Check date order",IF(AND(K21="Yes",OR(H21="",H21="Pending")),"Check overdue outcome",IF(AND(H21="Renewed",I21=""),"Check renewed date",IF(AND(H21="Renewed",J21=""),"Check renewed premium",IF(AND(OR(H21="Not Renewed",H21="Canceled Before Renewal"),I21=""),"Check outcome date",""))))))) | Q21: =IF(Assumptions!D20="","",Assumptions!D20) | R21: =IF(Assumptions!E20="","",Assumptions!E20) | S21: =IF(Assumptions!F20="","",Assumptions!F20)
C22: =IF(B22="","",YEAR(B22)) | G22: =IF(OR(B22="",Assumptions!$B$5=""),"",IFERROR(EDATE(B22,Assumptions!$B$5),"")) | K22: =IF(A22="","",IF(OR(G22="",Assumptions!$B$4="",Assumptions!$B$6=""),"",IF(G22+Assumptions!$B$6<=Assumptions!$B$4,"Yes","No"))) | L22: =IF(A22="","",IF(K22<>"Yes","",IF(H22="Renewed","Yes",IF(OR(H22="Not Renewed",H22="Canceled Before Renewal"),"No","")))) | M22: =IF(A22="","",IF(OR(L22<>"Yes",F22="",J22=""),"",IFERROR((J22-F22)/F22,""))) | N22: =IF(A22="","",IF(OR(B22="",D22="",E22="",F22=""),"Check required inputs",IF(AND(I22<>"",I22<B22),"Check date order",IF(AND(K22="Yes",OR(H22="",H22="Pending")),"Check overdue outcome",IF(AND(H22="Renewed",I22=""),"Check renewed date",IF(AND(H22="Renewed",J22=""),"Check renewed premium",IF(AND(OR(H22="Not Renewed",H22="Canceled Before Renewal"),I22=""),"Check outcome date",""))))))) | Q22: =IF(Assumptions!D21="","",Assumptions!D21) | R22: =IF(Assumptions!E21="","",Assumptions!E21) | S22: =IF(Assumptions!F21="","",Assumptions!F21)
C23: =IF(B23="","",YEAR(B23)) | G23: =IF(OR(B23="",Assumptions!$B$5=""),"",IFERROR(EDATE(B23,Assumptions!$B$5),"")) | K23: =IF(A23="","",IF(OR(G23="",Assumptions!$B$4="",Assumptions!$B$6=""),"",IF(G23+Assumptions!$B$6<=Assumptions!$B$4,"Yes","No"))) | L23: =IF(A23="","",IF(K23<>"Yes","",IF(H23="Renewed","Yes",IF(OR(H23="Not Renewed",H23="Canceled Before Renewal"),"No","")))) | M23: =IF(A23="","",IF(OR(L23<>"Yes",F23="",J23=""),"",IFERROR((J23-F23)/F23,""))) | N23: =IF(A23="","",IF(OR(B23="",D23="",E23="",F23=""),"Check required inputs",IF(AND(I23<>"",I23<B23),"Check date order",IF(AND(K23="Yes",OR(H23="",H23="Pending")),"Check overdue outcome",IF(AND(H23="Renewed",I23=""),"Check renewed date",IF(AND(H23="Renewed",J23=""),"Check renewed premium",IF(AND(OR(H23="Not Renewed",H23="Canceled Before Renewal"),I23=""),"Check outcome date",""))))))) | Q23: =IF(Assumptions!D22="","",Assumptions!D22) | R23: =IF(Assumptions!E22="","",Assumptions!E22) | S23: =IF(Assumptions!F22="","",Assumptions!F22)
C24: =IF(B24="","",YEAR(B24)) | G24: =IF(OR(B24="",Assumptions!$B$5=""),"",IFERROR(EDATE(B24,Assumptions!$B$5),"")) | K24: =IF(A24="","",IF(OR(G24="",Assumptions!$B$4="",Assumptions!$B$6=""),"",IF(G24+Assumptions!$B$6<=Assumptions!$B$4,"Yes","No"))) | L24: =IF(A24="","",IF(K24<>"Yes","",IF(H24="Renewed","Yes",IF(OR(H24="Not Renewed",H24="Canceled Before Renewal"),"No","")))) | M24: =IF(A24="","",IF(OR(L24<>"Yes",F24="",J24=""),"",IFERROR((J24-F24)/F24,""))) | N24: =IF(A24="","",IF(OR(B24="",D24="",E24="",F24=""),"Check required inputs",IF(AND(I24<>"",I24<B24),"Check date order",IF(AND(K24="Yes",OR(H24="",H24="Pending")),"Check overdue outcome",IF(AND(H24="Renewed",I24=""),"Check renewed date",IF(AND(H24="Renewed",J24=""),"Check renewed premium",IF(AND(OR(H24="Not Renewed",H24="Canceled Before Renewal"),I24=""),"Check outcome date",""))))))) | Q24: =IF(Assumptions!D23="","",Assumptions!D23) | R24: =IF(Assumptions!E23="","",Assumptions!E23) | S24: =IF(Assumptions!F23="","",Assumptions!F23)
C25: =IF(B25="","",YEAR(B25)) | G25: =IF(OR(B25="",Assumptions!$B$5=""),"",IFERROR(EDATE(B25,Assumptions!$B$5),"")) | K25: =IF(A25="","",IF(OR(G25="",Assumptions!$B$4="",Assumptions!$B$6=""),"",IF(G25+Assumptions!$B$6<=Assumptions!$B$4,"Yes","No"))) | L25: =IF(A25="","",IF(K25<>"Yes","",IF(H25="Renewed","Yes",IF(OR(H25="Not Renewed",H25="Canceled Before Renewal"),"No","")))) | M25: =IF(A25="","",IF(OR(L25<>"Yes",F25="",J25=""),"",IFERROR((J25-F25)/F25,""))) | N25: =IF(A25="","",IF(OR(B25="",D25="",E25="",F25=""),"Check required inputs",IF(AND(I25<>"",I25<B25),"Check date order",IF(AND(K25="Yes",OR(H25="",H25="Pending")),"Check overdue outcome",IF(AND(H25="Renewed",I25=""),"Check renewed date",IF(AND(H25="Renewed",J25=""),"Check renewed premium",IF(AND(OR(H25="Not Renewed",H25="Canceled Before Renewal"),I25=""),"Check outcome date",""))))))) | Q25: =IF(Assumptions!D24="","",Assumptions!D24) | R25: =IF(Assumptions!E24="","",Assumptions!E24) | S25: =IF(Assumptions!F24="","",Assumptions!F24)
C26: =IF(B26="","",YEAR(B26)) | G26: =IF(OR(B26="",Assumptions!$B$5=""),"",IFERROR(EDATE(B26,Assumptions!$B$5),"")) | K26: =IF(A26="","",IF(OR(G26="",Assumptions!$B$4="",Assumptions!$B$6=""),"",IF(G26+Assumptions!$B$6<=Assumptions!$B$4,"Yes","No"))) | L26: =IF(A26="","",IF(K26<>"Yes","",IF(H26="Renewed","Yes",IF(OR(H26="Not Renewed",H26="Canceled Before Renewal"),"No","")))) | M26: =IF(A26="","",IF(OR(L26<>"Yes",F26="",J26=""),"",IFERROR((J26-F26)/F26,""))) | N26: =IF(A26="","",IF(OR(B26="",D26="",E26="",F26=""),"Check required inputs",IF(AND(I26<>"",I26<B26),"Check date order",IF(AND(K26="Yes",OR(H26="",H26="Pending")),"Check overdue outcome",IF(AND(H26="Renewed",I26=""),"Check renewed date",IF(AND(H26="Renewed",J26=""),"Check renewed premium",IF(AND(OR(H26="Not Renewed",H26="Canceled Before Renewal"),I26=""),"Check outcome date",""))))))) | Q26: =IF(Assumptions!D25="","",Assumptions!D25) | R26: =IF(Assumptions!E25="","",Assumptions!E25) | S26: =IF(Assumptions!F25="","",Assumptions!F25)
... C104: =IF(B104="","",YEAR(B104)) | G104: =IF(OR(B104="",Assumptions!$B$5=""),"",IFERROR(EDATE(B104,Assumptions!$B$5),"")) | K104: =IF(A104="","",IF(OR(G104="",Assumptions!$B$4="",Assumptions!$B$6=""),"",IF(G104+Assumptions!$B$6<=Assumptions!$B$4,"Yes","No"))) | L104: =IF(A104="","",IF(K104<>"Yes","",IF(H104="Renewed","Yes",IF(OR(H104="Not Renewed",H104="Canceled Before Renewal"),"No","")))) | M104: =IF(A104="","",IF(OR(L104<>"Yes",F104="",J104=""),"",IFERROR((J104-F104)/F104,""))) | N104: =IF(A104="","",IF(OR(B104="",D104="",E104="",F104=""),"Check required inputs",IF(AND(I104<>"",I104<B104),"Check date order",IF(AND(K104="Yes",OR(H104="",H104="Pending")),"Check overdue outcome",IF(AND(H104="Renewed",I104=""),"Check renewed date",IF(AND(H104="Renewed",J104=""),"Check renewed premium",IF(AND(OR(H104="Not Renewed",H104="Canceled Before Renewal"),I104=""),"Check outcome date",""))))))) | Q104: =IF(Assumptions!D103="","",Assumptions!D103) | R104: =IF(Assumptions!E103="","",Assumptions!E103) | S104: =IF(Assumptions!F103="","",Assumptions!F103)

Sheet Assumptions
A1: Retention Cohort Assumptions
A2: Edit the highlighted settings and stable validation lists. All sample records are fictional.
A3: Setting | B3: Value | C3: Administrative Use | D3: Lines of Business | E3: Service Owners | F3: Renewal Outcomes
A4: As-of Date | B4: 46276 | C4: Controls eligibility and dashboard calculations. | D4: Personal Auto | E4: Avery Quill — Fictional | F4: Renewed
A5: Standard Policy Term (Months) | B5: 12 | C5: Calculates the first renewal due date. | D5: Homeowners | E5: Jordan Vale — Fictional | F5: Not Renewed
A6: Outcome Grace Days | B6: 30 | C6: Delays eligibility briefly after the renewal due date. | D6: Commercial Package | E6: Morgan Finch — Fictional | F6: Pending
A7: Cohort Years Shown | B7: 8 | C7: Controls the annual cohort rows displayed on Summary. | D7: General Liability | E7: Riley North — Fictional | F7: Canceled Before Renewal
A8: Retention Highlight Threshold | B8: 0.85 | C8: Visual review threshold only; it is not a recommendation. | D8: Workers Compensation
A9: Maximum Entered Annual Premium | B9: 10000000 | C9: Data-entry limit for this workbook. | D9: Umbrella
A10: Earliest Allowed Record Date | B10: 38718 | C10: Data-entry boundary for administrative records.
