Workbook

Sheet Summary
A1: Policy Servicing Workload Summary — Fictional Sample Data
A2: As of date | B2: =TODAY()
A3: Workload Indicator | B3: Calculated Value
A4: Open tasks | B4: =COUNTIFS('Service Tasks'!$A$5:$A$104,"<>",'Service Tasks'!$H$5:$H$104,"<>Completed",'Service Tasks'!$H$5:$H$104,"<>Canceled")
A5: Open estimated hours | B5: =SUM('Service Tasks'!$M$5:$M$104)
A6: Past due tasks | B6: =COUNTIF('Service Tasks'!$L$5:$L$104,"Past Due")
A7: Due soon tasks | B7: =COUNTIF('Service Tasks'!$L$5:$L$104,"Due Soon")
A8: Unassigned open tasks | B8: =COUNTIFS('Service Tasks'!$A$5:$A$104,"<>",'Service Tasks'!$F$5:$F$104,"",'Service Tasks'!$H$5:$H$104,"<>Completed",'Service Tasks'!$H$5:$H$104,"<>Canceled")
A9: Completed tasks | B9: =COUNTIFS('Service Tasks'!$A$5:$A$104,"<>",'Service Tasks'!$H$5:$H$104,"Completed")
A10: Tasks needing review | B10: =COUNTIF('Service Tasks'!$N$5:$N$104,"?*")
A11: Owners needing review | B11: =COUNTIF($H$14:$H$18,"Review*")
A13: Owner | B13: Open Tasks | C13: Open Hours | D13: Past Due | E13: Due Soon | F13: Capacity Hours | G13: Utilization | H13: Review
A14: =IF(Assumptions!$A$7="","",Assumptions!$A$7) | B14: =IF($A14="","",COUNTIFS('Service Tasks'!$A$5:$A$104,"<>",'Service Tasks'!$F$5:$F$104,$A14,'Service Tasks'!$H$5:$H$104,"<>Completed",'Service Tasks'!$H$5:$H$104,"<>Canceled")) | C14: =IF($A14="","",SUMIFS('Service Tasks'!$M$5:$M$104,'Service Tasks'!$F$5:$F$104,$A14)) | D14: =IF($A14="","",COUNTIFS('Service Tasks'!$F$5:$F$104,$A14,'Service Tasks'!$L$5:$L$104,"Past Due")) | E14: =IF($A14="","",COUNTIFS('Service Tasks'!$F$5:$F$104,$A14,'Service Tasks'!$L$5:$L$104,"Due Soon")) | F14: =IF($A14="","",IFERROR(VLOOKUP($A14,Assumptions!$A$7:$B$11,2,FALSE),"")) | G14: =IF(OR($A14="",$F14="",$F14=0),"",IFERROR($C14/$F14,"")) | H14: =IF($A14="","",IF($F14="","Review capacity",IF($F14=0,IF($C14>0,"Review: no capacity","Within limit"),IF($C14>$F14,"Review allocation","Within limit"))))
A15: =IF(Assumptions!$A$8="","",Assumptions!$A$8) | B15: =IF($A15="","",COUNTIFS('Service Tasks'!$A$5:$A$104,"<>",'Service Tasks'!$F$5:$F$104,$A15,'Service Tasks'!$H$5:$H$104,"<>Completed",'Service Tasks'!$H$5:$H$104,"<>Canceled")) | C15: =IF($A15="","",SUMIFS('Service Tasks'!$M$5:$M$104,'Service Tasks'!$F$5:$F$104,$A15)) | D15: =IF($A15="","",COUNTIFS('Service Tasks'!$F$5:$F$104,$A15,'Service Tasks'!$L$5:$L$104,"Past Due")) | E15: =IF($A15="","",COUNTIFS('Service Tasks'!$F$5:$F$104,$A15,'Service Tasks'!$L$5:$L$104,"Due Soon")) | F15: =IF($A15="","",IFERROR(VLOOKUP($A15,Assumptions!$A$7:$B$11,2,FALSE),"")) | G15: =IF(OR($A15="",$F15="",$F15=0),"",IFERROR($C15/$F15,"")) | H15: =IF($A15="","",IF($F15="","Review capacity",IF($F15=0,IF($C15>0,"Review: no capacity","Within limit"),IF($C15>$F15,"Review allocation","Within limit"))))
A16: =IF(Assumptions!$A$9="","",Assumptions!$A$9) | B16: =IF($A16="","",COUNTIFS('Service Tasks'!$A$5:$A$104,"<>",'Service Tasks'!$F$5:$F$104,$A16,'Service Tasks'!$H$5:$H$104,"<>Completed",'Service Tasks'!$H$5:$H$104,"<>Canceled")) | C16: =IF($A16="","",SUMIFS('Service Tasks'!$M$5:$M$104,'Service Tasks'!$F$5:$F$104,$A16)) | D16: =IF($A16="","",COUNTIFS('Service Tasks'!$F$5:$F$104,$A16,'Service Tasks'!$L$5:$L$104,"Past Due")) | E16: =IF($A16="","",COUNTIFS('Service Tasks'!$F$5:$F$104,$A16,'Service Tasks'!$L$5:$L$104,"Due Soon")) | F16: =IF($A16="","",IFERROR(VLOOKUP($A16,Assumptions!$A$7:$B$11,2,FALSE),"")) | G16: =IF(OR($A16="",$F16="",$F16=0),"",IFERROR($C16/$F16,"")) | H16: =IF($A16="","",IF($F16="","Review capacity",IF($F16=0,IF($C16>0,"Review: no capacity","Within limit"),IF($C16>$F16,"Review allocation","Within limit"))))
A17: =IF(Assumptions!$A$10="","",Assumptions!$A$10) | B17: =IF($A17="","",COUNTIFS('Service Tasks'!$A$5:$A$104,"<>",'Service Tasks'!$F$5:$F$104,$A17,'Service Tasks'!$H$5:$H$104,"<>Completed",'Service Tasks'!$H$5:$H$104,"<>Canceled")) | C17: =IF($A17="","",SUMIFS('Service Tasks'!$M$5:$M$104,'Service Tasks'!$F$5:$F$104,$A17)) | D17: =IF($A17="","",COUNTIFS('Service Tasks'!$F$5:$F$104,$A17,'Service Tasks'!$L$5:$L$104,"Past Due")) | E17: =IF($A17="","",COUNTIFS('Service Tasks'!$F$5:$F$104,$A17,'Service Tasks'!$L$5:$L$104,"Due Soon")) | F17: =IF($A17="","",IFERROR(VLOOKUP($A17,Assumptions!$A$7:$B$11,2,FALSE),"")) | G17: =IF(OR($A17="",$F17="",$F17=0),"",IFERROR($C17/$F17,"")) | H17: =IF($A17="","",IF($F17="","Review capacity",IF($F17=0,IF($C17>0,"Review: no capacity","Within limit"),IF($C17>$F17,"Review allocation","Within limit"))))
A18: =IF(Assumptions!$A$11="","",Assumptions!$A$11) | B18: =IF($A18="","",COUNTIFS('Service Tasks'!$A$5:$A$104,"<>",'Service Tasks'!$F$5:$F$104,$A18,'Service Tasks'!$H$5:$H$104,"<>Completed",'Service Tasks'!$H$5:$H$104,"<>Canceled")) | C18: =IF($A18="","",SUMIFS('Service Tasks'!$M$5:$M$104,'Service Tasks'!$F$5:$F$104,$A18)) | D18: =IF($A18="","",COUNTIFS('Service Tasks'!$F$5:$F$104,$A18,'Service Tasks'!$L$5:$L$104,"Past Due")) | E18: =IF($A18="","",COUNTIFS('Service Tasks'!$F$5:$F$104,$A18,'Service Tasks'!$L$5:$L$104,"Due Soon")) | F18: =IF($A18="","",IFERROR(VLOOKUP($A18,Assumptions!$A$7:$B$11,2,FALSE),"")) | G18: =IF(OR($A18="",$F18="",$F18=0),"",IFERROR($C18/$F18,"")) | H18: =IF($A18="","",IF($F18="","Review capacity",IF($F18=0,IF($C18>0,"Review: no capacity","Within limit"),IF($C18>$F18,"Review allocation","Within limit"))))

Sheet Service Tasks
A1: Service Tasks — Fictional Administrative Sample Records
A2: Use | B2: Allocate administrative policy servicing tasks by owner, due date, and estimated effort. | L2: Prepared task rows | M2: 100
A4: Task ID | B4: Policy or Transaction Ref | C4: Service Task | D4: Received Date | E4: Due Date | F4: Owner | G4: Priority | H4: Status | I4: Estimated Hours | J4: Closed Date | K4: Days to Due | L4: Due Alert | M4: Open Hours | N4: Review Note
A5: FIC-TSK-001 | B5: FIC-POL-1001 | C5: Address update | D5: 46270 | E5: 46275 | F5: Avery North (fictional) | G5: High | H5: In Progress | I5: 9 | K5: =IF($A5="","",IF(OR($H5="Completed",$H5="Canceled"),"",IF($E5="","",IFERROR($E5-TODAY(),"")))) | L5: =IF($A5="","",IF(OR($H5="Completed",$H5="Canceled"),"Closed",IF($E5="","Check due date",IF(OR(NOT(ISNUMBER(Assumptions!$B$3)),Assumptions!$B$3<0),"Check due window",IF($E5<TODAY(),"Past Due",IF($E5<=TODAY()+Assumptions!$B$3,"Due Soon","On Track")))))) | M5: =IF($A5="","",IF(OR($H5="Completed",$H5="Canceled"),0,IF(ISNUMBER($I5),$I5,""))) | N5: =IF($A5="","",IF(COUNTIF($A$5:$A$104,$A5)>1,"Check duplicate task ID",IF($B5="","Check policy reference",IF($C5="","Select service task",IF($D5="","Check received date",IF($E5="","Check due date",IF(AND(ISNUMBER($D5),ISNUMBER($E5),$E5<$D5),"Check date order",IF($G5="","Select priority",IF($H5="","Select status",IF($I5="","Add estimate",IF(OR(NOT(ISNUMBER(Assumptions!$B$4)),Assumptions!$B$4<=0),"Check estimate limit",IF(AND(ISNUMBER($I5),$I5>Assumptions!$B$4),"Check estimate limit",IF(AND(OR($H5="Completed",$H5="Canceled"),$J5=""),"Check closed date",IF(AND(NOT(OR($H5="Completed",$H5="Canceled")),$J5<>""),"Check status and date",IF($F5="","Assign owner",IF(COUNTIF(Assumptions!$A$7:$A$11,$F5)=0,"Check owner list",""))))))))))))))))
A6: FIC-TSK-002 | B6: FIC-POL-1002 | C6: Lienholder update | D6: 46274 | E6: 46276 | F6: Jordan Pike (fictional) | G6: Urgent | H6: Not Started | I6: 4 | K6: =IF($A6="","",IF(OR($H6="Completed",$H6="Canceled"),"",IF($E6="","",IFERROR($E6-TODAY(),"")))) | L6: =IF($A6="","",IF(OR($H6="Completed",$H6="Canceled"),"Closed",IF($E6="","Check due date",IF(OR(NOT(ISNUMBER(Assumptions!$B$3)),Assumptions!$B$3<0),"Check due window",IF($E6<TODAY(),"Past Due",IF($E6<=TODAY()+Assumptions!$B$3,"Due Soon","On Track")))))) | M6: =IF($A6="","",IF(OR($H6="Completed",$H6="Canceled"),0,IF(ISNUMBER($I6),$I6,""))) | N6: =IF($A6="","",IF(COUNTIF($A$5:$A$104,$A6)>1,"Check duplicate task ID",IF($B6="","Check policy reference",IF($C6="","Select service task",IF($D6="","Check received date",IF($E6="","Check due date",IF(AND(ISNUMBER($D6),ISNUMBER($E6),$E6<$D6),"Check date order",IF($G6="","Select priority",IF($H6="","Select status",IF($I6="","Add estimate",IF(OR(NOT(ISNUMBER(Assumptions!$B$4)),Assumptions!$B$4<=0),"Check estimate limit",IF(AND(ISNUMBER($I6),$I6>Assumptions!$B$4),"Check estimate limit",IF(AND(OR($H6="Completed",$H6="Canceled"),$J6=""),"Check closed date",IF(AND(NOT(OR($H6="Completed",$H6="Canceled")),$J6<>""),"Check status and date",IF($F6="","Assign owner",IF(COUNTIF(Assumptions!$A$7:$A$11,$F6)=0,"Check owner list",""))))))))))))))))
A7: FIC-TSK-003 | B7: FIC-POL-1003 | C7: Document copy | D7: 46272 | E7: 46283 | F7: Avery North (fictional) | G7: Normal | H7: Waiting | I7: 5 | K7: =IF($A7="","",IF(OR($H7="Completed",$H7="Canceled"),"",IF($E7="","",IFERROR($E7-TODAY(),"")))) | L7: =IF($A7="","",IF(OR($H7="Completed",$H7="Canceled"),"Closed",IF($E7="","Check due date",IF(OR(NOT(ISNUMBER(Assumptions!$B$3)),Assumptions!$B$3<0),"Check due window",IF($E7<TODAY(),"Past Due",IF($E7<=TODAY()+Assumptions!$B$3,"Due Soon","On Track")))))) | M7: =IF($A7="","",IF(OR($H7="Completed",$H7="Canceled"),0,IF(ISNUMBER($I7),$I7,""))) | N7: =IF($A7="","",IF(COUNTIF($A$5:$A$104,$A7)>1,"Check duplicate task ID",IF($B7="","Check policy reference",IF($C7="","Select service task",IF($D7="","Check received date",IF($E7="","Check due date",IF(AND(ISNUMBER($D7),ISNUMBER($E7),$E7<$D7),"Check date order",IF($G7="","Select priority",IF($H7="","Select status",IF($I7="","Add estimate",IF(OR(NOT(ISNUMBER(Assumptions!$B$4)),Assumptions!$B$4<=0),"Check estimate limit",IF(AND(ISNUMBER($I7),$I7>Assumptions!$B$4),"Check estimate limit",IF(AND(OR($H7="Completed",$H7="Canceled"),$J7=""),"Check closed date",IF(AND(NOT(OR($H7="Completed",$H7="Canceled")),$J7<>""),"Check status and date",IF($F7="","Assign owner",IF(COUNTIF(Assumptions!$A$7:$A$11,$F7)=0,"Check owner list",""))))))))))))))))
A8: FIC-TSK-004 | B8: FIC-TRN-2001 | C8: Billing inquiry | D8: 46275 | E8: 46284 | F8: Morgan Field (fictional) | G8: Low | H8: Not Started | I8: 10 | K8: =IF($A8="","",IF(OR($H8="Completed",$H8="Canceled"),"",IF($E8="","",IFERROR($E8-TODAY(),"")))) | L8: =IF($A8="","",IF(OR($H8="Completed",$H8="Canceled"),"Closed",IF($E8="","Check due date",IF(OR(NOT(ISNUMBER(Assumptions!$B$3)),Assumptions!$B$3<0),"Check due window",IF($E8<TODAY(),"Past Due",IF($E8<=TODAY()+Assumptions!$B$3,"Due Soon","On Track")))))) | M8: =IF($A8="","",IF(OR($H8="Completed",$H8="Canceled"),0,IF(ISNUMBER($I8),$I8,""))) | N8: =IF($A8="","",IF(COUNTIF($A$5:$A$104,$A8)>1,"Check duplicate task ID",IF($B8="","Check policy reference",IF($C8="","Select service task",IF($D8="","Check received date",IF($E8="","Check due date",IF(AND(ISNUMBER($D8),ISNUMBER($E8),$E8<$D8),"Check date order",IF($G8="","Select priority",IF($H8="","Select status",IF($I8="","Add estimate",IF(OR(NOT(ISNUMBER(Assumptions!$B$4)),Assumptions!$B$4<=0),"Check estimate limit",IF(AND(ISNUMBER($I8),$I8>Assumptions!$B$4),"Check estimate limit",IF(AND(OR($H8="Completed",$H8="Canceled"),$J8=""),"Check closed date",IF(AND(NOT(OR($H8="Completed",$H8="Canceled")),$J8<>""),"Check status and date",IF($F8="","Assign owner",IF(COUNTIF(Assumptions!$A$7:$A$11,$F8)=0,"Check owner list",""))))))))))))))))
A9: FIC-TSK-005 | B9: FIC-POL-1004 | C9: Cancellation request | D9: 46262 | E9: 46269 | F9: Riley Stone (fictional) | G9: High | H9: Completed | I9: 6 | J9: 46274 | K9: =IF($A9="","",IF(OR($H9="Completed",$H9="Canceled"),"",IF($E9="","",IFERROR($E9-TODAY(),"")))) | L9: =IF($A9="","",IF(OR($H9="Completed",$H9="Canceled"),"Closed",IF($E9="","Check due date",IF(OR(NOT(ISNUMBER(Assumptions!$B$3)),Assumptions!$B$3<0),"Check due window",IF($E9<TODAY(),"Past Due",IF($E9<=TODAY()+Assumptions!$B$3,"Due Soon","On Track")))))) | M9: =IF($A9="","",IF(OR($H9="Completed",$H9="Canceled"),0,IF(ISNUMBER($I9),$I9,""))) | N9: =IF($A9="","",IF(COUNTIF($A$5:$A$104,$A9)>1,"Check duplicate task ID",IF($B9="","Check policy reference",IF($C9="","Select service task",IF($D9="","Check received date",IF($E9="","Check due date",IF(AND(ISNUMBER($D9),ISNUMBER($E9),$E9<$D9),"Check date order",IF($G9="","Select priority",IF($H9="","Select status",IF($I9="","Add estimate",IF(OR(NOT(ISNUMBER(Assumptions!$B$4)),Assumptions!$B$4<=0),"Check estimate limit",IF(AND(ISNUMBER($I9),$I9>Assumptions!$B$4),"Check estimate limit",IF(AND(OR($H9="Completed",$H9="Canceled"),$J9=""),"Check closed date",IF(AND(NOT(OR($H9="Completed",$H9="Canceled")),$J9<>""),"Check status and date",IF($F9="","Assign owner",IF(COUNTIF(Assumptions!$A$7:$A$11,$F9)=0,"Check owner list",""))))))))))))))))
A10: FIC-TSK-006 | B10: FIC-POL-1005 | C10: Vehicle information | D10: 46275 | E10: 46279 | G10: High | H10: Not Started | I10: 3 | K10: =IF($A10="","",IF(OR($H10="Completed",$H10="Canceled"),"",IF($E10="","",IFERROR($E10-TODAY(),"")))) | L10: =IF($A10="","",IF(OR($H10="Completed",$H10="Canceled"),"Closed",IF($E10="","Check due date",IF(OR(NOT(ISNUMBER(Assumptions!$B$3)),Assumptions!$B$3<0),"Check due window",IF($E10<TODAY(),"Past Due",IF($E10<=TODAY()+Assumptions!$B$3,"Due Soon","On Track")))))) | M10: =IF($A10="","",IF(OR($H10="Completed",$H10="Canceled"),0,IF(ISNUMBER($I10),$I10,""))) | N10: =IF($A10="","",IF(COUNTIF($A$5:$A$104,$A10)>1,"Check duplicate task ID",IF($B10="","Check policy reference",IF($C10="","Select service task",IF($D10="","Check received date",IF($E10="","Check due date",IF(AND(ISNUMBER($D10),ISNUMBER($E10),$E10<$D10),"Check date order",IF($G10="","Select priority",IF($H10="","Select status",IF($I10="","Add estimate",IF(OR(NOT(ISNUMBER(Assumptions!$B$4)),Assumptions!$B$4<=0),"Check estimate limit",IF(AND(ISNUMBER($I10),$I10>Assumptions!$B$4),"Check estimate limit",IF(AND(OR($H10="Completed",$H10="Canceled"),$J10=""),"Check closed date",IF(AND(NOT(OR($H10="Completed",$H10="Canceled")),$J10<>""),"Check status and date",IF($F10="","Assign owner",IF(COUNTIF(Assumptions!$A$7:$A$11,$F10)=0,"Check owner list",""))))))))))))))))
A11: FIC-TSK-007 | B11: FIC-POL-1006 | C11: Endorsement paperwork | D11: 46273 | E11: 46291 | F11: Riley Stone (fictional) | G11: Normal | H11: In Progress | I11: 11 | K11: =IF($A11="","",IF(OR($H11="Completed",$H11="Canceled"),"",IF($E11="","",IFERROR($E11-TODAY(),"")))) | L11: =IF($A11="","",IF(OR($H11="Completed",$H11="Canceled"),"Closed",IF($E11="","Check due date",IF(OR(NOT(ISNUMBER(Assumptions!$B$3)),Assumptions!$B$3<0),"Check due window",IF($E11<TODAY(),"Past Due",IF($E11<=TODAY()+Assumptions!$B$3,"Due Soon","On Track")))))) | M11: =IF($A11="","",IF(OR($H11="Completed",$H11="Canceled"),0,IF(ISNUMBER($I11),$I11,""))) | N11: =IF($A11="","",IF(COUNTIF($A$5:$A$104,$A11)>1,"Check duplicate task ID",IF($B11="","Check policy reference",IF($C11="","Select service task",IF($D11="","Check received date",IF($E11="","Check due date",IF(AND(ISNUMBER($D11),ISNUMBER($E11),$E11<$D11),"Check date order",IF($G11="","Select priority",IF($H11="","Select status",IF($I11="","Add estimate",IF(OR(NOT(ISNUMBER(Assumptions!$B$4)),Assumptions!$B$4<=0),"Check estimate limit",IF(AND(ISNUMBER($I11),$I11>Assumptions!$B$4),"Check estimate limit",IF(AND(OR($H11="Completed",$H11="Canceled"),$J11=""),"Check closed date",IF(AND(NOT(OR($H11="Completed",$H11="Canceled")),$J11<>""),"Check status and date",IF($F11="","Assign owner",IF(COUNTIF(Assumptions!$A$7:$A$11,$F11)=0,"Check owner list",""))))))))))))))))
A12: FIC-TSK-008 | B12: FIC-TRN-2002 | C12: Duplicate request | D12: 46276 | E12: 46277 | F12: Casey Harbor (fictional) | G12: Low | H12: Canceled | I12: 2 | J12: 46276 | K12: =IF($A12="","",IF(OR($H12="Completed",$H12="Canceled"),"",IF($E12="","",IFERROR($E12-TODAY(),"")))) | L12: =IF($A12="","",IF(OR($H12="Completed",$H12="Canceled"),"Closed",IF($E12="","Check due date",IF(OR(NOT(ISNUMBER(Assumptions!$B$3)),Assumptions!$B$3<0),"Check due window",IF($E12<TODAY(),"Past Due",IF($E12<=TODAY()+Assumptions!$B$3,"Due Soon","On Track")))))) | M12: =IF($A12="","",IF(OR($H12="Completed",$H12="Canceled"),0,IF(ISNUMBER($I12),$I12,""))) | N12: =IF($A12="","",IF(COUNTIF($A$5:$A$104,$A12)>1,"Check duplicate task ID",IF($B12="","Check policy reference",IF($C12="","Select service task",IF($D12="","Check received date",IF($E12="","Check due date",IF(AND(ISNUMBER($D12),ISNUMBER($E12),$E12<$D12),"Check date order",IF($G12="","Select priority",IF($H12="","Select status",IF($I12="","Add estimate",IF(OR(NOT(ISNUMBER(Assumptions!$B$4)),Assumptions!$B$4<=0),"Check estimate limit",IF(AND(ISNUMBER($I12),$I12>Assumptions!$B$4),"Check estimate limit",IF(AND(OR($H12="Completed",$H12="Canceled"),$J12=""),"Check closed date",IF(AND(NOT(OR($H12="Completed",$H12="Canceled")),$J12<>""),"Check status and date",IF($F12="","Assign owner",IF(COUNTIF(Assumptions!$A$7:$A$11,$F12)=0,"Check owner list",""))))))))))))))))
A13: FIC-TSK-009 | B13: FIC-POL-1007 | C13: Reinstatement inquiry | D13: 46271 | E13: 46274 | F13: Jordan Pike (fictional) | G13: Urgent | H13: Waiting | I13: 7 | K13: =IF($A13="","",IF(OR($H13="Completed",$H13="Canceled"),"",IF($E13="","",IFERROR($E13-TODAY(),"")))) | L13: =IF($A13="","",IF(OR($H13="Completed",$H13="Canceled"),"Closed",IF($E13="","Check due date",IF(OR(NOT(ISNUMBER(Assumptions!$B$3)),Assumptions!$B$3<0),"Check due window",IF($E13<TODAY(),"Past Due",IF($E13<=TODAY()+Assumptions!$B$3,"Due Soon","On Track")))))) | M13: =IF($A13="","",IF(OR($H13="Completed",$H13="Canceled"),0,IF(ISNUMBER($I13),$I13,""))) | N13: =IF($A13="","",IF(COUNTIF($A$5:$A$104,$A13)>1,"Check duplicate task ID",IF($B13="","Check policy reference",IF($C13="","Select service task",IF($D13="","Check received date",IF($E13="","Check due date",IF(AND(ISNUMBER($D13),ISNUMBER($E13),$E13<$D13),"Check date order",IF($G13="","Select priority",IF($H13="","Select status",IF($I13="","Add estimate",IF(OR(NOT(ISNUMBER(Assumptions!$B$4)),Assumptions!$B$4<=0),"Check estimate limit",IF(AND(ISNUMBER($I13),$I13>Assumptions!$B$4),"Check estimate limit",IF(AND(OR($H13="Completed",$H13="Canceled"),$J13=""),"Check closed date",IF(AND(NOT(OR($H13="Completed",$H13="Canceled")),$J13<>""),"Check status and date",IF($F13="","Assign owner",IF(COUNTIF(Assumptions!$A$7:$A$11,$F13)=0,"Check owner list",""))))))))))))))))
A14: FIC-TSK-010 | B14: FIC-POL-1008 | C14: Other administrative request | D14: 46267 | E14: 46272 | F14: Casey Harbor (fictional) | G14: Normal | H14: Completed | I14: 8 | J14: 46275 | K14: =IF($A14="","",IF(OR($H14="Completed",$H14="Canceled"),"",IF($E14="","",IFERROR($E14-TODAY(),"")))) | L14: =IF($A14="","",IF(OR($H14="Completed",$H14="Canceled"),"Closed",IF($E14="","Check due date",IF(OR(NOT(ISNUMBER(Assumptions!$B$3)),Assumptions!$B$3<0),"Check due window",IF($E14<TODAY(),"Past Due",IF($E14<=TODAY()+Assumptions!$B$3,"Due Soon","On Track")))))) | M14: =IF($A14="","",IF(OR($H14="Completed",$H14="Canceled"),0,IF(ISNUMBER($I14),$I14,""))) | N14: =IF($A14="","",IF(COUNTIF($A$5:$A$104,$A14)>1,"Check duplicate task ID",IF($B14="","Check policy reference",IF($C14="","Select service task",IF($D14="","Check received date",IF($E14="","Check due date",IF(AND(ISNUMBER($D14),ISNUMBER($E14),$E14<$D14),"Check date order",IF($G14="","Select priority",IF($H14="","Select status",IF($I14="","Add estimate",IF(OR(NOT(ISNUMBER(Assumptions!$B$4)),Assumptions!$B$4<=0),"Check estimate limit",IF(AND(ISNUMBER($I14),$I14>Assumptions!$B$4),"Check estimate limit",IF(AND(OR($H14="Completed",$H14="Canceled"),$J14=""),"Check closed date",IF(AND(NOT(OR($H14="Completed",$H14="Canceled")),$J14<>""),"Check status and date",IF($F14="","Assign owner",IF(COUNTIF(Assumptions!$A$7:$A$11,$F14)=0,"Check owner list",""))))))))))))))))
K15: =IF($A15="","",IF(OR($H15="Completed",$H15="Canceled"),"",IF($E15="","",IFERROR($E15-TODAY(),"")))) | L15: =IF($A15="","",IF(OR($H15="Completed",$H15="Canceled"),"Closed",IF($E15="","Check due date",IF(OR(NOT(ISNUMBER(Assumptions!$B$3)),Assumptions!$B$3<0),"Check due window",IF($E15<TODAY(),"Past Due",IF($E15<=TODAY()+Assumptions!$B$3,"Due Soon","On Track")))))) | M15: =IF($A15="","",IF(OR($H15="Completed",$H15="Canceled"),0,IF(ISNUMBER($I15),$I15,""))) | N15: =IF($A15="","",IF(COUNTIF($A$5:$A$104,$A15)>1,"Check duplicate task ID",IF($B15="","Check policy reference",IF($C15="","Select service task",IF($D15="","Check received date",IF($E15="","Check due date",IF(AND(ISNUMBER($D15),ISNUMBER($E15),$E15<$D15),"Check date order",IF($G15="","Select priority",IF($H15="","Select status",IF($I15="","Add estimate",IF(OR(NOT(ISNUMBER(Assumptions!$B$4)),Assumptions!$B$4<=0),"Check estimate limit",IF(AND(ISNUMBER($I15),$I15>Assumptions!$B$4),"Check estimate limit",IF(AND(OR($H15="Completed",$H15="Canceled"),$J15=""),"Check closed date",IF(AND(NOT(OR($H15="Completed",$H15="Canceled")),$J15<>""),"Check status and date",IF($F15="","Assign owner",IF(COUNTIF(Assumptions!$A$7:$A$11,$F15)=0,"Check owner list",""))))))))))))))))
K16: =IF($A16="","",IF(OR($H16="Completed",$H16="Canceled"),"",IF($E16="","",IFERROR($E16-TODAY(),"")))) | L16: =IF($A16="","",IF(OR($H16="Completed",$H16="Canceled"),"Closed",IF($E16="","Check due date",IF(OR(NOT(ISNUMBER(Assumptions!$B$3)),Assumptions!$B$3<0),"Check due window",IF($E16<TODAY(),"Past Due",IF($E16<=TODAY()+Assumptions!$B$3,"Due Soon","On Track")))))) | M16: =IF($A16="","",IF(OR($H16="Completed",$H16="Canceled"),0,IF(ISNUMBER($I16),$I16,""))) | N16: =IF($A16="","",IF(COUNTIF($A$5:$A$104,$A16)>1,"Check duplicate task ID",IF($B16="","Check policy reference",IF($C16="","Select service task",IF($D16="","Check received date",IF($E16="","Check due date",IF(AND(ISNUMBER($D16),ISNUMBER($E16),$E16<$D16),"Check date order",IF($G16="","Select priority",IF($H16="","Select status",IF($I16="","Add estimate",IF(OR(NOT(ISNUMBER(Assumptions!$B$4)),Assumptions!$B$4<=0),"Check estimate limit",IF(AND(ISNUMBER($I16),$I16>Assumptions!$B$4),"Check estimate limit",IF(AND(OR($H16="Completed",$H16="Canceled"),$J16=""),"Check closed date",IF(AND(NOT(OR($H16="Completed",$H16="Canceled")),$J16<>""),"Check status and date",IF($F16="","Assign owner",IF(COUNTIF(Assumptions!$A$7:$A$11,$F16)=0,"Check owner list",""))))))))))))))))
K17: =IF($A17="","",IF(OR($H17="Completed",$H17="Canceled"),"",IF($E17="","",IFERROR($E17-TODAY(),"")))) | L17: =IF($A17="","",IF(OR($H17="Completed",$H17="Canceled"),"Closed",IF($E17="","Check due date",IF(OR(NOT(ISNUMBER(Assumptions!$B$3)),Assumptions!$B$3<0),"Check due window",IF($E17<TODAY(),"Past Due",IF($E17<=TODAY()+Assumptions!$B$3,"Due Soon","On Track")))))) | M17: =IF($A17="","",IF(OR($H17="Completed",$H17="Canceled"),0,IF(ISNUMBER($I17),$I17,""))) | N17: =IF($A17="","",IF(COUNTIF($A$5:$A$104,$A17)>1,"Check duplicate task ID",IF($B17="","Check policy reference",IF($C17="","Select service task",IF($D17="","Check received date",IF($E17="","Check due date",IF(AND(ISNUMBER($D17),ISNUMBER($E17),$E17<$D17),"Check date order",IF($G17="","Select priority",IF($H17="","Select status",IF($I17="","Add estimate",IF(OR(NOT(ISNUMBER(Assumptions!$B$4)),Assumptions!$B$4<=0),"Check estimate limit",IF(AND(ISNUMBER($I17),$I17>Assumptions!$B$4),"Check estimate limit",IF(AND(OR($H17="Completed",$H17="Canceled"),$J17=""),"Check closed date",IF(AND(NOT(OR($H17="Completed",$H17="Canceled")),$J17<>""),"Check status and date",IF($F17="","Assign owner",IF(COUNTIF(Assumptions!$A$7:$A$11,$F17)=0,"Check owner list",""))))))))))))))))
K18: =IF($A18="","",IF(OR($H18="Completed",$H18="Canceled"),"",IF($E18="","",IFERROR($E18-TODAY(),"")))) | L18: =IF($A18="","",IF(OR($H18="Completed",$H18="Canceled"),"Closed",IF($E18="","Check due date",IF(OR(NOT(ISNUMBER(Assumptions!$B$3)),Assumptions!$B$3<0),"Check due window",IF($E18<TODAY(),"Past Due",IF($E18<=TODAY()+Assumptions!$B$3,"Due Soon","On Track")))))) | M18: =IF($A18="","",IF(OR($H18="Completed",$H18="Canceled"),0,IF(ISNUMBER($I18),$I18,""))) | N18: =IF($A18="","",IF(COUNTIF($A$5:$A$104,$A18)>1,"Check duplicate task ID",IF($B18="","Check policy reference",IF($C18="","Select service task",IF($D18="","Check received date",IF($E18="","Check due date",IF(AND(ISNUMBER($D18),ISNUMBER($E18),$E18<$D18),"Check date order",IF($G18="","Select priority",IF($H18="","Select status",IF($I18="","Add estimate",IF(OR(NOT(ISNUMBER(Assumptions!$B$4)),Assumptions!$B$4<=0),"Check estimate limit",IF(AND(ISNUMBER($I18),$I18>Assumptions!$B$4),"Check estimate limit",IF(AND(OR($H18="Completed",$H18="Canceled"),$J18=""),"Check closed date",IF(AND(NOT(OR($H18="Completed",$H18="Canceled")),$J18<>""),"Check status and date",IF($F18="","Assign owner",IF(COUNTIF(Assumptions!$A$7:$A$11,$F18)=0,"Check owner list",""))))))))))))))))
K19: =IF($A19="","",IF(OR($H19="Completed",$H19="Canceled"),"",IF($E19="","",IFERROR($E19-TODAY(),"")))) | L19: =IF($A19="","",IF(OR($H19="Completed",$H19="Canceled"),"Closed",IF($E19="","Check due date",IF(OR(NOT(ISNUMBER(Assumptions!$B$3)),Assumptions!$B$3<0),"Check due window",IF($E19<TODAY(),"Past Due",IF($E19<=TODAY()+Assumptions!$B$3,"Due Soon","On Track")))))) | M19: =IF($A19="","",IF(OR($H19="Completed",$H19="Canceled"),0,IF(ISNUMBER($I19),$I19,""))) | N19: =IF($A19="","",IF(COUNTIF($A$5:$A$104,$A19)>1,"Check duplicate task ID",IF($B19="","Check policy reference",IF($C19="","Select service task",IF($D19="","Check received date",IF($E19="","Check due date",IF(AND(ISNUMBER($D19),ISNUMBER($E19),$E19<$D19),"Check date order",IF($G19="","Select priority",IF($H19="","Select status",IF($I19="","Add estimate",IF(OR(NOT(ISNUMBER(Assumptions!$B$4)),Assumptions!$B$4<=0),"Check estimate limit",IF(AND(ISNUMBER($I19),$I19>Assumptions!$B$4),"Check estimate limit",IF(AND(OR($H19="Completed",$H19="Canceled"),$J19=""),"Check closed date",IF(AND(NOT(OR($H19="Completed",$H19="Canceled")),$J19<>""),"Check status and date",IF($F19="","Assign owner",IF(COUNTIF(Assumptions!$A$7:$A$11,$F19)=0,"Check owner list",""))))))))))))))))
K20: =IF($A20="","",IF(OR($H20="Completed",$H20="Canceled"),"",IF($E20="","",IFERROR($E20-TODAY(),"")))) | L20: =IF($A20="","",IF(OR($H20="Completed",$H20="Canceled"),"Closed",IF($E20="","Check due date",IF(OR(NOT(ISNUMBER(Assumptions!$B$3)),Assumptions!$B$3<0),"Check due window",IF($E20<TODAY(),"Past Due",IF($E20<=TODAY()+Assumptions!$B$3,"Due Soon","On Track")))))) | M20: =IF($A20="","",IF(OR($H20="Completed",$H20="Canceled"),0,IF(ISNUMBER($I20),$I20,""))) | N20: =IF($A20="","",IF(COUNTIF($A$5:$A$104,$A20)>1,"Check duplicate task ID",IF($B20="","Check policy reference",IF($C20="","Select service task",IF($D20="","Check received date",IF($E20="","Check due date",IF(AND(ISNUMBER($D20),ISNUMBER($E20),$E20<$D20),"Check date order",IF($G20="","Select priority",IF($H20="","Select status",IF($I20="","Add estimate",IF(OR(NOT(ISNUMBER(Assumptions!$B$4)),Assumptions!$B$4<=0),"Check estimate limit",IF(AND(ISNUMBER($I20),$I20>Assumptions!$B$4),"Check estimate limit",IF(AND(OR($H20="Completed",$H20="Canceled"),$J20=""),"Check closed date",IF(AND(NOT(OR($H20="Completed",$H20="Canceled")),$J20<>""),"Check status and date",IF($F20="","Assign owner",IF(COUNTIF(Assumptions!$A$7:$A$11,$F20)=0,"Check owner list",""))))))))))))))))
K21: =IF($A21="","",IF(OR($H21="Completed",$H21="Canceled"),"",IF($E21="","",IFERROR($E21-TODAY(),"")))) | L21: =IF($A21="","",IF(OR($H21="Completed",$H21="Canceled"),"Closed",IF($E21="","Check due date",IF(OR(NOT(ISNUMBER(Assumptions!$B$3)),Assumptions!$B$3<0),"Check due window",IF($E21<TODAY(),"Past Due",IF($E21<=TODAY()+Assumptions!$B$3,"Due Soon","On Track")))))) | M21: =IF($A21="","",IF(OR($H21="Completed",$H21="Canceled"),0,IF(ISNUMBER($I21),$I21,""))) | N21: =IF($A21="","",IF(COUNTIF($A$5:$A$104,$A21)>1,"Check duplicate task ID",IF($B21="","Check policy reference",IF($C21="","Select service task",IF($D21="","Check received date",IF($E21="","Check due date",IF(AND(ISNUMBER($D21),ISNUMBER($E21),$E21<$D21),"Check date order",IF($G21="","Select priority",IF($H21="","Select status",IF($I21="","Add estimate",IF(OR(NOT(ISNUMBER(Assumptions!$B$4)),Assumptions!$B$4<=0),"Check estimate limit",IF(AND(ISNUMBER($I21),$I21>Assumptions!$B$4),"Check estimate limit",IF(AND(OR($H21="Completed",$H21="Canceled"),$J21=""),"Check closed date",IF(AND(NOT(OR($H21="Completed",$H21="Canceled")),$J21<>""),"Check status and date",IF($F21="","Assign owner",IF(COUNTIF(Assumptions!$A$7:$A$11,$F21)=0,"Check owner list",""))))))))))))))))
K22: =IF($A22="","",IF(OR($H22="Completed",$H22="Canceled"),"",IF($E22="","",IFERROR($E22-TODAY(),"")))) | L22: =IF($A22="","",IF(OR($H22="Completed",$H22="Canceled"),"Closed",IF($E22="","Check due date",IF(OR(NOT(ISNUMBER(Assumptions!$B$3)),Assumptions!$B$3<0),"Check due window",IF($E22<TODAY(),"Past Due",IF($E22<=TODAY()+Assumptions!$B$3,"Due Soon","On Track")))))) | M22: =IF($A22="","",IF(OR($H22="Completed",$H22="Canceled"),0,IF(ISNUMBER($I22),$I22,""))) | N22: =IF($A22="","",IF(COUNTIF($A$5:$A$104,$A22)>1,"Check duplicate task ID",IF($B22="","Check policy reference",IF($C22="","Select service task",IF($D22="","Check received date",IF($E22="","Check due date",IF(AND(ISNUMBER($D22),ISNUMBER($E22),$E22<$D22),"Check date order",IF($G22="","Select priority",IF($H22="","Select status",IF($I22="","Add estimate",IF(OR(NOT(ISNUMBER(Assumptions!$B$4)),Assumptions!$B$4<=0),"Check estimate limit",IF(AND(ISNUMBER($I22),$I22>Assumptions!$B$4),"Check estimate limit",IF(AND(OR($H22="Completed",$H22="Canceled"),$J22=""),"Check closed date",IF(AND(NOT(OR($H22="Completed",$H22="Canceled")),$J22<>""),"Check status and date",IF($F22="","Assign owner",IF(COUNTIF(Assumptions!$A$7:$A$11,$F22)=0,"Check owner list",""))))))))))))))))
K23: =IF($A23="","",IF(OR($H23="Completed",$H23="Canceled"),"",IF($E23="","",IFERROR($E23-TODAY(),"")))) | L23: =IF($A23="","",IF(OR($H23="Completed",$H23="Canceled"),"Closed",IF($E23="","Check due date",IF(OR(NOT(ISNUMBER(Assumptions!$B$3)),Assumptions!$B$3<0),"Check due window",IF($E23<TODAY(),"Past Due",IF($E23<=TODAY()+Assumptions!$B$3,"Due Soon","On Track")))))) | M23: =IF($A23="","",IF(OR($H23="Completed",$H23="Canceled"),0,IF(ISNUMBER($I23),$I23,""))) | N23: =IF($A23="","",IF(COUNTIF($A$5:$A$104,$A23)>1,"Check duplicate task ID",IF($B23="","Check policy reference",IF($C23="","Select service task",IF($D23="","Check received date",IF($E23="","Check due date",IF(AND(ISNUMBER($D23),ISNUMBER($E23),$E23<$D23),"Check date order",IF($G23="","Select priority",IF($H23="","Select status",IF($I23="","Add estimate",IF(OR(NOT(ISNUMBER(Assumptions!$B$4)),Assumptions!$B$4<=0),"Check estimate limit",IF(AND(ISNUMBER($I23),$I23>Assumptions!$B$4),"Check estimate limit",IF(AND(OR($H23="Completed",$H23="Canceled"),$J23=""),"Check closed date",IF(AND(NOT(OR($H23="Completed",$H23="Canceled")),$J23<>""),"Check status and date",IF($F23="","Assign owner",IF(COUNTIF(Assumptions!$A$7:$A$11,$F23)=0,"Check owner list",""))))))))))))))))
K24: =IF($A24="","",IF(OR($H24="Completed",$H24="Canceled"),"",IF($E24="","",IFERROR($E24-TODAY(),"")))) | L24: =IF($A24="","",IF(OR($H24="Completed",$H24="Canceled"),"Closed",IF($E24="","Check due date",IF(OR(NOT(ISNUMBER(Assumptions!$B$3)),Assumptions!$B$3<0),"Check due window",IF($E24<TODAY(),"Past Due",IF($E24<=TODAY()+Assumptions!$B$3,"Due Soon","On Track")))))) | M24: =IF($A24="","",IF(OR($H24="Completed",$H24="Canceled"),0,IF(ISNUMBER($I24),$I24,""))) | N24: =IF($A24="","",IF(COUNTIF($A$5:$A$104,$A24)>1,"Check duplicate task ID",IF($B24="","Check policy reference",IF($C24="","Select service task",IF($D24="","Check received date",IF($E24="","Check due date",IF(AND(ISNUMBER($D24),ISNUMBER($E24),$E24<$D24),"Check date order",IF($G24="","Select priority",IF($H24="","Select status",IF($I24="","Add estimate",IF(OR(NOT(ISNUMBER(Assumptions!$B$4)),Assumptions!$B$4<=0),"Check estimate limit",IF(AND(ISNUMBER($I24),$I24>Assumptions!$B$4),"Check estimate limit",IF(AND(OR($H24="Completed",$H24="Canceled"),$J24=""),"Check closed date",IF(AND(NOT(OR($H24="Completed",$H24="Canceled")),$J24<>""),"Check status and date",IF($F24="","Assign owner",IF(COUNTIF(Assumptions!$A$7:$A$11,$F24)=0,"Check owner list",""))))))))))))))))
K25: =IF($A25="","",IF(OR($H25="Completed",$H25="Canceled"),"",IF($E25="","",IFERROR($E25-TODAY(),"")))) | L25: =IF($A25="","",IF(OR($H25="Completed",$H25="Canceled"),"Closed",IF($E25="","Check due date",IF(OR(NOT(ISNUMBER(Assumptions!$B$3)),Assumptions!$B$3<0),"Check due window",IF($E25<TODAY(),"Past Due",IF($E25<=TODAY()+Assumptions!$B$3,"Due Soon","On Track")))))) | M25: =IF($A25="","",IF(OR($H25="Completed",$H25="Canceled"),0,IF(ISNUMBER($I25),$I25,""))) | N25: =IF($A25="","",IF(COUNTIF($A$5:$A$104,$A25)>1,"Check duplicate task ID",IF($B25="","Check policy reference",IF($C25="","Select service task",IF($D25="","Check received date",IF($E25="","Check due date",IF(AND(ISNUMBER($D25),ISNUMBER($E25),$E25<$D25),"Check date order",IF($G25="","Select priority",IF($H25="","Select status",IF($I25="","Add estimate",IF(OR(NOT(ISNUMBER(Assumptions!$B$4)),Assumptions!$B$4<=0),"Check estimate limit",IF(AND(ISNUMBER($I25),$I25>Assumptions!$B$4),"Check estimate limit",IF(AND(OR($H25="Completed",$H25="Canceled"),$J25=""),"Check closed date",IF(AND(NOT(OR($H25="Completed",$H25="Canceled")),$J25<>""),"Check status and date",IF($F25="","Assign owner",IF(COUNTIF(Assumptions!$A$7:$A$11,$F25)=0,"Check owner list",""))))))))))))))))
K26: =IF($A26="","",IF(OR($H26="Completed",$H26="Canceled"),"",IF($E26="","",IFERROR($E26-TODAY(),"")))) | L26: =IF($A26="","",IF(OR($H26="Completed",$H26="Canceled"),"Closed",IF($E26="","Check due date",IF(OR(NOT(ISNUMBER(Assumptions!$B$3)),Assumptions!$B$3<0),"Check due window",IF($E26<TODAY(),"Past Due",IF($E26<=TODAY()+Assumptions!$B$3,"Due Soon","On Track")))))) | M26: =IF($A26="","",IF(OR($H26="Completed",$H26="Canceled"),0,IF(ISNUMBER($I26),$I26,""))) | N26: =IF($A26="","",IF(COUNTIF($A$5:$A$104,$A26)>1,"Check duplicate task ID",IF($B26="","Check policy reference",IF($C26="","Select service task",IF($D26="","Check received date",IF($E26="","Check due date",IF(AND(ISNUMBER($D26),ISNUMBER($E26),$E26<$D26),"Check date order",IF($G26="","Select priority",IF($H26="","Select status",IF($I26="","Add estimate",IF(OR(NOT(ISNUMBER(Assumptions!$B$4)),Assumptions!$B$4<=0),"Check estimate limit",IF(AND(ISNUMBER($I26),$I26>Assumptions!$B$4),"Check estimate limit",IF(AND(OR($H26="Completed",$H26="Canceled"),$J26=""),"Check closed date",IF(AND(NOT(OR($H26="Completed",$H26="Canceled")),$J26<>""),"Check status and date",IF($F26="","Assign owner",IF(COUNTIF(Assumptions!$A$7:$A$11,$F26)=0,"Check owner list",""))))))))))))))))
... K104: =IF($A104="","",IF(OR($H104="Completed",$H104="Canceled"),"",IF($E104="","",IFERROR($E104-TODAY(),"")))) | L104: =IF($A104="","",IF(OR($H104="Completed",$H104="Canceled"),"Closed",IF($E104="","Check due date",IF(OR(NOT(ISNUMBER(Assumptions!$B$3)),Assumptions!$B$3<0),"Check due window",IF($E104<TODAY(),"Past Due",IF($E104<=TODAY()+Assumptions!$B$3,"Due Soon","On Track")))))) | M104: =IF($A104="","",IF(OR($H104="Completed",$H104="Canceled"),0,IF(ISNUMBER($I104),$I104,""))) | N104: =IF($A104="","",IF(COUNTIF($A$5:$A$104,$A104)>1,"Check duplicate task ID",IF($B104="","Check policy reference",IF($C104="","Select service task",IF($D104="","Check received date",IF($E104="","Check due date",IF(AND(ISNUMBER($D104),ISNUMBER($E104),$E104<$D104),"Check date order",IF($G104="","Select priority",IF($H104="","Select status",IF($I104="","Add estimate",IF(OR(NOT(ISNUMBER(Assumptions!$B$4)),Assumptions!$B$4<=0),"Check estimate limit",IF(AND(ISNUMBER($I104),$I104>Assumptions!$B$4),"Check estimate limit",IF(AND(OR($H104="Completed",$H104="Canceled"),$J104=""),"Check closed date",IF(AND(NOT(OR($H104="Completed",$H104="Canceled")),$J104<>""),"Check status and date",IF($F104="","Assign owner",IF(COUNTIF(Assumptions!$A$7:$A$11,$F104)=0,"Check owner list",""))))))))))))))))

Sheet Assumptions
A1: Workload Planning Assumptions — Fictional Owner List
A2: Planning note | B2: Edit these internal planning assumptions as needed. They are not service promises, coverage advice, or official policy status.
A3: Due-soon window (days) | B3: 7
A4: Estimate review limit (hours) | B4: 80
A6: Owner name (all fictional) | B6: Open workload capacity (hours)
A7: Avery North (fictional) | B7: 12
A8: Jordan Pike (fictional) | B8: 16
A9: Morgan Field (fictional) | B9: 10
A10: Riley Stone (fictional) | B10: 8
A11: Casey Harbor (fictional) | B11: 20
