Workbook

Sheet Summary
A1: Insurance Premium Payment Schedule Summary
A2: As of Date | B2: =Assumptions!$B$4
A3: Indicators are calculated from entered administrative records. Status alerts are prompts for human review.
A5: Indicator | B5: Value | D5: Payment Status | E5: Count
A6: Entered Installments | B6: =COUNTIF('Payment Schedule'!$A$5:$A$104,"<>") | D6: Paid | E6: =IF($B$6=0,"",COUNTIF('Payment Schedule'!$M$5:$M$104,$D6))
A7: Total Scheduled Premium | B7: =IF($B$6=0,"",SUM('Payment Schedule'!$F$5:$F$104)) | D7: Partial | E7: =IF($B$6=0,"",COUNTIF('Payment Schedule'!$M$5:$M$104,$D7))
A8: Total Amount Recorded | B8: =IF($B$6=0,"",SUM('Payment Schedule'!$H$5:$H$104)) | D8: Past Due | E8: =IF($B$6=0,"",COUNTIF('Payment Schedule'!$M$5:$M$104,$D8))
A9: Total Outstanding | B9: =IF($B$6=0,"",SUM('Payment Schedule'!$N$5:$N$104)) | D9: Due Soon | E9: =IF($B$6=0,"",COUNTIF('Payment Schedule'!$M$5:$M$104,$D9))
A10: Recorded-to-Scheduled Ratio | B10: =IF($B$6=0,"",IFERROR(SUM('Payment Schedule'!$H$5:$H$104)/SUM('Payment Schedule'!$F$5:$F$104),"")) | D10: Scheduled | E10: =IF($B$6=0,"",COUNTIF('Payment Schedule'!$M$5:$M$104,$D10))
A11: Past-Due Outstanding | B11: =IF($B$6=0,"",SUMIFS('Payment Schedule'!$N$5:$N$104,'Payment Schedule'!$N$5:$N$104,">0",'Payment Schedule'!$E$5:$E$104,"<"&Assumptions!$B$4)) | D11: Review Needed | E11: =IF($B$6=0,"",COUNTIF('Payment Schedule'!$M$5:$M$104,$D11))
A12: Open Follow-Up Items | B12: =IF($B$6=0,"",COUNTIF('Payment Schedule'!$L$5:$L$104,"Review Needed")+COUNTIF('Payment Schedule'!$L$5:$L$104,"Contact Planned")+COUNTIF('Payment Schedule'!$L$5:$L$104,"Awaiting Record"))
A13: Recorded Payment Dates | B13: =IF($B$6=0,"",COUNT('Payment Schedule'!$G$5:$G$104))

Sheet Payment Schedule
A1: Insurance Premium Payment Schedule
A2: As of Date | B2: =Assumptions!$B$4 | C2: Due-Soon Days | D2: =Assumptions!$B$7 | E2: Match Tolerance | F2: =Assumptions!$B$8 | G2: Maximum Amount | H2: =Assumptions!$B$9 | I2: Maximum Installment | J2: =Assumptions!$B$10 | K2: Earliest Date | L2: =Assumptions!$B$5 | M2: Latest Date | N2: =Assumptions!$B$6
A3: Enter administrative payment records in yellow cells. Formula statuses and alerts require human review.
A4: Policy Reference | B4: Account / Insured | C4: Carrier | D4: Installment No. | E4: Due Date | F4: Scheduled Premium | G4: Payment Date | H4: Amount Recorded | I4: Payment Reference | J4: Recorded Method | K4: Schedule Owner | L4: Follow-Up | M4: Payment Status | N4: Outstanding | O4: Days Past Due | P4: Notes
A5: SAMPLE-POL-1001 | B5: Fictional Northstar Bakery LLC | C5: Fictional Harbor Mutual | D5: 1 | E5: 46216 | F5: 1200 | G5: 46215 | H5: 1200 | I5: SAMPLE-PMT-5001 | J5: ACH | K5: Fictional Avery Stone | L5: Resolved | M5: =IF($A5="","",IFERROR(IF(OR($E5="",$F5="",AND(ISNUMBER($H5),$H5>0,$G5=""),AND($G5<>"",NOT(ISNUMBER($H5)))),"Review Needed",IF(AND(ISNUMBER($H5),$H5>=$F5-Assumptions!$B$8),"Paid",IF(AND(ISNUMBER($H5),$H5>0),"Partial",IF($E5<Assumptions!$B$4,"Past Due",IF($E5<=Assumptions!$B$4+Assumptions!$B$7,"Due Soon","Scheduled"))))),"Review Needed")) | N5: =IF(OR($A5="",$F5=""),"",IFERROR(MAX(0,$F5-IF(ISNUMBER($H5),$H5,0)),"")) | O5: =IF($A5="","",IFERROR(IF(OR($E5="",$N5="",$N5<=0,$E5>=Assumptions!$B$4),"",Assumptions!$B$4-$E5),"")) | P5: Receipt reference entered for review.
A6: SAMPLE-POL-1001 | B6: Fictional Northstar Bakery LLC | C6: Fictional Harbor Mutual | D6: 2 | E6: 46256 | F6: 800 | G6: 46266 | H6: 300 | I6: SAMPLE-PMT-5002 | J6: Card | K6: Fictional Avery Stone | L6: Review Needed | M6: =IF($A6="","",IFERROR(IF(OR($E6="",$F6="",AND(ISNUMBER($H6),$H6>0,$G6=""),AND($G6<>"",NOT(ISNUMBER($H6)))),"Review Needed",IF(AND(ISNUMBER($H6),$H6>=$F6-Assumptions!$B$8),"Paid",IF(AND(ISNUMBER($H6),$H6>0),"Partial",IF($E6<Assumptions!$B$4,"Past Due",IF($E6<=Assumptions!$B$4+Assumptions!$B$7,"Due Soon","Scheduled"))))),"Review Needed")) | N6: =IF(OR($A6="",$F6=""),"",IFERROR(MAX(0,$F6-IF(ISNUMBER($H6),$H6,0)),"")) | O6: =IF($A6="","",IFERROR(IF(OR($E6="",$N6="",$N6<=0,$E6>=Assumptions!$B$4),"",Assumptions!$B$4-$E6),"")) | P6: Partial amount recorded.
A7: SAMPLE-POL-1002 | B7: Fictional Juniper Bicycle Shop LLC | C7: Fictional Lantern Peak Insurance | D7: 3 | E7: 46268 | F7: 650 | K7: Fictional Morgan Vale | L7: Contact Planned | M7: =IF($A7="","",IFERROR(IF(OR($E7="",$F7="",AND(ISNUMBER($H7),$H7>0,$G7=""),AND($G7<>"",NOT(ISNUMBER($H7)))),"Review Needed",IF(AND(ISNUMBER($H7),$H7>=$F7-Assumptions!$B$8),"Paid",IF(AND(ISNUMBER($H7),$H7>0),"Partial",IF($E7<Assumptions!$B$4,"Past Due",IF($E7<=Assumptions!$B$4+Assumptions!$B$7,"Due Soon","Scheduled"))))),"Review Needed")) | N7: =IF(OR($A7="",$F7=""),"",IFERROR(MAX(0,$F7-IF(ISNUMBER($H7),$H7,0)),"")) | O7: =IF($A7="","",IFERROR(IF(OR($E7="",$N7="",$N7<=0,$E7>=Assumptions!$B$4),"",Assumptions!$B$4-$E7),"")) | P7: Past-due entry requires review.
A8: SAMPLE-POL-1003 | B8: Fictional Blue Kite Studio LLC | C8: Fictional Harbor Mutual | D8: 1 | E8: 46283 | F8: 925 | K8: Fictional Riley Brook | L8: Not Needed | M8: =IF($A8="","",IFERROR(IF(OR($E8="",$F8="",AND(ISNUMBER($H8),$H8>0,$G8=""),AND($G8<>"",NOT(ISNUMBER($H8)))),"Review Needed",IF(AND(ISNUMBER($H8),$H8>=$F8-Assumptions!$B$8),"Paid",IF(AND(ISNUMBER($H8),$H8>0),"Partial",IF($E8<Assumptions!$B$4,"Past Due",IF($E8<=Assumptions!$B$4+Assumptions!$B$7,"Due Soon","Scheduled"))))),"Review Needed")) | N8: =IF(OR($A8="",$F8=""),"",IFERROR(MAX(0,$F8-IF(ISNUMBER($H8),$H8,0)),"")) | O8: =IF($A8="","",IFERROR(IF(OR($E8="",$N8="",$N8<=0,$E8>=Assumptions!$B$4),"",Assumptions!$B$4-$E8),"")) | P8: Within the entered due-soon window.
A9: SAMPLE-POL-1004 | B9: Fictional Copper Fox Pet Spa LLC | C9: Fictional Cedar Arch Indemnity | D9: 4 | E9: 46306 | F9: 1400 | K9: Fictional Morgan Vale | L9: Not Needed | M9: =IF($A9="","",IFERROR(IF(OR($E9="",$F9="",AND(ISNUMBER($H9),$H9>0,$G9=""),AND($G9<>"",NOT(ISNUMBER($H9)))),"Review Needed",IF(AND(ISNUMBER($H9),$H9>=$F9-Assumptions!$B$8),"Paid",IF(AND(ISNUMBER($H9),$H9>0),"Partial",IF($E9<Assumptions!$B$4,"Past Due",IF($E9<=Assumptions!$B$4+Assumptions!$B$7,"Due Soon","Scheduled"))))),"Review Needed")) | N9: =IF(OR($A9="",$F9=""),"",IFERROR(MAX(0,$F9-IF(ISNUMBER($H9),$H9,0)),"")) | O9: =IF($A9="","",IFERROR(IF(OR($E9="",$N9="",$N9<=0,$E9>=Assumptions!$B$4),"",Assumptions!$B$4-$E9),"")) | P9: Future scheduled installment.
A10: SAMPLE-POL-1005 | B10: Fictional Maple Rocket Hardware LLC | C10: Fictional Lantern Peak Insurance | D10: 6 | E10: 46276 | F10: 500 | G10: 46276 | H10: 499.99 | I10: SAMPLE-PMT-5003 | J10: Check | K10: Fictional Avery Stone | L10: Resolved | M10: =IF($A10="","",IFERROR(IF(OR($E10="",$F10="",AND(ISNUMBER($H10),$H10>0,$G10=""),AND($G10<>"",NOT(ISNUMBER($H10)))),"Review Needed",IF(AND(ISNUMBER($H10),$H10>=$F10-Assumptions!$B$8),"Paid",IF(AND(ISNUMBER($H10),$H10>0),"Partial",IF($E10<Assumptions!$B$4,"Past Due",IF($E10<=Assumptions!$B$4+Assumptions!$B$7,"Due Soon","Scheduled"))))),"Review Needed")) | N10: =IF(OR($A10="",$F10=""),"",IFERROR(MAX(0,$F10-IF(ISNUMBER($H10),$H10,0)),"")) | O10: =IF($A10="","",IFERROR(IF(OR($E10="",$N10="",$N10<=0,$E10>=Assumptions!$B$4),"",Assumptions!$B$4-$E10),"")) | P10: At the entered match-tolerance boundary.
A11: SAMPLE-POL-1006 | B11: Fictional Silver Acorn Books LLC | C11: Fictional Cedar Arch Indemnity | D11: 2 | E11: 46286 | F11: 1000 | H11: 200 | I11: SAMPLE-PMT-5004 | J11: Check | K11: Fictional Riley Brook | L11: Awaiting Record | M11: =IF($A11="","",IFERROR(IF(OR($E11="",$F11="",AND(ISNUMBER($H11),$H11>0,$G11=""),AND($G11<>"",NOT(ISNUMBER($H11)))),"Review Needed",IF(AND(ISNUMBER($H11),$H11>=$F11-Assumptions!$B$8),"Paid",IF(AND(ISNUMBER($H11),$H11>0),"Partial",IF($E11<Assumptions!$B$4,"Past Due",IF($E11<=Assumptions!$B$4+Assumptions!$B$7,"Due Soon","Scheduled"))))),"Review Needed")) | N11: =IF(OR($A11="",$F11=""),"",IFERROR(MAX(0,$F11-IF(ISNUMBER($H11),$H11,0)),"")) | O11: =IF($A11="","",IFERROR(IF(OR($E11="",$N11="",$N11<=0,$E11>=Assumptions!$B$4),"",Assumptions!$B$4-$E11),"")) | P11: Payment date is missing and requires review.
A12: SAMPLE-POL-1007 | B12: Fictional Moonbeam Garden Supply LLC | C12: Fictional Harbor Mutual | D12: 5 | E12: 46275 | F12: 275 | K12: Fictional Morgan Vale | L12: Review Needed | M12: =IF($A12="","",IFERROR(IF(OR($E12="",$F12="",AND(ISNUMBER($H12),$H12>0,$G12=""),AND($G12<>"",NOT(ISNUMBER($H12)))),"Review Needed",IF(AND(ISNUMBER($H12),$H12>=$F12-Assumptions!$B$8),"Paid",IF(AND(ISNUMBER($H12),$H12>0),"Partial",IF($E12<Assumptions!$B$4,"Past Due",IF($E12<=Assumptions!$B$4+Assumptions!$B$7,"Due Soon","Scheduled"))))),"Review Needed")) | N12: =IF(OR($A12="",$F12=""),"",IFERROR(MAX(0,$F12-IF(ISNUMBER($H12),$H12,0)),"")) | O12: =IF($A12="","",IFERROR(IF(OR($E12="",$N12="",$N12<=0,$E12>=Assumptions!$B$4),"",Assumptions!$B$4-$E12),"")) | P12: One day past the entered as-of date.
A13: SAMPLE-POL-1008 | B13: Fictional Red Canoe Repair LLC | C13: Fictional Lantern Peak Insurance | D13: 12 | E13: 46290 | F13: 760 | K13: Fictional Avery Stone | L13: Contact Planned | M13: =IF($A13="","",IFERROR(IF(OR($E13="",$F13="",AND(ISNUMBER($H13),$H13>0,$G13=""),AND($G13<>"",NOT(ISNUMBER($H13)))),"Review Needed",IF(AND(ISNUMBER($H13),$H13>=$F13-Assumptions!$B$8),"Paid",IF(AND(ISNUMBER($H13),$H13>0),"Partial",IF($E13<Assumptions!$B$4,"Past Due",IF($E13<=Assumptions!$B$4+Assumptions!$B$7,"Due Soon","Scheduled"))))),"Review Needed")) | N13: =IF(OR($A13="",$F13=""),"",IFERROR(MAX(0,$F13-IF(ISNUMBER($H13),$H13,0)),"")) | O13: =IF($A13="","",IFERROR(IF(OR($E13="",$N13="",$N13<=0,$E13>=Assumptions!$B$4),"",Assumptions!$B$4-$E13),"")) | P13: Exactly at the due-soon boundary.
A14: SAMPLE-POL-1009 | B14: Fictional Paper Comet Printing LLC | C14: Fictional Cedar Arch Indemnity | D14: 24 | E14: 46291 | F14: 3300 | K14: Fictional Riley Brook | L14: Not Needed | M14: =IF($A14="","",IFERROR(IF(OR($E14="",$F14="",AND(ISNUMBER($H14),$H14>0,$G14=""),AND($G14<>"",NOT(ISNUMBER($H14)))),"Review Needed",IF(AND(ISNUMBER($H14),$H14>=$F14-Assumptions!$B$8),"Paid",IF(AND(ISNUMBER($H14),$H14>0),"Partial",IF($E14<Assumptions!$B$4,"Past Due",IF($E14<=Assumptions!$B$4+Assumptions!$B$7,"Due Soon","Scheduled"))))),"Review Needed")) | N14: =IF(OR($A14="",$F14=""),"",IFERROR(MAX(0,$F14-IF(ISNUMBER($H14),$H14,0)),"")) | O14: =IF($A14="","",IFERROR(IF(OR($E14="",$N14="",$N14<=0,$E14>=Assumptions!$B$4),"",Assumptions!$B$4-$E14),"")) | P14: One day beyond the due-soon boundary.
M15: =IF($A15="","",IFERROR(IF(OR($E15="",$F15="",AND(ISNUMBER($H15),$H15>0,$G15=""),AND($G15<>"",NOT(ISNUMBER($H15)))),"Review Needed",IF(AND(ISNUMBER($H15),$H15>=$F15-Assumptions!$B$8),"Paid",IF(AND(ISNUMBER($H15),$H15>0),"Partial",IF($E15<Assumptions!$B$4,"Past Due",IF($E15<=Assumptions!$B$4+Assumptions!$B$7,"Due Soon","Scheduled"))))),"Review Needed")) | N15: =IF(OR($A15="",$F15=""),"",IFERROR(MAX(0,$F15-IF(ISNUMBER($H15),$H15,0)),"")) | O15: =IF($A15="","",IFERROR(IF(OR($E15="",$N15="",$N15<=0,$E15>=Assumptions!$B$4),"",Assumptions!$B$4-$E15),""))
M16: =IF($A16="","",IFERROR(IF(OR($E16="",$F16="",AND(ISNUMBER($H16),$H16>0,$G16=""),AND($G16<>"",NOT(ISNUMBER($H16)))),"Review Needed",IF(AND(ISNUMBER($H16),$H16>=$F16-Assumptions!$B$8),"Paid",IF(AND(ISNUMBER($H16),$H16>0),"Partial",IF($E16<Assumptions!$B$4,"Past Due",IF($E16<=Assumptions!$B$4+Assumptions!$B$7,"Due Soon","Scheduled"))))),"Review Needed")) | N16: =IF(OR($A16="",$F16=""),"",IFERROR(MAX(0,$F16-IF(ISNUMBER($H16),$H16,0)),"")) | O16: =IF($A16="","",IFERROR(IF(OR($E16="",$N16="",$N16<=0,$E16>=Assumptions!$B$4),"",Assumptions!$B$4-$E16),""))
M17: =IF($A17="","",IFERROR(IF(OR($E17="",$F17="",AND(ISNUMBER($H17),$H17>0,$G17=""),AND($G17<>"",NOT(ISNUMBER($H17)))),"Review Needed",IF(AND(ISNUMBER($H17),$H17>=$F17-Assumptions!$B$8),"Paid",IF(AND(ISNUMBER($H17),$H17>0),"Partial",IF($E17<Assumptions!$B$4,"Past Due",IF($E17<=Assumptions!$B$4+Assumptions!$B$7,"Due Soon","Scheduled"))))),"Review Needed")) | N17: =IF(OR($A17="",$F17=""),"",IFERROR(MAX(0,$F17-IF(ISNUMBER($H17),$H17,0)),"")) | O17: =IF($A17="","",IFERROR(IF(OR($E17="",$N17="",$N17<=0,$E17>=Assumptions!$B$4),"",Assumptions!$B$4-$E17),""))
M18: =IF($A18="","",IFERROR(IF(OR($E18="",$F18="",AND(ISNUMBER($H18),$H18>0,$G18=""),AND($G18<>"",NOT(ISNUMBER($H18)))),"Review Needed",IF(AND(ISNUMBER($H18),$H18>=$F18-Assumptions!$B$8),"Paid",IF(AND(ISNUMBER($H18),$H18>0),"Partial",IF($E18<Assumptions!$B$4,"Past Due",IF($E18<=Assumptions!$B$4+Assumptions!$B$7,"Due Soon","Scheduled"))))),"Review Needed")) | N18: =IF(OR($A18="",$F18=""),"",IFERROR(MAX(0,$F18-IF(ISNUMBER($H18),$H18,0)),"")) | O18: =IF($A18="","",IFERROR(IF(OR($E18="",$N18="",$N18<=0,$E18>=Assumptions!$B$4),"",Assumptions!$B$4-$E18),""))
M19: =IF($A19="","",IFERROR(IF(OR($E19="",$F19="",AND(ISNUMBER($H19),$H19>0,$G19=""),AND($G19<>"",NOT(ISNUMBER($H19)))),"Review Needed",IF(AND(ISNUMBER($H19),$H19>=$F19-Assumptions!$B$8),"Paid",IF(AND(ISNUMBER($H19),$H19>0),"Partial",IF($E19<Assumptions!$B$4,"Past Due",IF($E19<=Assumptions!$B$4+Assumptions!$B$7,"Due Soon","Scheduled"))))),"Review Needed")) | N19: =IF(OR($A19="",$F19=""),"",IFERROR(MAX(0,$F19-IF(ISNUMBER($H19),$H19,0)),"")) | O19: =IF($A19="","",IFERROR(IF(OR($E19="",$N19="",$N19<=0,$E19>=Assumptions!$B$4),"",Assumptions!$B$4-$E19),""))
M20: =IF($A20="","",IFERROR(IF(OR($E20="",$F20="",AND(ISNUMBER($H20),$H20>0,$G20=""),AND($G20<>"",NOT(ISNUMBER($H20)))),"Review Needed",IF(AND(ISNUMBER($H20),$H20>=$F20-Assumptions!$B$8),"Paid",IF(AND(ISNUMBER($H20),$H20>0),"Partial",IF($E20<Assumptions!$B$4,"Past Due",IF($E20<=Assumptions!$B$4+Assumptions!$B$7,"Due Soon","Scheduled"))))),"Review Needed")) | N20: =IF(OR($A20="",$F20=""),"",IFERROR(MAX(0,$F20-IF(ISNUMBER($H20),$H20,0)),"")) | O20: =IF($A20="","",IFERROR(IF(OR($E20="",$N20="",$N20<=0,$E20>=Assumptions!$B$4),"",Assumptions!$B$4-$E20),""))
M21: =IF($A21="","",IFERROR(IF(OR($E21="",$F21="",AND(ISNUMBER($H21),$H21>0,$G21=""),AND($G21<>"",NOT(ISNUMBER($H21)))),"Review Needed",IF(AND(ISNUMBER($H21),$H21>=$F21-Assumptions!$B$8),"Paid",IF(AND(ISNUMBER($H21),$H21>0),"Partial",IF($E21<Assumptions!$B$4,"Past Due",IF($E21<=Assumptions!$B$4+Assumptions!$B$7,"Due Soon","Scheduled"))))),"Review Needed")) | N21: =IF(OR($A21="",$F21=""),"",IFERROR(MAX(0,$F21-IF(ISNUMBER($H21),$H21,0)),"")) | O21: =IF($A21="","",IFERROR(IF(OR($E21="",$N21="",$N21<=0,$E21>=Assumptions!$B$4),"",Assumptions!$B$4-$E21),""))
M22: =IF($A22="","",IFERROR(IF(OR($E22="",$F22="",AND(ISNUMBER($H22),$H22>0,$G22=""),AND($G22<>"",NOT(ISNUMBER($H22)))),"Review Needed",IF(AND(ISNUMBER($H22),$H22>=$F22-Assumptions!$B$8),"Paid",IF(AND(ISNUMBER($H22),$H22>0),"Partial",IF($E22<Assumptions!$B$4,"Past Due",IF($E22<=Assumptions!$B$4+Assumptions!$B$7,"Due Soon","Scheduled"))))),"Review Needed")) | N22: =IF(OR($A22="",$F22=""),"",IFERROR(MAX(0,$F22-IF(ISNUMBER($H22),$H22,0)),"")) | O22: =IF($A22="","",IFERROR(IF(OR($E22="",$N22="",$N22<=0,$E22>=Assumptions!$B$4),"",Assumptions!$B$4-$E22),""))
M23: =IF($A23="","",IFERROR(IF(OR($E23="",$F23="",AND(ISNUMBER($H23),$H23>0,$G23=""),AND($G23<>"",NOT(ISNUMBER($H23)))),"Review Needed",IF(AND(ISNUMBER($H23),$H23>=$F23-Assumptions!$B$8),"Paid",IF(AND(ISNUMBER($H23),$H23>0),"Partial",IF($E23<Assumptions!$B$4,"Past Due",IF($E23<=Assumptions!$B$4+Assumptions!$B$7,"Due Soon","Scheduled"))))),"Review Needed")) | N23: =IF(OR($A23="",$F23=""),"",IFERROR(MAX(0,$F23-IF(ISNUMBER($H23),$H23,0)),"")) | O23: =IF($A23="","",IFERROR(IF(OR($E23="",$N23="",$N23<=0,$E23>=Assumptions!$B$4),"",Assumptions!$B$4-$E23),""))
M24: =IF($A24="","",IFERROR(IF(OR($E24="",$F24="",AND(ISNUMBER($H24),$H24>0,$G24=""),AND($G24<>"",NOT(ISNUMBER($H24)))),"Review Needed",IF(AND(ISNUMBER($H24),$H24>=$F24-Assumptions!$B$8),"Paid",IF(AND(ISNUMBER($H24),$H24>0),"Partial",IF($E24<Assumptions!$B$4,"Past Due",IF($E24<=Assumptions!$B$4+Assumptions!$B$7,"Due Soon","Scheduled"))))),"Review Needed")) | N24: =IF(OR($A24="",$F24=""),"",IFERROR(MAX(0,$F24-IF(ISNUMBER($H24),$H24,0)),"")) | O24: =IF($A24="","",IFERROR(IF(OR($E24="",$N24="",$N24<=0,$E24>=Assumptions!$B$4),"",Assumptions!$B$4-$E24),""))
M25: =IF($A25="","",IFERROR(IF(OR($E25="",$F25="",AND(ISNUMBER($H25),$H25>0,$G25=""),AND($G25<>"",NOT(ISNUMBER($H25)))),"Review Needed",IF(AND(ISNUMBER($H25),$H25>=$F25-Assumptions!$B$8),"Paid",IF(AND(ISNUMBER($H25),$H25>0),"Partial",IF($E25<Assumptions!$B$4,"Past Due",IF($E25<=Assumptions!$B$4+Assumptions!$B$7,"Due Soon","Scheduled"))))),"Review Needed")) | N25: =IF(OR($A25="",$F25=""),"",IFERROR(MAX(0,$F25-IF(ISNUMBER($H25),$H25,0)),"")) | O25: =IF($A25="","",IFERROR(IF(OR($E25="",$N25="",$N25<=0,$E25>=Assumptions!$B$4),"",Assumptions!$B$4-$E25),""))
M26: =IF($A26="","",IFERROR(IF(OR($E26="",$F26="",AND(ISNUMBER($H26),$H26>0,$G26=""),AND($G26<>"",NOT(ISNUMBER($H26)))),"Review Needed",IF(AND(ISNUMBER($H26),$H26>=$F26-Assumptions!$B$8),"Paid",IF(AND(ISNUMBER($H26),$H26>0),"Partial",IF($E26<Assumptions!$B$4,"Past Due",IF($E26<=Assumptions!$B$4+Assumptions!$B$7,"Due Soon","Scheduled"))))),"Review Needed")) | N26: =IF(OR($A26="",$F26=""),"",IFERROR(MAX(0,$F26-IF(ISNUMBER($H26),$H26,0)),"")) | O26: =IF($A26="","",IFERROR(IF(OR($E26="",$N26="",$N26<=0,$E26>=Assumptions!$B$4),"",Assumptions!$B$4-$E26),""))
... M104: =IF($A104="","",IFERROR(IF(OR($E104="",$F104="",AND(ISNUMBER($H104),$H104>0,$G104=""),AND($G104<>"",NOT(ISNUMBER($H104)))),"Review Needed",IF(AND(ISNUMBER($H104),$H104>=$F104-Assumptions!$B$8),"Paid",IF(AND(ISNUMBER($H104),$H104>0),"Partial",IF($E104<Assumptions!$B$4,"Past Due",IF($E104<=Assumptions!$B$4+Assumptions!$B$7,"Due Soon","Scheduled"))))),"Review Needed")) | N104: =IF(OR($A104="",$F104=""),"",IFERROR(MAX(0,$F104-IF(ISNUMBER($H104),$H104,0)),"")) | O104: =IF($A104="","",IFERROR(IF(OR($E104="",$N104="",$N104<=0,$E104>=Assumptions!$B$4),"",Assumptions!$B$4-$E104),""))

Sheet Assumptions
A1: Payment Schedule Assumptions
A2: Edit yellow values to control date checks, status timing, and entry limits.
A3: Setting | B3: Value | C3: Purpose
A4: As-of Date | B4: 46276 | C4: Drives payment status and days-past-due prompts.
A5: Earliest Accepted Date | B5: 44451 | C5: Sets the earliest permitted schedule or payment date.
A6: Latest Accepted Date | B6: 48101 | C6: Sets the latest permitted schedule or payment date.
A7: Due-Soon Window (Days) | B7: 14 | C7: Classifies unpaid installments within this many days as due soon.
A8: Payment Match Tolerance | B8: 0.01 | C8: Allows a small entered difference when calculating paid status.
A9: Maximum Entered Amount | B9: 1000000 | C9: Limits each scheduled or recorded amount entry.
A10: Maximum Installment Number | B10: 24 | C10: Limits the installment number accepted in the schedule.
