Workbook

Sheet Summary
A1: Insurance Producer Goal Planner
A3: Annual and monthly indicators are calculated from the Goal Plan and Activity Log. | H3: Fictional administrative example; no outside-system connection or coverage advice.
A5: Agency | B5: =IF(Assumptions!$B$5="","",Assumptions!$B$5) | D5: Allocation Total | E5: =IFERROR(SUMIFS('Goal Plan'!$B$5:$B$104,'Goal Plan'!$A$5:$A$104,">="&DATE(Assumptions!$B$4,1,1),'Goal Plan'!$A$5:$A$104,"<"&DATE(Assumptions!$B$4+1,1,1)),"")
A6: Producer | B6: =IF(Assumptions!$B$6="","",Assumptions!$B$6) | D6: Completed Records | E6: =IFERROR(COUNTIFS('Activity Log'!$B$5:$B$104,">="&DATE(Assumptions!$B$4,1,1),'Activity Log'!$B$5:$B$104,"<"&DATE(Assumptions!$B$4+1,1,1),'Activity Log'!$J$5:$J$104,"Completed"),"")
A7: Plan Year | B7: =IF(Assumptions!$B$4="","",Assumptions!$B$4) | D7: Latest Activity | E7: =IF(COUNT('Activity Log'!$B$5:$B$104)=0,"",IFERROR(MAX('Activity Log'!$B$5:$B$104),""))
A9: Metric | B9: Annual Goal | C9: Planned Target | D9: Completed Actual | E9: Remaining to Goal | F9: Attainment
A10: Written Premium | B10: =IF(Assumptions!$B$8="","",Assumptions!$B$8) | C10: =IF(COUNTIFS('Goal Plan'!$A$5:$A$104,">="&DATE(Assumptions!$B$4,1,1),'Goal Plan'!$A$5:$A$104,"<"&DATE(Assumptions!$B$4+1,1,1))=0,"",IFERROR(SUMIFS('Goal Plan'!$C$5:$C$104,'Goal Plan'!$A$5:$A$104,">="&DATE(Assumptions!$B$4,1,1),'Goal Plan'!$A$5:$A$104,"<"&DATE(Assumptions!$B$4+1,1,1)),"")) | D10: =IF(COUNTIFS('Activity Log'!$B$5:$B$104,">="&DATE(Assumptions!$B$4,1,1),'Activity Log'!$B$5:$B$104,"<"&DATE(Assumptions!$B$4+1,1,1),'Activity Log'!$J$5:$J$104,"Completed")=0,"",IFERROR(SUMIFS('Activity Log'!$G$5:$G$104,'Activity Log'!$B$5:$B$104,">="&DATE(Assumptions!$B$4,1,1),'Activity Log'!$B$5:$B$104,"<"&DATE(Assumptions!$B$4+1,1,1),'Activity Log'!$J$5:$J$104,"Completed"),"")) | E10: =IF(OR($B10="",$D10=""),"",IFERROR(MAX(0,$B10-$D10),"")) | F10: =IF(OR($B10="",$B10=0,$D10=""),"",IFERROR($D10/$B10,""))
A11: Commission | B11: =IF(Assumptions!$B$9="","",Assumptions!$B$9) | C11: =IF(COUNTIFS('Goal Plan'!$A$5:$A$104,">="&DATE(Assumptions!$B$4,1,1),'Goal Plan'!$A$5:$A$104,"<"&DATE(Assumptions!$B$4+1,1,1))=0,"",IFERROR(SUMIFS('Goal Plan'!$F$5:$F$104,'Goal Plan'!$A$5:$A$104,">="&DATE(Assumptions!$B$4,1,1),'Goal Plan'!$A$5:$A$104,"<"&DATE(Assumptions!$B$4+1,1,1)),"")) | D11: =IF(COUNTIFS('Activity Log'!$B$5:$B$104,">="&DATE(Assumptions!$B$4,1,1),'Activity Log'!$B$5:$B$104,"<"&DATE(Assumptions!$B$4+1,1,1),'Activity Log'!$J$5:$J$104,"Completed")=0,"",IFERROR(SUMIFS('Activity Log'!$H$5:$H$104,'Activity Log'!$B$5:$B$104,">="&DATE(Assumptions!$B$4,1,1),'Activity Log'!$B$5:$B$104,"<"&DATE(Assumptions!$B$4+1,1,1),'Activity Log'!$J$5:$J$104,"Completed"),"")) | E11: =IF(OR($B11="",$D11=""),"",IFERROR(MAX(0,$B11-$D11),"")) | F11: =IF(OR($B11="",$B11=0,$D11=""),"",IFERROR($D11/$B11,""))
A12: New Policies | B12: =IF(Assumptions!$B$10="","",Assumptions!$B$10) | C12: =IF(COUNTIFS('Goal Plan'!$A$5:$A$104,">="&DATE(Assumptions!$B$4,1,1),'Goal Plan'!$A$5:$A$104,"<"&DATE(Assumptions!$B$4+1,1,1))=0,"",IFERROR(SUMIFS('Goal Plan'!$I$5:$I$104,'Goal Plan'!$A$5:$A$104,">="&DATE(Assumptions!$B$4,1,1),'Goal Plan'!$A$5:$A$104,"<"&DATE(Assumptions!$B$4+1,1,1)),"")) | D12: =IF(COUNTIFS('Activity Log'!$B$5:$B$104,">="&DATE(Assumptions!$B$4,1,1),'Activity Log'!$B$5:$B$104,"<"&DATE(Assumptions!$B$4+1,1,1),'Activity Log'!$J$5:$J$104,"Completed")=0,"",IFERROR(COUNTIFS('Activity Log'!$B$5:$B$104,">="&DATE(Assumptions!$B$4,1,1),'Activity Log'!$B$5:$B$104,"<"&DATE(Assumptions!$B$4+1,1,1),'Activity Log'!$D$5:$D$104,"New Policy",'Activity Log'!$J$5:$J$104,"Completed"),"")) | E12: =IF(OR($B12="",$D12=""),"",IFERROR(MAX(0,$B12-$D12),"")) | F12: =IF(OR($B12="",$B12=0,$D12=""),"",IFERROR($D12/$B12,""))
A13: Quotes | B13: =IF(Assumptions!$B$11="","",Assumptions!$B$11) | C13: =IF(COUNTIFS('Goal Plan'!$A$5:$A$104,">="&DATE(Assumptions!$B$4,1,1),'Goal Plan'!$A$5:$A$104,"<"&DATE(Assumptions!$B$4+1,1,1))=0,"",IFERROR(SUMIFS('Goal Plan'!$K$5:$K$104,'Goal Plan'!$A$5:$A$104,">="&DATE(Assumptions!$B$4,1,1),'Goal Plan'!$A$5:$A$104,"<"&DATE(Assumptions!$B$4+1,1,1)),"")) | D13: =IF(COUNTIFS('Activity Log'!$B$5:$B$104,">="&DATE(Assumptions!$B$4,1,1),'Activity Log'!$B$5:$B$104,"<"&DATE(Assumptions!$B$4+1,1,1),'Activity Log'!$J$5:$J$104,"Completed")=0,"",IFERROR(COUNTIFS('Activity Log'!$B$5:$B$104,">="&DATE(Assumptions!$B$4,1,1),'Activity Log'!$B$5:$B$104,"<"&DATE(Assumptions!$B$4+1,1,1),'Activity Log'!$D$5:$D$104,"Quote",'Activity Log'!$J$5:$J$104,"Completed"),"")) | E13: =IF(OR($B13="",$D13=""),"",IFERROR(MAX(0,$B13-$D13),"")) | F13: =IF(OR($B13="",$B13=0,$D13=""),"",IFERROR($D13/$B13,""))
A14: Client Contacts | B14: =IF(Assumptions!$B$12="","",Assumptions!$B$12) | C14: =IF(COUNTIFS('Goal Plan'!$A$5:$A$104,">="&DATE(Assumptions!$B$4,1,1),'Goal Plan'!$A$5:$A$104,"<"&DATE(Assumptions!$B$4+1,1,1))=0,"",IFERROR(SUMIFS('Goal Plan'!$M$5:$M$104,'Goal Plan'!$A$5:$A$104,">="&DATE(Assumptions!$B$4,1,1),'Goal Plan'!$A$5:$A$104,"<"&DATE(Assumptions!$B$4+1,1,1)),"")) | D14: =IF(COUNTIFS('Activity Log'!$B$5:$B$104,">="&DATE(Assumptions!$B$4,1,1),'Activity Log'!$B$5:$B$104,"<"&DATE(Assumptions!$B$4+1,1,1),'Activity Log'!$J$5:$J$104,"Completed")=0,"",IFERROR(COUNTIFS('Activity Log'!$B$5:$B$104,">="&DATE(Assumptions!$B$4,1,1),'Activity Log'!$B$5:$B$104,"<"&DATE(Assumptions!$B$4+1,1,1),'Activity Log'!$D$5:$D$104,"Client Contact",'Activity Log'!$J$5:$J$104,"Completed"),"")) | E14: =IF(OR($B14="",$D14=""),"",IFERROR(MAX(0,$B14-$D14),"")) | F14: =IF(OR($B14="",$B14=0,$D14=""),"",IFERROR($D14/$B14,""))
A15: Selling Hours | B15: =IF(Assumptions!$B$13="","",Assumptions!$B$13) | C15: =IF(COUNTIFS('Goal Plan'!$A$5:$A$104,">="&DATE(Assumptions!$B$4,1,1),'Goal Plan'!$A$5:$A$104,"<"&DATE(Assumptions!$B$4+1,1,1))=0,"",IFERROR(SUMIFS('Goal Plan'!$O$5:$O$104,'Goal Plan'!$A$5:$A$104,">="&DATE(Assumptions!$B$4,1,1),'Goal Plan'!$A$5:$A$104,"<"&DATE(Assumptions!$B$4+1,1,1)),"")) | D15: =IF(COUNTIFS('Activity Log'!$B$5:$B$104,">="&DATE(Assumptions!$B$4,1,1),'Activity Log'!$B$5:$B$104,"<"&DATE(Assumptions!$B$4+1,1,1),'Activity Log'!$J$5:$J$104,"Completed")=0,"",IFERROR(SUMIFS('Activity Log'!$I$5:$I$104,'Activity Log'!$B$5:$B$104,">="&DATE(Assumptions!$B$4,1,1),'Activity Log'!$B$5:$B$104,"<"&DATE(Assumptions!$B$4+1,1,1),'Activity Log'!$J$5:$J$104,"Completed"),"")) | E15: =IF(OR($B15="",$D15=""),"",IFERROR(MAX(0,$B15-$D15),"")) | F15: =IF(OR($B15="",$B15=0,$D15=""),"",IFERROR($D15/$B15,""))
A19: Month | B19: Premium Target | C19: Completed Premium
A20: =IF(Assumptions!$B$4="","",DATE(Assumptions!$B$4,1,1)) | B20: =IFERROR(SUMIFS('Goal Plan'!$C$5:$C$104,'Goal Plan'!$A$5:$A$104,">="&$A20,'Goal Plan'!$A$5:$A$104,"<"&DATE(YEAR($A20),MONTH($A20)+1,1)),0) | C20: =IFERROR(SUMIFS('Activity Log'!$G$5:$G$104,'Activity Log'!$B$5:$B$104,">="&$A20,'Activity Log'!$B$5:$B$104,"<"&DATE(YEAR($A20),MONTH($A20)+1,1),'Activity Log'!$J$5:$J$104,"Completed"),0)
A21: =IF(Assumptions!$B$4="","",DATE(Assumptions!$B$4,2,1)) | B21: =IFERROR(SUMIFS('Goal Plan'!$C$5:$C$104,'Goal Plan'!$A$5:$A$104,">="&$A21,'Goal Plan'!$A$5:$A$104,"<"&DATE(YEAR($A21),MONTH($A21)+1,1)),0) | C21: =IFERROR(SUMIFS('Activity Log'!$G$5:$G$104,'Activity Log'!$B$5:$B$104,">="&$A21,'Activity Log'!$B$5:$B$104,"<"&DATE(YEAR($A21),MONTH($A21)+1,1),'Activity Log'!$J$5:$J$104,"Completed"),0)
A22: =IF(Assumptions!$B$4="","",DATE(Assumptions!$B$4,3,1)) | B22: =IFERROR(SUMIFS('Goal Plan'!$C$5:$C$104,'Goal Plan'!$A$5:$A$104,">="&$A22,'Goal Plan'!$A$5:$A$104,"<"&DATE(YEAR($A22),MONTH($A22)+1,1)),0) | C22: =IFERROR(SUMIFS('Activity Log'!$G$5:$G$104,'Activity Log'!$B$5:$B$104,">="&$A22,'Activity Log'!$B$5:$B$104,"<"&DATE(YEAR($A22),MONTH($A22)+1,1),'Activity Log'!$J$5:$J$104,"Completed"),0)
A23: =IF(Assumptions!$B$4="","",DATE(Assumptions!$B$4,4,1)) | B23: =IFERROR(SUMIFS('Goal Plan'!$C$5:$C$104,'Goal Plan'!$A$5:$A$104,">="&$A23,'Goal Plan'!$A$5:$A$104,"<"&DATE(YEAR($A23),MONTH($A23)+1,1)),0) | C23: =IFERROR(SUMIFS('Activity Log'!$G$5:$G$104,'Activity Log'!$B$5:$B$104,">="&$A23,'Activity Log'!$B$5:$B$104,"<"&DATE(YEAR($A23),MONTH($A23)+1,1),'Activity Log'!$J$5:$J$104,"Completed"),0)
A24: =IF(Assumptions!$B$4="","",DATE(Assumptions!$B$4,5,1)) | B24: =IFERROR(SUMIFS('Goal Plan'!$C$5:$C$104,'Goal Plan'!$A$5:$A$104,">="&$A24,'Goal Plan'!$A$5:$A$104,"<"&DATE(YEAR($A24),MONTH($A24)+1,1)),0) | C24: =IFERROR(SUMIFS('Activity Log'!$G$5:$G$104,'Activity Log'!$B$5:$B$104,">="&$A24,'Activity Log'!$B$5:$B$104,"<"&DATE(YEAR($A24),MONTH($A24)+1,1),'Activity Log'!$J$5:$J$104,"Completed"),0)
A25: =IF(Assumptions!$B$4="","",DATE(Assumptions!$B$4,6,1)) | B25: =IFERROR(SUMIFS('Goal Plan'!$C$5:$C$104,'Goal Plan'!$A$5:$A$104,">="&$A25,'Goal Plan'!$A$5:$A$104,"<"&DATE(YEAR($A25),MONTH($A25)+1,1)),0) | C25: =IFERROR(SUMIFS('Activity Log'!$G$5:$G$104,'Activity Log'!$B$5:$B$104,">="&$A25,'Activity Log'!$B$5:$B$104,"<"&DATE(YEAR($A25),MONTH($A25)+1,1),'Activity Log'!$J$5:$J$104,"Completed"),0)
A26: =IF(Assumptions!$B$4="","",DATE(Assumptions!$B$4,7,1)) | B26: =IFERROR(SUMIFS('Goal Plan'!$C$5:$C$104,'Goal Plan'!$A$5:$A$104,">="&$A26,'Goal Plan'!$A$5:$A$104,"<"&DATE(YEAR($A26),MONTH($A26)+1,1)),0) | C26: =IFERROR(SUMIFS('Activity Log'!$G$5:$G$104,'Activity Log'!$B$5:$B$104,">="&$A26,'Activity Log'!$B$5:$B$104,"<"&DATE(YEAR($A26),MONTH($A26)+1,1),'Activity Log'!$J$5:$J$104,"Completed"),0)
A27: =IF(Assumptions!$B$4="","",DATE(Assumptions!$B$4,8,1)) | B27: =IFERROR(SUMIFS('Goal Plan'!$C$5:$C$104,'Goal Plan'!$A$5:$A$104,">="&$A27,'Goal Plan'!$A$5:$A$104,"<"&DATE(YEAR($A27),MONTH($A27)+1,1)),0) | C27: =IFERROR(SUMIFS('Activity Log'!$G$5:$G$104,'Activity Log'!$B$5:$B$104,">="&$A27,'Activity Log'!$B$5:$B$104,"<"&DATE(YEAR($A27),MONTH($A27)+1,1),'Activity Log'!$J$5:$J$104,"Completed"),0)
A28: =IF(Assumptions!$B$4="","",DATE(Assumptions!$B$4,9,1)) | B28: =IFERROR(SUMIFS('Goal Plan'!$C$5:$C$104,'Goal Plan'!$A$5:$A$104,">="&$A28,'Goal Plan'!$A$5:$A$104,"<"&DATE(YEAR($A28),MONTH($A28)+1,1)),0) | C28: =IFERROR(SUMIFS('Activity Log'!$G$5:$G$104,'Activity Log'!$B$5:$B$104,">="&$A28,'Activity Log'!$B$5:$B$104,"<"&DATE(YEAR($A28),MONTH($A28)+1,1),'Activity Log'!$J$5:$J$104,"Completed"),0)
A29: =IF(Assumptions!$B$4="","",DATE(Assumptions!$B$4,10,1)) | B29: =IFERROR(SUMIFS('Goal Plan'!$C$5:$C$104,'Goal Plan'!$A$5:$A$104,">="&$A29,'Goal Plan'!$A$5:$A$104,"<"&DATE(YEAR($A29),MONTH($A29)+1,1)),0) | C29: =IFERROR(SUMIFS('Activity Log'!$G$5:$G$104,'Activity Log'!$B$5:$B$104,">="&$A29,'Activity Log'!$B$5:$B$104,"<"&DATE(YEAR($A29),MONTH($A29)+1,1),'Activity Log'!$J$5:$J$104,"Completed"),0)
A30: =IF(Assumptions!$B$4="","",DATE(Assumptions!$B$4,11,1)) | B30: =IFERROR(SUMIFS('Goal Plan'!$C$5:$C$104,'Goal Plan'!$A$5:$A$104,">="&$A30,'Goal Plan'!$A$5:$A$104,"<"&DATE(YEAR($A30),MONTH($A30)+1,1)),0) | C30: =IFERROR(SUMIFS('Activity Log'!$G$5:$G$104,'Activity Log'!$B$5:$B$104,">="&$A30,'Activity Log'!$B$5:$B$104,"<"&DATE(YEAR($A30),MONTH($A30)+1,1),'Activity Log'!$J$5:$J$104,"Completed"),0)
A31: =IF(Assumptions!$B$4="","",DATE(Assumptions!$B$4,12,1)) | B31: =IFERROR(SUMIFS('Goal Plan'!$C$5:$C$104,'Goal Plan'!$A$5:$A$104,">="&$A31,'Goal Plan'!$A$5:$A$104,"<"&DATE(YEAR($A31),MONTH($A31)+1,1)),0) | C31: =IFERROR(SUMIFS('Activity Log'!$G$5:$G$104,'Activity Log'!$B$5:$B$104,">="&$A31,'Activity Log'!$B$5:$B$104,"<"&DATE(YEAR($A31),MONTH($A31)+1,1),'Activity Log'!$J$5:$J$104,"Completed"),0)

Sheet Goal Plan
A1: Monthly Producer Goal Plan
A3: Enter one month and allocation per row. Pale yellow cells are editable. | J3: Use the review flags as prompts for a human check; they are not outside-system alerts.
A4: Month | B4: Allocation | C4: Premium Target | D4: Premium Actual | E4: Premium Variance | F4: Commission Target | G4: Commission Actual | H4: Commission Variance | I4: New Policy Target | J4: New Policy Actual | K4: Quote Target | L4: Quote Actual | M4: Contact Target | N4: Contact Actual | O4: Hours Target | P4: Hours Actual | Q4: Premium Attainment | R4: Review Flag
A5: 46023 | B5: 0.07 | C5: =IF(OR($A5="",$B5=""),"",IFERROR(Assumptions!$B$8*$B5,"")) | D5: =IF($A5="","",IFERROR(SUMIFS('Activity Log'!$G$5:$G$104,'Activity Log'!$B$5:$B$104,">="&$A5,'Activity Log'!$B$5:$B$104,"<"&DATE(YEAR($A5),MONTH($A5)+1,1),'Activity Log'!$J$5:$J$104,"Completed"),"")) | E5: =IF(OR($C5="",$D5=""),"",IFERROR($D5-$C5,"")) | F5: =IF(OR($A5="",$B5=""),"",IFERROR(Assumptions!$B$9*$B5,"")) | G5: =IF($A5="","",IFERROR(SUMIFS('Activity Log'!$H$5:$H$104,'Activity Log'!$B$5:$B$104,">="&$A5,'Activity Log'!$B$5:$B$104,"<"&DATE(YEAR($A5),MONTH($A5)+1,1),'Activity Log'!$J$5:$J$104,"Completed"),"")) | H5: =IF(OR($F5="",$G5=""),"",IFERROR($G5-$F5,"")) | I5: =IF(OR($A5="",$B5=""),"",IFERROR(ROUND(Assumptions!$B$10*$B5,0),"")) | J5: =IF($A5="","",IFERROR(COUNTIFS('Activity Log'!$B$5:$B$104,">="&$A5,'Activity Log'!$B$5:$B$104,"<"&DATE(YEAR($A5),MONTH($A5)+1,1),'Activity Log'!$D$5:$D$104,"New Policy",'Activity Log'!$J$5:$J$104,"Completed"),"")) | K5: =IF(OR($A5="",$B5=""),"",IFERROR(ROUND(Assumptions!$B$11*$B5,0),"")) | L5: =IF($A5="","",IFERROR(COUNTIFS('Activity Log'!$B$5:$B$104,">="&$A5,'Activity Log'!$B$5:$B$104,"<"&DATE(YEAR($A5),MONTH($A5)+1,1),'Activity Log'!$D$5:$D$104,"Quote",'Activity Log'!$J$5:$J$104,"Completed"),"")) | M5: =IF(OR($A5="",$B5=""),"",IFERROR(ROUND(Assumptions!$B$12*$B5,0),"")) | N5: =IF($A5="","",IFERROR(COUNTIFS('Activity Log'!$B$5:$B$104,">="&$A5,'Activity Log'!$B$5:$B$104,"<"&DATE(YEAR($A5),MONTH($A5)+1,1),'Activity Log'!$D$5:$D$104,"Client Contact",'Activity Log'!$J$5:$J$104,"Completed"),"")) | O5: =IF(OR($A5="",$B5=""),"",IFERROR(Assumptions!$B$13*$B5,"")) | P5: =IF($A5="","",IFERROR(SUMIFS('Activity Log'!$I$5:$I$104,'Activity Log'!$B$5:$B$104,">="&$A5,'Activity Log'!$B$5:$B$104,"<"&DATE(YEAR($A5),MONTH($A5)+1,1),'Activity Log'!$J$5:$J$104,"Completed"),"")) | Q5: =IF(OR($C5="",$C5=0),"",IFERROR($D5/$C5,"")) | R5: =IF($A5="","",IF($A5>DATE(YEAR(TODAY()),MONTH(TODAY()),1),"Future month",IF(DATE(YEAR($A5),MONTH($A5)+1,1)>TODAY(),"Current month - review",IF($Q5="","No target",IF($Q5<Assumptions!$B$14,"Review progress","On pace")))))
A6: 46054 | B6: 0.07 | C6: =IF(OR($A6="",$B6=""),"",IFERROR(Assumptions!$B$8*$B6,"")) | D6: =IF($A6="","",IFERROR(SUMIFS('Activity Log'!$G$5:$G$104,'Activity Log'!$B$5:$B$104,">="&$A6,'Activity Log'!$B$5:$B$104,"<"&DATE(YEAR($A6),MONTH($A6)+1,1),'Activity Log'!$J$5:$J$104,"Completed"),"")) | E6: =IF(OR($C6="",$D6=""),"",IFERROR($D6-$C6,"")) | F6: =IF(OR($A6="",$B6=""),"",IFERROR(Assumptions!$B$9*$B6,"")) | G6: =IF($A6="","",IFERROR(SUMIFS('Activity Log'!$H$5:$H$104,'Activity Log'!$B$5:$B$104,">="&$A6,'Activity Log'!$B$5:$B$104,"<"&DATE(YEAR($A6),MONTH($A6)+1,1),'Activity Log'!$J$5:$J$104,"Completed"),"")) | H6: =IF(OR($F6="",$G6=""),"",IFERROR($G6-$F6,"")) | I6: =IF(OR($A6="",$B6=""),"",IFERROR(ROUND(Assumptions!$B$10*$B6,0),"")) | J6: =IF($A6="","",IFERROR(COUNTIFS('Activity Log'!$B$5:$B$104,">="&$A6,'Activity Log'!$B$5:$B$104,"<"&DATE(YEAR($A6),MONTH($A6)+1,1),'Activity Log'!$D$5:$D$104,"New Policy",'Activity Log'!$J$5:$J$104,"Completed"),"")) | K6: =IF(OR($A6="",$B6=""),"",IFERROR(ROUND(Assumptions!$B$11*$B6,0),"")) | L6: =IF($A6="","",IFERROR(COUNTIFS('Activity Log'!$B$5:$B$104,">="&$A6,'Activity Log'!$B$5:$B$104,"<"&DATE(YEAR($A6),MONTH($A6)+1,1),'Activity Log'!$D$5:$D$104,"Quote",'Activity Log'!$J$5:$J$104,"Completed"),"")) | M6: =IF(OR($A6="",$B6=""),"",IFERROR(ROUND(Assumptions!$B$12*$B6,0),"")) | N6: =IF($A6="","",IFERROR(COUNTIFS('Activity Log'!$B$5:$B$104,">="&$A6,'Activity Log'!$B$5:$B$104,"<"&DATE(YEAR($A6),MONTH($A6)+1,1),'Activity Log'!$D$5:$D$104,"Client Contact",'Activity Log'!$J$5:$J$104,"Completed"),"")) | O6: =IF(OR($A6="",$B6=""),"",IFERROR(Assumptions!$B$13*$B6,"")) | P6: =IF($A6="","",IFERROR(SUMIFS('Activity Log'!$I$5:$I$104,'Activity Log'!$B$5:$B$104,">="&$A6,'Activity Log'!$B$5:$B$104,"<"&DATE(YEAR($A6),MONTH($A6)+1,1),'Activity Log'!$J$5:$J$104,"Completed"),"")) | Q6: =IF(OR($C6="",$C6=0),"",IFERROR($D6/$C6,"")) | R6: =IF($A6="","",IF($A6>DATE(YEAR(TODAY()),MONTH(TODAY()),1),"Future month",IF(DATE(YEAR($A6),MONTH($A6)+1,1)>TODAY(),"Current month - review",IF($Q6="","No target",IF($Q6<Assumptions!$B$14,"Review progress","On pace")))))
A7: 46082 | B7: 0.08 | C7: =IF(OR($A7="",$B7=""),"",IFERROR(Assumptions!$B$8*$B7,"")) | D7: =IF($A7="","",IFERROR(SUMIFS('Activity Log'!$G$5:$G$104,'Activity Log'!$B$5:$B$104,">="&$A7,'Activity Log'!$B$5:$B$104,"<"&DATE(YEAR($A7),MONTH($A7)+1,1),'Activity Log'!$J$5:$J$104,"Completed"),"")) | E7: =IF(OR($C7="",$D7=""),"",IFERROR($D7-$C7,"")) | F7: =IF(OR($A7="",$B7=""),"",IFERROR(Assumptions!$B$9*$B7,"")) | G7: =IF($A7="","",IFERROR(SUMIFS('Activity Log'!$H$5:$H$104,'Activity Log'!$B$5:$B$104,">="&$A7,'Activity Log'!$B$5:$B$104,"<"&DATE(YEAR($A7),MONTH($A7)+1,1),'Activity Log'!$J$5:$J$104,"Completed"),"")) | H7: =IF(OR($F7="",$G7=""),"",IFERROR($G7-$F7,"")) | I7: =IF(OR($A7="",$B7=""),"",IFERROR(ROUND(Assumptions!$B$10*$B7,0),"")) | J7: =IF($A7="","",IFERROR(COUNTIFS('Activity Log'!$B$5:$B$104,">="&$A7,'Activity Log'!$B$5:$B$104,"<"&DATE(YEAR($A7),MONTH($A7)+1,1),'Activity Log'!$D$5:$D$104,"New Policy",'Activity Log'!$J$5:$J$104,"Completed"),"")) | K7: =IF(OR($A7="",$B7=""),"",IFERROR(ROUND(Assumptions!$B$11*$B7,0),"")) | L7: =IF($A7="","",IFERROR(COUNTIFS('Activity Log'!$B$5:$B$104,">="&$A7,'Activity Log'!$B$5:$B$104,"<"&DATE(YEAR($A7),MONTH($A7)+1,1),'Activity Log'!$D$5:$D$104,"Quote",'Activity Log'!$J$5:$J$104,"Completed"),"")) | M7: =IF(OR($A7="",$B7=""),"",IFERROR(ROUND(Assumptions!$B$12*$B7,0),"")) | N7: =IF($A7="","",IFERROR(COUNTIFS('Activity Log'!$B$5:$B$104,">="&$A7,'Activity Log'!$B$5:$B$104,"<"&DATE(YEAR($A7),MONTH($A7)+1,1),'Activity Log'!$D$5:$D$104,"Client Contact",'Activity Log'!$J$5:$J$104,"Completed"),"")) | O7: =IF(OR($A7="",$B7=""),"",IFERROR(Assumptions!$B$13*$B7,"")) | P7: =IF($A7="","",IFERROR(SUMIFS('Activity Log'!$I$5:$I$104,'Activity Log'!$B$5:$B$104,">="&$A7,'Activity Log'!$B$5:$B$104,"<"&DATE(YEAR($A7),MONTH($A7)+1,1),'Activity Log'!$J$5:$J$104,"Completed"),"")) | Q7: =IF(OR($C7="",$C7=0),"",IFERROR($D7/$C7,"")) | R7: =IF($A7="","",IF($A7>DATE(YEAR(TODAY()),MONTH(TODAY()),1),"Future month",IF(DATE(YEAR($A7),MONTH($A7)+1,1)>TODAY(),"Current month - review",IF($Q7="","No target",IF($Q7<Assumptions!$B$14,"Review progress","On pace")))))
A8: 46113 | B8: 0.08 | C8: =IF(OR($A8="",$B8=""),"",IFERROR(Assumptions!$B$8*$B8,"")) | D8: =IF($A8="","",IFERROR(SUMIFS('Activity Log'!$G$5:$G$104,'Activity Log'!$B$5:$B$104,">="&$A8,'Activity Log'!$B$5:$B$104,"<"&DATE(YEAR($A8),MONTH($A8)+1,1),'Activity Log'!$J$5:$J$104,"Completed"),"")) | E8: =IF(OR($C8="",$D8=""),"",IFERROR($D8-$C8,"")) | F8: =IF(OR($A8="",$B8=""),"",IFERROR(Assumptions!$B$9*$B8,"")) | G8: =IF($A8="","",IFERROR(SUMIFS('Activity Log'!$H$5:$H$104,'Activity Log'!$B$5:$B$104,">="&$A8,'Activity Log'!$B$5:$B$104,"<"&DATE(YEAR($A8),MONTH($A8)+1,1),'Activity Log'!$J$5:$J$104,"Completed"),"")) | H8: =IF(OR($F8="",$G8=""),"",IFERROR($G8-$F8,"")) | I8: =IF(OR($A8="",$B8=""),"",IFERROR(ROUND(Assumptions!$B$10*$B8,0),"")) | J8: =IF($A8="","",IFERROR(COUNTIFS('Activity Log'!$B$5:$B$104,">="&$A8,'Activity Log'!$B$5:$B$104,"<"&DATE(YEAR($A8),MONTH($A8)+1,1),'Activity Log'!$D$5:$D$104,"New Policy",'Activity Log'!$J$5:$J$104,"Completed"),"")) | K8: =IF(OR($A8="",$B8=""),"",IFERROR(ROUND(Assumptions!$B$11*$B8,0),"")) | L8: =IF($A8="","",IFERROR(COUNTIFS('Activity Log'!$B$5:$B$104,">="&$A8,'Activity Log'!$B$5:$B$104,"<"&DATE(YEAR($A8),MONTH($A8)+1,1),'Activity Log'!$D$5:$D$104,"Quote",'Activity Log'!$J$5:$J$104,"Completed"),"")) | M8: =IF(OR($A8="",$B8=""),"",IFERROR(ROUND(Assumptions!$B$12*$B8,0),"")) | N8: =IF($A8="","",IFERROR(COUNTIFS('Activity Log'!$B$5:$B$104,">="&$A8,'Activity Log'!$B$5:$B$104,"<"&DATE(YEAR($A8),MONTH($A8)+1,1),'Activity Log'!$D$5:$D$104,"Client Contact",'Activity Log'!$J$5:$J$104,"Completed"),"")) | O8: =IF(OR($A8="",$B8=""),"",IFERROR(Assumptions!$B$13*$B8,"")) | P8: =IF($A8="","",IFERROR(SUMIFS('Activity Log'!$I$5:$I$104,'Activity Log'!$B$5:$B$104,">="&$A8,'Activity Log'!$B$5:$B$104,"<"&DATE(YEAR($A8),MONTH($A8)+1,1),'Activity Log'!$J$5:$J$104,"Completed"),"")) | Q8: =IF(OR($C8="",$C8=0),"",IFERROR($D8/$C8,"")) | R8: =IF($A8="","",IF($A8>DATE(YEAR(TODAY()),MONTH(TODAY()),1),"Future month",IF(DATE(YEAR($A8),MONTH($A8)+1,1)>TODAY(),"Current month - review",IF($Q8="","No target",IF($Q8<Assumptions!$B$14,"Review progress","On pace")))))
A9: 46143 | B9: 0.09 | C9: =IF(OR($A9="",$B9=""),"",IFERROR(Assumptions!$B$8*$B9,"")) | D9: =IF($A9="","",IFERROR(SUMIFS('Activity Log'!$G$5:$G$104,'Activity Log'!$B$5:$B$104,">="&$A9,'Activity Log'!$B$5:$B$104,"<"&DATE(YEAR($A9),MONTH($A9)+1,1),'Activity Log'!$J$5:$J$104,"Completed"),"")) | E9: =IF(OR($C9="",$D9=""),"",IFERROR($D9-$C9,"")) | F9: =IF(OR($A9="",$B9=""),"",IFERROR(Assumptions!$B$9*$B9,"")) | G9: =IF($A9="","",IFERROR(SUMIFS('Activity Log'!$H$5:$H$104,'Activity Log'!$B$5:$B$104,">="&$A9,'Activity Log'!$B$5:$B$104,"<"&DATE(YEAR($A9),MONTH($A9)+1,1),'Activity Log'!$J$5:$J$104,"Completed"),"")) | H9: =IF(OR($F9="",$G9=""),"",IFERROR($G9-$F9,"")) | I9: =IF(OR($A9="",$B9=""),"",IFERROR(ROUND(Assumptions!$B$10*$B9,0),"")) | J9: =IF($A9="","",IFERROR(COUNTIFS('Activity Log'!$B$5:$B$104,">="&$A9,'Activity Log'!$B$5:$B$104,"<"&DATE(YEAR($A9),MONTH($A9)+1,1),'Activity Log'!$D$5:$D$104,"New Policy",'Activity Log'!$J$5:$J$104,"Completed"),"")) | K9: =IF(OR($A9="",$B9=""),"",IFERROR(ROUND(Assumptions!$B$11*$B9,0),"")) | L9: =IF($A9="","",IFERROR(COUNTIFS('Activity Log'!$B$5:$B$104,">="&$A9,'Activity Log'!$B$5:$B$104,"<"&DATE(YEAR($A9),MONTH($A9)+1,1),'Activity Log'!$D$5:$D$104,"Quote",'Activity Log'!$J$5:$J$104,"Completed"),"")) | M9: =IF(OR($A9="",$B9=""),"",IFERROR(ROUND(Assumptions!$B$12*$B9,0),"")) | N9: =IF($A9="","",IFERROR(COUNTIFS('Activity Log'!$B$5:$B$104,">="&$A9,'Activity Log'!$B$5:$B$104,"<"&DATE(YEAR($A9),MONTH($A9)+1,1),'Activity Log'!$D$5:$D$104,"Client Contact",'Activity Log'!$J$5:$J$104,"Completed"),"")) | O9: =IF(OR($A9="",$B9=""),"",IFERROR(Assumptions!$B$13*$B9,"")) | P9: =IF($A9="","",IFERROR(SUMIFS('Activity Log'!$I$5:$I$104,'Activity Log'!$B$5:$B$104,">="&$A9,'Activity Log'!$B$5:$B$104,"<"&DATE(YEAR($A9),MONTH($A9)+1,1),'Activity Log'!$J$5:$J$104,"Completed"),"")) | Q9: =IF(OR($C9="",$C9=0),"",IFERROR($D9/$C9,"")) | R9: =IF($A9="","",IF($A9>DATE(YEAR(TODAY()),MONTH(TODAY()),1),"Future month",IF(DATE(YEAR($A9),MONTH($A9)+1,1)>TODAY(),"Current month - review",IF($Q9="","No target",IF($Q9<Assumptions!$B$14,"Review progress","On pace")))))
A10: 46174 | B10: 0.09 | C10: =IF(OR($A10="",$B10=""),"",IFERROR(Assumptions!$B$8*$B10,"")) | D10: =IF($A10="","",IFERROR(SUMIFS('Activity Log'!$G$5:$G$104,'Activity Log'!$B$5:$B$104,">="&$A10,'Activity Log'!$B$5:$B$104,"<"&DATE(YEAR($A10),MONTH($A10)+1,1),'Activity Log'!$J$5:$J$104,"Completed"),"")) | E10: =IF(OR($C10="",$D10=""),"",IFERROR($D10-$C10,"")) | F10: =IF(OR($A10="",$B10=""),"",IFERROR(Assumptions!$B$9*$B10,"")) | G10: =IF($A10="","",IFERROR(SUMIFS('Activity Log'!$H$5:$H$104,'Activity Log'!$B$5:$B$104,">="&$A10,'Activity Log'!$B$5:$B$104,"<"&DATE(YEAR($A10),MONTH($A10)+1,1),'Activity Log'!$J$5:$J$104,"Completed"),"")) | H10: =IF(OR($F10="",$G10=""),"",IFERROR($G10-$F10,"")) | I10: =IF(OR($A10="",$B10=""),"",IFERROR(ROUND(Assumptions!$B$10*$B10,0),"")) | J10: =IF($A10="","",IFERROR(COUNTIFS('Activity Log'!$B$5:$B$104,">="&$A10,'Activity Log'!$B$5:$B$104,"<"&DATE(YEAR($A10),MONTH($A10)+1,1),'Activity Log'!$D$5:$D$104,"New Policy",'Activity Log'!$J$5:$J$104,"Completed"),"")) | K10: =IF(OR($A10="",$B10=""),"",IFERROR(ROUND(Assumptions!$B$11*$B10,0),"")) | L10: =IF($A10="","",IFERROR(COUNTIFS('Activity Log'!$B$5:$B$104,">="&$A10,'Activity Log'!$B$5:$B$104,"<"&DATE(YEAR($A10),MONTH($A10)+1,1),'Activity Log'!$D$5:$D$104,"Quote",'Activity Log'!$J$5:$J$104,"Completed"),"")) | M10: =IF(OR($A10="",$B10=""),"",IFERROR(ROUND(Assumptions!$B$12*$B10,0),"")) | N10: =IF($A10="","",IFERROR(COUNTIFS('Activity Log'!$B$5:$B$104,">="&$A10,'Activity Log'!$B$5:$B$104,"<"&DATE(YEAR($A10),MONTH($A10)+1,1),'Activity Log'!$D$5:$D$104,"Client Contact",'Activity Log'!$J$5:$J$104,"Completed"),"")) | O10: =IF(OR($A10="",$B10=""),"",IFERROR(Assumptions!$B$13*$B10,"")) | P10: =IF($A10="","",IFERROR(SUMIFS('Activity Log'!$I$5:$I$104,'Activity Log'!$B$5:$B$104,">="&$A10,'Activity Log'!$B$5:$B$104,"<"&DATE(YEAR($A10),MONTH($A10)+1,1),'Activity Log'!$J$5:$J$104,"Completed"),"")) | Q10: =IF(OR($C10="",$C10=0),"",IFERROR($D10/$C10,"")) | R10: =IF($A10="","",IF($A10>DATE(YEAR(TODAY()),MONTH(TODAY()),1),"Future month",IF(DATE(YEAR($A10),MONTH($A10)+1,1)>TODAY(),"Current month - review",IF($Q10="","No target",IF($Q10<Assumptions!$B$14,"Review progress","On pace")))))
A11: 46204 | B11: 0.09 | C11: =IF(OR($A11="",$B11=""),"",IFERROR(Assumptions!$B$8*$B11,"")) | D11: =IF($A11="","",IFERROR(SUMIFS('Activity Log'!$G$5:$G$104,'Activity Log'!$B$5:$B$104,">="&$A11,'Activity Log'!$B$5:$B$104,"<"&DATE(YEAR($A11),MONTH($A11)+1,1),'Activity Log'!$J$5:$J$104,"Completed"),"")) | E11: =IF(OR($C11="",$D11=""),"",IFERROR($D11-$C11,"")) | F11: =IF(OR($A11="",$B11=""),"",IFERROR(Assumptions!$B$9*$B11,"")) | G11: =IF($A11="","",IFERROR(SUMIFS('Activity Log'!$H$5:$H$104,'Activity Log'!$B$5:$B$104,">="&$A11,'Activity Log'!$B$5:$B$104,"<"&DATE(YEAR($A11),MONTH($A11)+1,1),'Activity Log'!$J$5:$J$104,"Completed"),"")) | H11: =IF(OR($F11="",$G11=""),"",IFERROR($G11-$F11,"")) | I11: =IF(OR($A11="",$B11=""),"",IFERROR(ROUND(Assumptions!$B$10*$B11,0),"")) | J11: =IF($A11="","",IFERROR(COUNTIFS('Activity Log'!$B$5:$B$104,">="&$A11,'Activity Log'!$B$5:$B$104,"<"&DATE(YEAR($A11),MONTH($A11)+1,1),'Activity Log'!$D$5:$D$104,"New Policy",'Activity Log'!$J$5:$J$104,"Completed"),"")) | K11: =IF(OR($A11="",$B11=""),"",IFERROR(ROUND(Assumptions!$B$11*$B11,0),"")) | L11: =IF($A11="","",IFERROR(COUNTIFS('Activity Log'!$B$5:$B$104,">="&$A11,'Activity Log'!$B$5:$B$104,"<"&DATE(YEAR($A11),MONTH($A11)+1,1),'Activity Log'!$D$5:$D$104,"Quote",'Activity Log'!$J$5:$J$104,"Completed"),"")) | M11: =IF(OR($A11="",$B11=""),"",IFERROR(ROUND(Assumptions!$B$12*$B11,0),"")) | N11: =IF($A11="","",IFERROR(COUNTIFS('Activity Log'!$B$5:$B$104,">="&$A11,'Activity Log'!$B$5:$B$104,"<"&DATE(YEAR($A11),MONTH($A11)+1,1),'Activity Log'!$D$5:$D$104,"Client Contact",'Activity Log'!$J$5:$J$104,"Completed"),"")) | O11: =IF(OR($A11="",$B11=""),"",IFERROR(Assumptions!$B$13*$B11,"")) | P11: =IF($A11="","",IFERROR(SUMIFS('Activity Log'!$I$5:$I$104,'Activity Log'!$B$5:$B$104,">="&$A11,'Activity Log'!$B$5:$B$104,"<"&DATE(YEAR($A11),MONTH($A11)+1,1),'Activity Log'!$J$5:$J$104,"Completed"),"")) | Q11: =IF(OR($C11="",$C11=0),"",IFERROR($D11/$C11,"")) | R11: =IF($A11="","",IF($A11>DATE(YEAR(TODAY()),MONTH(TODAY()),1),"Future month",IF(DATE(YEAR($A11),MONTH($A11)+1,1)>TODAY(),"Current month - review",IF($Q11="","No target",IF($Q11<Assumptions!$B$14,"Review progress","On pace")))))
A12: 46235 | B12: 0.09 | C12: =IF(OR($A12="",$B12=""),"",IFERROR(Assumptions!$B$8*$B12,"")) | D12: =IF($A12="","",IFERROR(SUMIFS('Activity Log'!$G$5:$G$104,'Activity Log'!$B$5:$B$104,">="&$A12,'Activity Log'!$B$5:$B$104,"<"&DATE(YEAR($A12),MONTH($A12)+1,1),'Activity Log'!$J$5:$J$104,"Completed"),"")) | E12: =IF(OR($C12="",$D12=""),"",IFERROR($D12-$C12,"")) | F12: =IF(OR($A12="",$B12=""),"",IFERROR(Assumptions!$B$9*$B12,"")) | G12: =IF($A12="","",IFERROR(SUMIFS('Activity Log'!$H$5:$H$104,'Activity Log'!$B$5:$B$104,">="&$A12,'Activity Log'!$B$5:$B$104,"<"&DATE(YEAR($A12),MONTH($A12)+1,1),'Activity Log'!$J$5:$J$104,"Completed"),"")) | H12: =IF(OR($F12="",$G12=""),"",IFERROR($G12-$F12,"")) | I12: =IF(OR($A12="",$B12=""),"",IFERROR(ROUND(Assumptions!$B$10*$B12,0),"")) | J12: =IF($A12="","",IFERROR(COUNTIFS('Activity Log'!$B$5:$B$104,">="&$A12,'Activity Log'!$B$5:$B$104,"<"&DATE(YEAR($A12),MONTH($A12)+1,1),'Activity Log'!$D$5:$D$104,"New Policy",'Activity Log'!$J$5:$J$104,"Completed"),"")) | K12: =IF(OR($A12="",$B12=""),"",IFERROR(ROUND(Assumptions!$B$11*$B12,0),"")) | L12: =IF($A12="","",IFERROR(COUNTIFS('Activity Log'!$B$5:$B$104,">="&$A12,'Activity Log'!$B$5:$B$104,"<"&DATE(YEAR($A12),MONTH($A12)+1,1),'Activity Log'!$D$5:$D$104,"Quote",'Activity Log'!$J$5:$J$104,"Completed"),"")) | M12: =IF(OR($A12="",$B12=""),"",IFERROR(ROUND(Assumptions!$B$12*$B12,0),"")) | N12: =IF($A12="","",IFERROR(COUNTIFS('Activity Log'!$B$5:$B$104,">="&$A12,'Activity Log'!$B$5:$B$104,"<"&DATE(YEAR($A12),MONTH($A12)+1,1),'Activity Log'!$D$5:$D$104,"Client Contact",'Activity Log'!$J$5:$J$104,"Completed"),"")) | O12: =IF(OR($A12="",$B12=""),"",IFERROR(Assumptions!$B$13*$B12,"")) | P12: =IF($A12="","",IFERROR(SUMIFS('Activity Log'!$I$5:$I$104,'Activity Log'!$B$5:$B$104,">="&$A12,'Activity Log'!$B$5:$B$104,"<"&DATE(YEAR($A12),MONTH($A12)+1,1),'Activity Log'!$J$5:$J$104,"Completed"),"")) | Q12: =IF(OR($C12="",$C12=0),"",IFERROR($D12/$C12,"")) | R12: =IF($A12="","",IF($A12>DATE(YEAR(TODAY()),MONTH(TODAY()),1),"Future month",IF(DATE(YEAR($A12),MONTH($A12)+1,1)>TODAY(),"Current month - review",IF($Q12="","No target",IF($Q12<Assumptions!$B$14,"Review progress","On pace")))))
A13: 46266 | B13: 0.08 | C13: =IF(OR($A13="",$B13=""),"",IFERROR(Assumptions!$B$8*$B13,"")) | D13: =IF($A13="","",IFERROR(SUMIFS('Activity Log'!$G$5:$G$104,'Activity Log'!$B$5:$B$104,">="&$A13,'Activity Log'!$B$5:$B$104,"<"&DATE(YEAR($A13),MONTH($A13)+1,1),'Activity Log'!$J$5:$J$104,"Completed"),"")) | E13: =IF(OR($C13="",$D13=""),"",IFERROR($D13-$C13,"")) | F13: =IF(OR($A13="",$B13=""),"",IFERROR(Assumptions!$B$9*$B13,"")) | G13: =IF($A13="","",IFERROR(SUMIFS('Activity Log'!$H$5:$H$104,'Activity Log'!$B$5:$B$104,">="&$A13,'Activity Log'!$B$5:$B$104,"<"&DATE(YEAR($A13),MONTH($A13)+1,1),'Activity Log'!$J$5:$J$104,"Completed"),"")) | H13: =IF(OR($F13="",$G13=""),"",IFERROR($G13-$F13,"")) | I13: =IF(OR($A13="",$B13=""),"",IFERROR(ROUND(Assumptions!$B$10*$B13,0),"")) | J13: =IF($A13="","",IFERROR(COUNTIFS('Activity Log'!$B$5:$B$104,">="&$A13,'Activity Log'!$B$5:$B$104,"<"&DATE(YEAR($A13),MONTH($A13)+1,1),'Activity Log'!$D$5:$D$104,"New Policy",'Activity Log'!$J$5:$J$104,"Completed"),"")) | K13: =IF(OR($A13="",$B13=""),"",IFERROR(ROUND(Assumptions!$B$11*$B13,0),"")) | L13: =IF($A13="","",IFERROR(COUNTIFS('Activity Log'!$B$5:$B$104,">="&$A13,'Activity Log'!$B$5:$B$104,"<"&DATE(YEAR($A13),MONTH($A13)+1,1),'Activity Log'!$D$5:$D$104,"Quote",'Activity Log'!$J$5:$J$104,"Completed"),"")) | M13: =IF(OR($A13="",$B13=""),"",IFERROR(ROUND(Assumptions!$B$12*$B13,0),"")) | N13: =IF($A13="","",IFERROR(COUNTIFS('Activity Log'!$B$5:$B$104,">="&$A13,'Activity Log'!$B$5:$B$104,"<"&DATE(YEAR($A13),MONTH($A13)+1,1),'Activity Log'!$D$5:$D$104,"Client Contact",'Activity Log'!$J$5:$J$104,"Completed"),"")) | O13: =IF(OR($A13="",$B13=""),"",IFERROR(Assumptions!$B$13*$B13,"")) | P13: =IF($A13="","",IFERROR(SUMIFS('Activity Log'!$I$5:$I$104,'Activity Log'!$B$5:$B$104,">="&$A13,'Activity Log'!$B$5:$B$104,"<"&DATE(YEAR($A13),MONTH($A13)+1,1),'Activity Log'!$J$5:$J$104,"Completed"),"")) | Q13: =IF(OR($C13="",$C13=0),"",IFERROR($D13/$C13,"")) | R13: =IF($A13="","",IF($A13>DATE(YEAR(TODAY()),MONTH(TODAY()),1),"Future month",IF(DATE(YEAR($A13),MONTH($A13)+1,1)>TODAY(),"Current month - review",IF($Q13="","No target",IF($Q13<Assumptions!$B$14,"Review progress","On pace")))))
A14: 46296 | B14: 0.09 | C14: =IF(OR($A14="",$B14=""),"",IFERROR(Assumptions!$B$8*$B14,"")) | D14: =IF($A14="","",IFERROR(SUMIFS('Activity Log'!$G$5:$G$104,'Activity Log'!$B$5:$B$104,">="&$A14,'Activity Log'!$B$5:$B$104,"<"&DATE(YEAR($A14),MONTH($A14)+1,1),'Activity Log'!$J$5:$J$104,"Completed"),"")) | E14: =IF(OR($C14="",$D14=""),"",IFERROR($D14-$C14,"")) | F14: =IF(OR($A14="",$B14=""),"",IFERROR(Assumptions!$B$9*$B14,"")) | G14: =IF($A14="","",IFERROR(SUMIFS('Activity Log'!$H$5:$H$104,'Activity Log'!$B$5:$B$104,">="&$A14,'Activity Log'!$B$5:$B$104,"<"&DATE(YEAR($A14),MONTH($A14)+1,1),'Activity Log'!$J$5:$J$104,"Completed"),"")) | H14: =IF(OR($F14="",$G14=""),"",IFERROR($G14-$F14,"")) | I14: =IF(OR($A14="",$B14=""),"",IFERROR(ROUND(Assumptions!$B$10*$B14,0),"")) | J14: =IF($A14="","",IFERROR(COUNTIFS('Activity Log'!$B$5:$B$104,">="&$A14,'Activity Log'!$B$5:$B$104,"<"&DATE(YEAR($A14),MONTH($A14)+1,1),'Activity Log'!$D$5:$D$104,"New Policy",'Activity Log'!$J$5:$J$104,"Completed"),"")) | K14: =IF(OR($A14="",$B14=""),"",IFERROR(ROUND(Assumptions!$B$11*$B14,0),"")) | L14: =IF($A14="","",IFERROR(COUNTIFS('Activity Log'!$B$5:$B$104,">="&$A14,'Activity Log'!$B$5:$B$104,"<"&DATE(YEAR($A14),MONTH($A14)+1,1),'Activity Log'!$D$5:$D$104,"Quote",'Activity Log'!$J$5:$J$104,"Completed"),"")) | M14: =IF(OR($A14="",$B14=""),"",IFERROR(ROUND(Assumptions!$B$12*$B14,0),"")) | N14: =IF($A14="","",IFERROR(COUNTIFS('Activity Log'!$B$5:$B$104,">="&$A14,'Activity Log'!$B$5:$B$104,"<"&DATE(YEAR($A14),MONTH($A14)+1,1),'Activity Log'!$D$5:$D$104,"Client Contact",'Activity Log'!$J$5:$J$104,"Completed"),"")) | O14: =IF(OR($A14="",$B14=""),"",IFERROR(Assumptions!$B$13*$B14,"")) | P14: =IF($A14="","",IFERROR(SUMIFS('Activity Log'!$I$5:$I$104,'Activity Log'!$B$5:$B$104,">="&$A14,'Activity Log'!$B$5:$B$104,"<"&DATE(YEAR($A14),MONTH($A14)+1,1),'Activity Log'!$J$5:$J$104,"Completed"),"")) | Q14: =IF(OR($C14="",$C14=0),"",IFERROR($D14/$C14,"")) | R14: =IF($A14="","",IF($A14>DATE(YEAR(TODAY()),MONTH(TODAY()),1),"Future month",IF(DATE(YEAR($A14),MONTH($A14)+1,1)>TODAY(),"Current month - review",IF($Q14="","No target",IF($Q14<Assumptions!$B$14,"Review progress","On pace")))))
A15: 46327 | B15: 0.09 | C15: =IF(OR($A15="",$B15=""),"",IFERROR(Assumptions!$B$8*$B15,"")) | D15: =IF($A15="","",IFERROR(SUMIFS('Activity Log'!$G$5:$G$104,'Activity Log'!$B$5:$B$104,">="&$A15,'Activity Log'!$B$5:$B$104,"<"&DATE(YEAR($A15),MONTH($A15)+1,1),'Activity Log'!$J$5:$J$104,"Completed"),"")) | E15: =IF(OR($C15="",$D15=""),"",IFERROR($D15-$C15,"")) | F15: =IF(OR($A15="",$B15=""),"",IFERROR(Assumptions!$B$9*$B15,"")) | G15: =IF($A15="","",IFERROR(SUMIFS('Activity Log'!$H$5:$H$104,'Activity Log'!$B$5:$B$104,">="&$A15,'Activity Log'!$B$5:$B$104,"<"&DATE(YEAR($A15),MONTH($A15)+1,1),'Activity Log'!$J$5:$J$104,"Completed"),"")) | H15: =IF(OR($F15="",$G15=""),"",IFERROR($G15-$F15,"")) | I15: =IF(OR($A15="",$B15=""),"",IFERROR(ROUND(Assumptions!$B$10*$B15,0),"")) | J15: =IF($A15="","",IFERROR(COUNTIFS('Activity Log'!$B$5:$B$104,">="&$A15,'Activity Log'!$B$5:$B$104,"<"&DATE(YEAR($A15),MONTH($A15)+1,1),'Activity Log'!$D$5:$D$104,"New Policy",'Activity Log'!$J$5:$J$104,"Completed"),"")) | K15: =IF(OR($A15="",$B15=""),"",IFERROR(ROUND(Assumptions!$B$11*$B15,0),"")) | L15: =IF($A15="","",IFERROR(COUNTIFS('Activity Log'!$B$5:$B$104,">="&$A15,'Activity Log'!$B$5:$B$104,"<"&DATE(YEAR($A15),MONTH($A15)+1,1),'Activity Log'!$D$5:$D$104,"Quote",'Activity Log'!$J$5:$J$104,"Completed"),"")) | M15: =IF(OR($A15="",$B15=""),"",IFERROR(ROUND(Assumptions!$B$12*$B15,0),"")) | N15: =IF($A15="","",IFERROR(COUNTIFS('Activity Log'!$B$5:$B$104,">="&$A15,'Activity Log'!$B$5:$B$104,"<"&DATE(YEAR($A15),MONTH($A15)+1,1),'Activity Log'!$D$5:$D$104,"Client Contact",'Activity Log'!$J$5:$J$104,"Completed"),"")) | O15: =IF(OR($A15="",$B15=""),"",IFERROR(Assumptions!$B$13*$B15,"")) | P15: =IF($A15="","",IFERROR(SUMIFS('Activity Log'!$I$5:$I$104,'Activity Log'!$B$5:$B$104,">="&$A15,'Activity Log'!$B$5:$B$104,"<"&DATE(YEAR($A15),MONTH($A15)+1,1),'Activity Log'!$J$5:$J$104,"Completed"),"")) | Q15: =IF(OR($C15="",$C15=0),"",IFERROR($D15/$C15,"")) | R15: =IF($A15="","",IF($A15>DATE(YEAR(TODAY()),MONTH(TODAY()),1),"Future month",IF(DATE(YEAR($A15),MONTH($A15)+1,1)>TODAY(),"Current month - review",IF($Q15="","No target",IF($Q15<Assumptions!$B$14,"Review progress","On pace")))))
A16: 46357 | B16: 0.08 | C16: =IF(OR($A16="",$B16=""),"",IFERROR(Assumptions!$B$8*$B16,"")) | D16: =IF($A16="","",IFERROR(SUMIFS('Activity Log'!$G$5:$G$104,'Activity Log'!$B$5:$B$104,">="&$A16,'Activity Log'!$B$5:$B$104,"<"&DATE(YEAR($A16),MONTH($A16)+1,1),'Activity Log'!$J$5:$J$104,"Completed"),"")) | E16: =IF(OR($C16="",$D16=""),"",IFERROR($D16-$C16,"")) | F16: =IF(OR($A16="",$B16=""),"",IFERROR(Assumptions!$B$9*$B16,"")) | G16: =IF($A16="","",IFERROR(SUMIFS('Activity Log'!$H$5:$H$104,'Activity Log'!$B$5:$B$104,">="&$A16,'Activity Log'!$B$5:$B$104,"<"&DATE(YEAR($A16),MONTH($A16)+1,1),'Activity Log'!$J$5:$J$104,"Completed"),"")) | H16: =IF(OR($F16="",$G16=""),"",IFERROR($G16-$F16,"")) | I16: =IF(OR($A16="",$B16=""),"",IFERROR(ROUND(Assumptions!$B$10*$B16,0),"")) | J16: =IF($A16="","",IFERROR(COUNTIFS('Activity Log'!$B$5:$B$104,">="&$A16,'Activity Log'!$B$5:$B$104,"<"&DATE(YEAR($A16),MONTH($A16)+1,1),'Activity Log'!$D$5:$D$104,"New Policy",'Activity Log'!$J$5:$J$104,"Completed"),"")) | K16: =IF(OR($A16="",$B16=""),"",IFERROR(ROUND(Assumptions!$B$11*$B16,0),"")) | L16: =IF($A16="","",IFERROR(COUNTIFS('Activity Log'!$B$5:$B$104,">="&$A16,'Activity Log'!$B$5:$B$104,"<"&DATE(YEAR($A16),MONTH($A16)+1,1),'Activity Log'!$D$5:$D$104,"Quote",'Activity Log'!$J$5:$J$104,"Completed"),"")) | M16: =IF(OR($A16="",$B16=""),"",IFERROR(ROUND(Assumptions!$B$12*$B16,0),"")) | N16: =IF($A16="","",IFERROR(COUNTIFS('Activity Log'!$B$5:$B$104,">="&$A16,'Activity Log'!$B$5:$B$104,"<"&DATE(YEAR($A16),MONTH($A16)+1,1),'Activity Log'!$D$5:$D$104,"Client Contact",'Activity Log'!$J$5:$J$104,"Completed"),"")) | O16: =IF(OR($A16="",$B16=""),"",IFERROR(Assumptions!$B$13*$B16,"")) | P16: =IF($A16="","",IFERROR(SUMIFS('Activity Log'!$I$5:$I$104,'Activity Log'!$B$5:$B$104,">="&$A16,'Activity Log'!$B$5:$B$104,"<"&DATE(YEAR($A16),MONTH($A16)+1,1),'Activity Log'!$J$5:$J$104,"Completed"),"")) | Q16: =IF(OR($C16="",$C16=0),"",IFERROR($D16/$C16,"")) | R16: =IF($A16="","",IF($A16>DATE(YEAR(TODAY()),MONTH(TODAY()),1),"Future month",IF(DATE(YEAR($A16),MONTH($A16)+1,1)>TODAY(),"Current month - review",IF($Q16="","No target",IF($Q16<Assumptions!$B$14,"Review progress","On pace")))))
C17: =IF(OR($A17="",$B17=""),"",IFERROR(Assumptions!$B$8*$B17,"")) | D17: =IF($A17="","",IFERROR(SUMIFS('Activity Log'!$G$5:$G$104,'Activity Log'!$B$5:$B$104,">="&$A17,'Activity Log'!$B$5:$B$104,"<"&DATE(YEAR($A17),MONTH($A17)+1,1),'Activity Log'!$J$5:$J$104,"Completed"),"")) | E17: =IF(OR($C17="",$D17=""),"",IFERROR($D17-$C17,"")) | F17: =IF(OR($A17="",$B17=""),"",IFERROR(Assumptions!$B$9*$B17,"")) | G17: =IF($A17="","",IFERROR(SUMIFS('Activity Log'!$H$5:$H$104,'Activity Log'!$B$5:$B$104,">="&$A17,'Activity Log'!$B$5:$B$104,"<"&DATE(YEAR($A17),MONTH($A17)+1,1),'Activity Log'!$J$5:$J$104,"Completed"),"")) | H17: =IF(OR($F17="",$G17=""),"",IFERROR($G17-$F17,"")) | I17: =IF(OR($A17="",$B17=""),"",IFERROR(ROUND(Assumptions!$B$10*$B17,0),"")) | J17: =IF($A17="","",IFERROR(COUNTIFS('Activity Log'!$B$5:$B$104,">="&$A17,'Activity Log'!$B$5:$B$104,"<"&DATE(YEAR($A17),MONTH($A17)+1,1),'Activity Log'!$D$5:$D$104,"New Policy",'Activity Log'!$J$5:$J$104,"Completed"),"")) | K17: =IF(OR($A17="",$B17=""),"",IFERROR(ROUND(Assumptions!$B$11*$B17,0),"")) | L17: =IF($A17="","",IFERROR(COUNTIFS('Activity Log'!$B$5:$B$104,">="&$A17,'Activity Log'!$B$5:$B$104,"<"&DATE(YEAR($A17),MONTH($A17)+1,1),'Activity Log'!$D$5:$D$104,"Quote",'Activity Log'!$J$5:$J$104,"Completed"),"")) | M17: =IF(OR($A17="",$B17=""),"",IFERROR(ROUND(Assumptions!$B$12*$B17,0),"")) | N17: =IF($A17="","",IFERROR(COUNTIFS('Activity Log'!$B$5:$B$104,">="&$A17,'Activity Log'!$B$5:$B$104,"<"&DATE(YEAR($A17),MONTH($A17)+1,1),'Activity Log'!$D$5:$D$104,"Client Contact",'Activity Log'!$J$5:$J$104,"Completed"),"")) | O17: =IF(OR($A17="",$B17=""),"",IFERROR(Assumptions!$B$13*$B17,"")) | P17: =IF($A17="","",IFERROR(SUMIFS('Activity Log'!$I$5:$I$104,'Activity Log'!$B$5:$B$104,">="&$A17,'Activity Log'!$B$5:$B$104,"<"&DATE(YEAR($A17),MONTH($A17)+1,1),'Activity Log'!$J$5:$J$104,"Completed"),"")) | Q17: =IF(OR($C17="",$C17=0),"",IFERROR($D17/$C17,"")) | R17: =IF($A17="","",IF($A17>DATE(YEAR(TODAY()),MONTH(TODAY()),1),"Future month",IF(DATE(YEAR($A17),MONTH($A17)+1,1)>TODAY(),"Current month - review",IF($Q17="","No target",IF($Q17<Assumptions!$B$14,"Review progress","On pace")))))
C18: =IF(OR($A18="",$B18=""),"",IFERROR(Assumptions!$B$8*$B18,"")) | D18: =IF($A18="","",IFERROR(SUMIFS('Activity Log'!$G$5:$G$104,'Activity Log'!$B$5:$B$104,">="&$A18,'Activity Log'!$B$5:$B$104,"<"&DATE(YEAR($A18),MONTH($A18)+1,1),'Activity Log'!$J$5:$J$104,"Completed"),"")) | E18: =IF(OR($C18="",$D18=""),"",IFERROR($D18-$C18,"")) | F18: =IF(OR($A18="",$B18=""),"",IFERROR(Assumptions!$B$9*$B18,"")) | G18: =IF($A18="","",IFERROR(SUMIFS('Activity Log'!$H$5:$H$104,'Activity Log'!$B$5:$B$104,">="&$A18,'Activity Log'!$B$5:$B$104,"<"&DATE(YEAR($A18),MONTH($A18)+1,1),'Activity Log'!$J$5:$J$104,"Completed"),"")) | H18: =IF(OR($F18="",$G18=""),"",IFERROR($G18-$F18,"")) | I18: =IF(OR($A18="",$B18=""),"",IFERROR(ROUND(Assumptions!$B$10*$B18,0),"")) | J18: =IF($A18="","",IFERROR(COUNTIFS('Activity Log'!$B$5:$B$104,">="&$A18,'Activity Log'!$B$5:$B$104,"<"&DATE(YEAR($A18),MONTH($A18)+1,1),'Activity Log'!$D$5:$D$104,"New Policy",'Activity Log'!$J$5:$J$104,"Completed"),"")) | K18: =IF(OR($A18="",$B18=""),"",IFERROR(ROUND(Assumptions!$B$11*$B18,0),"")) | L18: =IF($A18="","",IFERROR(COUNTIFS('Activity Log'!$B$5:$B$104,">="&$A18,'Activity Log'!$B$5:$B$104,"<"&DATE(YEAR($A18),MONTH($A18)+1,1),'Activity Log'!$D$5:$D$104,"Quote",'Activity Log'!$J$5:$J$104,"Completed"),"")) | M18: =IF(OR($A18="",$B18=""),"",IFERROR(ROUND(Assumptions!$B$12*$B18,0),"")) | N18: =IF($A18="","",IFERROR(COUNTIFS('Activity Log'!$B$5:$B$104,">="&$A18,'Activity Log'!$B$5:$B$104,"<"&DATE(YEAR($A18),MONTH($A18)+1,1),'Activity Log'!$D$5:$D$104,"Client Contact",'Activity Log'!$J$5:$J$104,"Completed"),"")) | O18: =IF(OR($A18="",$B18=""),"",IFERROR(Assumptions!$B$13*$B18,"")) | P18: =IF($A18="","",IFERROR(SUMIFS('Activity Log'!$I$5:$I$104,'Activity Log'!$B$5:$B$104,">="&$A18,'Activity Log'!$B$5:$B$104,"<"&DATE(YEAR($A18),MONTH($A18)+1,1),'Activity Log'!$J$5:$J$104,"Completed"),"")) | Q18: =IF(OR($C18="",$C18=0),"",IFERROR($D18/$C18,"")) | R18: =IF($A18="","",IF($A18>DATE(YEAR(TODAY()),MONTH(TODAY()),1),"Future month",IF(DATE(YEAR($A18),MONTH($A18)+1,1)>TODAY(),"Current month - review",IF($Q18="","No target",IF($Q18<Assumptions!$B$14,"Review progress","On pace")))))
C19: =IF(OR($A19="",$B19=""),"",IFERROR(Assumptions!$B$8*$B19,"")) | D19: =IF($A19="","",IFERROR(SUMIFS('Activity Log'!$G$5:$G$104,'Activity Log'!$B$5:$B$104,">="&$A19,'Activity Log'!$B$5:$B$104,"<"&DATE(YEAR($A19),MONTH($A19)+1,1),'Activity Log'!$J$5:$J$104,"Completed"),"")) | E19: =IF(OR($C19="",$D19=""),"",IFERROR($D19-$C19,"")) | F19: =IF(OR($A19="",$B19=""),"",IFERROR(Assumptions!$B$9*$B19,"")) | G19: =IF($A19="","",IFERROR(SUMIFS('Activity Log'!$H$5:$H$104,'Activity Log'!$B$5:$B$104,">="&$A19,'Activity Log'!$B$5:$B$104,"<"&DATE(YEAR($A19),MONTH($A19)+1,1),'Activity Log'!$J$5:$J$104,"Completed"),"")) | H19: =IF(OR($F19="",$G19=""),"",IFERROR($G19-$F19,"")) | I19: =IF(OR($A19="",$B19=""),"",IFERROR(ROUND(Assumptions!$B$10*$B19,0),"")) | J19: =IF($A19="","",IFERROR(COUNTIFS('Activity Log'!$B$5:$B$104,">="&$A19,'Activity Log'!$B$5:$B$104,"<"&DATE(YEAR($A19),MONTH($A19)+1,1),'Activity Log'!$D$5:$D$104,"New Policy",'Activity Log'!$J$5:$J$104,"Completed"),"")) | K19: =IF(OR($A19="",$B19=""),"",IFERROR(ROUND(Assumptions!$B$11*$B19,0),"")) | L19: =IF($A19="","",IFERROR(COUNTIFS('Activity Log'!$B$5:$B$104,">="&$A19,'Activity Log'!$B$5:$B$104,"<"&DATE(YEAR($A19),MONTH($A19)+1,1),'Activity Log'!$D$5:$D$104,"Quote",'Activity Log'!$J$5:$J$104,"Completed"),"")) | M19: =IF(OR($A19="",$B19=""),"",IFERROR(ROUND(Assumptions!$B$12*$B19,0),"")) | N19: =IF($A19="","",IFERROR(COUNTIFS('Activity Log'!$B$5:$B$104,">="&$A19,'Activity Log'!$B$5:$B$104,"<"&DATE(YEAR($A19),MONTH($A19)+1,1),'Activity Log'!$D$5:$D$104,"Client Contact",'Activity Log'!$J$5:$J$104,"Completed"),"")) | O19: =IF(OR($A19="",$B19=""),"",IFERROR(Assumptions!$B$13*$B19,"")) | P19: =IF($A19="","",IFERROR(SUMIFS('Activity Log'!$I$5:$I$104,'Activity Log'!$B$5:$B$104,">="&$A19,'Activity Log'!$B$5:$B$104,"<"&DATE(YEAR($A19),MONTH($A19)+1,1),'Activity Log'!$J$5:$J$104,"Completed"),"")) | Q19: =IF(OR($C19="",$C19=0),"",IFERROR($D19/$C19,"")) | R19: =IF($A19="","",IF($A19>DATE(YEAR(TODAY()),MONTH(TODAY()),1),"Future month",IF(DATE(YEAR($A19),MONTH($A19)+1,1)>TODAY(),"Current month - review",IF($Q19="","No target",IF($Q19<Assumptions!$B$14,"Review progress","On pace")))))
C20: =IF(OR($A20="",$B20=""),"",IFERROR(Assumptions!$B$8*$B20,"")) | D20: =IF($A20="","",IFERROR(SUMIFS('Activity Log'!$G$5:$G$104,'Activity Log'!$B$5:$B$104,">="&$A20,'Activity Log'!$B$5:$B$104,"<"&DATE(YEAR($A20),MONTH($A20)+1,1),'Activity Log'!$J$5:$J$104,"Completed"),"")) | E20: =IF(OR($C20="",$D20=""),"",IFERROR($D20-$C20,"")) | F20: =IF(OR($A20="",$B20=""),"",IFERROR(Assumptions!$B$9*$B20,"")) | G20: =IF($A20="","",IFERROR(SUMIFS('Activity Log'!$H$5:$H$104,'Activity Log'!$B$5:$B$104,">="&$A20,'Activity Log'!$B$5:$B$104,"<"&DATE(YEAR($A20),MONTH($A20)+1,1),'Activity Log'!$J$5:$J$104,"Completed"),"")) | H20: =IF(OR($F20="",$G20=""),"",IFERROR($G20-$F20,"")) | I20: =IF(OR($A20="",$B20=""),"",IFERROR(ROUND(Assumptions!$B$10*$B20,0),"")) | J20: =IF($A20="","",IFERROR(COUNTIFS('Activity Log'!$B$5:$B$104,">="&$A20,'Activity Log'!$B$5:$B$104,"<"&DATE(YEAR($A20),MONTH($A20)+1,1),'Activity Log'!$D$5:$D$104,"New Policy",'Activity Log'!$J$5:$J$104,"Completed"),"")) | K20: =IF(OR($A20="",$B20=""),"",IFERROR(ROUND(Assumptions!$B$11*$B20,0),"")) | L20: =IF($A20="","",IFERROR(COUNTIFS('Activity Log'!$B$5:$B$104,">="&$A20,'Activity Log'!$B$5:$B$104,"<"&DATE(YEAR($A20),MONTH($A20)+1,1),'Activity Log'!$D$5:$D$104,"Quote",'Activity Log'!$J$5:$J$104,"Completed"),"")) | M20: =IF(OR($A20="",$B20=""),"",IFERROR(ROUND(Assumptions!$B$12*$B20,0),"")) | N20: =IF($A20="","",IFERROR(COUNTIFS('Activity Log'!$B$5:$B$104,">="&$A20,'Activity Log'!$B$5:$B$104,"<"&DATE(YEAR($A20),MONTH($A20)+1,1),'Activity Log'!$D$5:$D$104,"Client Contact",'Activity Log'!$J$5:$J$104,"Completed"),"")) | O20: =IF(OR($A20="",$B20=""),"",IFERROR(Assumptions!$B$13*$B20,"")) | P20: =IF($A20="","",IFERROR(SUMIFS('Activity Log'!$I$5:$I$104,'Activity Log'!$B$5:$B$104,">="&$A20,'Activity Log'!$B$5:$B$104,"<"&DATE(YEAR($A20),MONTH($A20)+1,1),'Activity Log'!$J$5:$J$104,"Completed"),"")) | Q20: =IF(OR($C20="",$C20=0),"",IFERROR($D20/$C20,"")) | R20: =IF($A20="","",IF($A20>DATE(YEAR(TODAY()),MONTH(TODAY()),1),"Future month",IF(DATE(YEAR($A20),MONTH($A20)+1,1)>TODAY(),"Current month - review",IF($Q20="","No target",IF($Q20<Assumptions!$B$14,"Review progress","On pace")))))
C21: =IF(OR($A21="",$B21=""),"",IFERROR(Assumptions!$B$8*$B21,"")) | D21: =IF($A21="","",IFERROR(SUMIFS('Activity Log'!$G$5:$G$104,'Activity Log'!$B$5:$B$104,">="&$A21,'Activity Log'!$B$5:$B$104,"<"&DATE(YEAR($A21),MONTH($A21)+1,1),'Activity Log'!$J$5:$J$104,"Completed"),"")) | E21: =IF(OR($C21="",$D21=""),"",IFERROR($D21-$C21,"")) | F21: =IF(OR($A21="",$B21=""),"",IFERROR(Assumptions!$B$9*$B21,"")) | G21: =IF($A21="","",IFERROR(SUMIFS('Activity Log'!$H$5:$H$104,'Activity Log'!$B$5:$B$104,">="&$A21,'Activity Log'!$B$5:$B$104,"<"&DATE(YEAR($A21),MONTH($A21)+1,1),'Activity Log'!$J$5:$J$104,"Completed"),"")) | H21: =IF(OR($F21="",$G21=""),"",IFERROR($G21-$F21,"")) | I21: =IF(OR($A21="",$B21=""),"",IFERROR(ROUND(Assumptions!$B$10*$B21,0),"")) | J21: =IF($A21="","",IFERROR(COUNTIFS('Activity Log'!$B$5:$B$104,">="&$A21,'Activity Log'!$B$5:$B$104,"<"&DATE(YEAR($A21),MONTH($A21)+1,1),'Activity Log'!$D$5:$D$104,"New Policy",'Activity Log'!$J$5:$J$104,"Completed"),"")) | K21: =IF(OR($A21="",$B21=""),"",IFERROR(ROUND(Assumptions!$B$11*$B21,0),"")) | L21: =IF($A21="","",IFERROR(COUNTIFS('Activity Log'!$B$5:$B$104,">="&$A21,'Activity Log'!$B$5:$B$104,"<"&DATE(YEAR($A21),MONTH($A21)+1,1),'Activity Log'!$D$5:$D$104,"Quote",'Activity Log'!$J$5:$J$104,"Completed"),"")) | M21: =IF(OR($A21="",$B21=""),"",IFERROR(ROUND(Assumptions!$B$12*$B21,0),"")) | N21: =IF($A21="","",IFERROR(COUNTIFS('Activity Log'!$B$5:$B$104,">="&$A21,'Activity Log'!$B$5:$B$104,"<"&DATE(YEAR($A21),MONTH($A21)+1,1),'Activity Log'!$D$5:$D$104,"Client Contact",'Activity Log'!$J$5:$J$104,"Completed"),"")) | O21: =IF(OR($A21="",$B21=""),"",IFERROR(Assumptions!$B$13*$B21,"")) | P21: =IF($A21="","",IFERROR(SUMIFS('Activity Log'!$I$5:$I$104,'Activity Log'!$B$5:$B$104,">="&$A21,'Activity Log'!$B$5:$B$104,"<"&DATE(YEAR($A21),MONTH($A21)+1,1),'Activity Log'!$J$5:$J$104,"Completed"),"")) | Q21: =IF(OR($C21="",$C21=0),"",IFERROR($D21/$C21,"")) | R21: =IF($A21="","",IF($A21>DATE(YEAR(TODAY()),MONTH(TODAY()),1),"Future month",IF(DATE(YEAR($A21),MONTH($A21)+1,1)>TODAY(),"Current month - review",IF($Q21="","No target",IF($Q21<Assumptions!$B$14,"Review progress","On pace")))))
C22: =IF(OR($A22="",$B22=""),"",IFERROR(Assumptions!$B$8*$B22,"")) | D22: =IF($A22="","",IFERROR(SUMIFS('Activity Log'!$G$5:$G$104,'Activity Log'!$B$5:$B$104,">="&$A22,'Activity Log'!$B$5:$B$104,"<"&DATE(YEAR($A22),MONTH($A22)+1,1),'Activity Log'!$J$5:$J$104,"Completed"),"")) | E22: =IF(OR($C22="",$D22=""),"",IFERROR($D22-$C22,"")) | F22: =IF(OR($A22="",$B22=""),"",IFERROR(Assumptions!$B$9*$B22,"")) | G22: =IF($A22="","",IFERROR(SUMIFS('Activity Log'!$H$5:$H$104,'Activity Log'!$B$5:$B$104,">="&$A22,'Activity Log'!$B$5:$B$104,"<"&DATE(YEAR($A22),MONTH($A22)+1,1),'Activity Log'!$J$5:$J$104,"Completed"),"")) | H22: =IF(OR($F22="",$G22=""),"",IFERROR($G22-$F22,"")) | I22: =IF(OR($A22="",$B22=""),"",IFERROR(ROUND(Assumptions!$B$10*$B22,0),"")) | J22: =IF($A22="","",IFERROR(COUNTIFS('Activity Log'!$B$5:$B$104,">="&$A22,'Activity Log'!$B$5:$B$104,"<"&DATE(YEAR($A22),MONTH($A22)+1,1),'Activity Log'!$D$5:$D$104,"New Policy",'Activity Log'!$J$5:$J$104,"Completed"),"")) | K22: =IF(OR($A22="",$B22=""),"",IFERROR(ROUND(Assumptions!$B$11*$B22,0),"")) | L22: =IF($A22="","",IFERROR(COUNTIFS('Activity Log'!$B$5:$B$104,">="&$A22,'Activity Log'!$B$5:$B$104,"<"&DATE(YEAR($A22),MONTH($A22)+1,1),'Activity Log'!$D$5:$D$104,"Quote",'Activity Log'!$J$5:$J$104,"Completed"),"")) | M22: =IF(OR($A22="",$B22=""),"",IFERROR(ROUND(Assumptions!$B$12*$B22,0),"")) | N22: =IF($A22="","",IFERROR(COUNTIFS('Activity Log'!$B$5:$B$104,">="&$A22,'Activity Log'!$B$5:$B$104,"<"&DATE(YEAR($A22),MONTH($A22)+1,1),'Activity Log'!$D$5:$D$104,"Client Contact",'Activity Log'!$J$5:$J$104,"Completed"),"")) | O22: =IF(OR($A22="",$B22=""),"",IFERROR(Assumptions!$B$13*$B22,"")) | P22: =IF($A22="","",IFERROR(SUMIFS('Activity Log'!$I$5:$I$104,'Activity Log'!$B$5:$B$104,">="&$A22,'Activity Log'!$B$5:$B$104,"<"&DATE(YEAR($A22),MONTH($A22)+1,1),'Activity Log'!$J$5:$J$104,"Completed"),"")) | Q22: =IF(OR($C22="",$C22=0),"",IFERROR($D22/$C22,"")) | R22: =IF($A22="","",IF($A22>DATE(YEAR(TODAY()),MONTH(TODAY()),1),"Future month",IF(DATE(YEAR($A22),MONTH($A22)+1,1)>TODAY(),"Current month - review",IF($Q22="","No target",IF($Q22<Assumptions!$B$14,"Review progress","On pace")))))
C23: =IF(OR($A23="",$B23=""),"",IFERROR(Assumptions!$B$8*$B23,"")) | D23: =IF($A23="","",IFERROR(SUMIFS('Activity Log'!$G$5:$G$104,'Activity Log'!$B$5:$B$104,">="&$A23,'Activity Log'!$B$5:$B$104,"<"&DATE(YEAR($A23),MONTH($A23)+1,1),'Activity Log'!$J$5:$J$104,"Completed"),"")) | E23: =IF(OR($C23="",$D23=""),"",IFERROR($D23-$C23,"")) | F23: =IF(OR($A23="",$B23=""),"",IFERROR(Assumptions!$B$9*$B23,"")) | G23: =IF($A23="","",IFERROR(SUMIFS('Activity Log'!$H$5:$H$104,'Activity Log'!$B$5:$B$104,">="&$A23,'Activity Log'!$B$5:$B$104,"<"&DATE(YEAR($A23),MONTH($A23)+1,1),'Activity Log'!$J$5:$J$104,"Completed"),"")) | H23: =IF(OR($F23="",$G23=""),"",IFERROR($G23-$F23,"")) | I23: =IF(OR($A23="",$B23=""),"",IFERROR(ROUND(Assumptions!$B$10*$B23,0),"")) | J23: =IF($A23="","",IFERROR(COUNTIFS('Activity Log'!$B$5:$B$104,">="&$A23,'Activity Log'!$B$5:$B$104,"<"&DATE(YEAR($A23),MONTH($A23)+1,1),'Activity Log'!$D$5:$D$104,"New Policy",'Activity Log'!$J$5:$J$104,"Completed"),"")) | K23: =IF(OR($A23="",$B23=""),"",IFERROR(ROUND(Assumptions!$B$11*$B23,0),"")) | L23: =IF($A23="","",IFERROR(COUNTIFS('Activity Log'!$B$5:$B$104,">="&$A23,'Activity Log'!$B$5:$B$104,"<"&DATE(YEAR($A23),MONTH($A23)+1,1),'Activity Log'!$D$5:$D$104,"Quote",'Activity Log'!$J$5:$J$104,"Completed"),"")) | M23: =IF(OR($A23="",$B23=""),"",IFERROR(ROUND(Assumptions!$B$12*$B23,0),"")) | N23: =IF($A23="","",IFERROR(COUNTIFS('Activity Log'!$B$5:$B$104,">="&$A23,'Activity Log'!$B$5:$B$104,"<"&DATE(YEAR($A23),MONTH($A23)+1,1),'Activity Log'!$D$5:$D$104,"Client Contact",'Activity Log'!$J$5:$J$104,"Completed"),"")) | O23: =IF(OR($A23="",$B23=""),"",IFERROR(Assumptions!$B$13*$B23,"")) | P23: =IF($A23="","",IFERROR(SUMIFS('Activity Log'!$I$5:$I$104,'Activity Log'!$B$5:$B$104,">="&$A23,'Activity Log'!$B$5:$B$104,"<"&DATE(YEAR($A23),MONTH($A23)+1,1),'Activity Log'!$J$5:$J$104,"Completed"),"")) | Q23: =IF(OR($C23="",$C23=0),"",IFERROR($D23/$C23,"")) | R23: =IF($A23="","",IF($A23>DATE(YEAR(TODAY()),MONTH(TODAY()),1),"Future month",IF(DATE(YEAR($A23),MONTH($A23)+1,1)>TODAY(),"Current month - review",IF($Q23="","No target",IF($Q23<Assumptions!$B$14,"Review progress","On pace")))))
C24: =IF(OR($A24="",$B24=""),"",IFERROR(Assumptions!$B$8*$B24,"")) | D24: =IF($A24="","",IFERROR(SUMIFS('Activity Log'!$G$5:$G$104,'Activity Log'!$B$5:$B$104,">="&$A24,'Activity Log'!$B$5:$B$104,"<"&DATE(YEAR($A24),MONTH($A24)+1,1),'Activity Log'!$J$5:$J$104,"Completed"),"")) | E24: =IF(OR($C24="",$D24=""),"",IFERROR($D24-$C24,"")) | F24: =IF(OR($A24="",$B24=""),"",IFERROR(Assumptions!$B$9*$B24,"")) | G24: =IF($A24="","",IFERROR(SUMIFS('Activity Log'!$H$5:$H$104,'Activity Log'!$B$5:$B$104,">="&$A24,'Activity Log'!$B$5:$B$104,"<"&DATE(YEAR($A24),MONTH($A24)+1,1),'Activity Log'!$J$5:$J$104,"Completed"),"")) | H24: =IF(OR($F24="",$G24=""),"",IFERROR($G24-$F24,"")) | I24: =IF(OR($A24="",$B24=""),"",IFERROR(ROUND(Assumptions!$B$10*$B24,0),"")) | J24: =IF($A24="","",IFERROR(COUNTIFS('Activity Log'!$B$5:$B$104,">="&$A24,'Activity Log'!$B$5:$B$104,"<"&DATE(YEAR($A24),MONTH($A24)+1,1),'Activity Log'!$D$5:$D$104,"New Policy",'Activity Log'!$J$5:$J$104,"Completed"),"")) | K24: =IF(OR($A24="",$B24=""),"",IFERROR(ROUND(Assumptions!$B$11*$B24,0),"")) | L24: =IF($A24="","",IFERROR(COUNTIFS('Activity Log'!$B$5:$B$104,">="&$A24,'Activity Log'!$B$5:$B$104,"<"&DATE(YEAR($A24),MONTH($A24)+1,1),'Activity Log'!$D$5:$D$104,"Quote",'Activity Log'!$J$5:$J$104,"Completed"),"")) | M24: =IF(OR($A24="",$B24=""),"",IFERROR(ROUND(Assumptions!$B$12*$B24,0),"")) | N24: =IF($A24="","",IFERROR(COUNTIFS('Activity Log'!$B$5:$B$104,">="&$A24,'Activity Log'!$B$5:$B$104,"<"&DATE(YEAR($A24),MONTH($A24)+1,1),'Activity Log'!$D$5:$D$104,"Client Contact",'Activity Log'!$J$5:$J$104,"Completed"),"")) | O24: =IF(OR($A24="",$B24=""),"",IFERROR(Assumptions!$B$13*$B24,"")) | P24: =IF($A24="","",IFERROR(SUMIFS('Activity Log'!$I$5:$I$104,'Activity Log'!$B$5:$B$104,">="&$A24,'Activity Log'!$B$5:$B$104,"<"&DATE(YEAR($A24),MONTH($A24)+1,1),'Activity Log'!$J$5:$J$104,"Completed"),"")) | Q24: =IF(OR($C24="",$C24=0),"",IFERROR($D24/$C24,"")) | R24: =IF($A24="","",IF($A24>DATE(YEAR(TODAY()),MONTH(TODAY()),1),"Future month",IF(DATE(YEAR($A24),MONTH($A24)+1,1)>TODAY(),"Current month - review",IF($Q24="","No target",IF($Q24<Assumptions!$B$14,"Review progress","On pace")))))
C25: =IF(OR($A25="",$B25=""),"",IFERROR(Assumptions!$B$8*$B25,"")) | D25: =IF($A25="","",IFERROR(SUMIFS('Activity Log'!$G$5:$G$104,'Activity Log'!$B$5:$B$104,">="&$A25,'Activity Log'!$B$5:$B$104,"<"&DATE(YEAR($A25),MONTH($A25)+1,1),'Activity Log'!$J$5:$J$104,"Completed"),"")) | E25: =IF(OR($C25="",$D25=""),"",IFERROR($D25-$C25,"")) | F25: =IF(OR($A25="",$B25=""),"",IFERROR(Assumptions!$B$9*$B25,"")) | G25: =IF($A25="","",IFERROR(SUMIFS('Activity Log'!$H$5:$H$104,'Activity Log'!$B$5:$B$104,">="&$A25,'Activity Log'!$B$5:$B$104,"<"&DATE(YEAR($A25),MONTH($A25)+1,1),'Activity Log'!$J$5:$J$104,"Completed"),"")) | H25: =IF(OR($F25="",$G25=""),"",IFERROR($G25-$F25,"")) | I25: =IF(OR($A25="",$B25=""),"",IFERROR(ROUND(Assumptions!$B$10*$B25,0),"")) | J25: =IF($A25="","",IFERROR(COUNTIFS('Activity Log'!$B$5:$B$104,">="&$A25,'Activity Log'!$B$5:$B$104,"<"&DATE(YEAR($A25),MONTH($A25)+1,1),'Activity Log'!$D$5:$D$104,"New Policy",'Activity Log'!$J$5:$J$104,"Completed"),"")) | K25: =IF(OR($A25="",$B25=""),"",IFERROR(ROUND(Assumptions!$B$11*$B25,0),"")) | L25: =IF($A25="","",IFERROR(COUNTIFS('Activity Log'!$B$5:$B$104,">="&$A25,'Activity Log'!$B$5:$B$104,"<"&DATE(YEAR($A25),MONTH($A25)+1,1),'Activity Log'!$D$5:$D$104,"Quote",'Activity Log'!$J$5:$J$104,"Completed"),"")) | M25: =IF(OR($A25="",$B25=""),"",IFERROR(ROUND(Assumptions!$B$12*$B25,0),"")) | N25: =IF($A25="","",IFERROR(COUNTIFS('Activity Log'!$B$5:$B$104,">="&$A25,'Activity Log'!$B$5:$B$104,"<"&DATE(YEAR($A25),MONTH($A25)+1,1),'Activity Log'!$D$5:$D$104,"Client Contact",'Activity Log'!$J$5:$J$104,"Completed"),"")) | O25: =IF(OR($A25="",$B25=""),"",IFERROR(Assumptions!$B$13*$B25,"")) | P25: =IF($A25="","",IFERROR(SUMIFS('Activity Log'!$I$5:$I$104,'Activity Log'!$B$5:$B$104,">="&$A25,'Activity Log'!$B$5:$B$104,"<"&DATE(YEAR($A25),MONTH($A25)+1,1),'Activity Log'!$J$5:$J$104,"Completed"),"")) | Q25: =IF(OR($C25="",$C25=0),"",IFERROR($D25/$C25,"")) | R25: =IF($A25="","",IF($A25>DATE(YEAR(TODAY()),MONTH(TODAY()),1),"Future month",IF(DATE(YEAR($A25),MONTH($A25)+1,1)>TODAY(),"Current month - review",IF($Q25="","No target",IF($Q25<Assumptions!$B$14,"Review progress","On pace")))))
C26: =IF(OR($A26="",$B26=""),"",IFERROR(Assumptions!$B$8*$B26,"")) | D26: =IF($A26="","",IFERROR(SUMIFS('Activity Log'!$G$5:$G$104,'Activity Log'!$B$5:$B$104,">="&$A26,'Activity Log'!$B$5:$B$104,"<"&DATE(YEAR($A26),MONTH($A26)+1,1),'Activity Log'!$J$5:$J$104,"Completed"),"")) | E26: =IF(OR($C26="",$D26=""),"",IFERROR($D26-$C26,"")) | F26: =IF(OR($A26="",$B26=""),"",IFERROR(Assumptions!$B$9*$B26,"")) | G26: =IF($A26="","",IFERROR(SUMIFS('Activity Log'!$H$5:$H$104,'Activity Log'!$B$5:$B$104,">="&$A26,'Activity Log'!$B$5:$B$104,"<"&DATE(YEAR($A26),MONTH($A26)+1,1),'Activity Log'!$J$5:$J$104,"Completed"),"")) | H26: =IF(OR($F26="",$G26=""),"",IFERROR($G26-$F26,"")) | I26: =IF(OR($A26="",$B26=""),"",IFERROR(ROUND(Assumptions!$B$10*$B26,0),"")) | J26: =IF($A26="","",IFERROR(COUNTIFS('Activity Log'!$B$5:$B$104,">="&$A26,'Activity Log'!$B$5:$B$104,"<"&DATE(YEAR($A26),MONTH($A26)+1,1),'Activity Log'!$D$5:$D$104,"New Policy",'Activity Log'!$J$5:$J$104,"Completed"),"")) | K26: =IF(OR($A26="",$B26=""),"",IFERROR(ROUND(Assumptions!$B$11*$B26,0),"")) | L26: =IF($A26="","",IFERROR(COUNTIFS('Activity Log'!$B$5:$B$104,">="&$A26,'Activity Log'!$B$5:$B$104,"<"&DATE(YEAR($A26),MONTH($A26)+1,1),'Activity Log'!$D$5:$D$104,"Quote",'Activity Log'!$J$5:$J$104,"Completed"),"")) | M26: =IF(OR($A26="",$B26=""),"",IFERROR(ROUND(Assumptions!$B$12*$B26,0),"")) | N26: =IF($A26="","",IFERROR(COUNTIFS('Activity Log'!$B$5:$B$104,">="&$A26,'Activity Log'!$B$5:$B$104,"<"&DATE(YEAR($A26),MONTH($A26)+1,1),'Activity Log'!$D$5:$D$104,"Client Contact",'Activity Log'!$J$5:$J$104,"Completed"),"")) | O26: =IF(OR($A26="",$B26=""),"",IFERROR(Assumptions!$B$13*$B26,"")) | P26: =IF($A26="","",IFERROR(SUMIFS('Activity Log'!$I$5:$I$104,'Activity Log'!$B$5:$B$104,">="&$A26,'Activity Log'!$B$5:$B$104,"<"&DATE(YEAR($A26),MONTH($A26)+1,1),'Activity Log'!$J$5:$J$104,"Completed"),"")) | Q26: =IF(OR($C26="",$C26=0),"",IFERROR($D26/$C26,"")) | R26: =IF($A26="","",IF($A26>DATE(YEAR(TODAY()),MONTH(TODAY()),1),"Future month",IF(DATE(YEAR($A26),MONTH($A26)+1,1)>TODAY(),"Current month - review",IF($Q26="","No target",IF($Q26<Assumptions!$B$14,"Review progress","On pace")))))
