Workbook

Sheet Summary
A1: Insurance Prospect Pipeline Summary
A2: Administrative indicators are calculated only from entered prospect records and editable assumptions.
A3: Review Date | B3: =Assumptions!$J$3
A5: Open Prospects | B5: =COUNTIFS(Prospects!$A$5:$A$104,"<>",Prospects!$F$5:$F$104,"<>",Prospects!$F$5:$F$104,"<>Won",Prospects!$F$5:$F$104,"<>Lost") | C5: Open Pipeline | D5: =SUMIFS(Prospects!$K$5:$K$104,Prospects!$A$5:$A$104,"<>",Prospects!$F$5:$F$104,"<>",Prospects!$F$5:$F$104,"<>Won",Prospects!$F$5:$F$104,"<>Lost") | E5: Weighted Pipeline | F5: =SUMIFS(Prospects!$N$5:$N$104,Prospects!$A$5:$A$104,"<>",Prospects!$F$5:$F$104,"<>",Prospects!$F$5:$F$104,"<>Won",Prospects!$F$5:$F$104,"<>Lost") | G5: Past Due | H5: =COUNTIF(Prospects!$P$5:$P$104,"Past due")
A7: Due Today | B7: =COUNTIF(Prospects!$P$5:$P$104,"Due today") | C7: Won Premium | D7: =SUMIF(Prospects!$F$5:$F$104,"Won",Prospects!$K$5:$K$104) | E7: Average Open Premium | F7: =IFERROR(D5/B5,"") | G7: High-Value Open | H7: =IF(ISNUMBER(Assumptions!$J$4),COUNTIFS(Prospects!$A$5:$A$104,"<>",Prospects!$F$5:$F$104,"<>",Prospects!$F$5:$F$104,"<>Won",Prospects!$F$5:$F$104,"<>Lost",Prospects!$K$5:$K$104,">="&Assumptions!$J$4),"")
A9: Near-Term Closes | B9: =IFERROR(IF(AND(ISNUMBER(Assumptions!$J$3),ISNUMBER(Assumptions!$J$5)),COUNTIFS(Prospects!$A$5:$A$104,"<>",Prospects!$F$5:$F$104,"<>",Prospects!$F$5:$F$104,"<>Won",Prospects!$F$5:$F$104,"<>Lost",Prospects!$L$5:$L$104,">="&Assumptions!$J$3,Prospects!$L$5:$L$104,"<="&(Assumptions!$J$3+Assumptions!$J$5)),""),"") | C9: Missing Next Action | D9: =COUNTIF(Prospects!$P$5:$P$104,"Set next action") | E9: Inactivity Checks | F9: =COUNTIF(Prospects!$P$5:$P$104,"Check inactivity")
A12: Stage | B12: Prospects | C12: Pipeline | D12: Weighted Pipeline
A13: =Assumptions!$A$3 | B13: =IF($A13="","",COUNTIF(Prospects!$F$5:$F$104,$A13)) | C13: =IF($A13="","",SUMIF(Prospects!$F$5:$F$104,$A13,Prospects!$K$5:$K$104)) | D13: =IF($A13="","",SUMIF(Prospects!$F$5:$F$104,$A13,Prospects!$N$5:$N$104))
A14: =Assumptions!$A$4 | B14: =IF($A14="","",COUNTIF(Prospects!$F$5:$F$104,$A14)) | C14: =IF($A14="","",SUMIF(Prospects!$F$5:$F$104,$A14,Prospects!$K$5:$K$104)) | D14: =IF($A14="","",SUMIF(Prospects!$F$5:$F$104,$A14,Prospects!$N$5:$N$104))
A15: =Assumptions!$A$5 | B15: =IF($A15="","",COUNTIF(Prospects!$F$5:$F$104,$A15)) | C15: =IF($A15="","",SUMIF(Prospects!$F$5:$F$104,$A15,Prospects!$K$5:$K$104)) | D15: =IF($A15="","",SUMIF(Prospects!$F$5:$F$104,$A15,Prospects!$N$5:$N$104))
A16: =Assumptions!$A$6 | B16: =IF($A16="","",COUNTIF(Prospects!$F$5:$F$104,$A16)) | C16: =IF($A16="","",SUMIF(Prospects!$F$5:$F$104,$A16,Prospects!$K$5:$K$104)) | D16: =IF($A16="","",SUMIF(Prospects!$F$5:$F$104,$A16,Prospects!$N$5:$N$104))
A17: =Assumptions!$A$7 | B17: =IF($A17="","",COUNTIF(Prospects!$F$5:$F$104,$A17)) | C17: =IF($A17="","",SUMIF(Prospects!$F$5:$F$104,$A17,Prospects!$K$5:$K$104)) | D17: =IF($A17="","",SUMIF(Prospects!$F$5:$F$104,$A17,Prospects!$N$5:$N$104))
A18: =Assumptions!$A$8 | B18: =IF($A18="","",COUNTIF(Prospects!$F$5:$F$104,$A18)) | C18: =IF($A18="","",SUMIF(Prospects!$F$5:$F$104,$A18,Prospects!$K$5:$K$104)) | D18: =IF($A18="","",SUMIF(Prospects!$F$5:$F$104,$A18,Prospects!$N$5:$N$104))
A19: =Assumptions!$A$9 | B19: =IF($A19="","",COUNTIF(Prospects!$F$5:$F$104,$A19)) | C19: =IF($A19="","",SUMIF(Prospects!$F$5:$F$104,$A19,Prospects!$K$5:$K$104)) | D19: =IF($A19="","",SUMIF(Prospects!$F$5:$F$104,$A19,Prospects!$N$5:$N$104))
A20: Total | B20: =SUM(B13:B19) | C20: =SUM(C13:C19) | D20: =SUM(D13:D19)

Sheet Prospects
A1: Insurance Prospect Pipeline
A2: Enter or update pale yellow cells. Follow-up checks are prompts for agency review, not automated notices.
A4: Prospect ID | B4: Prospect / Organization | C4: Line of Business | D4: Source | E4: Owner | F4: Stage | G4: Date Added | H4: Stage Updated | I4: Last Contact | J4: Next Action | K4: Estimated Annual Premium | L4: Expected Close | M4: Probability | N4: Weighted Pipeline | O4: Days Since Contact | P4: Follow-Up Check | Q4: Notes
A5: PX-1001 | B5: Fictional Juniper Harbor Bakery LLC | C5: Business Owners | D5: Referral | E5: Avery Sample | F5: Qualified | G5: 46251 | H5: 46271 | I5: 46271 | J5: 46277 | K5: 7800 | L5: 46293 | M5: =IF($A5="","",IF($F5="","",IFERROR(VLOOKUP($F5,Assumptions!$A$3:$C$9,2,FALSE),""))) | N5: =IF($A5="","",IF(OR(NOT(ISNUMBER($K5)),NOT(ISNUMBER($M5))),"",IFERROR($K5*$M5,""))) | O5: =IF($A5="","",IF(OR(NOT(ISNUMBER($I5)),NOT(ISNUMBER(Assumptions!$J$3))),"",MAX(0,Assumptions!$J$3-$I5))) | P5: =IF($A5="","",IF($F5="","Set stage",IF(OR($F5="Won",$F5="Lost"),"Closed",IF(NOT(ISNUMBER($J5)),"Set next action",IF(NOT(ISNUMBER(Assumptions!$J$3)),"Review date needed",IF($J5<Assumptions!$J$3,"Past due",IF($J5=Assumptions!$J$3,"Due today",IF(AND(ISNUMBER($O5),IFERROR($O5>VLOOKUP($F5,Assumptions!$A$3:$C$9,3,FALSE),FALSE)),"Check inactivity","On track")))))))) | Q5: Awaiting completed application details.
A6: PX-1002 | B6: Fictional Copper Kite Bicycle Studio LLC | C6: General Liability | D6: Direct Inquiry | E6: Jordan Example | F6: Quoted | G6: 46235 | H6: 46267 | I6: 46269 | J6: 46274 | K6: 12400 | L6: 46285 | M6: =IF($A6="","",IF($F6="","",IFERROR(VLOOKUP($F6,Assumptions!$A$3:$C$9,2,FALSE),""))) | N6: =IF($A6="","",IF(OR(NOT(ISNUMBER($K6)),NOT(ISNUMBER($M6))),"",IFERROR($K6*$M6,""))) | O6: =IF($A6="","",IF(OR(NOT(ISNUMBER($I6)),NOT(ISNUMBER(Assumptions!$J$3))),"",MAX(0,Assumptions!$J$3-$I6))) | P6: =IF($A6="","",IF($F6="","Set stage",IF(OR($F6="Won",$F6="Lost"),"Closed",IF(NOT(ISNUMBER($J6)),"Set next action",IF(NOT(ISNUMBER(Assumptions!$J$3)),"Review date needed",IF($J6<Assumptions!$J$3,"Past due",IF($J6=Assumptions!$J$3,"Due today",IF(AND(ISNUMBER($O6),IFERROR($O6>VLOOKUP($F6,Assumptions!$A$3:$C$9,3,FALSE),FALSE)),"Check inactivity","On track")))))))) | Q6: Past-due follow-up requires a human review.
A7: PX-1003 | B7: Fictional Moonlit Parcel Design LLC | C7: Business Owners | D7: Community Event | E7: Casey Fictional | F7: New Lead | G7: 46273 | H7: 46273 | L7: 46310 | M7: =IF($A7="","",IF($F7="","",IFERROR(VLOOKUP($F7,Assumptions!$A$3:$C$9,2,FALSE),""))) | N7: =IF($A7="","",IF(OR(NOT(ISNUMBER($K7)),NOT(ISNUMBER($M7))),"",IFERROR($K7*$M7,""))) | O7: =IF($A7="","",IF(OR(NOT(ISNUMBER($I7)),NOT(ISNUMBER(Assumptions!$J$3))),"",MAX(0,Assumptions!$J$3-$I7))) | P7: =IF($A7="","",IF($F7="","Set stage",IF(OR($F7="Won",$F7="Lost"),"Closed",IF(NOT(ISNUMBER($J7)),"Set next action",IF(NOT(ISNUMBER(Assumptions!$J$3)),"Review date needed",IF($J7<Assumptions!$J$3,"Past due",IF($J7=Assumptions!$J$3,"Due today",IF(AND(ISNUMBER($O7),IFERROR($O7>VLOOKUP($F7,Assumptions!$A$3:$C$9,3,FALSE),FALSE)),"Check inactivity","On track")))))))) | Q7: Initial value estimate and next action are not entered.
A8: PX-1004 | B8: Fictional Blue Acorn Veterinary Arts LLC | C8: Workers Compensation | D8: Producer Outreach | E8: Avery Sample | F8: Contacted | G8: 46257 | H8: 46263 | I8: 46265 | J8: 46280 | K8: 2350 | L8: 46299 | M8: =IF($A8="","",IF($F8="","",IFERROR(VLOOKUP($F8,Assumptions!$A$3:$C$9,2,FALSE),""))) | N8: =IF($A8="","",IF(OR(NOT(ISNUMBER($K8)),NOT(ISNUMBER($M8))),"",IFERROR($K8*$M8,""))) | O8: =IF($A8="","",IF(OR(NOT(ISNUMBER($I8)),NOT(ISNUMBER(Assumptions!$J$3))),"",MAX(0,Assumptions!$J$3-$I8))) | P8: =IF($A8="","",IF($F8="","Set stage",IF(OR($F8="Won",$F8="Lost"),"Closed",IF(NOT(ISNUMBER($J8)),"Set next action",IF(NOT(ISNUMBER(Assumptions!$J$3)),"Review date needed",IF($J8<Assumptions!$J$3,"Past due",IF($J8=Assumptions!$J$3,"Due today",IF(AND(ISNUMBER($O8),IFERROR($O8>VLOOKUP($F8,Assumptions!$A$3:$C$9,3,FALSE),FALSE)),"Check inactivity","On track")))))))) | Q8: Inactivity interval is exceeded despite a future action date.
A9: PX-1005 | B9: Fictional Lantern Fox Makers LLC | C9: Commercial Auto | D9: Referral | E9: Jordan Example | F9: Decision Pending | G9: 46220 | H9: 46272 | I9: 46274 | J9: 46275 | K9: 24000 | L9: 46282 | M9: =IF($A9="","",IF($F9="","",IFERROR(VLOOKUP($F9,Assumptions!$A$3:$C$9,2,FALSE),""))) | N9: =IF($A9="","",IF(OR(NOT(ISNUMBER($K9)),NOT(ISNUMBER($M9))),"",IFERROR($K9*$M9,""))) | O9: =IF($A9="","",IF(OR(NOT(ISNUMBER($I9)),NOT(ISNUMBER(Assumptions!$J$3))),"",MAX(0,Assumptions!$J$3-$I9))) | P9: =IF($A9="","",IF($F9="","Set stage",IF(OR($F9="Won",$F9="Lost"),"Closed",IF(NOT(ISNUMBER($J9)),"Set next action",IF(NOT(ISNUMBER(Assumptions!$J$3)),"Review date needed",IF($J9<Assumptions!$J$3,"Past due",IF($J9=Assumptions!$J$3,"Due today",IF(AND(ISNUMBER($O9),IFERROR($O9>VLOOKUP($F9,Assumptions!$A$3:$C$9,3,FALSE),FALSE)),"Check inactivity","On track")))))))) | Q9: Next action is due on the review date.
A10: PX-1006 | B10: Fictional Pebble Orbit Café LLC | C10: Business Owners | D10: Existing Client | E10: Casey Fictional | F10: Won | G10: 46205 | H10: 46273 | I10: 46273 | K10: 9200 | L10: 46273 | M10: =IF($A10="","",IF($F10="","",IFERROR(VLOOKUP($F10,Assumptions!$A$3:$C$9,2,FALSE),""))) | N10: =IF($A10="","",IF(OR(NOT(ISNUMBER($K10)),NOT(ISNUMBER($M10))),"",IFERROR($K10*$M10,""))) | O10: =IF($A10="","",IF(OR(NOT(ISNUMBER($I10)),NOT(ISNUMBER(Assumptions!$J$3))),"",MAX(0,Assumptions!$J$3-$I10))) | P10: =IF($A10="","",IF($F10="","Set stage",IF(OR($F10="Won",$F10="Lost"),"Closed",IF(NOT(ISNUMBER($J10)),"Set next action",IF(NOT(ISNUMBER(Assumptions!$J$3)),"Review date needed",IF($J10<Assumptions!$J$3,"Past due",IF($J10=Assumptions!$J$3,"Due today",IF(AND(ISNUMBER($O10),IFERROR($O10>VLOOKUP($F10,Assumptions!$A$3:$C$9,3,FALSE),FALSE)),"Check inactivity","On track")))))))) | Q10: Administrative stage is marked won for this fictional example.
A11: PX-1007 | B11: Fictional Willow Comet Florals LLC | C11: Workers Compensation | D11: Direct Inquiry | E11: Avery Sample | F11: Lost | G11: 46212 | H11: 46268 | I11: 46268 | K11: 5100 | L11: 46268 | M11: =IF($A11="","",IF($F11="","",IFERROR(VLOOKUP($F11,Assumptions!$A$3:$C$9,2,FALSE),""))) | N11: =IF($A11="","",IF(OR(NOT(ISNUMBER($K11)),NOT(ISNUMBER($M11))),"",IFERROR($K11*$M11,""))) | O11: =IF($A11="","",IF(OR(NOT(ISNUMBER($I11)),NOT(ISNUMBER(Assumptions!$J$3))),"",MAX(0,Assumptions!$J$3-$I11))) | P11: =IF($A11="","",IF($F11="","Set stage",IF(OR($F11="Won",$F11="Lost"),"Closed",IF(NOT(ISNUMBER($J11)),"Set next action",IF(NOT(ISNUMBER(Assumptions!$J$3)),"Review date needed",IF($J11<Assumptions!$J$3,"Past due",IF($J11=Assumptions!$J$3,"Due today",IF(AND(ISNUMBER($O11),IFERROR($O11>VLOOKUP($F11,Assumptions!$A$3:$C$9,3,FALSE),FALSE)),"Check inactivity","On track")))))))) | Q11: Administrative stage is marked lost for this fictional example.
A12: PX-1008 | B12: Fictional Northwind Noodle Workshop LLC | C12: Umbrella | D12: Community Event | E12: Jordan Example | F12: Quoted | G12: 46243 | H12: 46270 | I12: 46273 | J12: 46278 | K12: 1800 | L12: 46287 | M12: =IF($A12="","",IF($F12="","",IFERROR(VLOOKUP($F12,Assumptions!$A$3:$C$9,2,FALSE),""))) | N12: =IF($A12="","",IF(OR(NOT(ISNUMBER($K12)),NOT(ISNUMBER($M12))),"",IFERROR($K12*$M12,""))) | O12: =IF($A12="","",IF(OR(NOT(ISNUMBER($I12)),NOT(ISNUMBER(Assumptions!$J$3))),"",MAX(0,Assumptions!$J$3-$I12))) | P12: =IF($A12="","",IF($F12="","Set stage",IF(OR($F12="Won",$F12="Lost"),"Closed",IF(NOT(ISNUMBER($J12)),"Set next action",IF(NOT(ISNUMBER(Assumptions!$J$3)),"Review date needed",IF($J12<Assumptions!$J$3,"Past due",IF($J12=Assumptions!$J$3,"Due today",IF(AND(ISNUMBER($O12),IFERROR($O12>VLOOKUP($F12,Assumptions!$A$3:$C$9,3,FALSE),FALSE)),"Check inactivity","On track")))))))) | Q12: Follow-up remains within the current stage interval.
A13: PX-1009 | B13: Fictional Rowan Sample Household | C13: Homeowners | D13: Referral | E13: Casey Fictional | F13: Qualified | G13: 46264 | H13: 46274 | I13: 46275 | J13: 46282 | K13: 0 | L13: 46303 | M13: =IF($A13="","",IF($F13="","",IFERROR(VLOOKUP($F13,Assumptions!$A$3:$C$9,2,FALSE),""))) | N13: =IF($A13="","",IF(OR(NOT(ISNUMBER($K13)),NOT(ISNUMBER($M13))),"",IFERROR($K13*$M13,""))) | O13: =IF($A13="","",IF(OR(NOT(ISNUMBER($I13)),NOT(ISNUMBER(Assumptions!$J$3))),"",MAX(0,Assumptions!$J$3-$I13))) | P13: =IF($A13="","",IF($F13="","Set stage",IF(OR($F13="Won",$F13="Lost"),"Closed",IF(NOT(ISNUMBER($J13)),"Set next action",IF(NOT(ISNUMBER(Assumptions!$J$3)),"Review date needed",IF($J13<Assumptions!$J$3,"Past due",IF($J13=Assumptions!$J$3,"Due today",IF(AND(ISNUMBER($O13),IFERROR($O13>VLOOKUP($F13,Assumptions!$A$3:$C$9,3,FALSE),FALSE)),"Check inactivity","On track")))))))) | Q13: Zero tests the permitted lower amount boundary and should be reviewed.
A14: PX-1010 | B14: Fictional Taylor Example Household | C14: Personal Auto | D14: Producer Outreach | E14: Avery Sample | F14: Contacted | G14: 46266 | H14: 46272 | I14: 46274 | J14: 46276 | K14: 3650 | L14: 46295 | M14: =IF($A14="","",IF($F14="","",IFERROR(VLOOKUP($F14,Assumptions!$A$3:$C$9,2,FALSE),""))) | N14: =IF($A14="","",IF(OR(NOT(ISNUMBER($K14)),NOT(ISNUMBER($M14))),"",IFERROR($K14*$M14,""))) | O14: =IF($A14="","",IF(OR(NOT(ISNUMBER($I14)),NOT(ISNUMBER(Assumptions!$J$3))),"",MAX(0,Assumptions!$J$3-$I14))) | P14: =IF($A14="","",IF($F14="","Set stage",IF(OR($F14="Won",$F14="Lost"),"Closed",IF(NOT(ISNUMBER($J14)),"Set next action",IF(NOT(ISNUMBER(Assumptions!$J$3)),"Review date needed",IF($J14<Assumptions!$J$3,"Past due",IF($J14=Assumptions!$J$3,"Due today",IF(AND(ISNUMBER($O14),IFERROR($O14>VLOOKUP($F14,Assumptions!$A$3:$C$9,3,FALSE),FALSE)),"Check inactivity","On track")))))))) | Q14: Contact and next-action dates are current.
M15: =IF($A15="","",IF($F15="","",IFERROR(VLOOKUP($F15,Assumptions!$A$3:$C$9,2,FALSE),""))) | N15: =IF($A15="","",IF(OR(NOT(ISNUMBER($K15)),NOT(ISNUMBER($M15))),"",IFERROR($K15*$M15,""))) | O15: =IF($A15="","",IF(OR(NOT(ISNUMBER($I15)),NOT(ISNUMBER(Assumptions!$J$3))),"",MAX(0,Assumptions!$J$3-$I15))) | P15: =IF($A15="","",IF($F15="","Set stage",IF(OR($F15="Won",$F15="Lost"),"Closed",IF(NOT(ISNUMBER($J15)),"Set next action",IF(NOT(ISNUMBER(Assumptions!$J$3)),"Review date needed",IF($J15<Assumptions!$J$3,"Past due",IF($J15=Assumptions!$J$3,"Due today",IF(AND(ISNUMBER($O15),IFERROR($O15>VLOOKUP($F15,Assumptions!$A$3:$C$9,3,FALSE),FALSE)),"Check inactivity","On track"))))))))
M16: =IF($A16="","",IF($F16="","",IFERROR(VLOOKUP($F16,Assumptions!$A$3:$C$9,2,FALSE),""))) | N16: =IF($A16="","",IF(OR(NOT(ISNUMBER($K16)),NOT(ISNUMBER($M16))),"",IFERROR($K16*$M16,""))) | O16: =IF($A16="","",IF(OR(NOT(ISNUMBER($I16)),NOT(ISNUMBER(Assumptions!$J$3))),"",MAX(0,Assumptions!$J$3-$I16))) | P16: =IF($A16="","",IF($F16="","Set stage",IF(OR($F16="Won",$F16="Lost"),"Closed",IF(NOT(ISNUMBER($J16)),"Set next action",IF(NOT(ISNUMBER(Assumptions!$J$3)),"Review date needed",IF($J16<Assumptions!$J$3,"Past due",IF($J16=Assumptions!$J$3,"Due today",IF(AND(ISNUMBER($O16),IFERROR($O16>VLOOKUP($F16,Assumptions!$A$3:$C$9,3,FALSE),FALSE)),"Check inactivity","On track"))))))))
M17: =IF($A17="","",IF($F17="","",IFERROR(VLOOKUP($F17,Assumptions!$A$3:$C$9,2,FALSE),""))) | N17: =IF($A17="","",IF(OR(NOT(ISNUMBER($K17)),NOT(ISNUMBER($M17))),"",IFERROR($K17*$M17,""))) | O17: =IF($A17="","",IF(OR(NOT(ISNUMBER($I17)),NOT(ISNUMBER(Assumptions!$J$3))),"",MAX(0,Assumptions!$J$3-$I17))) | P17: =IF($A17="","",IF($F17="","Set stage",IF(OR($F17="Won",$F17="Lost"),"Closed",IF(NOT(ISNUMBER($J17)),"Set next action",IF(NOT(ISNUMBER(Assumptions!$J$3)),"Review date needed",IF($J17<Assumptions!$J$3,"Past due",IF($J17=Assumptions!$J$3,"Due today",IF(AND(ISNUMBER($O17),IFERROR($O17>VLOOKUP($F17,Assumptions!$A$3:$C$9,3,FALSE),FALSE)),"Check inactivity","On track"))))))))
M18: =IF($A18="","",IF($F18="","",IFERROR(VLOOKUP($F18,Assumptions!$A$3:$C$9,2,FALSE),""))) | N18: =IF($A18="","",IF(OR(NOT(ISNUMBER($K18)),NOT(ISNUMBER($M18))),"",IFERROR($K18*$M18,""))) | O18: =IF($A18="","",IF(OR(NOT(ISNUMBER($I18)),NOT(ISNUMBER(Assumptions!$J$3))),"",MAX(0,Assumptions!$J$3-$I18))) | P18: =IF($A18="","",IF($F18="","Set stage",IF(OR($F18="Won",$F18="Lost"),"Closed",IF(NOT(ISNUMBER($J18)),"Set next action",IF(NOT(ISNUMBER(Assumptions!$J$3)),"Review date needed",IF($J18<Assumptions!$J$3,"Past due",IF($J18=Assumptions!$J$3,"Due today",IF(AND(ISNUMBER($O18),IFERROR($O18>VLOOKUP($F18,Assumptions!$A$3:$C$9,3,FALSE),FALSE)),"Check inactivity","On track"))))))))
M19: =IF($A19="","",IF($F19="","",IFERROR(VLOOKUP($F19,Assumptions!$A$3:$C$9,2,FALSE),""))) | N19: =IF($A19="","",IF(OR(NOT(ISNUMBER($K19)),NOT(ISNUMBER($M19))),"",IFERROR($K19*$M19,""))) | O19: =IF($A19="","",IF(OR(NOT(ISNUMBER($I19)),NOT(ISNUMBER(Assumptions!$J$3))),"",MAX(0,Assumptions!$J$3-$I19))) | P19: =IF($A19="","",IF($F19="","Set stage",IF(OR($F19="Won",$F19="Lost"),"Closed",IF(NOT(ISNUMBER($J19)),"Set next action",IF(NOT(ISNUMBER(Assumptions!$J$3)),"Review date needed",IF($J19<Assumptions!$J$3,"Past due",IF($J19=Assumptions!$J$3,"Due today",IF(AND(ISNUMBER($O19),IFERROR($O19>VLOOKUP($F19,Assumptions!$A$3:$C$9,3,FALSE),FALSE)),"Check inactivity","On track"))))))))
M20: =IF($A20="","",IF($F20="","",IFERROR(VLOOKUP($F20,Assumptions!$A$3:$C$9,2,FALSE),""))) | N20: =IF($A20="","",IF(OR(NOT(ISNUMBER($K20)),NOT(ISNUMBER($M20))),"",IFERROR($K20*$M20,""))) | O20: =IF($A20="","",IF(OR(NOT(ISNUMBER($I20)),NOT(ISNUMBER(Assumptions!$J$3))),"",MAX(0,Assumptions!$J$3-$I20))) | P20: =IF($A20="","",IF($F20="","Set stage",IF(OR($F20="Won",$F20="Lost"),"Closed",IF(NOT(ISNUMBER($J20)),"Set next action",IF(NOT(ISNUMBER(Assumptions!$J$3)),"Review date needed",IF($J20<Assumptions!$J$3,"Past due",IF($J20=Assumptions!$J$3,"Due today",IF(AND(ISNUMBER($O20),IFERROR($O20>VLOOKUP($F20,Assumptions!$A$3:$C$9,3,FALSE),FALSE)),"Check inactivity","On track"))))))))
M21: =IF($A21="","",IF($F21="","",IFERROR(VLOOKUP($F21,Assumptions!$A$3:$C$9,2,FALSE),""))) | N21: =IF($A21="","",IF(OR(NOT(ISNUMBER($K21)),NOT(ISNUMBER($M21))),"",IFERROR($K21*$M21,""))) | O21: =IF($A21="","",IF(OR(NOT(ISNUMBER($I21)),NOT(ISNUMBER(Assumptions!$J$3))),"",MAX(0,Assumptions!$J$3-$I21))) | P21: =IF($A21="","",IF($F21="","Set stage",IF(OR($F21="Won",$F21="Lost"),"Closed",IF(NOT(ISNUMBER($J21)),"Set next action",IF(NOT(ISNUMBER(Assumptions!$J$3)),"Review date needed",IF($J21<Assumptions!$J$3,"Past due",IF($J21=Assumptions!$J$3,"Due today",IF(AND(ISNUMBER($O21),IFERROR($O21>VLOOKUP($F21,Assumptions!$A$3:$C$9,3,FALSE),FALSE)),"Check inactivity","On track"))))))))
M22: =IF($A22="","",IF($F22="","",IFERROR(VLOOKUP($F22,Assumptions!$A$3:$C$9,2,FALSE),""))) | N22: =IF($A22="","",IF(OR(NOT(ISNUMBER($K22)),NOT(ISNUMBER($M22))),"",IFERROR($K22*$M22,""))) | O22: =IF($A22="","",IF(OR(NOT(ISNUMBER($I22)),NOT(ISNUMBER(Assumptions!$J$3))),"",MAX(0,Assumptions!$J$3-$I22))) | P22: =IF($A22="","",IF($F22="","Set stage",IF(OR($F22="Won",$F22="Lost"),"Closed",IF(NOT(ISNUMBER($J22)),"Set next action",IF(NOT(ISNUMBER(Assumptions!$J$3)),"Review date needed",IF($J22<Assumptions!$J$3,"Past due",IF($J22=Assumptions!$J$3,"Due today",IF(AND(ISNUMBER($O22),IFERROR($O22>VLOOKUP($F22,Assumptions!$A$3:$C$9,3,FALSE),FALSE)),"Check inactivity","On track"))))))))
M23: =IF($A23="","",IF($F23="","",IFERROR(VLOOKUP($F23,Assumptions!$A$3:$C$9,2,FALSE),""))) | N23: =IF($A23="","",IF(OR(NOT(ISNUMBER($K23)),NOT(ISNUMBER($M23))),"",IFERROR($K23*$M23,""))) | O23: =IF($A23="","",IF(OR(NOT(ISNUMBER($I23)),NOT(ISNUMBER(Assumptions!$J$3))),"",MAX(0,Assumptions!$J$3-$I23))) | P23: =IF($A23="","",IF($F23="","Set stage",IF(OR($F23="Won",$F23="Lost"),"Closed",IF(NOT(ISNUMBER($J23)),"Set next action",IF(NOT(ISNUMBER(Assumptions!$J$3)),"Review date needed",IF($J23<Assumptions!$J$3,"Past due",IF($J23=Assumptions!$J$3,"Due today",IF(AND(ISNUMBER($O23),IFERROR($O23>VLOOKUP($F23,Assumptions!$A$3:$C$9,3,FALSE),FALSE)),"Check inactivity","On track"))))))))
M24: =IF($A24="","",IF($F24="","",IFERROR(VLOOKUP($F24,Assumptions!$A$3:$C$9,2,FALSE),""))) | N24: =IF($A24="","",IF(OR(NOT(ISNUMBER($K24)),NOT(ISNUMBER($M24))),"",IFERROR($K24*$M24,""))) | O24: =IF($A24="","",IF(OR(NOT(ISNUMBER($I24)),NOT(ISNUMBER(Assumptions!$J$3))),"",MAX(0,Assumptions!$J$3-$I24))) | P24: =IF($A24="","",IF($F24="","Set stage",IF(OR($F24="Won",$F24="Lost"),"Closed",IF(NOT(ISNUMBER($J24)),"Set next action",IF(NOT(ISNUMBER(Assumptions!$J$3)),"Review date needed",IF($J24<Assumptions!$J$3,"Past due",IF($J24=Assumptions!$J$3,"Due today",IF(AND(ISNUMBER($O24),IFERROR($O24>VLOOKUP($F24,Assumptions!$A$3:$C$9,3,FALSE),FALSE)),"Check inactivity","On track"))))))))
M25: =IF($A25="","",IF($F25="","",IFERROR(VLOOKUP($F25,Assumptions!$A$3:$C$9,2,FALSE),""))) | N25: =IF($A25="","",IF(OR(NOT(ISNUMBER($K25)),NOT(ISNUMBER($M25))),"",IFERROR($K25*$M25,""))) | O25: =IF($A25="","",IF(OR(NOT(ISNUMBER($I25)),NOT(ISNUMBER(Assumptions!$J$3))),"",MAX(0,Assumptions!$J$3-$I25))) | P25: =IF($A25="","",IF($F25="","Set stage",IF(OR($F25="Won",$F25="Lost"),"Closed",IF(NOT(ISNUMBER($J25)),"Set next action",IF(NOT(ISNUMBER(Assumptions!$J$3)),"Review date needed",IF($J25<Assumptions!$J$3,"Past due",IF($J25=Assumptions!$J$3,"Due today",IF(AND(ISNUMBER($O25),IFERROR($O25>VLOOKUP($F25,Assumptions!$A$3:$C$9,3,FALSE),FALSE)),"Check inactivity","On track"))))))))
M26: =IF($A26="","",IF($F26="","",IFERROR(VLOOKUP($F26,Assumptions!$A$3:$C$9,2,FALSE),""))) | N26: =IF($A26="","",IF(OR(NOT(ISNUMBER($K26)),NOT(ISNUMBER($M26))),"",IFERROR($K26*$M26,""))) | O26: =IF($A26="","",IF(OR(NOT(ISNUMBER($I26)),NOT(ISNUMBER(Assumptions!$J$3))),"",MAX(0,Assumptions!$J$3-$I26))) | P26: =IF($A26="","",IF($F26="","Set stage",IF(OR($F26="Won",$F26="Lost"),"Closed",IF(NOT(ISNUMBER($J26)),"Set next action",IF(NOT(ISNUMBER(Assumptions!$J$3)),"Review date needed",IF($J26<Assumptions!$J$3,"Past due",IF($J26=Assumptions!$J$3,"Due today",IF(AND(ISNUMBER($O26),IFERROR($O26>VLOOKUP($F26,Assumptions!$A$3:$C$9,3,FALSE),FALSE)),"Check inactivity","On track"))))))))
... M104: =IF($A104="","",IF($F104="","",IFERROR(VLOOKUP($F104,Assumptions!$A$3:$C$9,2,FALSE),""))) | N104: =IF($A104="","",IF(OR(NOT(ISNUMBER($K104)),NOT(ISNUMBER($M104))),"",IFERROR($K104*$M104,""))) | O104: =IF($A104="","",IF(OR(NOT(ISNUMBER($I104)),NOT(ISNUMBER(Assumptions!$J$3))),"",MAX(0,Assumptions!$J$3-$I104))) | P104: =IF($A104="","",IF($F104="","Set stage",IF(OR($F104="Won",$F104="Lost"),"Closed",IF(NOT(ISNUMBER($J104)),"Set next action",IF(NOT(ISNUMBER(Assumptions!$J$3)),"Review date needed",IF($J104<Assumptions!$J$3,"Past due",IF($J104=Assumptions!$J$3,"Due today",IF(AND(ISNUMBER($O104),IFERROR($O104>VLOOKUP($F104,Assumptions!$A$3:$C$9,3,FALSE),FALSE)),"Check inactivity","On track"))))))))

Sheet Assumptions
A1: Pipeline Assumptions and Editable Lists
A2: Stage | B2: Probability | C2: Follow-Up Days | E2: Owner | F2: Source | G2: Line of Business | I2: Setting | J2: Value
A3: New Lead | B3: 0.1 | C3: 3 | E3: Avery Sample | F3: Referral | G3: Business Owners | I3: Review Date | J3: 46275
A4: Contacted | B4: 0.2 | C4: 5 | E4: Jordan Example | F4: Direct Inquiry | G4: General Liability | I4: High-Value Threshold | J4: 10000
A5: Qualified | B5: 0.4 | C5: 7 | E5: Casey Fictional | F5: Community Event | G5: Commercial Auto | I5: Near-Term Days | J5: 14
A6: Quoted | B6: 0.65 | C6: 5 | F6: Existing Client | G6: Workers Compensation
A7: Decision Pending | B7: 0.8 | C7: 3 | F7: Producer Outreach | G7: Personal Auto
A8: Won | B8: 1 | C8: 0 | G8: Homeowners
A9: Lost | B9: 0 | C9: 0 | G9: Umbrella
A14: Edit probabilities, review intervals, settings, and list choices before agency use. Blank list slots are available.
