Workbook

Sheet Summary
A1: Insurance Renewal Calendar Summary
A2: Report date | B2: =TODAY()
A3: Renewal Indicator | B3: Calculated Value | E3: Owner | F3: Unresolved | G3: Due Near Term | H3: Estimated Premium
A4: Records entered | B4: =COUNTIF(Renewals!$A$5:$A$104,"<>") | E4: =IF(Assumptions!G4="","",Assumptions!G4) | F4: =IF(E4="","",COUNTIFS(Renewals!$A$5:$A$104,"<>",Renewals!$G$5:$G$104,E4,Renewals!$Q$5:$Q$104,"<>Complete",Renewals!$Q$5:$Q$104,"<>Closed")) | G4: =IF(OR(E4="",Assumptions!$B$8=""),"",COUNTIFS(Renewals!$A$5:$A$104,"<>",Renewals!$G$5:$G$104,E4,Renewals!$F$5:$F$104,">="&TODAY(),Renewals!$F$5:$F$104,"<="&TODAY()+Assumptions!$B$8,Renewals!$Q$5:$Q$104,"<>Complete",Renewals!$Q$5:$Q$104,"<>Closed")) | H4: =IF(E4="","",IFERROR(SUMIFS(Renewals!$M$5:$M$104,Renewals!$G$5:$G$104,E4,Renewals!$Q$5:$Q$104,"<>Complete",Renewals!$Q$5:$Q$104,"<>Closed"),0))
A5: Unresolved records past the renewal date | B5: =COUNTIFS(Renewals!$A$5:$A$104,"<>",Renewals!$F$5:$F$104,"<"&TODAY(),Renewals!$Q$5:$Q$104,"<>Complete",Renewals!$Q$5:$Q$104,"<>Closed") | E5: =IF(Assumptions!G5="","",Assumptions!G5) | F5: =IF(E5="","",COUNTIFS(Renewals!$A$5:$A$104,"<>",Renewals!$G$5:$G$104,E5,Renewals!$Q$5:$Q$104,"<>Complete",Renewals!$Q$5:$Q$104,"<>Closed")) | G5: =IF(OR(E5="",Assumptions!$B$8=""),"",COUNTIFS(Renewals!$A$5:$A$104,"<>",Renewals!$G$5:$G$104,E5,Renewals!$F$5:$F$104,">="&TODAY(),Renewals!$F$5:$F$104,"<="&TODAY()+Assumptions!$B$8,Renewals!$Q$5:$Q$104,"<>Complete",Renewals!$Q$5:$Q$104,"<>Closed")) | H5: =IF(E5="","",IFERROR(SUMIFS(Renewals!$M$5:$M$104,Renewals!$G$5:$G$104,E5,Renewals!$Q$5:$Q$104,"<>Complete",Renewals!$Q$5:$Q$104,"<>Closed"),0))
A6: Unresolved records due within the near-term window | B6: =IF(Assumptions!$B$8="","",COUNTIFS(Renewals!$A$5:$A$104,"<>",Renewals!$F$5:$F$104,">="&TODAY(),Renewals!$F$5:$F$104,"<="&TODAY()+Assumptions!$B$8,Renewals!$Q$5:$Q$104,"<>Complete",Renewals!$Q$5:$Q$104,"<>Closed")) | E6: =IF(Assumptions!G6="","",Assumptions!G6) | F6: =IF(E6="","",COUNTIFS(Renewals!$A$5:$A$104,"<>",Renewals!$G$5:$G$104,E6,Renewals!$Q$5:$Q$104,"<>Complete",Renewals!$Q$5:$Q$104,"<>Closed")) | G6: =IF(OR(E6="",Assumptions!$B$8=""),"",COUNTIFS(Renewals!$A$5:$A$104,"<>",Renewals!$G$5:$G$104,E6,Renewals!$F$5:$F$104,">="&TODAY(),Renewals!$F$5:$F$104,"<="&TODAY()+Assumptions!$B$8,Renewals!$Q$5:$Q$104,"<>Complete",Renewals!$Q$5:$Q$104,"<>Closed")) | H6: =IF(E6="","",IFERROR(SUMIFS(Renewals!$M$5:$M$104,Renewals!$G$5:$G$104,E6,Renewals!$Q$5:$Q$104,"<>Complete",Renewals!$Q$5:$Q$104,"<>Closed"),0))
A7: Unresolved records after the near-term through the extended window | B7: =IF(OR(Assumptions!$B$8="",Assumptions!$B$9=""),"",COUNTIFS(Renewals!$A$5:$A$104,"<>",Renewals!$F$5:$F$104,">"&TODAY()+Assumptions!$B$8,Renewals!$F$5:$F$104,"<="&TODAY()+Assumptions!$B$9,Renewals!$Q$5:$Q$104,"<>Complete",Renewals!$Q$5:$Q$104,"<>Closed")) | E7: =IF(Assumptions!G7="","",Assumptions!G7) | F7: =IF(E7="","",COUNTIFS(Renewals!$A$5:$A$104,"<>",Renewals!$G$5:$G$104,E7,Renewals!$Q$5:$Q$104,"<>Complete",Renewals!$Q$5:$Q$104,"<>Closed")) | G7: =IF(OR(E7="",Assumptions!$B$8=""),"",COUNTIFS(Renewals!$A$5:$A$104,"<>",Renewals!$G$5:$G$104,E7,Renewals!$F$5:$F$104,">="&TODAY(),Renewals!$F$5:$F$104,"<="&TODAY()+Assumptions!$B$8,Renewals!$Q$5:$Q$104,"<>Complete",Renewals!$Q$5:$Q$104,"<>Closed")) | H7: =IF(E7="","",IFERROR(SUMIFS(Renewals!$M$5:$M$104,Renewals!$G$5:$G$104,E7,Renewals!$Q$5:$Q$104,"<>Complete",Renewals!$Q$5:$Q$104,"<>Closed"),0))
A8: Unresolved estimated renewal premium | B8: =IF(COUNTIF(Renewals!$A$5:$A$104,"<>")=0,"",IFERROR(SUMIFS(Renewals!$M$5:$M$104,Renewals!$A$5:$A$104,"<>",Renewals!$Q$5:$Q$104,"<>Complete",Renewals!$Q$5:$Q$104,"<>Closed"),0))
A9: Completed renewal records | B9: =COUNTIFS(Renewals!$A$5:$A$104,"<>",Renewals!$Q$5:$Q$104,"Complete")
A10: Records closed without renewal | B10: =COUNTIFS(Renewals!$A$5:$A$104,"<>",Renewals!$Q$5:$Q$104,"Closed") | E10: Status | F10: Record Count
A11: Alerts requiring human review | B11: =COUNTIF(Renewals!$R$5:$R$104,"*review*") | E11: =IF(Assumptions!D4="","",Assumptions!D4) | F11: =IF(E11="","",COUNTIF(Renewals!$L$5:$L$104,E11))
A12: Records with missing required fields | B12: =COUNTIF(Renewals!$R$5:$R$104,"Check missing required fields") | E12: =IF(Assumptions!D5="","",Assumptions!D5) | F12: =IF(E12="","",COUNTIF(Renewals!$L$5:$L$104,E12))
A13: Completion rate | B13: =IF(COUNTIF(Renewals!$A$5:$A$104,"<>")=0,"",IFERROR(COUNTIFS(Renewals!$A$5:$A$104,"<>",Renewals!$Q$5:$Q$104,"Complete")/COUNTIF(Renewals!$A$5:$A$104,"<>"),"")) | E13: =IF(Assumptions!D6="","",Assumptions!D6) | F13: =IF(E13="","",COUNTIF(Renewals!$L$5:$L$104,E13))
A14: Earliest entered renewal date | B14: =IF(COUNT(Renewals!$F$5:$F$104)=0,"",MIN(Renewals!$F$5:INDEX(Renewals!$F:$F,104))) | E14: =IF(Assumptions!D7="","",Assumptions!D7) | F14: =IF(E14="","",COUNTIF(Renewals!$L$5:$L$104,E14))
A15: Latest entered renewal date | B15: =IF(COUNT(Renewals!$F$5:$F$104)=0,"",MAX(Renewals!$F$5:INDEX(Renewals!$F:$F,104))) | E15: =IF(Assumptions!D8="","",Assumptions!D8) | F15: =IF(E15="","",COUNTIF(Renewals!$L$5:$L$104,E15))
E16: =IF(Assumptions!D9="","",Assumptions!D9) | F16: =IF(E16="","",COUNTIF(Renewals!$L$5:$L$104,E16))
A17: Month Beginning | B17: Renewal Count | C17: Estimated Premium | E17: =IF(Assumptions!D10="","",Assumptions!D10) | F17: =IF(E17="","",COUNTIF(Renewals!$L$5:$L$104,E17))
A18: =DATE(YEAR(TODAY()),MONTH(TODAY()),1) | B18: =COUNTIFS(Renewals!$A$5:$A$104,"<>",Renewals!$F$5:$F$104,">="&A18,Renewals!$F$5:$F$104,"<"&EDATE(A18,1)) | C18: =IFERROR(SUMIFS(Renewals!$M$5:$M$104,Renewals!$A$5:$A$104,"<>",Renewals!$F$5:$F$104,">="&A18,Renewals!$F$5:$F$104,"<"&EDATE(A18,1)),0) | E18: =IF(Assumptions!D11="","",Assumptions!D11) | F18: =IF(E18="","",COUNTIF(Renewals!$L$5:$L$104,E18))
A19: =EDATE(A18,1) | B19: =COUNTIFS(Renewals!$A$5:$A$104,"<>",Renewals!$F$5:$F$104,">="&A19,Renewals!$F$5:$F$104,"<"&EDATE(A19,1)) | C19: =IFERROR(SUMIFS(Renewals!$M$5:$M$104,Renewals!$A$5:$A$104,"<>",Renewals!$F$5:$F$104,">="&A19,Renewals!$F$5:$F$104,"<"&EDATE(A19,1)),0)
A20: =EDATE(A19,1) | B20: =COUNTIFS(Renewals!$A$5:$A$104,"<>",Renewals!$F$5:$F$104,">="&A20,Renewals!$F$5:$F$104,"<"&EDATE(A20,1)) | C20: =IFERROR(SUMIFS(Renewals!$M$5:$M$104,Renewals!$A$5:$A$104,"<>",Renewals!$F$5:$F$104,">="&A20,Renewals!$F$5:$F$104,"<"&EDATE(A20,1)),0)
A21: =EDATE(A20,1) | B21: =COUNTIFS(Renewals!$A$5:$A$104,"<>",Renewals!$F$5:$F$104,">="&A21,Renewals!$F$5:$F$104,"<"&EDATE(A21,1)) | C21: =IFERROR(SUMIFS(Renewals!$M$5:$M$104,Renewals!$A$5:$A$104,"<>",Renewals!$F$5:$F$104,">="&A21,Renewals!$F$5:$F$104,"<"&EDATE(A21,1)),0)
A22: =EDATE(A21,1) | B22: =COUNTIFS(Renewals!$A$5:$A$104,"<>",Renewals!$F$5:$F$104,">="&A22,Renewals!$F$5:$F$104,"<"&EDATE(A22,1)) | C22: =IFERROR(SUMIFS(Renewals!$M$5:$M$104,Renewals!$A$5:$A$104,"<>",Renewals!$F$5:$F$104,">="&A22,Renewals!$F$5:$F$104,"<"&EDATE(A22,1)),0)
A23: =EDATE(A22,1) | B23: =COUNTIFS(Renewals!$A$5:$A$104,"<>",Renewals!$F$5:$F$104,">="&A23,Renewals!$F$5:$F$104,"<"&EDATE(A23,1)) | C23: =IFERROR(SUMIFS(Renewals!$M$5:$M$104,Renewals!$A$5:$A$104,"<>",Renewals!$F$5:$F$104,">="&A23,Renewals!$F$5:$F$104,"<"&EDATE(A23,1)),0)

Sheet Renewals
A1: Insurance Renewal Calendar
A2: Yellow cells are editable. | D2: Milestone dates and alerts are planning prompts for human review.
A4: Record ID | B4: Fictional Client | C4: Policy Reference | D4: Line of Business | E4: Fictional Carrier | F4: Renewal Date | G4: Owner | H4: Preparation Start | I4: Review Due | J4: Quote Due | K4: Client Decision Due | L4: Status | M4: Estimated Renewal Premium | N4: Next Action | O4: Last Contact Date | P4: Days to Renewal | Q4: Status Group | R4: Milestone Alert
A5: REN-DEMO-001 | B5: Fictional Blue Heron Bakery LLC | C5: DEMO-POL-1001 | D5: Businessowners | E5: Fictional Harborlight Carrier | F5: 46274 | G5: Fictional Owner Rowan | H5: =IF(OR(F5="",NOT(ISNUMBER(F5)),Assumptions!$B$4="",NOT(ISNUMBER(Assumptions!$B$4))),"",IFERROR(F5-Assumptions!$B$4,"")) | I5: =IF(OR(F5="",NOT(ISNUMBER(F5)),Assumptions!$B$5="",NOT(ISNUMBER(Assumptions!$B$5))),"",IFERROR(F5-Assumptions!$B$5,"")) | J5: =IF(OR(F5="",NOT(ISNUMBER(F5)),Assumptions!$B$6="",NOT(ISNUMBER(Assumptions!$B$6))),"",IFERROR(F5-Assumptions!$B$6,"")) | K5: =IF(OR(F5="",NOT(ISNUMBER(F5)),Assumptions!$B$7="",NOT(ISNUMBER(Assumptions!$B$7))),"",IFERROR(F5-Assumptions!$B$7,"")) | L5: Awaiting Client | M5: 12400 | N5: Call the fictional client for a renewal decision. | O5: 46270 | P5: =IF(OR(F5="",NOT(ISNUMBER(F5))),"",IFERROR(F5-TODAY(),"")) | Q5: =IF(L5="","",IFERROR(VLOOKUP(L5,Assumptions!$D$4:$E$11,2,FALSE),"Check status")) | R5: =IF(COUNTA(A5:G5,L5:O5)=0,"",IF(OR(A5="",B5="",C5="",D5="",E5="",F5="",G5="",L5=""),"Check missing required fields",IF(NOT(ISNUMBER(F5)),"Check renewal date",IF(AND(O5<>"",NOT(ISNUMBER(O5))),"Check last contact date",IF(AND(ISNUMBER(O5),O5>TODAY()),"Check last contact date",IF(Q5="Check status","Check status",IF(Q5="Complete","Complete",IF(Q5="Closed","Closed",IF(COUNT(Assumptions!$B$4:$B$7)<4,"Check milestone assumptions",IF(Q5="Hold","On hold - review",IF(F5<TODAY(),"Past due - review",IF(TODAY()>=K5,"Decision due - review",IF(TODAY()>=J5,"Quote due - review",IF(TODAY()>=I5,"Review due - review",IF(TODAY()>=H5,"Preparation due - review","Scheduled"))))))))))))))) | T5: =IF(Assumptions!D4="","",Assumptions!D4) | U5: =IF(Assumptions!F4="","",Assumptions!F4) | V5: =IF(Assumptions!G4="","",Assumptions!G4)
A6: REN-DEMO-002 | B6: Fictional Cedar Kite Design LLC | C6: DEMO-POL-1002 | D6: Professional Liability | E6: Fictional Northstar Carrier | F6: 46275 | G6: Fictional Owner Sage | H6: =IF(OR(F6="",NOT(ISNUMBER(F6)),Assumptions!$B$4="",NOT(ISNUMBER(Assumptions!$B$4))),"",IFERROR(F6-Assumptions!$B$4,"")) | I6: =IF(OR(F6="",NOT(ISNUMBER(F6)),Assumptions!$B$5="",NOT(ISNUMBER(Assumptions!$B$5))),"",IFERROR(F6-Assumptions!$B$5,"")) | J6: =IF(OR(F6="",NOT(ISNUMBER(F6)),Assumptions!$B$6="",NOT(ISNUMBER(Assumptions!$B$6))),"",IFERROR(F6-Assumptions!$B$6,"")) | K6: =IF(OR(F6="",NOT(ISNUMBER(F6)),Assumptions!$B$7="",NOT(ISNUMBER(Assumptions!$B$7))),"",IFERROR(F6-Assumptions!$B$7,"")) | L6: Quoting | M6: 3800 | N6: Review the administrative quote details received. | O6: 46273 | P6: =IF(OR(F6="",NOT(ISNUMBER(F6))),"",IFERROR(F6-TODAY(),"")) | Q6: =IF(L6="","",IFERROR(VLOOKUP(L6,Assumptions!$D$4:$E$11,2,FALSE),"Check status")) | R6: =IF(COUNTA(A6:G6,L6:O6)=0,"",IF(OR(A6="",B6="",C6="",D6="",E6="",F6="",G6="",L6=""),"Check missing required fields",IF(NOT(ISNUMBER(F6)),"Check renewal date",IF(AND(O6<>"",NOT(ISNUMBER(O6))),"Check last contact date",IF(AND(ISNUMBER(O6),O6>TODAY()),"Check last contact date",IF(Q6="Check status","Check status",IF(Q6="Complete","Complete",IF(Q6="Closed","Closed",IF(COUNT(Assumptions!$B$4:$B$7)<4,"Check milestone assumptions",IF(Q6="Hold","On hold - review",IF(F6<TODAY(),"Past due - review",IF(TODAY()>=K6,"Decision due - review",IF(TODAY()>=J6,"Quote due - review",IF(TODAY()>=I6,"Review due - review",IF(TODAY()>=H6,"Preparation due - review","Scheduled"))))))))))))))) | T6: =IF(Assumptions!D5="","",Assumptions!D5) | U6: =IF(Assumptions!F5="","",Assumptions!F5) | V6: =IF(Assumptions!G5="","",Assumptions!G5)
A7: REN-DEMO-003 | B7: Fictional Moonlit Bicycle Shop LLC | C7: DEMO-POL-1003 | D7: General Liability | E7: Fictional Harborlight Carrier | F7: 46305 | G7: Fictional Owner Ellis | H7: =IF(OR(F7="",NOT(ISNUMBER(F7)),Assumptions!$B$4="",NOT(ISNUMBER(Assumptions!$B$4))),"",IFERROR(F7-Assumptions!$B$4,"")) | I7: =IF(OR(F7="",NOT(ISNUMBER(F7)),Assumptions!$B$5="",NOT(ISNUMBER(Assumptions!$B$5))),"",IFERROR(F7-Assumptions!$B$5,"")) | J7: =IF(OR(F7="",NOT(ISNUMBER(F7)),Assumptions!$B$6="",NOT(ISNUMBER(Assumptions!$B$6))),"",IFERROR(F7-Assumptions!$B$6,"")) | K7: =IF(OR(F7="",NOT(ISNUMBER(F7)),Assumptions!$B$7="",NOT(ISNUMBER(Assumptions!$B$7))),"",IFERROR(F7-Assumptions!$B$7,"")) | L7: Reviewing | M7: 7200 | N7: Confirm updated exposure information. | O7: 46263 | P7: =IF(OR(F7="",NOT(ISNUMBER(F7))),"",IFERROR(F7-TODAY(),"")) | Q7: =IF(L7="","",IFERROR(VLOOKUP(L7,Assumptions!$D$4:$E$11,2,FALSE),"Check status")) | R7: =IF(COUNTA(A7:G7,L7:O7)=0,"",IF(OR(A7="",B7="",C7="",D7="",E7="",F7="",G7="",L7=""),"Check missing required fields",IF(NOT(ISNUMBER(F7)),"Check renewal date",IF(AND(O7<>"",NOT(ISNUMBER(O7))),"Check last contact date",IF(AND(ISNUMBER(O7),O7>TODAY()),"Check last contact date",IF(Q7="Check status","Check status",IF(Q7="Complete","Complete",IF(Q7="Closed","Closed",IF(COUNT(Assumptions!$B$4:$B$7)<4,"Check milestone assumptions",IF(Q7="Hold","On hold - review",IF(F7<TODAY(),"Past due - review",IF(TODAY()>=K7,"Decision due - review",IF(TODAY()>=J7,"Quote due - review",IF(TODAY()>=I7,"Review due - review",IF(TODAY()>=H7,"Preparation due - review","Scheduled"))))))))))))))) | T7: =IF(Assumptions!D6="","",Assumptions!D6) | U7: =IF(Assumptions!F6="","",Assumptions!F6) | V7: =IF(Assumptions!G6="","",Assumptions!G6)
A8: REN-DEMO-004 | B8: Fictional Copper Acorn Cafe LLC | C8: DEMO-POL-1004 | D8: Workers Compensation | E8: Fictional Red Meadow Carrier | F8: 46306 | G8: Fictional Owner Quinn | H8: =IF(OR(F8="",NOT(ISNUMBER(F8)),Assumptions!$B$4="",NOT(ISNUMBER(Assumptions!$B$4))),"",IFERROR(F8-Assumptions!$B$4,"")) | I8: =IF(OR(F8="",NOT(ISNUMBER(F8)),Assumptions!$B$5="",NOT(ISNUMBER(Assumptions!$B$5))),"",IFERROR(F8-Assumptions!$B$5,"")) | J8: =IF(OR(F8="",NOT(ISNUMBER(F8)),Assumptions!$B$6="",NOT(ISNUMBER(Assumptions!$B$6))),"",IFERROR(F8-Assumptions!$B$6,"")) | K8: =IF(OR(F8="",NOT(ISNUMBER(F8)),Assumptions!$B$7="",NOT(ISNUMBER(Assumptions!$B$7))),"",IFERROR(F8-Assumptions!$B$7,"")) | L8: Outreach Started | M8: 15600 | N8: Request updated application details. | O8: 46267 | P8: =IF(OR(F8="",NOT(ISNUMBER(F8))),"",IFERROR(F8-TODAY(),"")) | Q8: =IF(L8="","",IFERROR(VLOOKUP(L8,Assumptions!$D$4:$E$11,2,FALSE),"Check status")) | R8: =IF(COUNTA(A8:G8,L8:O8)=0,"",IF(OR(A8="",B8="",C8="",D8="",E8="",F8="",G8="",L8=""),"Check missing required fields",IF(NOT(ISNUMBER(F8)),"Check renewal date",IF(AND(O8<>"",NOT(ISNUMBER(O8))),"Check last contact date",IF(AND(ISNUMBER(O8),O8>TODAY()),"Check last contact date",IF(Q8="Check status","Check status",IF(Q8="Complete","Complete",IF(Q8="Closed","Closed",IF(COUNT(Assumptions!$B$4:$B$7)<4,"Check milestone assumptions",IF(Q8="Hold","On hold - review",IF(F8<TODAY(),"Past due - review",IF(TODAY()>=K8,"Decision due - review",IF(TODAY()>=J8,"Quote due - review",IF(TODAY()>=I8,"Review due - review",IF(TODAY()>=H8,"Preparation due - review","Scheduled"))))))))))))))) | T8: =IF(Assumptions!D7="","",Assumptions!D7) | U8: =IF(Assumptions!F7="","",Assumptions!F7) | V8: =IF(Assumptions!G7="","",Assumptions!G7)
A9: REN-DEMO-005 | B9: Fictional Nimbus Toy Works LLC | C9: DEMO-POL-1005 | D9: Commercial Auto | E9: Fictional Northstar Carrier | F9: 46365 | G9: Fictional Owner Rowan | H9: =IF(OR(F9="",NOT(ISNUMBER(F9)),Assumptions!$B$4="",NOT(ISNUMBER(Assumptions!$B$4))),"",IFERROR(F9-Assumptions!$B$4,"")) | I9: =IF(OR(F9="",NOT(ISNUMBER(F9)),Assumptions!$B$5="",NOT(ISNUMBER(Assumptions!$B$5))),"",IFERROR(F9-Assumptions!$B$5,"")) | J9: =IF(OR(F9="",NOT(ISNUMBER(F9)),Assumptions!$B$6="",NOT(ISNUMBER(Assumptions!$B$6))),"",IFERROR(F9-Assumptions!$B$6,"")) | K9: =IF(OR(F9="",NOT(ISNUMBER(F9)),Assumptions!$B$7="",NOT(ISNUMBER(Assumptions!$B$7))),"",IFERROR(F9-Assumptions!$B$7,"")) | L9: Planned | M9: 9100 | N9: Begin the renewal preparation checklist. | P9: =IF(OR(F9="",NOT(ISNUMBER(F9))),"",IFERROR(F9-TODAY(),"")) | Q9: =IF(L9="","",IFERROR(VLOOKUP(L9,Assumptions!$D$4:$E$11,2,FALSE),"Check status")) | R9: =IF(COUNTA(A9:G9,L9:O9)=0,"",IF(OR(A9="",B9="",C9="",D9="",E9="",F9="",G9="",L9=""),"Check missing required fields",IF(NOT(ISNUMBER(F9)),"Check renewal date",IF(AND(O9<>"",NOT(ISNUMBER(O9))),"Check last contact date",IF(AND(ISNUMBER(O9),O9>TODAY()),"Check last contact date",IF(Q9="Check status","Check status",IF(Q9="Complete","Complete",IF(Q9="Closed","Closed",IF(COUNT(Assumptions!$B$4:$B$7)<4,"Check milestone assumptions",IF(Q9="Hold","On hold - review",IF(F9<TODAY(),"Past due - review",IF(TODAY()>=K9,"Decision due - review",IF(TODAY()>=J9,"Quote due - review",IF(TODAY()>=I9,"Review due - review",IF(TODAY()>=H9,"Preparation due - review","Scheduled"))))))))))))))) | T9: =IF(Assumptions!D8="","",Assumptions!D8) | U9: =IF(Assumptions!F8="","",Assumptions!F8) | V9: =IF(Assumptions!G8="","",Assumptions!G8)
A10: REN-DEMO-006 | B10: Fictional Juniper Lantern Studio LLC | C10: DEMO-POL-1006 | D10: Cyber | E10: Fictional Silver Pebble Carrier | F10: 46366 | G10: Fictional Owner Sage | H10: =IF(OR(F10="",NOT(ISNUMBER(F10)),Assumptions!$B$4="",NOT(ISNUMBER(Assumptions!$B$4))),"",IFERROR(F10-Assumptions!$B$4,"")) | I10: =IF(OR(F10="",NOT(ISNUMBER(F10)),Assumptions!$B$5="",NOT(ISNUMBER(Assumptions!$B$5))),"",IFERROR(F10-Assumptions!$B$5,"")) | J10: =IF(OR(F10="",NOT(ISNUMBER(F10)),Assumptions!$B$6="",NOT(ISNUMBER(Assumptions!$B$6))),"",IFERROR(F10-Assumptions!$B$6,"")) | K10: =IF(OR(F10="",NOT(ISNUMBER(F10)),Assumptions!$B$7="",NOT(ISNUMBER(Assumptions!$B$7))),"",IFERROR(F10-Assumptions!$B$7,"")) | L10: Planned | M10: 22400 | N10: Schedule an internal account review. | P10: =IF(OR(F10="",NOT(ISNUMBER(F10))),"",IFERROR(F10-TODAY(),"")) | Q10: =IF(L10="","",IFERROR(VLOOKUP(L10,Assumptions!$D$4:$E$11,2,FALSE),"Check status")) | R10: =IF(COUNTA(A10:G10,L10:O10)=0,"",IF(OR(A10="",B10="",C10="",D10="",E10="",F10="",G10="",L10=""),"Check missing required fields",IF(NOT(ISNUMBER(F10)),"Check renewal date",IF(AND(O10<>"",NOT(ISNUMBER(O10))),"Check last contact date",IF(AND(ISNUMBER(O10),O10>TODAY()),"Check last contact date",IF(Q10="Check status","Check status",IF(Q10="Complete","Complete",IF(Q10="Closed","Closed",IF(COUNT(Assumptions!$B$4:$B$7)<4,"Check milestone assumptions",IF(Q10="Hold","On hold - review",IF(F10<TODAY(),"Past due - review",IF(TODAY()>=K10,"Decision due - review",IF(TODAY()>=J10,"Quote due - review",IF(TODAY()>=I10,"Review due - review",IF(TODAY()>=H10,"Preparation due - review","Scheduled"))))))))))))))) | T10: =IF(Assumptions!D9="","",Assumptions!D9) | U10: =IF(Assumptions!F9="","",Assumptions!F9) | V10: =IF(Assumptions!G9="","",Assumptions!G9)
A11: REN-DEMO-007 | B11: Fictional Puddle and Pine Books LLC | C11: DEMO-POL-1007 | D11: Businessowners | E11: Fictional Red Meadow Carrier | F11: 46395 | G11: Fictional Owner Ellis | H11: =IF(OR(F11="",NOT(ISNUMBER(F11)),Assumptions!$B$4="",NOT(ISNUMBER(Assumptions!$B$4))),"",IFERROR(F11-Assumptions!$B$4,"")) | I11: =IF(OR(F11="",NOT(ISNUMBER(F11)),Assumptions!$B$5="",NOT(ISNUMBER(Assumptions!$B$5))),"",IFERROR(F11-Assumptions!$B$5,"")) | J11: =IF(OR(F11="",NOT(ISNUMBER(F11)),Assumptions!$B$6="",NOT(ISNUMBER(Assumptions!$B$6))),"",IFERROR(F11-Assumptions!$B$6,"")) | K11: =IF(OR(F11="",NOT(ISNUMBER(F11)),Assumptions!$B$7="",NOT(ISNUMBER(Assumptions!$B$7))),"",IFERROR(F11-Assumptions!$B$7,"")) | L11: Planned | M11: 6800 | N11: Confirm the assigned owner's calendar. | P11: =IF(OR(F11="",NOT(ISNUMBER(F11))),"",IFERROR(F11-TODAY(),"")) | Q11: =IF(L11="","",IFERROR(VLOOKUP(L11,Assumptions!$D$4:$E$11,2,FALSE),"Check status")) | R11: =IF(COUNTA(A11:G11,L11:O11)=0,"",IF(OR(A11="",B11="",C11="",D11="",E11="",F11="",G11="",L11=""),"Check missing required fields",IF(NOT(ISNUMBER(F11)),"Check renewal date",IF(AND(O11<>"",NOT(ISNUMBER(O11))),"Check last contact date",IF(AND(ISNUMBER(O11),O11>TODAY()),"Check last contact date",IF(Q11="Check status","Check status",IF(Q11="Complete","Complete",IF(Q11="Closed","Closed",IF(COUNT(Assumptions!$B$4:$B$7)<4,"Check milestone assumptions",IF(Q11="Hold","On hold - review",IF(F11<TODAY(),"Past due - review",IF(TODAY()>=K11,"Decision due - review",IF(TODAY()>=J11,"Quote due - review",IF(TODAY()>=I11,"Review due - review",IF(TODAY()>=H11,"Preparation due - review","Scheduled"))))))))))))))) | T11: =IF(Assumptions!D10="","",Assumptions!D10) | U11: =IF(Assumptions!F10="","",Assumptions!F10) | V11: =IF(Assumptions!G10="","",Assumptions!G10)
A12: REN-DEMO-008 | B12: Fictional Rocket Badger Repair LLC | C12: DEMO-POL-1008 | D12: Inland Marine | E12: Fictional Silver Pebble Carrier | F12: 46455 | G12: Fictional Owner Quinn | H12: =IF(OR(F12="",NOT(ISNUMBER(F12)),Assumptions!$B$4="",NOT(ISNUMBER(Assumptions!$B$4))),"",IFERROR(F12-Assumptions!$B$4,"")) | I12: =IF(OR(F12="",NOT(ISNUMBER(F12)),Assumptions!$B$5="",NOT(ISNUMBER(Assumptions!$B$5))),"",IFERROR(F12-Assumptions!$B$5,"")) | J12: =IF(OR(F12="",NOT(ISNUMBER(F12)),Assumptions!$B$6="",NOT(ISNUMBER(Assumptions!$B$6))),"",IFERROR(F12-Assumptions!$B$6,"")) | K12: =IF(OR(F12="",NOT(ISNUMBER(F12)),Assumptions!$B$7="",NOT(ISNUMBER(Assumptions!$B$7))),"",IFERROR(F12-Assumptions!$B$7,"")) | L12: On Hold | M12: 13250 | N12: Review the hold reason with the assigned owner. | O12: 46255 | P12: =IF(OR(F12="",NOT(ISNUMBER(F12))),"",IFERROR(F12-TODAY(),"")) | Q12: =IF(L12="","",IFERROR(VLOOKUP(L12,Assumptions!$D$4:$E$11,2,FALSE),"Check status")) | R12: =IF(COUNTA(A12:G12,L12:O12)=0,"",IF(OR(A12="",B12="",C12="",D12="",E12="",F12="",G12="",L12=""),"Check missing required fields",IF(NOT(ISNUMBER(F12)),"Check renewal date",IF(AND(O12<>"",NOT(ISNUMBER(O12))),"Check last contact date",IF(AND(ISNUMBER(O12),O12>TODAY()),"Check last contact date",IF(Q12="Check status","Check status",IF(Q12="Complete","Complete",IF(Q12="Closed","Closed",IF(COUNT(Assumptions!$B$4:$B$7)<4,"Check milestone assumptions",IF(Q12="Hold","On hold - review",IF(F12<TODAY(),"Past due - review",IF(TODAY()>=K12,"Decision due - review",IF(TODAY()>=J12,"Quote due - review",IF(TODAY()>=I12,"Review due - review",IF(TODAY()>=H12,"Preparation due - review","Scheduled"))))))))))))))) | T12: =IF(Assumptions!D11="","",Assumptions!D11) | U12: =IF(Assumptions!F11="","",Assumptions!F11) | V12: =IF(Assumptions!G11="","",Assumptions!G11)
A13: REN-DEMO-009 | B13: Fictional Maple Comet Florals LLC | C13: DEMO-POL-1009 | D13: Commercial Auto | E13: Fictional Harborlight Carrier | F13: 46230 | G13: Fictional Owner Rowan | H13: =IF(OR(F13="",NOT(ISNUMBER(F13)),Assumptions!$B$4="",NOT(ISNUMBER(Assumptions!$B$4))),"",IFERROR(F13-Assumptions!$B$4,"")) | I13: =IF(OR(F13="",NOT(ISNUMBER(F13)),Assumptions!$B$5="",NOT(ISNUMBER(Assumptions!$B$5))),"",IFERROR(F13-Assumptions!$B$5,"")) | J13: =IF(OR(F13="",NOT(ISNUMBER(F13)),Assumptions!$B$6="",NOT(ISNUMBER(Assumptions!$B$6))),"",IFERROR(F13-Assumptions!$B$6,"")) | K13: =IF(OR(F13="",NOT(ISNUMBER(F13)),Assumptions!$B$7="",NOT(ISNUMBER(Assumptions!$B$7))),"",IFERROR(F13-Assumptions!$B$7,"")) | L13: Renewed | M13: 5400 | N13: File the completed fictional renewal record. | O13: 46225 | P13: =IF(OR(F13="",NOT(ISNUMBER(F13))),"",IFERROR(F13-TODAY(),"")) | Q13: =IF(L13="","",IFERROR(VLOOKUP(L13,Assumptions!$D$4:$E$11,2,FALSE),"Check status")) | R13: =IF(COUNTA(A13:G13,L13:O13)=0,"",IF(OR(A13="",B13="",C13="",D13="",E13="",F13="",G13="",L13=""),"Check missing required fields",IF(NOT(ISNUMBER(F13)),"Check renewal date",IF(AND(O13<>"",NOT(ISNUMBER(O13))),"Check last contact date",IF(AND(ISNUMBER(O13),O13>TODAY()),"Check last contact date",IF(Q13="Check status","Check status",IF(Q13="Complete","Complete",IF(Q13="Closed","Closed",IF(COUNT(Assumptions!$B$4:$B$7)<4,"Check milestone assumptions",IF(Q13="Hold","On hold - review",IF(F13<TODAY(),"Past due - review",IF(TODAY()>=K13,"Decision due - review",IF(TODAY()>=J13,"Quote due - review",IF(TODAY()>=I13,"Review due - review",IF(TODAY()>=H13,"Preparation due - review","Scheduled"))))))))))))))) | T13: =IF(Assumptions!D12="","",Assumptions!D12) | U13: =IF(Assumptions!F12="","",Assumptions!F12) | V13: =IF(Assumptions!G12="","",Assumptions!G12)
A14: REN-DEMO-010 | B14: Fictional Velvet Compass Media LLC | C14: DEMO-POL-1010 | D14: Professional Liability | E14: Fictional Northstar Carrier | F14: 46640 | G14: Fictional Owner Sage | H14: =IF(OR(F14="",NOT(ISNUMBER(F14)),Assumptions!$B$4="",NOT(ISNUMBER(Assumptions!$B$4))),"",IFERROR(F14-Assumptions!$B$4,"")) | I14: =IF(OR(F14="",NOT(ISNUMBER(F14)),Assumptions!$B$5="",NOT(ISNUMBER(Assumptions!$B$5))),"",IFERROR(F14-Assumptions!$B$5,"")) | J14: =IF(OR(F14="",NOT(ISNUMBER(F14)),Assumptions!$B$6="",NOT(ISNUMBER(Assumptions!$B$6))),"",IFERROR(F14-Assumptions!$B$6,"")) | K14: =IF(OR(F14="",NOT(ISNUMBER(F14)),Assumptions!$B$7="",NOT(ISNUMBER(Assumptions!$B$7))),"",IFERROR(F14-Assumptions!$B$7,"")) | L14: Not Renewing | N14: Document the fictional client's stated decision. | O14: 46273 | P14: =IF(OR(F14="",NOT(ISNUMBER(F14))),"",IFERROR(F14-TODAY(),"")) | Q14: =IF(L14="","",IFERROR(VLOOKUP(L14,Assumptions!$D$4:$E$11,2,FALSE),"Check status")) | R14: =IF(COUNTA(A14:G14,L14:O14)=0,"",IF(OR(A14="",B14="",C14="",D14="",E14="",F14="",G14="",L14=""),"Check missing required fields",IF(NOT(ISNUMBER(F14)),"Check renewal date",IF(AND(O14<>"",NOT(ISNUMBER(O14))),"Check last contact date",IF(AND(ISNUMBER(O14),O14>TODAY()),"Check last contact date",IF(Q14="Check status","Check status",IF(Q14="Complete","Complete",IF(Q14="Closed","Closed",IF(COUNT(Assumptions!$B$4:$B$7)<4,"Check milestone assumptions",IF(Q14="Hold","On hold - review",IF(F14<TODAY(),"Past due - review",IF(TODAY()>=K14,"Decision due - review",IF(TODAY()>=J14,"Quote due - review",IF(TODAY()>=I14,"Review due - review",IF(TODAY()>=H14,"Preparation due - review","Scheduled"))))))))))))))) | T14: =IF(Assumptions!D13="","",Assumptions!D13) | U14: =IF(Assumptions!F13="","",Assumptions!F13) | V14: =IF(Assumptions!G13="","",Assumptions!G13)
H15: =IF(OR(F15="",NOT(ISNUMBER(F15)),Assumptions!$B$4="",NOT(ISNUMBER(Assumptions!$B$4))),"",IFERROR(F15-Assumptions!$B$4,"")) | I15: =IF(OR(F15="",NOT(ISNUMBER(F15)),Assumptions!$B$5="",NOT(ISNUMBER(Assumptions!$B$5))),"",IFERROR(F15-Assumptions!$B$5,"")) | J15: =IF(OR(F15="",NOT(ISNUMBER(F15)),Assumptions!$B$6="",NOT(ISNUMBER(Assumptions!$B$6))),"",IFERROR(F15-Assumptions!$B$6,"")) | K15: =IF(OR(F15="",NOT(ISNUMBER(F15)),Assumptions!$B$7="",NOT(ISNUMBER(Assumptions!$B$7))),"",IFERROR(F15-Assumptions!$B$7,"")) | P15: =IF(OR(F15="",NOT(ISNUMBER(F15))),"",IFERROR(F15-TODAY(),"")) | Q15: =IF(L15="","",IFERROR(VLOOKUP(L15,Assumptions!$D$4:$E$11,2,FALSE),"Check status")) | R15: =IF(COUNTA(A15:G15,L15:O15)=0,"",IF(OR(A15="",B15="",C15="",D15="",E15="",F15="",G15="",L15=""),"Check missing required fields",IF(NOT(ISNUMBER(F15)),"Check renewal date",IF(AND(O15<>"",NOT(ISNUMBER(O15))),"Check last contact date",IF(AND(ISNUMBER(O15),O15>TODAY()),"Check last contact date",IF(Q15="Check status","Check status",IF(Q15="Complete","Complete",IF(Q15="Closed","Closed",IF(COUNT(Assumptions!$B$4:$B$7)<4,"Check milestone assumptions",IF(Q15="Hold","On hold - review",IF(F15<TODAY(),"Past due - review",IF(TODAY()>=K15,"Decision due - review",IF(TODAY()>=J15,"Quote due - review",IF(TODAY()>=I15,"Review due - review",IF(TODAY()>=H15,"Preparation due - review","Scheduled"))))))))))))))) | T15: =IF(Assumptions!D14="","",Assumptions!D14) | U15: =IF(Assumptions!F14="","",Assumptions!F14) | V15: =IF(Assumptions!G14="","",Assumptions!G14)
H16: =IF(OR(F16="",NOT(ISNUMBER(F16)),Assumptions!$B$4="",NOT(ISNUMBER(Assumptions!$B$4))),"",IFERROR(F16-Assumptions!$B$4,"")) | I16: =IF(OR(F16="",NOT(ISNUMBER(F16)),Assumptions!$B$5="",NOT(ISNUMBER(Assumptions!$B$5))),"",IFERROR(F16-Assumptions!$B$5,"")) | J16: =IF(OR(F16="",NOT(ISNUMBER(F16)),Assumptions!$B$6="",NOT(ISNUMBER(Assumptions!$B$6))),"",IFERROR(F16-Assumptions!$B$6,"")) | K16: =IF(OR(F16="",NOT(ISNUMBER(F16)),Assumptions!$B$7="",NOT(ISNUMBER(Assumptions!$B$7))),"",IFERROR(F16-Assumptions!$B$7,"")) | P16: =IF(OR(F16="",NOT(ISNUMBER(F16))),"",IFERROR(F16-TODAY(),"")) | Q16: =IF(L16="","",IFERROR(VLOOKUP(L16,Assumptions!$D$4:$E$11,2,FALSE),"Check status")) | R16: =IF(COUNTA(A16:G16,L16:O16)=0,"",IF(OR(A16="",B16="",C16="",D16="",E16="",F16="",G16="",L16=""),"Check missing required fields",IF(NOT(ISNUMBER(F16)),"Check renewal date",IF(AND(O16<>"",NOT(ISNUMBER(O16))),"Check last contact date",IF(AND(ISNUMBER(O16),O16>TODAY()),"Check last contact date",IF(Q16="Check status","Check status",IF(Q16="Complete","Complete",IF(Q16="Closed","Closed",IF(COUNT(Assumptions!$B$4:$B$7)<4,"Check milestone assumptions",IF(Q16="Hold","On hold - review",IF(F16<TODAY(),"Past due - review",IF(TODAY()>=K16,"Decision due - review",IF(TODAY()>=J16,"Quote due - review",IF(TODAY()>=I16,"Review due - review",IF(TODAY()>=H16,"Preparation due - review","Scheduled"))))))))))))))) | T16: =IF(Assumptions!D15="","",Assumptions!D15) | U16: =IF(Assumptions!F15="","",Assumptions!F15) | V16: =IF(Assumptions!G15="","",Assumptions!G15)
H17: =IF(OR(F17="",NOT(ISNUMBER(F17)),Assumptions!$B$4="",NOT(ISNUMBER(Assumptions!$B$4))),"",IFERROR(F17-Assumptions!$B$4,"")) | I17: =IF(OR(F17="",NOT(ISNUMBER(F17)),Assumptions!$B$5="",NOT(ISNUMBER(Assumptions!$B$5))),"",IFERROR(F17-Assumptions!$B$5,"")) | J17: =IF(OR(F17="",NOT(ISNUMBER(F17)),Assumptions!$B$6="",NOT(ISNUMBER(Assumptions!$B$6))),"",IFERROR(F17-Assumptions!$B$6,"")) | K17: =IF(OR(F17="",NOT(ISNUMBER(F17)),Assumptions!$B$7="",NOT(ISNUMBER(Assumptions!$B$7))),"",IFERROR(F17-Assumptions!$B$7,"")) | P17: =IF(OR(F17="",NOT(ISNUMBER(F17))),"",IFERROR(F17-TODAY(),"")) | Q17: =IF(L17="","",IFERROR(VLOOKUP(L17,Assumptions!$D$4:$E$11,2,FALSE),"Check status")) | R17: =IF(COUNTA(A17:G17,L17:O17)=0,"",IF(OR(A17="",B17="",C17="",D17="",E17="",F17="",G17="",L17=""),"Check missing required fields",IF(NOT(ISNUMBER(F17)),"Check renewal date",IF(AND(O17<>"",NOT(ISNUMBER(O17))),"Check last contact date",IF(AND(ISNUMBER(O17),O17>TODAY()),"Check last contact date",IF(Q17="Check status","Check status",IF(Q17="Complete","Complete",IF(Q17="Closed","Closed",IF(COUNT(Assumptions!$B$4:$B$7)<4,"Check milestone assumptions",IF(Q17="Hold","On hold - review",IF(F17<TODAY(),"Past due - review",IF(TODAY()>=K17,"Decision due - review",IF(TODAY()>=J17,"Quote due - review",IF(TODAY()>=I17,"Review due - review",IF(TODAY()>=H17,"Preparation due - review","Scheduled"))))))))))))))) | T17: =IF(Assumptions!D16="","",Assumptions!D16) | U17: =IF(Assumptions!F16="","",Assumptions!F16) | V17: =IF(Assumptions!G16="","",Assumptions!G16)
H18: =IF(OR(F18="",NOT(ISNUMBER(F18)),Assumptions!$B$4="",NOT(ISNUMBER(Assumptions!$B$4))),"",IFERROR(F18-Assumptions!$B$4,"")) | I18: =IF(OR(F18="",NOT(ISNUMBER(F18)),Assumptions!$B$5="",NOT(ISNUMBER(Assumptions!$B$5))),"",IFERROR(F18-Assumptions!$B$5,"")) | J18: =IF(OR(F18="",NOT(ISNUMBER(F18)),Assumptions!$B$6="",NOT(ISNUMBER(Assumptions!$B$6))),"",IFERROR(F18-Assumptions!$B$6,"")) | K18: =IF(OR(F18="",NOT(ISNUMBER(F18)),Assumptions!$B$7="",NOT(ISNUMBER(Assumptions!$B$7))),"",IFERROR(F18-Assumptions!$B$7,"")) | P18: =IF(OR(F18="",NOT(ISNUMBER(F18))),"",IFERROR(F18-TODAY(),"")) | Q18: =IF(L18="","",IFERROR(VLOOKUP(L18,Assumptions!$D$4:$E$11,2,FALSE),"Check status")) | R18: =IF(COUNTA(A18:G18,L18:O18)=0,"",IF(OR(A18="",B18="",C18="",D18="",E18="",F18="",G18="",L18=""),"Check missing required fields",IF(NOT(ISNUMBER(F18)),"Check renewal date",IF(AND(O18<>"",NOT(ISNUMBER(O18))),"Check last contact date",IF(AND(ISNUMBER(O18),O18>TODAY()),"Check last contact date",IF(Q18="Check status","Check status",IF(Q18="Complete","Complete",IF(Q18="Closed","Closed",IF(COUNT(Assumptions!$B$4:$B$7)<4,"Check milestone assumptions",IF(Q18="Hold","On hold - review",IF(F18<TODAY(),"Past due - review",IF(TODAY()>=K18,"Decision due - review",IF(TODAY()>=J18,"Quote due - review",IF(TODAY()>=I18,"Review due - review",IF(TODAY()>=H18,"Preparation due - review","Scheduled"))))))))))))))) | T18: =IF(Assumptions!D17="","",Assumptions!D17) | U18: =IF(Assumptions!F17="","",Assumptions!F17) | V18: =IF(Assumptions!G17="","",Assumptions!G17)
H19: =IF(OR(F19="",NOT(ISNUMBER(F19)),Assumptions!$B$4="",NOT(ISNUMBER(Assumptions!$B$4))),"",IFERROR(F19-Assumptions!$B$4,"")) | I19: =IF(OR(F19="",NOT(ISNUMBER(F19)),Assumptions!$B$5="",NOT(ISNUMBER(Assumptions!$B$5))),"",IFERROR(F19-Assumptions!$B$5,"")) | J19: =IF(OR(F19="",NOT(ISNUMBER(F19)),Assumptions!$B$6="",NOT(ISNUMBER(Assumptions!$B$6))),"",IFERROR(F19-Assumptions!$B$6,"")) | K19: =IF(OR(F19="",NOT(ISNUMBER(F19)),Assumptions!$B$7="",NOT(ISNUMBER(Assumptions!$B$7))),"",IFERROR(F19-Assumptions!$B$7,"")) | P19: =IF(OR(F19="",NOT(ISNUMBER(F19))),"",IFERROR(F19-TODAY(),"")) | Q19: =IF(L19="","",IFERROR(VLOOKUP(L19,Assumptions!$D$4:$E$11,2,FALSE),"Check status")) | R19: =IF(COUNTA(A19:G19,L19:O19)=0,"",IF(OR(A19="",B19="",C19="",D19="",E19="",F19="",G19="",L19=""),"Check missing required fields",IF(NOT(ISNUMBER(F19)),"Check renewal date",IF(AND(O19<>"",NOT(ISNUMBER(O19))),"Check last contact date",IF(AND(ISNUMBER(O19),O19>TODAY()),"Check last contact date",IF(Q19="Check status","Check status",IF(Q19="Complete","Complete",IF(Q19="Closed","Closed",IF(COUNT(Assumptions!$B$4:$B$7)<4,"Check milestone assumptions",IF(Q19="Hold","On hold - review",IF(F19<TODAY(),"Past due - review",IF(TODAY()>=K19,"Decision due - review",IF(TODAY()>=J19,"Quote due - review",IF(TODAY()>=I19,"Review due - review",IF(TODAY()>=H19,"Preparation due - review","Scheduled"))))))))))))))) | T19: =IF(Assumptions!D18="","",Assumptions!D18) | U19: =IF(Assumptions!F18="","",Assumptions!F18) | V19: =IF(Assumptions!G18="","",Assumptions!G18)
H20: =IF(OR(F20="",NOT(ISNUMBER(F20)),Assumptions!$B$4="",NOT(ISNUMBER(Assumptions!$B$4))),"",IFERROR(F20-Assumptions!$B$4,"")) | I20: =IF(OR(F20="",NOT(ISNUMBER(F20)),Assumptions!$B$5="",NOT(ISNUMBER(Assumptions!$B$5))),"",IFERROR(F20-Assumptions!$B$5,"")) | J20: =IF(OR(F20="",NOT(ISNUMBER(F20)),Assumptions!$B$6="",NOT(ISNUMBER(Assumptions!$B$6))),"",IFERROR(F20-Assumptions!$B$6,"")) | K20: =IF(OR(F20="",NOT(ISNUMBER(F20)),Assumptions!$B$7="",NOT(ISNUMBER(Assumptions!$B$7))),"",IFERROR(F20-Assumptions!$B$7,"")) | P20: =IF(OR(F20="",NOT(ISNUMBER(F20))),"",IFERROR(F20-TODAY(),"")) | Q20: =IF(L20="","",IFERROR(VLOOKUP(L20,Assumptions!$D$4:$E$11,2,FALSE),"Check status")) | R20: =IF(COUNTA(A20:G20,L20:O20)=0,"",IF(OR(A20="",B20="",C20="",D20="",E20="",F20="",G20="",L20=""),"Check missing required fields",IF(NOT(ISNUMBER(F20)),"Check renewal date",IF(AND(O20<>"",NOT(ISNUMBER(O20))),"Check last contact date",IF(AND(ISNUMBER(O20),O20>TODAY()),"Check last contact date",IF(Q20="Check status","Check status",IF(Q20="Complete","Complete",IF(Q20="Closed","Closed",IF(COUNT(Assumptions!$B$4:$B$7)<4,"Check milestone assumptions",IF(Q20="Hold","On hold - review",IF(F20<TODAY(),"Past due - review",IF(TODAY()>=K20,"Decision due - review",IF(TODAY()>=J20,"Quote due - review",IF(TODAY()>=I20,"Review due - review",IF(TODAY()>=H20,"Preparation due - review","Scheduled"))))))))))))))) | T20: =IF(Assumptions!D19="","",Assumptions!D19) | U20: =IF(Assumptions!F19="","",Assumptions!F19) | V20: =IF(Assumptions!G19="","",Assumptions!G19)
H21: =IF(OR(F21="",NOT(ISNUMBER(F21)),Assumptions!$B$4="",NOT(ISNUMBER(Assumptions!$B$4))),"",IFERROR(F21-Assumptions!$B$4,"")) | I21: =IF(OR(F21="",NOT(ISNUMBER(F21)),Assumptions!$B$5="",NOT(ISNUMBER(Assumptions!$B$5))),"",IFERROR(F21-Assumptions!$B$5,"")) | J21: =IF(OR(F21="",NOT(ISNUMBER(F21)),Assumptions!$B$6="",NOT(ISNUMBER(Assumptions!$B$6))),"",IFERROR(F21-Assumptions!$B$6,"")) | K21: =IF(OR(F21="",NOT(ISNUMBER(F21)),Assumptions!$B$7="",NOT(ISNUMBER(Assumptions!$B$7))),"",IFERROR(F21-Assumptions!$B$7,"")) | P21: =IF(OR(F21="",NOT(ISNUMBER(F21))),"",IFERROR(F21-TODAY(),"")) | Q21: =IF(L21="","",IFERROR(VLOOKUP(L21,Assumptions!$D$4:$E$11,2,FALSE),"Check status")) | R21: =IF(COUNTA(A21:G21,L21:O21)=0,"",IF(OR(A21="",B21="",C21="",D21="",E21="",F21="",G21="",L21=""),"Check missing required fields",IF(NOT(ISNUMBER(F21)),"Check renewal date",IF(AND(O21<>"",NOT(ISNUMBER(O21))),"Check last contact date",IF(AND(ISNUMBER(O21),O21>TODAY()),"Check last contact date",IF(Q21="Check status","Check status",IF(Q21="Complete","Complete",IF(Q21="Closed","Closed",IF(COUNT(Assumptions!$B$4:$B$7)<4,"Check milestone assumptions",IF(Q21="Hold","On hold - review",IF(F21<TODAY(),"Past due - review",IF(TODAY()>=K21,"Decision due - review",IF(TODAY()>=J21,"Quote due - review",IF(TODAY()>=I21,"Review due - review",IF(TODAY()>=H21,"Preparation due - review","Scheduled"))))))))))))))) | T21: =IF(Assumptions!D20="","",Assumptions!D20) | U21: =IF(Assumptions!F20="","",Assumptions!F20) | V21: =IF(Assumptions!G20="","",Assumptions!G20)
H22: =IF(OR(F22="",NOT(ISNUMBER(F22)),Assumptions!$B$4="",NOT(ISNUMBER(Assumptions!$B$4))),"",IFERROR(F22-Assumptions!$B$4,"")) | I22: =IF(OR(F22="",NOT(ISNUMBER(F22)),Assumptions!$B$5="",NOT(ISNUMBER(Assumptions!$B$5))),"",IFERROR(F22-Assumptions!$B$5,"")) | J22: =IF(OR(F22="",NOT(ISNUMBER(F22)),Assumptions!$B$6="",NOT(ISNUMBER(Assumptions!$B$6))),"",IFERROR(F22-Assumptions!$B$6,"")) | K22: =IF(OR(F22="",NOT(ISNUMBER(F22)),Assumptions!$B$7="",NOT(ISNUMBER(Assumptions!$B$7))),"",IFERROR(F22-Assumptions!$B$7,"")) | P22: =IF(OR(F22="",NOT(ISNUMBER(F22))),"",IFERROR(F22-TODAY(),"")) | Q22: =IF(L22="","",IFERROR(VLOOKUP(L22,Assumptions!$D$4:$E$11,2,FALSE),"Check status")) | R22: =IF(COUNTA(A22:G22,L22:O22)=0,"",IF(OR(A22="",B22="",C22="",D22="",E22="",F22="",G22="",L22=""),"Check missing required fields",IF(NOT(ISNUMBER(F22)),"Check renewal date",IF(AND(O22<>"",NOT(ISNUMBER(O22))),"Check last contact date",IF(AND(ISNUMBER(O22),O22>TODAY()),"Check last contact date",IF(Q22="Check status","Check status",IF(Q22="Complete","Complete",IF(Q22="Closed","Closed",IF(COUNT(Assumptions!$B$4:$B$7)<4,"Check milestone assumptions",IF(Q22="Hold","On hold - review",IF(F22<TODAY(),"Past due - review",IF(TODAY()>=K22,"Decision due - review",IF(TODAY()>=J22,"Quote due - review",IF(TODAY()>=I22,"Review due - review",IF(TODAY()>=H22,"Preparation due - review","Scheduled"))))))))))))))) | T22: =IF(Assumptions!D21="","",Assumptions!D21) | U22: =IF(Assumptions!F21="","",Assumptions!F21) | V22: =IF(Assumptions!G21="","",Assumptions!G21)
H23: =IF(OR(F23="",NOT(ISNUMBER(F23)),Assumptions!$B$4="",NOT(ISNUMBER(Assumptions!$B$4))),"",IFERROR(F23-Assumptions!$B$4,"")) | I23: =IF(OR(F23="",NOT(ISNUMBER(F23)),Assumptions!$B$5="",NOT(ISNUMBER(Assumptions!$B$5))),"",IFERROR(F23-Assumptions!$B$5,"")) | J23: =IF(OR(F23="",NOT(ISNUMBER(F23)),Assumptions!$B$6="",NOT(ISNUMBER(Assumptions!$B$6))),"",IFERROR(F23-Assumptions!$B$6,"")) | K23: =IF(OR(F23="",NOT(ISNUMBER(F23)),Assumptions!$B$7="",NOT(ISNUMBER(Assumptions!$B$7))),"",IFERROR(F23-Assumptions!$B$7,"")) | P23: =IF(OR(F23="",NOT(ISNUMBER(F23))),"",IFERROR(F23-TODAY(),"")) | Q23: =IF(L23="","",IFERROR(VLOOKUP(L23,Assumptions!$D$4:$E$11,2,FALSE),"Check status")) | R23: =IF(COUNTA(A23:G23,L23:O23)=0,"",IF(OR(A23="",B23="",C23="",D23="",E23="",F23="",G23="",L23=""),"Check missing required fields",IF(NOT(ISNUMBER(F23)),"Check renewal date",IF(AND(O23<>"",NOT(ISNUMBER(O23))),"Check last contact date",IF(AND(ISNUMBER(O23),O23>TODAY()),"Check last contact date",IF(Q23="Check status","Check status",IF(Q23="Complete","Complete",IF(Q23="Closed","Closed",IF(COUNT(Assumptions!$B$4:$B$7)<4,"Check milestone assumptions",IF(Q23="Hold","On hold - review",IF(F23<TODAY(),"Past due - review",IF(TODAY()>=K23,"Decision due - review",IF(TODAY()>=J23,"Quote due - review",IF(TODAY()>=I23,"Review due - review",IF(TODAY()>=H23,"Preparation due - review","Scheduled"))))))))))))))) | T23: =IF(Assumptions!D22="","",Assumptions!D22) | U23: =IF(Assumptions!F22="","",Assumptions!F22) | V23: =IF(Assumptions!G22="","",Assumptions!G22)
H24: =IF(OR(F24="",NOT(ISNUMBER(F24)),Assumptions!$B$4="",NOT(ISNUMBER(Assumptions!$B$4))),"",IFERROR(F24-Assumptions!$B$4,"")) | I24: =IF(OR(F24="",NOT(ISNUMBER(F24)),Assumptions!$B$5="",NOT(ISNUMBER(Assumptions!$B$5))),"",IFERROR(F24-Assumptions!$B$5,"")) | J24: =IF(OR(F24="",NOT(ISNUMBER(F24)),Assumptions!$B$6="",NOT(ISNUMBER(Assumptions!$B$6))),"",IFERROR(F24-Assumptions!$B$6,"")) | K24: =IF(OR(F24="",NOT(ISNUMBER(F24)),Assumptions!$B$7="",NOT(ISNUMBER(Assumptions!$B$7))),"",IFERROR(F24-Assumptions!$B$7,"")) | P24: =IF(OR(F24="",NOT(ISNUMBER(F24))),"",IFERROR(F24-TODAY(),"")) | Q24: =IF(L24="","",IFERROR(VLOOKUP(L24,Assumptions!$D$4:$E$11,2,FALSE),"Check status")) | R24: =IF(COUNTA(A24:G24,L24:O24)=0,"",IF(OR(A24="",B24="",C24="",D24="",E24="",F24="",G24="",L24=""),"Check missing required fields",IF(NOT(ISNUMBER(F24)),"Check renewal date",IF(AND(O24<>"",NOT(ISNUMBER(O24))),"Check last contact date",IF(AND(ISNUMBER(O24),O24>TODAY()),"Check last contact date",IF(Q24="Check status","Check status",IF(Q24="Complete","Complete",IF(Q24="Closed","Closed",IF(COUNT(Assumptions!$B$4:$B$7)<4,"Check milestone assumptions",IF(Q24="Hold","On hold - review",IF(F24<TODAY(),"Past due - review",IF(TODAY()>=K24,"Decision due - review",IF(TODAY()>=J24,"Quote due - review",IF(TODAY()>=I24,"Review due - review",IF(TODAY()>=H24,"Preparation due - review","Scheduled"))))))))))))))) | T24: =IF(Assumptions!D23="","",Assumptions!D23) | U24: =IF(Assumptions!F23="","",Assumptions!F23) | V24: =IF(Assumptions!G23="","",Assumptions!G23)
H25: =IF(OR(F25="",NOT(ISNUMBER(F25)),Assumptions!$B$4="",NOT(ISNUMBER(Assumptions!$B$4))),"",IFERROR(F25-Assumptions!$B$4,"")) | I25: =IF(OR(F25="",NOT(ISNUMBER(F25)),Assumptions!$B$5="",NOT(ISNUMBER(Assumptions!$B$5))),"",IFERROR(F25-Assumptions!$B$5,"")) | J25: =IF(OR(F25="",NOT(ISNUMBER(F25)),Assumptions!$B$6="",NOT(ISNUMBER(Assumptions!$B$6))),"",IFERROR(F25-Assumptions!$B$6,"")) | K25: =IF(OR(F25="",NOT(ISNUMBER(F25)),Assumptions!$B$7="",NOT(ISNUMBER(Assumptions!$B$7))),"",IFERROR(F25-Assumptions!$B$7,"")) | P25: =IF(OR(F25="",NOT(ISNUMBER(F25))),"",IFERROR(F25-TODAY(),"")) | Q25: =IF(L25="","",IFERROR(VLOOKUP(L25,Assumptions!$D$4:$E$11,2,FALSE),"Check status")) | R25: =IF(COUNTA(A25:G25,L25:O25)=0,"",IF(OR(A25="",B25="",C25="",D25="",E25="",F25="",G25="",L25=""),"Check missing required fields",IF(NOT(ISNUMBER(F25)),"Check renewal date",IF(AND(O25<>"",NOT(ISNUMBER(O25))),"Check last contact date",IF(AND(ISNUMBER(O25),O25>TODAY()),"Check last contact date",IF(Q25="Check status","Check status",IF(Q25="Complete","Complete",IF(Q25="Closed","Closed",IF(COUNT(Assumptions!$B$4:$B$7)<4,"Check milestone assumptions",IF(Q25="Hold","On hold - review",IF(F25<TODAY(),"Past due - review",IF(TODAY()>=K25,"Decision due - review",IF(TODAY()>=J25,"Quote due - review",IF(TODAY()>=I25,"Review due - review",IF(TODAY()>=H25,"Preparation due - review","Scheduled"))))))))))))))) | T25: =IF(Assumptions!D24="","",Assumptions!D24) | U25: =IF(Assumptions!F24="","",Assumptions!F24) | V25: =IF(Assumptions!G24="","",Assumptions!G24)
H26: =IF(OR(F26="",NOT(ISNUMBER(F26)),Assumptions!$B$4="",NOT(ISNUMBER(Assumptions!$B$4))),"",IFERROR(F26-Assumptions!$B$4,"")) | I26: =IF(OR(F26="",NOT(ISNUMBER(F26)),Assumptions!$B$5="",NOT(ISNUMBER(Assumptions!$B$5))),"",IFERROR(F26-Assumptions!$B$5,"")) | J26: =IF(OR(F26="",NOT(ISNUMBER(F26)),Assumptions!$B$6="",NOT(ISNUMBER(Assumptions!$B$6))),"",IFERROR(F26-Assumptions!$B$6,"")) | K26: =IF(OR(F26="",NOT(ISNUMBER(F26)),Assumptions!$B$7="",NOT(ISNUMBER(Assumptions!$B$7))),"",IFERROR(F26-Assumptions!$B$7,"")) | P26: =IF(OR(F26="",NOT(ISNUMBER(F26))),"",IFERROR(F26-TODAY(),"")) | Q26: =IF(L26="","",IFERROR(VLOOKUP(L26,Assumptions!$D$4:$E$11,2,FALSE),"Check status")) | R26: =IF(COUNTA(A26:G26,L26:O26)=0,"",IF(OR(A26="",B26="",C26="",D26="",E26="",F26="",G26="",L26=""),"Check missing required fields",IF(NOT(ISNUMBER(F26)),"Check renewal date",IF(AND(O26<>"",NOT(ISNUMBER(O26))),"Check last contact date",IF(AND(ISNUMBER(O26),O26>TODAY()),"Check last contact date",IF(Q26="Check status","Check status",IF(Q26="Complete","Complete",IF(Q26="Closed","Closed",IF(COUNT(Assumptions!$B$4:$B$7)<4,"Check milestone assumptions",IF(Q26="Hold","On hold - review",IF(F26<TODAY(),"Past due - review",IF(TODAY()>=K26,"Decision due - review",IF(TODAY()>=J26,"Quote due - review",IF(TODAY()>=I26,"Review due - review",IF(TODAY()>=H26,"Preparation due - review","Scheduled"))))))))))))))) | T26: =IF(Assumptions!D25="","",Assumptions!D25) | U26: =IF(Assumptions!F25="","",Assumptions!F25) | V26: =IF(Assumptions!G25="","",Assumptions!G25)
... H104: =IF(OR(F104="",NOT(ISNUMBER(F104)),Assumptions!$B$4="",NOT(ISNUMBER(Assumptions!$B$4))),"",IFERROR(F104-Assumptions!$B$4,"")) | I104: =IF(OR(F104="",NOT(ISNUMBER(F104)),Assumptions!$B$5="",NOT(ISNUMBER(Assumptions!$B$5))),"",IFERROR(F104-Assumptions!$B$5,"")) | J104: =IF(OR(F104="",NOT(ISNUMBER(F104)),Assumptions!$B$6="",NOT(ISNUMBER(Assumptions!$B$6))),"",IFERROR(F104-Assumptions!$B$6,"")) | K104: =IF(OR(F104="",NOT(ISNUMBER(F104)),Assumptions!$B$7="",NOT(ISNUMBER(Assumptions!$B$7))),"",IFERROR(F104-Assumptions!$B$7,"")) | P104: =IF(OR(F104="",NOT(ISNUMBER(F104))),"",IFERROR(F104-TODAY(),"")) | Q104: =IF(L104="","",IFERROR(VLOOKUP(L104,Assumptions!$D$4:$E$11,2,FALSE),"Check status")) | R104: =IF(COUNTA(A104:G104,L104:O104)=0,"",IF(OR(A104="",B104="",C104="",D104="",E104="",F104="",G104="",L104=""),"Check missing required fields",IF(NOT(ISNUMBER(F104)),"Check renewal date",IF(AND(O104<>"",NOT(ISNUMBER(O104))),"Check last contact date",IF(AND(ISNUMBER(O104),O104>TODAY()),"Check last contact date",IF(Q104="Check status","Check status",IF(Q104="Complete","Complete",IF(Q104="Closed","Closed",IF(COUNT(Assumptions!$B$4:$B$7)<4,"Check milestone assumptions",IF(Q104="Hold","On hold - review",IF(F104<TODAY(),"Past due - review",IF(TODAY()>=K104,"Decision due - review",IF(TODAY()>=J104,"Quote due - review",IF(TODAY()>=I104,"Review due - review",IF(TODAY()>=H104,"Preparation due - review","Scheduled"))))))))))))))) | T104: =IF(Assumptions!D103="","",Assumptions!D103) | U104: =IF(Assumptions!F103="","",Assumptions!F103) | V104: =IF(Assumptions!G103="","",Assumptions!G103)

Sheet Assumptions
A1: Renewal Calendar Assumptions
A2: Edit yellow cells to maintain planning intervals and stable choices.
A3: Timing Setting | B3: Days | C3: Administrative Use | D3: Status | E3: Status Group | F3: Line of Business | G3: Owner
A4: Preparation lead days | B4: 90 | C4: Sets the preparation start date before renewal. | D4: Planned | E4: Open | F4: Personal Auto | G4: Fictional Owner Rowan
A5: Review lead days | B5: 45 | C5: Sets the internal review milestone before renewal. | D5: Outreach Started | E5: Open | F5: Homeowners | G5: Fictional Owner Sage
A6: Quote lead days | B6: 21 | C6: Sets the quote review milestone before renewal. | D6: Reviewing | E6: Open | F6: Umbrella | G6: Fictional Owner Ellis
A7: Client decision lead days | B7: 7 | C7: Sets the decision milestone before renewal. | D7: Quoting | E7: Open | F7: General Liability | G7: Fictional Owner Quinn
A8: Near-term summary window days | B8: 30 | C8: Sets the first upcoming-renewal summary window. | D8: Awaiting Client | E8: Open | F8: Commercial Auto
A9: Extended summary window days | B9: 90 | C9: Sets the second upcoming-renewal summary window. | D9: Renewed | E9: Complete | F9: Workers Compensation
D10: Not Renewing | E10: Closed | F10: Businessowners
D11: On Hold | E11: Hold | F11: Professional Liability
F12: Cyber
F13: Inland Marine
