Workbook

Sheet Summary
A1: Insurance Renewal Premium Forecast
A2: Administrative forecast based only on entered renewal records and editable assumptions. Verify entries before agency use; this workbook does not provide coverage advice.
A4: As-of Date | B4: =Assumptions!$I$5 | D4: Forecast Horizon (Days) | E4: =Assumptions!$I$6 | G4: Due-Soon Window (Days) | H4: =Assumptions!$I$7
A6: Policies in Horizon | B6: =COUNTIFS('Renewal Forecast'!$A$5:$A$104,"<>",'Renewal Forecast'!$F$5:$F$104,">="&$B$4,'Renewal Forecast'!$F$5:$F$104,"<="&($B$4+$E$4)) | D6: Forecast-Ready Policies | E6: =COUNTIFS('Renewal Forecast'!$P$5:$P$104,"Yes",'Renewal Forecast'!$F$5:$F$104,">="&$B$4,'Renewal Forecast'!$F$5:$F$104,"<="&($B$4+$E$4)) | G6: Open Review Alerts | H6: =COUNTIF('Renewal Forecast'!$Q$5:$Q$104,"Review:*")
A9: Current Premium, Forecast-Ready | B9: =SUMIFS('Renewal Forecast'!$E$5:$E$104,'Renewal Forecast'!$P$5:$P$104,"Yes",'Renewal Forecast'!$F$5:$F$104,">="&$B$4,'Renewal Forecast'!$F$5:$F$104,"<="&($B$4+$E$4)) | D9: Forecast Renewal Premium | E9: =SUMIFS('Renewal Forecast'!$M$5:$M$104,'Renewal Forecast'!$P$5:$P$104,"Yes",'Renewal Forecast'!$F$5:$F$104,">="&$B$4,'Renewal Forecast'!$F$5:$F$104,"<="&($B$4+$E$4)) | G9: Weighted Forecast, Entered Likelihood | H9: =SUMIFS('Renewal Forecast'!$N$5:$N$104,'Renewal Forecast'!$P$5:$P$104,"Yes",'Renewal Forecast'!$F$5:$F$104,">="&$B$4,'Renewal Forecast'!$F$5:$F$104,"<="&($B$4+$E$4))
A12: Forecast Change | B12: =IF($E$6=0,"",$E$9-$B$9) | D12: Forecast Change % | E12: =IFERROR(IF($E$6=0,"",$E$9/$B$9-1),"") | G12: Policies Due Soon | H12: =COUNTIFS('Renewal Forecast'!$A$5:$A$104,"<>",'Renewal Forecast'!$F$5:$F$104,">="&$B$4,'Renewal Forecast'!$F$5:$F$104,"<="&($B$4+$H$4),'Renewal Forecast'!$K$5:$K$104,"<>Renewed",'Renewal Forecast'!$K$5:$K$104,"<>Lost")
A15: Premium by Line
A16: Line of Business | B16: Current Premium | C16: Forecast Premium | D16: Weighted Forecast
A17: =Assumptions!$A$5 | B17: =SUMIFS('Renewal Forecast'!$E$5:$E$104,'Renewal Forecast'!$D$5:$D$104,$A17,'Renewal Forecast'!$P$5:$P$104,"Yes",'Renewal Forecast'!$F$5:$F$104,">="&$B$4,'Renewal Forecast'!$F$5:$F$104,"<="&($B$4+$E$4)) | C17: =SUMIFS('Renewal Forecast'!$M$5:$M$104,'Renewal Forecast'!$D$5:$D$104,$A17,'Renewal Forecast'!$P$5:$P$104,"Yes",'Renewal Forecast'!$F$5:$F$104,">="&$B$4,'Renewal Forecast'!$F$5:$F$104,"<="&($B$4+$E$4)) | D17: =SUMIFS('Renewal Forecast'!$N$5:$N$104,'Renewal Forecast'!$D$5:$D$104,$A17,'Renewal Forecast'!$P$5:$P$104,"Yes",'Renewal Forecast'!$F$5:$F$104,">="&$B$4,'Renewal Forecast'!$F$5:$F$104,"<="&($B$4+$E$4))
A18: =Assumptions!$A$6 | B18: =SUMIFS('Renewal Forecast'!$E$5:$E$104,'Renewal Forecast'!$D$5:$D$104,$A18,'Renewal Forecast'!$P$5:$P$104,"Yes",'Renewal Forecast'!$F$5:$F$104,">="&$B$4,'Renewal Forecast'!$F$5:$F$104,"<="&($B$4+$E$4)) | C18: =SUMIFS('Renewal Forecast'!$M$5:$M$104,'Renewal Forecast'!$D$5:$D$104,$A18,'Renewal Forecast'!$P$5:$P$104,"Yes",'Renewal Forecast'!$F$5:$F$104,">="&$B$4,'Renewal Forecast'!$F$5:$F$104,"<="&($B$4+$E$4)) | D18: =SUMIFS('Renewal Forecast'!$N$5:$N$104,'Renewal Forecast'!$D$5:$D$104,$A18,'Renewal Forecast'!$P$5:$P$104,"Yes",'Renewal Forecast'!$F$5:$F$104,">="&$B$4,'Renewal Forecast'!$F$5:$F$104,"<="&($B$4+$E$4))
A19: =Assumptions!$A$7 | B19: =SUMIFS('Renewal Forecast'!$E$5:$E$104,'Renewal Forecast'!$D$5:$D$104,$A19,'Renewal Forecast'!$P$5:$P$104,"Yes",'Renewal Forecast'!$F$5:$F$104,">="&$B$4,'Renewal Forecast'!$F$5:$F$104,"<="&($B$4+$E$4)) | C19: =SUMIFS('Renewal Forecast'!$M$5:$M$104,'Renewal Forecast'!$D$5:$D$104,$A19,'Renewal Forecast'!$P$5:$P$104,"Yes",'Renewal Forecast'!$F$5:$F$104,">="&$B$4,'Renewal Forecast'!$F$5:$F$104,"<="&($B$4+$E$4)) | D19: =SUMIFS('Renewal Forecast'!$N$5:$N$104,'Renewal Forecast'!$D$5:$D$104,$A19,'Renewal Forecast'!$P$5:$P$104,"Yes",'Renewal Forecast'!$F$5:$F$104,">="&$B$4,'Renewal Forecast'!$F$5:$F$104,"<="&($B$4+$E$4))
A20: =Assumptions!$A$8 | B20: =SUMIFS('Renewal Forecast'!$E$5:$E$104,'Renewal Forecast'!$D$5:$D$104,$A20,'Renewal Forecast'!$P$5:$P$104,"Yes",'Renewal Forecast'!$F$5:$F$104,">="&$B$4,'Renewal Forecast'!$F$5:$F$104,"<="&($B$4+$E$4)) | C20: =SUMIFS('Renewal Forecast'!$M$5:$M$104,'Renewal Forecast'!$D$5:$D$104,$A20,'Renewal Forecast'!$P$5:$P$104,"Yes",'Renewal Forecast'!$F$5:$F$104,">="&$B$4,'Renewal Forecast'!$F$5:$F$104,"<="&($B$4+$E$4)) | D20: =SUMIFS('Renewal Forecast'!$N$5:$N$104,'Renewal Forecast'!$D$5:$D$104,$A20,'Renewal Forecast'!$P$5:$P$104,"Yes",'Renewal Forecast'!$F$5:$F$104,">="&$B$4,'Renewal Forecast'!$F$5:$F$104,"<="&($B$4+$E$4))
A21: =Assumptions!$A$9 | B21: =SUMIFS('Renewal Forecast'!$E$5:$E$104,'Renewal Forecast'!$D$5:$D$104,$A21,'Renewal Forecast'!$P$5:$P$104,"Yes",'Renewal Forecast'!$F$5:$F$104,">="&$B$4,'Renewal Forecast'!$F$5:$F$104,"<="&($B$4+$E$4)) | C21: =SUMIFS('Renewal Forecast'!$M$5:$M$104,'Renewal Forecast'!$D$5:$D$104,$A21,'Renewal Forecast'!$P$5:$P$104,"Yes",'Renewal Forecast'!$F$5:$F$104,">="&$B$4,'Renewal Forecast'!$F$5:$F$104,"<="&($B$4+$E$4)) | D21: =SUMIFS('Renewal Forecast'!$N$5:$N$104,'Renewal Forecast'!$D$5:$D$104,$A21,'Renewal Forecast'!$P$5:$P$104,"Yes",'Renewal Forecast'!$F$5:$F$104,">="&$B$4,'Renewal Forecast'!$F$5:$F$104,"<="&($B$4+$E$4))
A22: =Assumptions!$A$10 | B22: =SUMIFS('Renewal Forecast'!$E$5:$E$104,'Renewal Forecast'!$D$5:$D$104,$A22,'Renewal Forecast'!$P$5:$P$104,"Yes",'Renewal Forecast'!$F$5:$F$104,">="&$B$4,'Renewal Forecast'!$F$5:$F$104,"<="&($B$4+$E$4)) | C22: =SUMIFS('Renewal Forecast'!$M$5:$M$104,'Renewal Forecast'!$D$5:$D$104,$A22,'Renewal Forecast'!$P$5:$P$104,"Yes",'Renewal Forecast'!$F$5:$F$104,">="&$B$4,'Renewal Forecast'!$F$5:$F$104,"<="&($B$4+$E$4)) | D22: =SUMIFS('Renewal Forecast'!$N$5:$N$104,'Renewal Forecast'!$D$5:$D$104,$A22,'Renewal Forecast'!$P$5:$P$104,"Yes",'Renewal Forecast'!$F$5:$F$104,">="&$B$4,'Renewal Forecast'!$F$5:$F$104,"<="&($B$4+$E$4))
A25: Status Snapshot
A26: Status | B26: Policies in Horizon
A27: =Assumptions!$D$5 | B27: =COUNTIFS('Renewal Forecast'!$K$5:$K$104,$A27,'Renewal Forecast'!$F$5:$F$104,">="&$B$4,'Renewal Forecast'!$F$5:$F$104,"<="&($B$4+$E$4))
A28: =Assumptions!$D$6 | B28: =COUNTIFS('Renewal Forecast'!$K$5:$K$104,$A28,'Renewal Forecast'!$F$5:$F$104,">="&$B$4,'Renewal Forecast'!$F$5:$F$104,"<="&($B$4+$E$4))
A29: =Assumptions!$D$7 | B29: =COUNTIFS('Renewal Forecast'!$K$5:$K$104,$A29,'Renewal Forecast'!$F$5:$F$104,">="&$B$4,'Renewal Forecast'!$F$5:$F$104,"<="&($B$4+$E$4))
A30: =Assumptions!$D$8 | B30: =COUNTIFS('Renewal Forecast'!$K$5:$K$104,$A30,'Renewal Forecast'!$F$5:$F$104,">="&$B$4,'Renewal Forecast'!$F$5:$F$104,"<="&($B$4+$E$4))
A31: =Assumptions!$D$9 | B31: =COUNTIFS('Renewal Forecast'!$K$5:$K$104,$A31,'Renewal Forecast'!$F$5:$F$104,">="&$B$4,'Renewal Forecast'!$F$5:$F$104,"<="&($B$4+$E$4))
A32: =Assumptions!$D$10 | B32: =COUNTIFS('Renewal Forecast'!$K$5:$K$104,$A32,'Renewal Forecast'!$F$5:$F$104,">="&$B$4,'Renewal Forecast'!$F$5:$F$104,"<="&($B$4+$E$4))
A34: Forecast-ready means the row has valid premium, renewal date, applied change, forecast premium, and retention likelihood entries.

Sheet Renewal Forecast
A1: Renewal Forecast Records
A2: Enter administrative renewal details in the shaded cells. Calculated fields and review alerts cover all 100 prepared rows and require human verification.
A4: Forecast ID | B4: Client Alias | C4: Policy Reference | D4: Line of Business | E4: Current Premium | F4: Renewal Date | G4: Expected Change % | H4: Adjustment Basis | I4: Retention Likelihood % | J4: Owner | K4: Status | L4: Applied Change % | M4: Forecast Premium | N4: Weighted Forecast | O4: Days to Renewal | P4: Forecast Ready | Q4: Review Alert | R4: Notes
A5: RF-SAMPLE-001 | B5: Harbor Lantern Demo LLC (Fictional) | C5: SAMPLE-POL-001 | D5: General Liability | E5: 12500 | F5: 46296 | H5: Default by Line | I5: 0.85 | J5: Avery Sample (Fictional) | K5: In Review | L5: =IF($A5="","",IF($H5="Manual",IF($G5="","",$G5),IF($H5="Default by Line",IFERROR(VLOOKUP($D5,Assumptions!$A$5:$B$10,2,FALSE),""),""))) | M5: =IF(OR($A5="",$E5="",$L5=""),"",IFERROR($E5*(1+$L5),"")) | N5: =IF(OR($A5="",$M5="",$I5=""),"",IFERROR($M5*$I5,"")) | O5: =IF(OR($A5="",$F5=""),"",IFERROR($F5-Assumptions!$I$5,"")) | P5: =IF($A5="","",IF(AND(ISNUMBER($E5),ISNUMBER($F5),ISNUMBER($L5),ISNUMBER($M5),ISNUMBER($I5)),"Yes","No")) | Q5: =IF($A5="","",IF($E5="","Review: enter current premium",IF($F5="","Review: enter renewal date",IF($D5="","Review: select line",IF($H5="","Review: select adjustment basis",IF(AND($H5="Manual",$G5=""),"Review: enter manual change",IF($I5="","Review: enter retention likelihood",IF($L5="","Review: check line assumption",IF(OR($K5="Renewed",$K5="Lost"),"",IF($O5<0,"Review: renewal date passed",IF($L5>=Assumptions!$I$8,"Review: large increase",IF($O5<=Assumptions!$I$7,"Review: due soon","")))))))))))) | R5: Illustrative administrative renewal record.
A6: RF-SAMPLE-002 | B6: Maple Comet Sample Family (Fictional) | C6: SAMPLE-POL-002 | D6: Personal Auto | E6: 2450 | F6: 46321 | G6: 0.15 | H6: Manual | I6: 0.8 | J6: Riley Demo (Fictional) | K6: Quoted | L6: =IF($A6="","",IF($H6="Manual",IF($G6="","",$G6),IF($H6="Default by Line",IFERROR(VLOOKUP($D6,Assumptions!$A$5:$B$10,2,FALSE),""),""))) | M6: =IF(OR($A6="",$E6="",$L6=""),"",IFERROR($E6*(1+$L6),"")) | N6: =IF(OR($A6="",$M6="",$I6=""),"",IFERROR($M6*$I6,"")) | O6: =IF(OR($A6="",$F6=""),"",IFERROR($F6-Assumptions!$I$5,"")) | P6: =IF($A6="","",IF(AND(ISNUMBER($E6),ISNUMBER($F6),ISNUMBER($L6),ISNUMBER($M6),ISNUMBER($I6)),"Yes","No")) | Q6: =IF($A6="","",IF($E6="","Review: enter current premium",IF($F6="","Review: enter renewal date",IF($D6="","Review: select line",IF($H6="","Review: select adjustment basis",IF(AND($H6="Manual",$G6=""),"Review: enter manual change",IF($I6="","Review: enter retention likelihood",IF($L6="","Review: check line assumption",IF(OR($K6="Renewed",$K6="Lost"),"",IF($O6<0,"Review: renewal date passed",IF($L6>=Assumptions!$I$8,"Review: large increase",IF($O6<=Assumptions!$I$7,"Review: due soon","")))))))))))) | R6: Manual increase equals the alert threshold.
A7: RF-SAMPLE-003 | B7: Blue Acorn Example Household (Fictional) | C7: SAMPLE-POL-003 | D7: Homeowners | E7: 3650 | F7: 46368 | H7: Default by Line | I7: 0.9 | J7: Morgan Fiction (Fictional) | K7: Planned | L7: =IF($A7="","",IF($H7="Manual",IF($G7="","",$G7),IF($H7="Default by Line",IFERROR(VLOOKUP($D7,Assumptions!$A$5:$B$10,2,FALSE),""),""))) | M7: =IF(OR($A7="",$E7="",$L7=""),"",IFERROR($E7*(1+$L7),"")) | N7: =IF(OR($A7="",$M7="",$I7=""),"",IFERROR($M7*$I7,"")) | O7: =IF(OR($A7="",$F7=""),"",IFERROR($F7-Assumptions!$I$5,"")) | P7: =IF($A7="","",IF(AND(ISNUMBER($E7),ISNUMBER($F7),ISNUMBER($L7),ISNUMBER($M7),ISNUMBER($I7)),"Yes","No")) | Q7: =IF($A7="","",IF($E7="","Review: enter current premium",IF($F7="","Review: enter renewal date",IF($D7="","Review: select line",IF($H7="","Review: select adjustment basis",IF(AND($H7="Manual",$G7=""),"Review: enter manual change",IF($I7="","Review: enter retention likelihood",IF($L7="","Review: check line assumption",IF(OR($K7="Renewed",$K7="Lost"),"",IF($O7<0,"Review: renewal date passed",IF($L7>=Assumptions!$I$8,"Review: large increase",IF($O7<=Assumptions!$I$7,"Review: due soon","")))))))))))) | R7: Illustrative household renewal record.
A8: RF-SAMPLE-004 | B8: Copper Kite Test Works LLC (Fictional) | C8: SAMPLE-POL-004 | D8: Commercial Property | E8: 18750 | F8: 46456 | H8: Default by Line | I8: 0.75 | J8: Taylor Example (Fictional) | K8: Planned | L8: =IF($A8="","",IF($H8="Manual",IF($G8="","",$G8),IF($H8="Default by Line",IFERROR(VLOOKUP($D8,Assumptions!$A$5:$B$10,2,FALSE),""),""))) | M8: =IF(OR($A8="",$E8="",$L8=""),"",IFERROR($E8*(1+$L8),"")) | N8: =IF(OR($A8="",$M8="",$I8=""),"",IFERROR($M8*$I8,"")) | O8: =IF(OR($A8="",$F8=""),"",IFERROR($F8-Assumptions!$I$5,"")) | P8: =IF($A8="","",IF(AND(ISNUMBER($E8),ISNUMBER($F8),ISNUMBER($L8),ISNUMBER($M8),ISNUMBER($I8)),"Yes","No")) | Q8: =IF($A8="","",IF($E8="","Review: enter current premium",IF($F8="","Review: enter renewal date",IF($D8="","Review: select line",IF($H8="","Review: select adjustment basis",IF(AND($H8="Manual",$G8=""),"Review: enter manual change",IF($I8="","Review: enter retention likelihood",IF($L8="","Review: check line assumption",IF(OR($K8="Renewed",$K8="Lost"),"",IF($O8<0,"Review: renewal date passed",IF($L8>=Assumptions!$I$8,"Review: large increase",IF($O8<=Assumptions!$I$7,"Review: due soon","")))))))))))) | R8: Renewal date is exactly at the forecast horizon.
A9: RF-SAMPLE-005 | B9: Silver Teacup Demo Studio LLC (Fictional) | C9: SAMPLE-POL-005 | D9: Businessowners | E9: 5400 | F9: 46271 | H9: Default by Line | I9: 0.65 | J9: Avery Sample (Fictional) | K9: In Review | L9: =IF($A9="","",IF($H9="Manual",IF($G9="","",$G9),IF($H9="Default by Line",IFERROR(VLOOKUP($D9,Assumptions!$A$5:$B$10,2,FALSE),""),""))) | M9: =IF(OR($A9="",$E9="",$L9=""),"",IFERROR($E9*(1+$L9),"")) | N9: =IF(OR($A9="",$M9="",$I9=""),"",IFERROR($M9*$I9,"")) | O9: =IF(OR($A9="",$F9=""),"",IFERROR($F9-Assumptions!$I$5,"")) | P9: =IF($A9="","",IF(AND(ISNUMBER($E9),ISNUMBER($F9),ISNUMBER($L9),ISNUMBER($M9),ISNUMBER($I9)),"Yes","No")) | Q9: =IF($A9="","",IF($E9="","Review: enter current premium",IF($F9="","Review: enter renewal date",IF($D9="","Review: select line",IF($H9="","Review: select adjustment basis",IF(AND($H9="Manual",$G9=""),"Review: enter manual change",IF($I9="","Review: enter retention likelihood",IF($L9="","Review: check line assumption",IF(OR($K9="Renewed",$K9="Lost"),"",IF($O9<0,"Review: renewal date passed",IF($L9>=Assumptions!$I$8,"Review: large increase",IF($O9<=Assumptions!$I$7,"Review: due soon","")))))))))))) | R9: Past renewal date is retained to test the review alert.
A10: RF-SAMPLE-006 | B10: Juniper Rocket Sample Services LLC (Fictional) | C10: SAMPLE-POL-006 | D10: Workers Compensation | E10: 22800 | F10: 46306 | G10: -0.03 | H10: Manual | I10: 0.7 | J10: Riley Demo (Fictional) | K10: Waiting on Client | L10: =IF($A10="","",IF($H10="Manual",IF($G10="","",$G10),IF($H10="Default by Line",IFERROR(VLOOKUP($D10,Assumptions!$A$5:$B$10,2,FALSE),""),""))) | M10: =IF(OR($A10="",$E10="",$L10=""),"",IFERROR($E10*(1+$L10),"")) | N10: =IF(OR($A10="",$M10="",$I10=""),"",IFERROR($M10*$I10,"")) | O10: =IF(OR($A10="",$F10=""),"",IFERROR($F10-Assumptions!$I$5,"")) | P10: =IF($A10="","",IF(AND(ISNUMBER($E10),ISNUMBER($F10),ISNUMBER($L10),ISNUMBER($M10),ISNUMBER($I10)),"Yes","No")) | Q10: =IF($A10="","",IF($E10="","Review: enter current premium",IF($F10="","Review: enter renewal date",IF($D10="","Review: select line",IF($H10="","Review: select adjustment basis",IF(AND($H10="Manual",$G10=""),"Review: enter manual change",IF($I10="","Review: enter retention likelihood",IF($L10="","Review: check line assumption",IF(OR($K10="Renewed",$K10="Lost"),"",IF($O10<0,"Review: renewal date passed",IF($L10>=Assumptions!$I$8,"Review: large increase",IF($O10<=Assumptions!$I$7,"Review: due soon","")))))))))))) | R10: Illustrative manual decrease.
A11: RF-SAMPLE-007 | B11: Golden Umbrella Example Shop LLC (Fictional) | C11: SAMPLE-POL-007 | D11: Businessowners | E11: 6100 | F11: 46336 | H11: Default by Line | I11: 1 | J11: Morgan Fiction (Fictional) | K11: Renewed | L11: =IF($A11="","",IF($H11="Manual",IF($G11="","",$G11),IF($H11="Default by Line",IFERROR(VLOOKUP($D11,Assumptions!$A$5:$B$10,2,FALSE),""),""))) | M11: =IF(OR($A11="",$E11="",$L11=""),"",IFERROR($E11*(1+$L11),"")) | N11: =IF(OR($A11="",$M11="",$I11=""),"",IFERROR($M11*$I11,"")) | O11: =IF(OR($A11="",$F11=""),"",IFERROR($F11-Assumptions!$I$5,"")) | P11: =IF($A11="","",IF(AND(ISNUMBER($E11),ISNUMBER($F11),ISNUMBER($L11),ISNUMBER($M11),ISNUMBER($I11)),"Yes","No")) | Q11: =IF($A11="","",IF($E11="","Review: enter current premium",IF($F11="","Review: enter renewal date",IF($D11="","Review: select line",IF($H11="","Review: select adjustment basis",IF(AND($H11="Manual",$G11=""),"Review: enter manual change",IF($I11="","Review: enter retention likelihood",IF($L11="","Review: check line assumption",IF(OR($K11="Renewed",$K11="Lost"),"",IF($O11<0,"Review: renewal date passed",IF($L11>=Assumptions!$I$8,"Review: large increase",IF($O11<=Assumptions!$I$7,"Review: due soon","")))))))))))) | R11: Completed fictional renewal used for status testing.
A12: RF-SAMPLE-008 | B12: Crimson Meadow Demo LLC (Fictional) | C12: SAMPLE-POL-008 | D12: General Liability | E12: 9800 | F12: 46396 | G12: 0 | H12: Manual | I12: 0.6 | J12: Taylor Example (Fictional) | K12: Quoted | L12: =IF($A12="","",IF($H12="Manual",IF($G12="","",$G12),IF($H12="Default by Line",IFERROR(VLOOKUP($D12,Assumptions!$A$5:$B$10,2,FALSE),""),""))) | M12: =IF(OR($A12="",$E12="",$L12=""),"",IFERROR($E12*(1+$L12),"")) | N12: =IF(OR($A12="",$M12="",$I12=""),"",IFERROR($M12*$I12,"")) | O12: =IF(OR($A12="",$F12=""),"",IFERROR($F12-Assumptions!$I$5,"")) | P12: =IF($A12="","",IF(AND(ISNUMBER($E12),ISNUMBER($F12),ISNUMBER($L12),ISNUMBER($M12),ISNUMBER($I12)),"Yes","No")) | Q12: =IF($A12="","",IF($E12="","Review: enter current premium",IF($F12="","Review: enter renewal date",IF($D12="","Review: select line",IF($H12="","Review: select adjustment basis",IF(AND($H12="Manual",$G12=""),"Review: enter manual change",IF($I12="","Review: enter retention likelihood",IF($L12="","Review: check line assumption",IF(OR($K12="Renewed",$K12="Lost"),"",IF($O12<0,"Review: renewal date passed",IF($L12>=Assumptions!$I$8,"Review: large increase",IF($O12<=Assumptions!$I$7,"Review: due soon","")))))))))))) | R12: Manual change is zero percent.
A13: RF-SAMPLE-009 | B13: Moonlit Compass Sample Family (Fictional) | C13: SAMPLE-POL-009 | D13: Personal Auto | E13: 1950 | F13: 46476 | H13: Default by Line | I13: 0.88 | J13: Avery Sample (Fictional) | K13: Planned | L13: =IF($A13="","",IF($H13="Manual",IF($G13="","",$G13),IF($H13="Default by Line",IFERROR(VLOOKUP($D13,Assumptions!$A$5:$B$10,2,FALSE),""),""))) | M13: =IF(OR($A13="",$E13="",$L13=""),"",IFERROR($E13*(1+$L13),"")) | N13: =IF(OR($A13="",$M13="",$I13=""),"",IFERROR($M13*$I13,"")) | O13: =IF(OR($A13="",$F13=""),"",IFERROR($F13-Assumptions!$I$5,"")) | P13: =IF($A13="","",IF(AND(ISNUMBER($E13),ISNUMBER($F13),ISNUMBER($L13),ISNUMBER($M13),ISNUMBER($I13)),"Yes","No")) | Q13: =IF($A13="","",IF($E13="","Review: enter current premium",IF($F13="","Review: enter renewal date",IF($D13="","Review: select line",IF($H13="","Review: select adjustment basis",IF(AND($H13="Manual",$G13=""),"Review: enter manual change",IF($I13="","Review: enter retention likelihood",IF($L13="","Review: check line assumption",IF(OR($K13="Renewed",$K13="Lost"),"",IF($O13<0,"Review: renewal date passed",IF($L13>=Assumptions!$I$8,"Review: large increase",IF($O13<=Assumptions!$I$7,"Review: due soon","")))))))))))) | R13: Renewal falls outside the current forecast horizon.
A14: RF-SAMPLE-010 | B14: Velvet Pine Test Manufacturing LLC (Fictional) | C14: SAMPLE-POL-010 | D14: Commercial Property | E14: 33100 | F14: 46286 | G14: 0.18 | H14: Manual | I14: 0.7 | J14: Riley Demo (Fictional) | K14: In Review | L14: =IF($A14="","",IF($H14="Manual",IF($G14="","",$G14),IF($H14="Default by Line",IFERROR(VLOOKUP($D14,Assumptions!$A$5:$B$10,2,FALSE),""),""))) | M14: =IF(OR($A14="",$E14="",$L14=""),"",IFERROR($E14*(1+$L14),"")) | N14: =IF(OR($A14="",$M14="",$I14=""),"",IFERROR($M14*$I14,"")) | O14: =IF(OR($A14="",$F14=""),"",IFERROR($F14-Assumptions!$I$5,"")) | P14: =IF($A14="","",IF(AND(ISNUMBER($E14),ISNUMBER($F14),ISNUMBER($L14),ISNUMBER($M14),ISNUMBER($I14)),"Yes","No")) | Q14: =IF($A14="","",IF($E14="","Review: enter current premium",IF($F14="","Review: enter renewal date",IF($D14="","Review: select line",IF($H14="","Review: select adjustment basis",IF(AND($H14="Manual",$G14=""),"Review: enter manual change",IF($I14="","Review: enter retention likelihood",IF($L14="","Review: check line assumption",IF(OR($K14="Renewed",$K14="Lost"),"",IF($O14<0,"Review: renewal date passed",IF($L14>=Assumptions!$I$8,"Review: large increase",IF($O14<=Assumptions!$I$7,"Review: due soon","")))))))))))) | R14: Illustrative manual increase above the alert threshold.
L15: =IF($A15="","",IF($H15="Manual",IF($G15="","",$G15),IF($H15="Default by Line",IFERROR(VLOOKUP($D15,Assumptions!$A$5:$B$10,2,FALSE),""),""))) | M15: =IF(OR($A15="",$E15="",$L15=""),"",IFERROR($E15*(1+$L15),"")) | N15: =IF(OR($A15="",$M15="",$I15=""),"",IFERROR($M15*$I15,"")) | O15: =IF(OR($A15="",$F15=""),"",IFERROR($F15-Assumptions!$I$5,"")) | P15: =IF($A15="","",IF(AND(ISNUMBER($E15),ISNUMBER($F15),ISNUMBER($L15),ISNUMBER($M15),ISNUMBER($I15)),"Yes","No")) | Q15: =IF($A15="","",IF($E15="","Review: enter current premium",IF($F15="","Review: enter renewal date",IF($D15="","Review: select line",IF($H15="","Review: select adjustment basis",IF(AND($H15="Manual",$G15=""),"Review: enter manual change",IF($I15="","Review: enter retention likelihood",IF($L15="","Review: check line assumption",IF(OR($K15="Renewed",$K15="Lost"),"",IF($O15<0,"Review: renewal date passed",IF($L15>=Assumptions!$I$8,"Review: large increase",IF($O15<=Assumptions!$I$7,"Review: due soon",""))))))))))))
L16: =IF($A16="","",IF($H16="Manual",IF($G16="","",$G16),IF($H16="Default by Line",IFERROR(VLOOKUP($D16,Assumptions!$A$5:$B$10,2,FALSE),""),""))) | M16: =IF(OR($A16="",$E16="",$L16=""),"",IFERROR($E16*(1+$L16),"")) | N16: =IF(OR($A16="",$M16="",$I16=""),"",IFERROR($M16*$I16,"")) | O16: =IF(OR($A16="",$F16=""),"",IFERROR($F16-Assumptions!$I$5,"")) | P16: =IF($A16="","",IF(AND(ISNUMBER($E16),ISNUMBER($F16),ISNUMBER($L16),ISNUMBER($M16),ISNUMBER($I16)),"Yes","No")) | Q16: =IF($A16="","",IF($E16="","Review: enter current premium",IF($F16="","Review: enter renewal date",IF($D16="","Review: select line",IF($H16="","Review: select adjustment basis",IF(AND($H16="Manual",$G16=""),"Review: enter manual change",IF($I16="","Review: enter retention likelihood",IF($L16="","Review: check line assumption",IF(OR($K16="Renewed",$K16="Lost"),"",IF($O16<0,"Review: renewal date passed",IF($L16>=Assumptions!$I$8,"Review: large increase",IF($O16<=Assumptions!$I$7,"Review: due soon",""))))))))))))
L17: =IF($A17="","",IF($H17="Manual",IF($G17="","",$G17),IF($H17="Default by Line",IFERROR(VLOOKUP($D17,Assumptions!$A$5:$B$10,2,FALSE),""),""))) | M17: =IF(OR($A17="",$E17="",$L17=""),"",IFERROR($E17*(1+$L17),"")) | N17: =IF(OR($A17="",$M17="",$I17=""),"",IFERROR($M17*$I17,"")) | O17: =IF(OR($A17="",$F17=""),"",IFERROR($F17-Assumptions!$I$5,"")) | P17: =IF($A17="","",IF(AND(ISNUMBER($E17),ISNUMBER($F17),ISNUMBER($L17),ISNUMBER($M17),ISNUMBER($I17)),"Yes","No")) | Q17: =IF($A17="","",IF($E17="","Review: enter current premium",IF($F17="","Review: enter renewal date",IF($D17="","Review: select line",IF($H17="","Review: select adjustment basis",IF(AND($H17="Manual",$G17=""),"Review: enter manual change",IF($I17="","Review: enter retention likelihood",IF($L17="","Review: check line assumption",IF(OR($K17="Renewed",$K17="Lost"),"",IF($O17<0,"Review: renewal date passed",IF($L17>=Assumptions!$I$8,"Review: large increase",IF($O17<=Assumptions!$I$7,"Review: due soon",""))))))))))))
L18: =IF($A18="","",IF($H18="Manual",IF($G18="","",$G18),IF($H18="Default by Line",IFERROR(VLOOKUP($D18,Assumptions!$A$5:$B$10,2,FALSE),""),""))) | M18: =IF(OR($A18="",$E18="",$L18=""),"",IFERROR($E18*(1+$L18),"")) | N18: =IF(OR($A18="",$M18="",$I18=""),"",IFERROR($M18*$I18,"")) | O18: =IF(OR($A18="",$F18=""),"",IFERROR($F18-Assumptions!$I$5,"")) | P18: =IF($A18="","",IF(AND(ISNUMBER($E18),ISNUMBER($F18),ISNUMBER($L18),ISNUMBER($M18),ISNUMBER($I18)),"Yes","No")) | Q18: =IF($A18="","",IF($E18="","Review: enter current premium",IF($F18="","Review: enter renewal date",IF($D18="","Review: select line",IF($H18="","Review: select adjustment basis",IF(AND($H18="Manual",$G18=""),"Review: enter manual change",IF($I18="","Review: enter retention likelihood",IF($L18="","Review: check line assumption",IF(OR($K18="Renewed",$K18="Lost"),"",IF($O18<0,"Review: renewal date passed",IF($L18>=Assumptions!$I$8,"Review: large increase",IF($O18<=Assumptions!$I$7,"Review: due soon",""))))))))))))
L19: =IF($A19="","",IF($H19="Manual",IF($G19="","",$G19),IF($H19="Default by Line",IFERROR(VLOOKUP($D19,Assumptions!$A$5:$B$10,2,FALSE),""),""))) | M19: =IF(OR($A19="",$E19="",$L19=""),"",IFERROR($E19*(1+$L19),"")) | N19: =IF(OR($A19="",$M19="",$I19=""),"",IFERROR($M19*$I19,"")) | O19: =IF(OR($A19="",$F19=""),"",IFERROR($F19-Assumptions!$I$5,"")) | P19: =IF($A19="","",IF(AND(ISNUMBER($E19),ISNUMBER($F19),ISNUMBER($L19),ISNUMBER($M19),ISNUMBER($I19)),"Yes","No")) | Q19: =IF($A19="","",IF($E19="","Review: enter current premium",IF($F19="","Review: enter renewal date",IF($D19="","Review: select line",IF($H19="","Review: select adjustment basis",IF(AND($H19="Manual",$G19=""),"Review: enter manual change",IF($I19="","Review: enter retention likelihood",IF($L19="","Review: check line assumption",IF(OR($K19="Renewed",$K19="Lost"),"",IF($O19<0,"Review: renewal date passed",IF($L19>=Assumptions!$I$8,"Review: large increase",IF($O19<=Assumptions!$I$7,"Review: due soon",""))))))))))))
L20: =IF($A20="","",IF($H20="Manual",IF($G20="","",$G20),IF($H20="Default by Line",IFERROR(VLOOKUP($D20,Assumptions!$A$5:$B$10,2,FALSE),""),""))) | M20: =IF(OR($A20="",$E20="",$L20=""),"",IFERROR($E20*(1+$L20),"")) | N20: =IF(OR($A20="",$M20="",$I20=""),"",IFERROR($M20*$I20,"")) | O20: =IF(OR($A20="",$F20=""),"",IFERROR($F20-Assumptions!$I$5,"")) | P20: =IF($A20="","",IF(AND(ISNUMBER($E20),ISNUMBER($F20),ISNUMBER($L20),ISNUMBER($M20),ISNUMBER($I20)),"Yes","No")) | Q20: =IF($A20="","",IF($E20="","Review: enter current premium",IF($F20="","Review: enter renewal date",IF($D20="","Review: select line",IF($H20="","Review: select adjustment basis",IF(AND($H20="Manual",$G20=""),"Review: enter manual change",IF($I20="","Review: enter retention likelihood",IF($L20="","Review: check line assumption",IF(OR($K20="Renewed",$K20="Lost"),"",IF($O20<0,"Review: renewal date passed",IF($L20>=Assumptions!$I$8,"Review: large increase",IF($O20<=Assumptions!$I$7,"Review: due soon",""))))))))))))
L21: =IF($A21="","",IF($H21="Manual",IF($G21="","",$G21),IF($H21="Default by Line",IFERROR(VLOOKUP($D21,Assumptions!$A$5:$B$10,2,FALSE),""),""))) | M21: =IF(OR($A21="",$E21="",$L21=""),"",IFERROR($E21*(1+$L21),"")) | N21: =IF(OR($A21="",$M21="",$I21=""),"",IFERROR($M21*$I21,"")) | O21: =IF(OR($A21="",$F21=""),"",IFERROR($F21-Assumptions!$I$5,"")) | P21: =IF($A21="","",IF(AND(ISNUMBER($E21),ISNUMBER($F21),ISNUMBER($L21),ISNUMBER($M21),ISNUMBER($I21)),"Yes","No")) | Q21: =IF($A21="","",IF($E21="","Review: enter current premium",IF($F21="","Review: enter renewal date",IF($D21="","Review: select line",IF($H21="","Review: select adjustment basis",IF(AND($H21="Manual",$G21=""),"Review: enter manual change",IF($I21="","Review: enter retention likelihood",IF($L21="","Review: check line assumption",IF(OR($K21="Renewed",$K21="Lost"),"",IF($O21<0,"Review: renewal date passed",IF($L21>=Assumptions!$I$8,"Review: large increase",IF($O21<=Assumptions!$I$7,"Review: due soon",""))))))))))))
L22: =IF($A22="","",IF($H22="Manual",IF($G22="","",$G22),IF($H22="Default by Line",IFERROR(VLOOKUP($D22,Assumptions!$A$5:$B$10,2,FALSE),""),""))) | M22: =IF(OR($A22="",$E22="",$L22=""),"",IFERROR($E22*(1+$L22),"")) | N22: =IF(OR($A22="",$M22="",$I22=""),"",IFERROR($M22*$I22,"")) | O22: =IF(OR($A22="",$F22=""),"",IFERROR($F22-Assumptions!$I$5,"")) | P22: =IF($A22="","",IF(AND(ISNUMBER($E22),ISNUMBER($F22),ISNUMBER($L22),ISNUMBER($M22),ISNUMBER($I22)),"Yes","No")) | Q22: =IF($A22="","",IF($E22="","Review: enter current premium",IF($F22="","Review: enter renewal date",IF($D22="","Review: select line",IF($H22="","Review: select adjustment basis",IF(AND($H22="Manual",$G22=""),"Review: enter manual change",IF($I22="","Review: enter retention likelihood",IF($L22="","Review: check line assumption",IF(OR($K22="Renewed",$K22="Lost"),"",IF($O22<0,"Review: renewal date passed",IF($L22>=Assumptions!$I$8,"Review: large increase",IF($O22<=Assumptions!$I$7,"Review: due soon",""))))))))))))
L23: =IF($A23="","",IF($H23="Manual",IF($G23="","",$G23),IF($H23="Default by Line",IFERROR(VLOOKUP($D23,Assumptions!$A$5:$B$10,2,FALSE),""),""))) | M23: =IF(OR($A23="",$E23="",$L23=""),"",IFERROR($E23*(1+$L23),"")) | N23: =IF(OR($A23="",$M23="",$I23=""),"",IFERROR($M23*$I23,"")) | O23: =IF(OR($A23="",$F23=""),"",IFERROR($F23-Assumptions!$I$5,"")) | P23: =IF($A23="","",IF(AND(ISNUMBER($E23),ISNUMBER($F23),ISNUMBER($L23),ISNUMBER($M23),ISNUMBER($I23)),"Yes","No")) | Q23: =IF($A23="","",IF($E23="","Review: enter current premium",IF($F23="","Review: enter renewal date",IF($D23="","Review: select line",IF($H23="","Review: select adjustment basis",IF(AND($H23="Manual",$G23=""),"Review: enter manual change",IF($I23="","Review: enter retention likelihood",IF($L23="","Review: check line assumption",IF(OR($K23="Renewed",$K23="Lost"),"",IF($O23<0,"Review: renewal date passed",IF($L23>=Assumptions!$I$8,"Review: large increase",IF($O23<=Assumptions!$I$7,"Review: due soon",""))))))))))))
L24: =IF($A24="","",IF($H24="Manual",IF($G24="","",$G24),IF($H24="Default by Line",IFERROR(VLOOKUP($D24,Assumptions!$A$5:$B$10,2,FALSE),""),""))) | M24: =IF(OR($A24="",$E24="",$L24=""),"",IFERROR($E24*(1+$L24),"")) | N24: =IF(OR($A24="",$M24="",$I24=""),"",IFERROR($M24*$I24,"")) | O24: =IF(OR($A24="",$F24=""),"",IFERROR($F24-Assumptions!$I$5,"")) | P24: =IF($A24="","",IF(AND(ISNUMBER($E24),ISNUMBER($F24),ISNUMBER($L24),ISNUMBER($M24),ISNUMBER($I24)),"Yes","No")) | Q24: =IF($A24="","",IF($E24="","Review: enter current premium",IF($F24="","Review: enter renewal date",IF($D24="","Review: select line",IF($H24="","Review: select adjustment basis",IF(AND($H24="Manual",$G24=""),"Review: enter manual change",IF($I24="","Review: enter retention likelihood",IF($L24="","Review: check line assumption",IF(OR($K24="Renewed",$K24="Lost"),"",IF($O24<0,"Review: renewal date passed",IF($L24>=Assumptions!$I$8,"Review: large increase",IF($O24<=Assumptions!$I$7,"Review: due soon",""))))))))))))
L25: =IF($A25="","",IF($H25="Manual",IF($G25="","",$G25),IF($H25="Default by Line",IFERROR(VLOOKUP($D25,Assumptions!$A$5:$B$10,2,FALSE),""),""))) | M25: =IF(OR($A25="",$E25="",$L25=""),"",IFERROR($E25*(1+$L25),"")) | N25: =IF(OR($A25="",$M25="",$I25=""),"",IFERROR($M25*$I25,"")) | O25: =IF(OR($A25="",$F25=""),"",IFERROR($F25-Assumptions!$I$5,"")) | P25: =IF($A25="","",IF(AND(ISNUMBER($E25),ISNUMBER($F25),ISNUMBER($L25),ISNUMBER($M25),ISNUMBER($I25)),"Yes","No")) | Q25: =IF($A25="","",IF($E25="","Review: enter current premium",IF($F25="","Review: enter renewal date",IF($D25="","Review: select line",IF($H25="","Review: select adjustment basis",IF(AND($H25="Manual",$G25=""),"Review: enter manual change",IF($I25="","Review: enter retention likelihood",IF($L25="","Review: check line assumption",IF(OR($K25="Renewed",$K25="Lost"),"",IF($O25<0,"Review: renewal date passed",IF($L25>=Assumptions!$I$8,"Review: large increase",IF($O25<=Assumptions!$I$7,"Review: due soon",""))))))))))))
L26: =IF($A26="","",IF($H26="Manual",IF($G26="","",$G26),IF($H26="Default by Line",IFERROR(VLOOKUP($D26,Assumptions!$A$5:$B$10,2,FALSE),""),""))) | M26: =IF(OR($A26="",$E26="",$L26=""),"",IFERROR($E26*(1+$L26),"")) | N26: =IF(OR($A26="",$M26="",$I26=""),"",IFERROR($M26*$I26,"")) | O26: =IF(OR($A26="",$F26=""),"",IFERROR($F26-Assumptions!$I$5,"")) | P26: =IF($A26="","",IF(AND(ISNUMBER($E26),ISNUMBER($F26),ISNUMBER($L26),ISNUMBER($M26),ISNUMBER($I26)),"Yes","No")) | Q26: =IF($A26="","",IF($E26="","Review: enter current premium",IF($F26="","Review: enter renewal date",IF($D26="","Review: select line",IF($H26="","Review: select adjustment basis",IF(AND($H26="Manual",$G26=""),"Review: enter manual change",IF($I26="","Review: enter retention likelihood",IF($L26="","Review: check line assumption",IF(OR($K26="Renewed",$K26="Lost"),"",IF($O26<0,"Review: renewal date passed",IF($L26>=Assumptions!$I$8,"Review: large increase",IF($O26<=Assumptions!$I$7,"Review: due soon",""))))))))))))
... L104: =IF($A104="","",IF($H104="Manual",IF($G104="","",$G104),IF($H104="Default by Line",IFERROR(VLOOKUP($D104,Assumptions!$A$5:$B$10,2,FALSE),""),""))) | M104: =IF(OR($A104="",$E104="",$L104=""),"",IFERROR($E104*(1+$L104),"")) | N104: =IF(OR($A104="",$M104="",$I104=""),"",IFERROR($M104*$I104,"")) | O104: =IF(OR($A104="",$F104=""),"",IFERROR($F104-Assumptions!$I$5,"")) | P104: =IF($A104="","",IF(AND(ISNUMBER($E104),ISNUMBER($F104),ISNUMBER($L104),ISNUMBER($M104),ISNUMBER($I104)),"Yes","No")) | Q104: =IF($A104="","",IF($E104="","Review: enter current premium",IF($F104="","Review: enter renewal date",IF($D104="","Review: select line",IF($H104="","Review: select adjustment basis",IF(AND($H104="Manual",$G104=""),"Review: enter manual change",IF($I104="","Review: enter retention likelihood",IF($L104="","Review: check line assumption",IF(OR($K104="Renewed",$K104="Lost"),"",IF($O104<0,"Review: renewal date passed",IF($L104>=Assumptions!$I$8,"Review: large increase",IF($O104<=Assumptions!$I$7,"Review: due soon",""))))))))))))

Sheet Assumptions
A1: Forecast Assumptions and Lists
A2: All shaded values are editable planning inputs. Fictional defaults support the examples and are not pricing guarantees, contractual terms, or coverage recommendations.
A4: Line of Business | B4: Default Change % | D4: Status | F4: Adjustment Basis | H4: Setting | I4: Value
A5: Personal Auto | B5: 0.06 | D5: Planned | F5: Default by Line | H5: As-of Date | I5: 46276
A6: Homeowners | B6: 0.07 | D6: In Review | F6: Manual | H6: Forecast Horizon Days | I6: 180
A7: General Liability | B7: 0.08 | D7: Quoted | H7: Due-Soon Window Days | I7: 45
A8: Commercial Property | B8: 0.12 | D8: Waiting on Client | H8: Large Increase Alert | I8: 0.15
A9: Workers Compensation | B9: 0.05 | D9: Renewed | H9: Earliest Allowed Renewal Date | I9: 45911
A10: Businessowners | B10: 0.09 | D10: Lost | H10: Latest Allowed Renewal Date | I10: 47371
H11: Maximum Current Premium | I11: 100000000
H12: Minimum Expected Change | I12: -1
A13: Owner List | H13: Maximum Expected Change | I13: 5
A14: Avery Sample (Fictional)
A15: Riley Demo (Fictional)
A16: Morgan Fiction (Fictional)
A17: Taylor Example (Fictional)
A20: Review the as-of date, horizon, alert threshold, date limits, and line-level changes before relying on calculated forecast amounts.
