Workbook

Sheet Summary
A1: Insurance Territory Sales Planner — Summary
A2: Indicators are calculated from the Prospect Plan and editable Assumptions entries. All examples are fictional.
A3: Calculated Indicators
A4: As of Date | B4: =Assumptions!$B$4 | C4: Entered Prospects | D4: =COUNTIF('Prospect Plan'!$A$5:$A$104,"<>") | E4: Open Prospects | F4: =COUNTIFS('Prospect Plan'!$A$5:$A$104,"<>",'Prospect Plan'!$F$5:$F$104,"<>Won",'Prospect Plan'!$F$5:$F$104,"<>Lost") | G4: Action Checks | H4: =COUNTIF('Prospect Plan'!$L$5:$L$104,"Check*")+COUNTIF('Prospect Plan'!$L$5:$L$104,"Next action needed") | I4: Unassigned Territories | J4: =COUNTIFS('Prospect Plan'!$A$5:$A$104,"<>",'Prospect Plan'!$D$5:$D$104,"")
A5: Estimated Annual Premium | B5: =SUMIFS('Prospect Plan'!$G$5:$G$104,'Prospect Plan'!$A$5:$A$104,"<>") | C5: Weighted Pipeline | D5: =SUM('Prospect Plan'!$I$5:$I$104) | E5: Active Territory Goal | F5: =SUMIF(Assumptions!$E$11:$E$110,"Yes",Assumptions!$C$11:$C$110) | G5: Weighted Pipeline / Goal | H5: =IFERROR($D$5/$F$5,"") | I5: Open Prospects / Active Capacity | J5: =IFERROR($F$4/SUMIF(Assumptions!$E$11:$E$110,"Yes",Assumptions!$D$11:$D$110),"")
A7: Territory Allocation
A8: Territory | B8: Default Owner | C8: Active | D8: Annual Goal | E8: Capacity | F8: Prospects | G8: Estimated Premium | H8: Weighted Premium | I8: Goal % | J8: Capacity % | K8: Action Checks
A9: =IF(Assumptions!$A$11="","",Assumptions!$A$11) | B9: =IF($A9="","",IFERROR(VLOOKUP($A9,Assumptions!$A$11:$E$110,2,FALSE),"")) | C9: =IF($A9="","",IFERROR(VLOOKUP($A9,Assumptions!$A$11:$E$110,5,FALSE),"")) | D9: =IF($A9="","",IFERROR(VLOOKUP($A9,Assumptions!$A$11:$E$110,3,FALSE),"")) | E9: =IF($A9="","",IFERROR(VLOOKUP($A9,Assumptions!$A$11:$E$110,4,FALSE),"")) | F9: =IF($A9="","",COUNTIFS('Prospect Plan'!$A$5:$A$104,"<>",'Prospect Plan'!$D$5:$D$104,$A9)) | G9: =IF($A9="","",SUMIFS('Prospect Plan'!$G$5:$G$104,'Prospect Plan'!$A$5:$A$104,"<>",'Prospect Plan'!$D$5:$D$104,$A9)) | H9: =IF($A9="","",SUMIFS('Prospect Plan'!$I$5:$I$104,'Prospect Plan'!$A$5:$A$104,"<>",'Prospect Plan'!$D$5:$D$104,$A9)) | I9: =IF($A9="","",IFERROR($H9/$D9,"")) | J9: =IF($A9="","",IFERROR($F9/$E9,"")) | K9: =IF($A9="","",COUNTIFS('Prospect Plan'!$A$5:$A$104,"<>",'Prospect Plan'!$D$5:$D$104,$A9,'Prospect Plan'!$L$5:$L$104,"Check*")+COUNTIFS('Prospect Plan'!$A$5:$A$104,"<>",'Prospect Plan'!$D$5:$D$104,$A9,'Prospect Plan'!$L$5:$L$104,"Next action needed"))
A10: =IF(Assumptions!$A$12="","",Assumptions!$A$12) | B10: =IF($A10="","",IFERROR(VLOOKUP($A10,Assumptions!$A$11:$E$110,2,FALSE),"")) | C10: =IF($A10="","",IFERROR(VLOOKUP($A10,Assumptions!$A$11:$E$110,5,FALSE),"")) | D10: =IF($A10="","",IFERROR(VLOOKUP($A10,Assumptions!$A$11:$E$110,3,FALSE),"")) | E10: =IF($A10="","",IFERROR(VLOOKUP($A10,Assumptions!$A$11:$E$110,4,FALSE),"")) | F10: =IF($A10="","",COUNTIFS('Prospect Plan'!$A$5:$A$104,"<>",'Prospect Plan'!$D$5:$D$104,$A10)) | G10: =IF($A10="","",SUMIFS('Prospect Plan'!$G$5:$G$104,'Prospect Plan'!$A$5:$A$104,"<>",'Prospect Plan'!$D$5:$D$104,$A10)) | H10: =IF($A10="","",SUMIFS('Prospect Plan'!$I$5:$I$104,'Prospect Plan'!$A$5:$A$104,"<>",'Prospect Plan'!$D$5:$D$104,$A10)) | I10: =IF($A10="","",IFERROR($H10/$D10,"")) | J10: =IF($A10="","",IFERROR($F10/$E10,"")) | K10: =IF($A10="","",COUNTIFS('Prospect Plan'!$A$5:$A$104,"<>",'Prospect Plan'!$D$5:$D$104,$A10,'Prospect Plan'!$L$5:$L$104,"Check*")+COUNTIFS('Prospect Plan'!$A$5:$A$104,"<>",'Prospect Plan'!$D$5:$D$104,$A10,'Prospect Plan'!$L$5:$L$104,"Next action needed"))
A11: =IF(Assumptions!$A$13="","",Assumptions!$A$13) | B11: =IF($A11="","",IFERROR(VLOOKUP($A11,Assumptions!$A$11:$E$110,2,FALSE),"")) | C11: =IF($A11="","",IFERROR(VLOOKUP($A11,Assumptions!$A$11:$E$110,5,FALSE),"")) | D11: =IF($A11="","",IFERROR(VLOOKUP($A11,Assumptions!$A$11:$E$110,3,FALSE),"")) | E11: =IF($A11="","",IFERROR(VLOOKUP($A11,Assumptions!$A$11:$E$110,4,FALSE),"")) | F11: =IF($A11="","",COUNTIFS('Prospect Plan'!$A$5:$A$104,"<>",'Prospect Plan'!$D$5:$D$104,$A11)) | G11: =IF($A11="","",SUMIFS('Prospect Plan'!$G$5:$G$104,'Prospect Plan'!$A$5:$A$104,"<>",'Prospect Plan'!$D$5:$D$104,$A11)) | H11: =IF($A11="","",SUMIFS('Prospect Plan'!$I$5:$I$104,'Prospect Plan'!$A$5:$A$104,"<>",'Prospect Plan'!$D$5:$D$104,$A11)) | I11: =IF($A11="","",IFERROR($H11/$D11,"")) | J11: =IF($A11="","",IFERROR($F11/$E11,"")) | K11: =IF($A11="","",COUNTIFS('Prospect Plan'!$A$5:$A$104,"<>",'Prospect Plan'!$D$5:$D$104,$A11,'Prospect Plan'!$L$5:$L$104,"Check*")+COUNTIFS('Prospect Plan'!$A$5:$A$104,"<>",'Prospect Plan'!$D$5:$D$104,$A11,'Prospect Plan'!$L$5:$L$104,"Next action needed"))
A12: =IF(Assumptions!$A$14="","",Assumptions!$A$14) | B12: =IF($A12="","",IFERROR(VLOOKUP($A12,Assumptions!$A$11:$E$110,2,FALSE),"")) | C12: =IF($A12="","",IFERROR(VLOOKUP($A12,Assumptions!$A$11:$E$110,5,FALSE),"")) | D12: =IF($A12="","",IFERROR(VLOOKUP($A12,Assumptions!$A$11:$E$110,3,FALSE),"")) | E12: =IF($A12="","",IFERROR(VLOOKUP($A12,Assumptions!$A$11:$E$110,4,FALSE),"")) | F12: =IF($A12="","",COUNTIFS('Prospect Plan'!$A$5:$A$104,"<>",'Prospect Plan'!$D$5:$D$104,$A12)) | G12: =IF($A12="","",SUMIFS('Prospect Plan'!$G$5:$G$104,'Prospect Plan'!$A$5:$A$104,"<>",'Prospect Plan'!$D$5:$D$104,$A12)) | H12: =IF($A12="","",SUMIFS('Prospect Plan'!$I$5:$I$104,'Prospect Plan'!$A$5:$A$104,"<>",'Prospect Plan'!$D$5:$D$104,$A12)) | I12: =IF($A12="","",IFERROR($H12/$D12,"")) | J12: =IF($A12="","",IFERROR($F12/$E12,"")) | K12: =IF($A12="","",COUNTIFS('Prospect Plan'!$A$5:$A$104,"<>",'Prospect Plan'!$D$5:$D$104,$A12,'Prospect Plan'!$L$5:$L$104,"Check*")+COUNTIFS('Prospect Plan'!$A$5:$A$104,"<>",'Prospect Plan'!$D$5:$D$104,$A12,'Prospect Plan'!$L$5:$L$104,"Next action needed"))
A13: =IF(Assumptions!$A$15="","",Assumptions!$A$15) | B13: =IF($A13="","",IFERROR(VLOOKUP($A13,Assumptions!$A$11:$E$110,2,FALSE),"")) | C13: =IF($A13="","",IFERROR(VLOOKUP($A13,Assumptions!$A$11:$E$110,5,FALSE),"")) | D13: =IF($A13="","",IFERROR(VLOOKUP($A13,Assumptions!$A$11:$E$110,3,FALSE),"")) | E13: =IF($A13="","",IFERROR(VLOOKUP($A13,Assumptions!$A$11:$E$110,4,FALSE),"")) | F13: =IF($A13="","",COUNTIFS('Prospect Plan'!$A$5:$A$104,"<>",'Prospect Plan'!$D$5:$D$104,$A13)) | G13: =IF($A13="","",SUMIFS('Prospect Plan'!$G$5:$G$104,'Prospect Plan'!$A$5:$A$104,"<>",'Prospect Plan'!$D$5:$D$104,$A13)) | H13: =IF($A13="","",SUMIFS('Prospect Plan'!$I$5:$I$104,'Prospect Plan'!$A$5:$A$104,"<>",'Prospect Plan'!$D$5:$D$104,$A13)) | I13: =IF($A13="","",IFERROR($H13/$D13,"")) | J13: =IF($A13="","",IFERROR($F13/$E13,"")) | K13: =IF($A13="","",COUNTIFS('Prospect Plan'!$A$5:$A$104,"<>",'Prospect Plan'!$D$5:$D$104,$A13,'Prospect Plan'!$L$5:$L$104,"Check*")+COUNTIFS('Prospect Plan'!$A$5:$A$104,"<>",'Prospect Plan'!$D$5:$D$104,$A13,'Prospect Plan'!$L$5:$L$104,"Next action needed"))
A14: =IF(Assumptions!$A$16="","",Assumptions!$A$16) | B14: =IF($A14="","",IFERROR(VLOOKUP($A14,Assumptions!$A$11:$E$110,2,FALSE),"")) | C14: =IF($A14="","",IFERROR(VLOOKUP($A14,Assumptions!$A$11:$E$110,5,FALSE),"")) | D14: =IF($A14="","",IFERROR(VLOOKUP($A14,Assumptions!$A$11:$E$110,3,FALSE),"")) | E14: =IF($A14="","",IFERROR(VLOOKUP($A14,Assumptions!$A$11:$E$110,4,FALSE),"")) | F14: =IF($A14="","",COUNTIFS('Prospect Plan'!$A$5:$A$104,"<>",'Prospect Plan'!$D$5:$D$104,$A14)) | G14: =IF($A14="","",SUMIFS('Prospect Plan'!$G$5:$G$104,'Prospect Plan'!$A$5:$A$104,"<>",'Prospect Plan'!$D$5:$D$104,$A14)) | H14: =IF($A14="","",SUMIFS('Prospect Plan'!$I$5:$I$104,'Prospect Plan'!$A$5:$A$104,"<>",'Prospect Plan'!$D$5:$D$104,$A14)) | I14: =IF($A14="","",IFERROR($H14/$D14,"")) | J14: =IF($A14="","",IFERROR($F14/$E14,"")) | K14: =IF($A14="","",COUNTIFS('Prospect Plan'!$A$5:$A$104,"<>",'Prospect Plan'!$D$5:$D$104,$A14,'Prospect Plan'!$L$5:$L$104,"Check*")+COUNTIFS('Prospect Plan'!$A$5:$A$104,"<>",'Prospect Plan'!$D$5:$D$104,$A14,'Prospect Plan'!$L$5:$L$104,"Next action needed"))
A15: =IF(Assumptions!$A$17="","",Assumptions!$A$17) | B15: =IF($A15="","",IFERROR(VLOOKUP($A15,Assumptions!$A$11:$E$110,2,FALSE),"")) | C15: =IF($A15="","",IFERROR(VLOOKUP($A15,Assumptions!$A$11:$E$110,5,FALSE),"")) | D15: =IF($A15="","",IFERROR(VLOOKUP($A15,Assumptions!$A$11:$E$110,3,FALSE),"")) | E15: =IF($A15="","",IFERROR(VLOOKUP($A15,Assumptions!$A$11:$E$110,4,FALSE),"")) | F15: =IF($A15="","",COUNTIFS('Prospect Plan'!$A$5:$A$104,"<>",'Prospect Plan'!$D$5:$D$104,$A15)) | G15: =IF($A15="","",SUMIFS('Prospect Plan'!$G$5:$G$104,'Prospect Plan'!$A$5:$A$104,"<>",'Prospect Plan'!$D$5:$D$104,$A15)) | H15: =IF($A15="","",SUMIFS('Prospect Plan'!$I$5:$I$104,'Prospect Plan'!$A$5:$A$104,"<>",'Prospect Plan'!$D$5:$D$104,$A15)) | I15: =IF($A15="","",IFERROR($H15/$D15,"")) | J15: =IF($A15="","",IFERROR($F15/$E15,"")) | K15: =IF($A15="","",COUNTIFS('Prospect Plan'!$A$5:$A$104,"<>",'Prospect Plan'!$D$5:$D$104,$A15,'Prospect Plan'!$L$5:$L$104,"Check*")+COUNTIFS('Prospect Plan'!$A$5:$A$104,"<>",'Prospect Plan'!$D$5:$D$104,$A15,'Prospect Plan'!$L$5:$L$104,"Next action needed"))
A16: =IF(Assumptions!$A$18="","",Assumptions!$A$18) | B16: =IF($A16="","",IFERROR(VLOOKUP($A16,Assumptions!$A$11:$E$110,2,FALSE),"")) | C16: =IF($A16="","",IFERROR(VLOOKUP($A16,Assumptions!$A$11:$E$110,5,FALSE),"")) | D16: =IF($A16="","",IFERROR(VLOOKUP($A16,Assumptions!$A$11:$E$110,3,FALSE),"")) | E16: =IF($A16="","",IFERROR(VLOOKUP($A16,Assumptions!$A$11:$E$110,4,FALSE),"")) | F16: =IF($A16="","",COUNTIFS('Prospect Plan'!$A$5:$A$104,"<>",'Prospect Plan'!$D$5:$D$104,$A16)) | G16: =IF($A16="","",SUMIFS('Prospect Plan'!$G$5:$G$104,'Prospect Plan'!$A$5:$A$104,"<>",'Prospect Plan'!$D$5:$D$104,$A16)) | H16: =IF($A16="","",SUMIFS('Prospect Plan'!$I$5:$I$104,'Prospect Plan'!$A$5:$A$104,"<>",'Prospect Plan'!$D$5:$D$104,$A16)) | I16: =IF($A16="","",IFERROR($H16/$D16,"")) | J16: =IF($A16="","",IFERROR($F16/$E16,"")) | K16: =IF($A16="","",COUNTIFS('Prospect Plan'!$A$5:$A$104,"<>",'Prospect Plan'!$D$5:$D$104,$A16,'Prospect Plan'!$L$5:$L$104,"Check*")+COUNTIFS('Prospect Plan'!$A$5:$A$104,"<>",'Prospect Plan'!$D$5:$D$104,$A16,'Prospect Plan'!$L$5:$L$104,"Next action needed"))
A17: =IF(Assumptions!$A$19="","",Assumptions!$A$19) | B17: =IF($A17="","",IFERROR(VLOOKUP($A17,Assumptions!$A$11:$E$110,2,FALSE),"")) | C17: =IF($A17="","",IFERROR(VLOOKUP($A17,Assumptions!$A$11:$E$110,5,FALSE),"")) | D17: =IF($A17="","",IFERROR(VLOOKUP($A17,Assumptions!$A$11:$E$110,3,FALSE),"")) | E17: =IF($A17="","",IFERROR(VLOOKUP($A17,Assumptions!$A$11:$E$110,4,FALSE),"")) | F17: =IF($A17="","",COUNTIFS('Prospect Plan'!$A$5:$A$104,"<>",'Prospect Plan'!$D$5:$D$104,$A17)) | G17: =IF($A17="","",SUMIFS('Prospect Plan'!$G$5:$G$104,'Prospect Plan'!$A$5:$A$104,"<>",'Prospect Plan'!$D$5:$D$104,$A17)) | H17: =IF($A17="","",SUMIFS('Prospect Plan'!$I$5:$I$104,'Prospect Plan'!$A$5:$A$104,"<>",'Prospect Plan'!$D$5:$D$104,$A17)) | I17: =IF($A17="","",IFERROR($H17/$D17,"")) | J17: =IF($A17="","",IFERROR($F17/$E17,"")) | K17: =IF($A17="","",COUNTIFS('Prospect Plan'!$A$5:$A$104,"<>",'Prospect Plan'!$D$5:$D$104,$A17,'Prospect Plan'!$L$5:$L$104,"Check*")+COUNTIFS('Prospect Plan'!$A$5:$A$104,"<>",'Prospect Plan'!$D$5:$D$104,$A17,'Prospect Plan'!$L$5:$L$104,"Next action needed"))
A18: =IF(Assumptions!$A$20="","",Assumptions!$A$20) | B18: =IF($A18="","",IFERROR(VLOOKUP($A18,Assumptions!$A$11:$E$110,2,FALSE),"")) | C18: =IF($A18="","",IFERROR(VLOOKUP($A18,Assumptions!$A$11:$E$110,5,FALSE),"")) | D18: =IF($A18="","",IFERROR(VLOOKUP($A18,Assumptions!$A$11:$E$110,3,FALSE),"")) | E18: =IF($A18="","",IFERROR(VLOOKUP($A18,Assumptions!$A$11:$E$110,4,FALSE),"")) | F18: =IF($A18="","",COUNTIFS('Prospect Plan'!$A$5:$A$104,"<>",'Prospect Plan'!$D$5:$D$104,$A18)) | G18: =IF($A18="","",SUMIFS('Prospect Plan'!$G$5:$G$104,'Prospect Plan'!$A$5:$A$104,"<>",'Prospect Plan'!$D$5:$D$104,$A18)) | H18: =IF($A18="","",SUMIFS('Prospect Plan'!$I$5:$I$104,'Prospect Plan'!$A$5:$A$104,"<>",'Prospect Plan'!$D$5:$D$104,$A18)) | I18: =IF($A18="","",IFERROR($H18/$D18,"")) | J18: =IF($A18="","",IFERROR($F18/$E18,"")) | K18: =IF($A18="","",COUNTIFS('Prospect Plan'!$A$5:$A$104,"<>",'Prospect Plan'!$D$5:$D$104,$A18,'Prospect Plan'!$L$5:$L$104,"Check*")+COUNTIFS('Prospect Plan'!$A$5:$A$104,"<>",'Prospect Plan'!$D$5:$D$104,$A18,'Prospect Plan'!$L$5:$L$104,"Next action needed"))
A19: =IF(Assumptions!$A$21="","",Assumptions!$A$21) | B19: =IF($A19="","",IFERROR(VLOOKUP($A19,Assumptions!$A$11:$E$110,2,FALSE),"")) | C19: =IF($A19="","",IFERROR(VLOOKUP($A19,Assumptions!$A$11:$E$110,5,FALSE),"")) | D19: =IF($A19="","",IFERROR(VLOOKUP($A19,Assumptions!$A$11:$E$110,3,FALSE),"")) | E19: =IF($A19="","",IFERROR(VLOOKUP($A19,Assumptions!$A$11:$E$110,4,FALSE),"")) | F19: =IF($A19="","",COUNTIFS('Prospect Plan'!$A$5:$A$104,"<>",'Prospect Plan'!$D$5:$D$104,$A19)) | G19: =IF($A19="","",SUMIFS('Prospect Plan'!$G$5:$G$104,'Prospect Plan'!$A$5:$A$104,"<>",'Prospect Plan'!$D$5:$D$104,$A19)) | H19: =IF($A19="","",SUMIFS('Prospect Plan'!$I$5:$I$104,'Prospect Plan'!$A$5:$A$104,"<>",'Prospect Plan'!$D$5:$D$104,$A19)) | I19: =IF($A19="","",IFERROR($H19/$D19,"")) | J19: =IF($A19="","",IFERROR($F19/$E19,"")) | K19: =IF($A19="","",COUNTIFS('Prospect Plan'!$A$5:$A$104,"<>",'Prospect Plan'!$D$5:$D$104,$A19,'Prospect Plan'!$L$5:$L$104,"Check*")+COUNTIFS('Prospect Plan'!$A$5:$A$104,"<>",'Prospect Plan'!$D$5:$D$104,$A19,'Prospect Plan'!$L$5:$L$104,"Next action needed"))
A20: =IF(Assumptions!$A$22="","",Assumptions!$A$22) | B20: =IF($A20="","",IFERROR(VLOOKUP($A20,Assumptions!$A$11:$E$110,2,FALSE),"")) | C20: =IF($A20="","",IFERROR(VLOOKUP($A20,Assumptions!$A$11:$E$110,5,FALSE),"")) | D20: =IF($A20="","",IFERROR(VLOOKUP($A20,Assumptions!$A$11:$E$110,3,FALSE),"")) | E20: =IF($A20="","",IFERROR(VLOOKUP($A20,Assumptions!$A$11:$E$110,4,FALSE),"")) | F20: =IF($A20="","",COUNTIFS('Prospect Plan'!$A$5:$A$104,"<>",'Prospect Plan'!$D$5:$D$104,$A20)) | G20: =IF($A20="","",SUMIFS('Prospect Plan'!$G$5:$G$104,'Prospect Plan'!$A$5:$A$104,"<>",'Prospect Plan'!$D$5:$D$104,$A20)) | H20: =IF($A20="","",SUMIFS('Prospect Plan'!$I$5:$I$104,'Prospect Plan'!$A$5:$A$104,"<>",'Prospect Plan'!$D$5:$D$104,$A20)) | I20: =IF($A20="","",IFERROR($H20/$D20,"")) | J20: =IF($A20="","",IFERROR($F20/$E20,"")) | K20: =IF($A20="","",COUNTIFS('Prospect Plan'!$A$5:$A$104,"<>",'Prospect Plan'!$D$5:$D$104,$A20,'Prospect Plan'!$L$5:$L$104,"Check*")+COUNTIFS('Prospect Plan'!$A$5:$A$104,"<>",'Prospect Plan'!$D$5:$D$104,$A20,'Prospect Plan'!$L$5:$L$104,"Next action needed"))
A21: =IF(Assumptions!$A$23="","",Assumptions!$A$23) | B21: =IF($A21="","",IFERROR(VLOOKUP($A21,Assumptions!$A$11:$E$110,2,FALSE),"")) | C21: =IF($A21="","",IFERROR(VLOOKUP($A21,Assumptions!$A$11:$E$110,5,FALSE),"")) | D21: =IF($A21="","",IFERROR(VLOOKUP($A21,Assumptions!$A$11:$E$110,3,FALSE),"")) | E21: =IF($A21="","",IFERROR(VLOOKUP($A21,Assumptions!$A$11:$E$110,4,FALSE),"")) | F21: =IF($A21="","",COUNTIFS('Prospect Plan'!$A$5:$A$104,"<>",'Prospect Plan'!$D$5:$D$104,$A21)) | G21: =IF($A21="","",SUMIFS('Prospect Plan'!$G$5:$G$104,'Prospect Plan'!$A$5:$A$104,"<>",'Prospect Plan'!$D$5:$D$104,$A21)) | H21: =IF($A21="","",SUMIFS('Prospect Plan'!$I$5:$I$104,'Prospect Plan'!$A$5:$A$104,"<>",'Prospect Plan'!$D$5:$D$104,$A21)) | I21: =IF($A21="","",IFERROR($H21/$D21,"")) | J21: =IF($A21="","",IFERROR($F21/$E21,"")) | K21: =IF($A21="","",COUNTIFS('Prospect Plan'!$A$5:$A$104,"<>",'Prospect Plan'!$D$5:$D$104,$A21,'Prospect Plan'!$L$5:$L$104,"Check*")+COUNTIFS('Prospect Plan'!$A$5:$A$104,"<>",'Prospect Plan'!$D$5:$D$104,$A21,'Prospect Plan'!$L$5:$L$104,"Next action needed"))
A22: =IF(Assumptions!$A$24="","",Assumptions!$A$24) | B22: =IF($A22="","",IFERROR(VLOOKUP($A22,Assumptions!$A$11:$E$110,2,FALSE),"")) | C22: =IF($A22="","",IFERROR(VLOOKUP($A22,Assumptions!$A$11:$E$110,5,FALSE),"")) | D22: =IF($A22="","",IFERROR(VLOOKUP($A22,Assumptions!$A$11:$E$110,3,FALSE),"")) | E22: =IF($A22="","",IFERROR(VLOOKUP($A22,Assumptions!$A$11:$E$110,4,FALSE),"")) | F22: =IF($A22="","",COUNTIFS('Prospect Plan'!$A$5:$A$104,"<>",'Prospect Plan'!$D$5:$D$104,$A22)) | G22: =IF($A22="","",SUMIFS('Prospect Plan'!$G$5:$G$104,'Prospect Plan'!$A$5:$A$104,"<>",'Prospect Plan'!$D$5:$D$104,$A22)) | H22: =IF($A22="","",SUMIFS('Prospect Plan'!$I$5:$I$104,'Prospect Plan'!$A$5:$A$104,"<>",'Prospect Plan'!$D$5:$D$104,$A22)) | I22: =IF($A22="","",IFERROR($H22/$D22,"")) | J22: =IF($A22="","",IFERROR($F22/$E22,"")) | K22: =IF($A22="","",COUNTIFS('Prospect Plan'!$A$5:$A$104,"<>",'Prospect Plan'!$D$5:$D$104,$A22,'Prospect Plan'!$L$5:$L$104,"Check*")+COUNTIFS('Prospect Plan'!$A$5:$A$104,"<>",'Prospect Plan'!$D$5:$D$104,$A22,'Prospect Plan'!$L$5:$L$104,"Next action needed"))
A23: =IF(Assumptions!$A$25="","",Assumptions!$A$25) | B23: =IF($A23="","",IFERROR(VLOOKUP($A23,Assumptions!$A$11:$E$110,2,FALSE),"")) | C23: =IF($A23="","",IFERROR(VLOOKUP($A23,Assumptions!$A$11:$E$110,5,FALSE),"")) | D23: =IF($A23="","",IFERROR(VLOOKUP($A23,Assumptions!$A$11:$E$110,3,FALSE),"")) | E23: =IF($A23="","",IFERROR(VLOOKUP($A23,Assumptions!$A$11:$E$110,4,FALSE),"")) | F23: =IF($A23="","",COUNTIFS('Prospect Plan'!$A$5:$A$104,"<>",'Prospect Plan'!$D$5:$D$104,$A23)) | G23: =IF($A23="","",SUMIFS('Prospect Plan'!$G$5:$G$104,'Prospect Plan'!$A$5:$A$104,"<>",'Prospect Plan'!$D$5:$D$104,$A23)) | H23: =IF($A23="","",SUMIFS('Prospect Plan'!$I$5:$I$104,'Prospect Plan'!$A$5:$A$104,"<>",'Prospect Plan'!$D$5:$D$104,$A23)) | I23: =IF($A23="","",IFERROR($H23/$D23,"")) | J23: =IF($A23="","",IFERROR($F23/$E23,"")) | K23: =IF($A23="","",COUNTIFS('Prospect Plan'!$A$5:$A$104,"<>",'Prospect Plan'!$D$5:$D$104,$A23,'Prospect Plan'!$L$5:$L$104,"Check*")+COUNTIFS('Prospect Plan'!$A$5:$A$104,"<>",'Prospect Plan'!$D$5:$D$104,$A23,'Prospect Plan'!$L$5:$L$104,"Next action needed"))
A24: =IF(Assumptions!$A$26="","",Assumptions!$A$26) | B24: =IF($A24="","",IFERROR(VLOOKUP($A24,Assumptions!$A$11:$E$110,2,FALSE),"")) | C24: =IF($A24="","",IFERROR(VLOOKUP($A24,Assumptions!$A$11:$E$110,5,FALSE),"")) | D24: =IF($A24="","",IFERROR(VLOOKUP($A24,Assumptions!$A$11:$E$110,3,FALSE),"")) | E24: =IF($A24="","",IFERROR(VLOOKUP($A24,Assumptions!$A$11:$E$110,4,FALSE),"")) | F24: =IF($A24="","",COUNTIFS('Prospect Plan'!$A$5:$A$104,"<>",'Prospect Plan'!$D$5:$D$104,$A24)) | G24: =IF($A24="","",SUMIFS('Prospect Plan'!$G$5:$G$104,'Prospect Plan'!$A$5:$A$104,"<>",'Prospect Plan'!$D$5:$D$104,$A24)) | H24: =IF($A24="","",SUMIFS('Prospect Plan'!$I$5:$I$104,'Prospect Plan'!$A$5:$A$104,"<>",'Prospect Plan'!$D$5:$D$104,$A24)) | I24: =IF($A24="","",IFERROR($H24/$D24,"")) | J24: =IF($A24="","",IFERROR($F24/$E24,"")) | K24: =IF($A24="","",COUNTIFS('Prospect Plan'!$A$5:$A$104,"<>",'Prospect Plan'!$D$5:$D$104,$A24,'Prospect Plan'!$L$5:$L$104,"Check*")+COUNTIFS('Prospect Plan'!$A$5:$A$104,"<>",'Prospect Plan'!$D$5:$D$104,$A24,'Prospect Plan'!$L$5:$L$104,"Next action needed"))
A25: =IF(Assumptions!$A$27="","",Assumptions!$A$27) | B25: =IF($A25="","",IFERROR(VLOOKUP($A25,Assumptions!$A$11:$E$110,2,FALSE),"")) | C25: =IF($A25="","",IFERROR(VLOOKUP($A25,Assumptions!$A$11:$E$110,5,FALSE),"")) | D25: =IF($A25="","",IFERROR(VLOOKUP($A25,Assumptions!$A$11:$E$110,3,FALSE),"")) | E25: =IF($A25="","",IFERROR(VLOOKUP($A25,Assumptions!$A$11:$E$110,4,FALSE),"")) | F25: =IF($A25="","",COUNTIFS('Prospect Plan'!$A$5:$A$104,"<>",'Prospect Plan'!$D$5:$D$104,$A25)) | G25: =IF($A25="","",SUMIFS('Prospect Plan'!$G$5:$G$104,'Prospect Plan'!$A$5:$A$104,"<>",'Prospect Plan'!$D$5:$D$104,$A25)) | H25: =IF($A25="","",SUMIFS('Prospect Plan'!$I$5:$I$104,'Prospect Plan'!$A$5:$A$104,"<>",'Prospect Plan'!$D$5:$D$104,$A25)) | I25: =IF($A25="","",IFERROR($H25/$D25,"")) | J25: =IF($A25="","",IFERROR($F25/$E25,"")) | K25: =IF($A25="","",COUNTIFS('Prospect Plan'!$A$5:$A$104,"<>",'Prospect Plan'!$D$5:$D$104,$A25,'Prospect Plan'!$L$5:$L$104,"Check*")+COUNTIFS('Prospect Plan'!$A$5:$A$104,"<>",'Prospect Plan'!$D$5:$D$104,$A25,'Prospect Plan'!$L$5:$L$104,"Next action needed"))
A26: =IF(Assumptions!$A$28="","",Assumptions!$A$28) | B26: =IF($A26="","",IFERROR(VLOOKUP($A26,Assumptions!$A$11:$E$110,2,FALSE),"")) | C26: =IF($A26="","",IFERROR(VLOOKUP($A26,Assumptions!$A$11:$E$110,5,FALSE),"")) | D26: =IF($A26="","",IFERROR(VLOOKUP($A26,Assumptions!$A$11:$E$110,3,FALSE),"")) | E26: =IF($A26="","",IFERROR(VLOOKUP($A26,Assumptions!$A$11:$E$110,4,FALSE),"")) | F26: =IF($A26="","",COUNTIFS('Prospect Plan'!$A$5:$A$104,"<>",'Prospect Plan'!$D$5:$D$104,$A26)) | G26: =IF($A26="","",SUMIFS('Prospect Plan'!$G$5:$G$104,'Prospect Plan'!$A$5:$A$104,"<>",'Prospect Plan'!$D$5:$D$104,$A26)) | H26: =IF($A26="","",SUMIFS('Prospect Plan'!$I$5:$I$104,'Prospect Plan'!$A$5:$A$104,"<>",'Prospect Plan'!$D$5:$D$104,$A26)) | I26: =IF($A26="","",IFERROR($H26/$D26,"")) | J26: =IF($A26="","",IFERROR($F26/$E26,"")) | K26: =IF($A26="","",COUNTIFS('Prospect Plan'!$A$5:$A$104,"<>",'Prospect Plan'!$D$5:$D$104,$A26,'Prospect Plan'!$L$5:$L$104,"Check*")+COUNTIFS('Prospect Plan'!$A$5:$A$104,"<>",'Prospect Plan'!$D$5:$D$104,$A26,'Prospect Plan'!$L$5:$L$104,"Next action needed"))
A27: =IF(Assumptions!$A$29="","",Assumptions!$A$29) | B27: =IF($A27="","",IFERROR(VLOOKUP($A27,Assumptions!$A$11:$E$110,2,FALSE),"")) | C27: =IF($A27="","",IFERROR(VLOOKUP($A27,Assumptions!$A$11:$E$110,5,FALSE),"")) | D27: =IF($A27="","",IFERROR(VLOOKUP($A27,Assumptions!$A$11:$E$110,3,FALSE),"")) | E27: =IF($A27="","",IFERROR(VLOOKUP($A27,Assumptions!$A$11:$E$110,4,FALSE),"")) | F27: =IF($A27="","",COUNTIFS('Prospect Plan'!$A$5:$A$104,"<>",'Prospect Plan'!$D$5:$D$104,$A27)) | G27: =IF($A27="","",SUMIFS('Prospect Plan'!$G$5:$G$104,'Prospect Plan'!$A$5:$A$104,"<>",'Prospect Plan'!$D$5:$D$104,$A27)) | H27: =IF($A27="","",SUMIFS('Prospect Plan'!$I$5:$I$104,'Prospect Plan'!$A$5:$A$104,"<>",'Prospect Plan'!$D$5:$D$104,$A27)) | I27: =IF($A27="","",IFERROR($H27/$D27,"")) | J27: =IF($A27="","",IFERROR($F27/$E27,"")) | K27: =IF($A27="","",COUNTIFS('Prospect Plan'!$A$5:$A$104,"<>",'Prospect Plan'!$D$5:$D$104,$A27,'Prospect Plan'!$L$5:$L$104,"Check*")+COUNTIFS('Prospect Plan'!$A$5:$A$104,"<>",'Prospect Plan'!$D$5:$D$104,$A27,'Prospect Plan'!$L$5:$L$104,"Next action needed"))
A28: =IF(Assumptions!$A$30="","",Assumptions!$A$30) | B28: =IF($A28="","",IFERROR(VLOOKUP($A28,Assumptions!$A$11:$E$110,2,FALSE),"")) | C28: =IF($A28="","",IFERROR(VLOOKUP($A28,Assumptions!$A$11:$E$110,5,FALSE),"")) | D28: =IF($A28="","",IFERROR(VLOOKUP($A28,Assumptions!$A$11:$E$110,3,FALSE),"")) | E28: =IF($A28="","",IFERROR(VLOOKUP($A28,Assumptions!$A$11:$E$110,4,FALSE),"")) | F28: =IF($A28="","",COUNTIFS('Prospect Plan'!$A$5:$A$104,"<>",'Prospect Plan'!$D$5:$D$104,$A28)) | G28: =IF($A28="","",SUMIFS('Prospect Plan'!$G$5:$G$104,'Prospect Plan'!$A$5:$A$104,"<>",'Prospect Plan'!$D$5:$D$104,$A28)) | H28: =IF($A28="","",SUMIFS('Prospect Plan'!$I$5:$I$104,'Prospect Plan'!$A$5:$A$104,"<>",'Prospect Plan'!$D$5:$D$104,$A28)) | I28: =IF($A28="","",IFERROR($H28/$D28,"")) | J28: =IF($A28="","",IFERROR($F28/$E28,"")) | K28: =IF($A28="","",COUNTIFS('Prospect Plan'!$A$5:$A$104,"<>",'Prospect Plan'!$D$5:$D$104,$A28,'Prospect Plan'!$L$5:$L$104,"Check*")+COUNTIFS('Prospect Plan'!$A$5:$A$104,"<>",'Prospect Plan'!$D$5:$D$104,$A28,'Prospect Plan'!$L$5:$L$104,"Next action needed"))
A29: =IF(Assumptions!$A$31="","",Assumptions!$A$31) | B29: =IF($A29="","",IFERROR(VLOOKUP($A29,Assumptions!$A$11:$E$110,2,FALSE),"")) | C29: =IF($A29="","",IFERROR(VLOOKUP($A29,Assumptions!$A$11:$E$110,5,FALSE),"")) | D29: =IF($A29="","",IFERROR(VLOOKUP($A29,Assumptions!$A$11:$E$110,3,FALSE),"")) | E29: =IF($A29="","",IFERROR(VLOOKUP($A29,Assumptions!$A$11:$E$110,4,FALSE),"")) | F29: =IF($A29="","",COUNTIFS('Prospect Plan'!$A$5:$A$104,"<>",'Prospect Plan'!$D$5:$D$104,$A29)) | G29: =IF($A29="","",SUMIFS('Prospect Plan'!$G$5:$G$104,'Prospect Plan'!$A$5:$A$104,"<>",'Prospect Plan'!$D$5:$D$104,$A29)) | H29: =IF($A29="","",SUMIFS('Prospect Plan'!$I$5:$I$104,'Prospect Plan'!$A$5:$A$104,"<>",'Prospect Plan'!$D$5:$D$104,$A29)) | I29: =IF($A29="","",IFERROR($H29/$D29,"")) | J29: =IF($A29="","",IFERROR($F29/$E29,"")) | K29: =IF($A29="","",COUNTIFS('Prospect Plan'!$A$5:$A$104,"<>",'Prospect Plan'!$D$5:$D$104,$A29,'Prospect Plan'!$L$5:$L$104,"Check*")+COUNTIFS('Prospect Plan'!$A$5:$A$104,"<>",'Prospect Plan'!$D$5:$D$104,$A29,'Prospect Plan'!$L$5:$L$104,"Next action needed"))
A30: =IF(Assumptions!$A$32="","",Assumptions!$A$32) | B30: =IF($A30="","",IFERROR(VLOOKUP($A30,Assumptions!$A$11:$E$110,2,FALSE),"")) | C30: =IF($A30="","",IFERROR(VLOOKUP($A30,Assumptions!$A$11:$E$110,5,FALSE),"")) | D30: =IF($A30="","",IFERROR(VLOOKUP($A30,Assumptions!$A$11:$E$110,3,FALSE),"")) | E30: =IF($A30="","",IFERROR(VLOOKUP($A30,Assumptions!$A$11:$E$110,4,FALSE),"")) | F30: =IF($A30="","",COUNTIFS('Prospect Plan'!$A$5:$A$104,"<>",'Prospect Plan'!$D$5:$D$104,$A30)) | G30: =IF($A30="","",SUMIFS('Prospect Plan'!$G$5:$G$104,'Prospect Plan'!$A$5:$A$104,"<>",'Prospect Plan'!$D$5:$D$104,$A30)) | H30: =IF($A30="","",SUMIFS('Prospect Plan'!$I$5:$I$104,'Prospect Plan'!$A$5:$A$104,"<>",'Prospect Plan'!$D$5:$D$104,$A30)) | I30: =IF($A30="","",IFERROR($H30/$D30,"")) | J30: =IF($A30="","",IFERROR($F30/$E30,"")) | K30: =IF($A30="","",COUNTIFS('Prospect Plan'!$A$5:$A$104,"<>",'Prospect Plan'!$D$5:$D$104,$A30,'Prospect Plan'!$L$5:$L$104,"Check*")+COUNTIFS('Prospect Plan'!$A$5:$A$104,"<>",'Prospect Plan'!$D$5:$D$104,$A30,'Prospect Plan'!$L$5:$L$104,"Next action needed"))
A31: =IF(Assumptions!$A$33="","",Assumptions!$A$33) | B31: =IF($A31="","",IFERROR(VLOOKUP($A31,Assumptions!$A$11:$E$110,2,FALSE),"")) | C31: =IF($A31="","",IFERROR(VLOOKUP($A31,Assumptions!$A$11:$E$110,5,FALSE),"")) | D31: =IF($A31="","",IFERROR(VLOOKUP($A31,Assumptions!$A$11:$E$110,3,FALSE),"")) | E31: =IF($A31="","",IFERROR(VLOOKUP($A31,Assumptions!$A$11:$E$110,4,FALSE),"")) | F31: =IF($A31="","",COUNTIFS('Prospect Plan'!$A$5:$A$104,"<>",'Prospect Plan'!$D$5:$D$104,$A31)) | G31: =IF($A31="","",SUMIFS('Prospect Plan'!$G$5:$G$104,'Prospect Plan'!$A$5:$A$104,"<>",'Prospect Plan'!$D$5:$D$104,$A31)) | H31: =IF($A31="","",SUMIFS('Prospect Plan'!$I$5:$I$104,'Prospect Plan'!$A$5:$A$104,"<>",'Prospect Plan'!$D$5:$D$104,$A31)) | I31: =IF($A31="","",IFERROR($H31/$D31,"")) | J31: =IF($A31="","",IFERROR($F31/$E31,"")) | K31: =IF($A31="","",COUNTIFS('Prospect Plan'!$A$5:$A$104,"<>",'Prospect Plan'!$D$5:$D$104,$A31,'Prospect Plan'!$L$5:$L$104,"Check*")+COUNTIFS('Prospect Plan'!$A$5:$A$104,"<>",'Prospect Plan'!$D$5:$D$104,$A31,'Prospect Plan'!$L$5:$L$104,"Next action needed"))
A32: =IF(Assumptions!$A$34="","",Assumptions!$A$34) | B32: =IF($A32="","",IFERROR(VLOOKUP($A32,Assumptions!$A$11:$E$110,2,FALSE),"")) | C32: =IF($A32="","",IFERROR(VLOOKUP($A32,Assumptions!$A$11:$E$110,5,FALSE),"")) | D32: =IF($A32="","",IFERROR(VLOOKUP($A32,Assumptions!$A$11:$E$110,3,FALSE),"")) | E32: =IF($A32="","",IFERROR(VLOOKUP($A32,Assumptions!$A$11:$E$110,4,FALSE),"")) | F32: =IF($A32="","",COUNTIFS('Prospect Plan'!$A$5:$A$104,"<>",'Prospect Plan'!$D$5:$D$104,$A32)) | G32: =IF($A32="","",SUMIFS('Prospect Plan'!$G$5:$G$104,'Prospect Plan'!$A$5:$A$104,"<>",'Prospect Plan'!$D$5:$D$104,$A32)) | H32: =IF($A32="","",SUMIFS('Prospect Plan'!$I$5:$I$104,'Prospect Plan'!$A$5:$A$104,"<>",'Prospect Plan'!$D$5:$D$104,$A32)) | I32: =IF($A32="","",IFERROR($H32/$D32,"")) | J32: =IF($A32="","",IFERROR($F32/$E32,"")) | K32: =IF($A32="","",COUNTIFS('Prospect Plan'!$A$5:$A$104,"<>",'Prospect Plan'!$D$5:$D$104,$A32,'Prospect Plan'!$L$5:$L$104,"Check*")+COUNTIFS('Prospect Plan'!$A$5:$A$104,"<>",'Prospect Plan'!$D$5:$D$104,$A32,'Prospect Plan'!$L$5:$L$104,"Next action needed"))
A33: =IF(Assumptions!$A$35="","",Assumptions!$A$35) | B33: =IF($A33="","",IFERROR(VLOOKUP($A33,Assumptions!$A$11:$E$110,2,FALSE),"")) | C33: =IF($A33="","",IFERROR(VLOOKUP($A33,Assumptions!$A$11:$E$110,5,FALSE),"")) | D33: =IF($A33="","",IFERROR(VLOOKUP($A33,Assumptions!$A$11:$E$110,3,FALSE),"")) | E33: =IF($A33="","",IFERROR(VLOOKUP($A33,Assumptions!$A$11:$E$110,4,FALSE),"")) | F33: =IF($A33="","",COUNTIFS('Prospect Plan'!$A$5:$A$104,"<>",'Prospect Plan'!$D$5:$D$104,$A33)) | G33: =IF($A33="","",SUMIFS('Prospect Plan'!$G$5:$G$104,'Prospect Plan'!$A$5:$A$104,"<>",'Prospect Plan'!$D$5:$D$104,$A33)) | H33: =IF($A33="","",SUMIFS('Prospect Plan'!$I$5:$I$104,'Prospect Plan'!$A$5:$A$104,"<>",'Prospect Plan'!$D$5:$D$104,$A33)) | I33: =IF($A33="","",IFERROR($H33/$D33,"")) | J33: =IF($A33="","",IFERROR($F33/$E33,"")) | K33: =IF($A33="","",COUNTIFS('Prospect Plan'!$A$5:$A$104,"<>",'Prospect Plan'!$D$5:$D$104,$A33,'Prospect Plan'!$L$5:$L$104,"Check*")+COUNTIFS('Prospect Plan'!$A$5:$A$104,"<>",'Prospect Plan'!$D$5:$D$104,$A33,'Prospect Plan'!$L$5:$L$104,"Next action needed"))
A34: =IF(Assumptions!$A$36="","",Assumptions!$A$36) | B34: =IF($A34="","",IFERROR(VLOOKUP($A34,Assumptions!$A$11:$E$110,2,FALSE),"")) | C34: =IF($A34="","",IFERROR(VLOOKUP($A34,Assumptions!$A$11:$E$110,5,FALSE),"")) | D34: =IF($A34="","",IFERROR(VLOOKUP($A34,Assumptions!$A$11:$E$110,3,FALSE),"")) | E34: =IF($A34="","",IFERROR(VLOOKUP($A34,Assumptions!$A$11:$E$110,4,FALSE),"")) | F34: =IF($A34="","",COUNTIFS('Prospect Plan'!$A$5:$A$104,"<>",'Prospect Plan'!$D$5:$D$104,$A34)) | G34: =IF($A34="","",SUMIFS('Prospect Plan'!$G$5:$G$104,'Prospect Plan'!$A$5:$A$104,"<>",'Prospect Plan'!$D$5:$D$104,$A34)) | H34: =IF($A34="","",SUMIFS('Prospect Plan'!$I$5:$I$104,'Prospect Plan'!$A$5:$A$104,"<>",'Prospect Plan'!$D$5:$D$104,$A34)) | I34: =IF($A34="","",IFERROR($H34/$D34,"")) | J34: =IF($A34="","",IFERROR($F34/$E34,"")) | K34: =IF($A34="","",COUNTIFS('Prospect Plan'!$A$5:$A$104,"<>",'Prospect Plan'!$D$5:$D$104,$A34,'Prospect Plan'!$L$5:$L$104,"Check*")+COUNTIFS('Prospect Plan'!$A$5:$A$104,"<>",'Prospect Plan'!$D$5:$D$104,$A34,'Prospect Plan'!$L$5:$L$104,"Next action needed"))
A35: =IF(Assumptions!$A$37="","",Assumptions!$A$37) | B35: =IF($A35="","",IFERROR(VLOOKUP($A35,Assumptions!$A$11:$E$110,2,FALSE),"")) | C35: =IF($A35="","",IFERROR(VLOOKUP($A35,Assumptions!$A$11:$E$110,5,FALSE),"")) | D35: =IF($A35="","",IFERROR(VLOOKUP($A35,Assumptions!$A$11:$E$110,3,FALSE),"")) | E35: =IF($A35="","",IFERROR(VLOOKUP($A35,Assumptions!$A$11:$E$110,4,FALSE),"")) | F35: =IF($A35="","",COUNTIFS('Prospect Plan'!$A$5:$A$104,"<>",'Prospect Plan'!$D$5:$D$104,$A35)) | G35: =IF($A35="","",SUMIFS('Prospect Plan'!$G$5:$G$104,'Prospect Plan'!$A$5:$A$104,"<>",'Prospect Plan'!$D$5:$D$104,$A35)) | H35: =IF($A35="","",SUMIFS('Prospect Plan'!$I$5:$I$104,'Prospect Plan'!$A$5:$A$104,"<>",'Prospect Plan'!$D$5:$D$104,$A35)) | I35: =IF($A35="","",IFERROR($H35/$D35,"")) | J35: =IF($A35="","",IFERROR($F35/$E35,"")) | K35: =IF($A35="","",COUNTIFS('Prospect Plan'!$A$5:$A$104,"<>",'Prospect Plan'!$D$5:$D$104,$A35,'Prospect Plan'!$L$5:$L$104,"Check*")+COUNTIFS('Prospect Plan'!$A$5:$A$104,"<>",'Prospect Plan'!$D$5:$D$104,$A35,'Prospect Plan'!$L$5:$L$104,"Next action needed"))
A36: =IF(Assumptions!$A$38="","",Assumptions!$A$38) | B36: =IF($A36="","",IFERROR(VLOOKUP($A36,Assumptions!$A$11:$E$110,2,FALSE),"")) | C36: =IF($A36="","",IFERROR(VLOOKUP($A36,Assumptions!$A$11:$E$110,5,FALSE),"")) | D36: =IF($A36="","",IFERROR(VLOOKUP($A36,Assumptions!$A$11:$E$110,3,FALSE),"")) | E36: =IF($A36="","",IFERROR(VLOOKUP($A36,Assumptions!$A$11:$E$110,4,FALSE),"")) | F36: =IF($A36="","",COUNTIFS('Prospect Plan'!$A$5:$A$104,"<>",'Prospect Plan'!$D$5:$D$104,$A36)) | G36: =IF($A36="","",SUMIFS('Prospect Plan'!$G$5:$G$104,'Prospect Plan'!$A$5:$A$104,"<>",'Prospect Plan'!$D$5:$D$104,$A36)) | H36: =IF($A36="","",SUMIFS('Prospect Plan'!$I$5:$I$104,'Prospect Plan'!$A$5:$A$104,"<>",'Prospect Plan'!$D$5:$D$104,$A36)) | I36: =IF($A36="","",IFERROR($H36/$D36,"")) | J36: =IF($A36="","",IFERROR($F36/$E36,"")) | K36: =IF($A36="","",COUNTIFS('Prospect Plan'!$A$5:$A$104,"<>",'Prospect Plan'!$D$5:$D$104,$A36,'Prospect Plan'!$L$5:$L$104,"Check*")+COUNTIFS('Prospect Plan'!$A$5:$A$104,"<>",'Prospect Plan'!$D$5:$D$104,$A36,'Prospect Plan'!$L$5:$L$104,"Next action needed"))
A37: =IF(Assumptions!$A$39="","",Assumptions!$A$39) | B37: =IF($A37="","",IFERROR(VLOOKUP($A37,Assumptions!$A$11:$E$110,2,FALSE),"")) | C37: =IF($A37="","",IFERROR(VLOOKUP($A37,Assumptions!$A$11:$E$110,5,FALSE),"")) | D37: =IF($A37="","",IFERROR(VLOOKUP($A37,Assumptions!$A$11:$E$110,3,FALSE),"")) | E37: =IF($A37="","",IFERROR(VLOOKUP($A37,Assumptions!$A$11:$E$110,4,FALSE),"")) | F37: =IF($A37="","",COUNTIFS('Prospect Plan'!$A$5:$A$104,"<>",'Prospect Plan'!$D$5:$D$104,$A37)) | G37: =IF($A37="","",SUMIFS('Prospect Plan'!$G$5:$G$104,'Prospect Plan'!$A$5:$A$104,"<>",'Prospect Plan'!$D$5:$D$104,$A37)) | H37: =IF($A37="","",SUMIFS('Prospect Plan'!$I$5:$I$104,'Prospect Plan'!$A$5:$A$104,"<>",'Prospect Plan'!$D$5:$D$104,$A37)) | I37: =IF($A37="","",IFERROR($H37/$D37,"")) | J37: =IF($A37="","",IFERROR($F37/$E37,"")) | K37: =IF($A37="","",COUNTIFS('Prospect Plan'!$A$5:$A$104,"<>",'Prospect Plan'!$D$5:$D$104,$A37,'Prospect Plan'!$L$5:$L$104,"Check*")+COUNTIFS('Prospect Plan'!$A$5:$A$104,"<>",'Prospect Plan'!$D$5:$D$104,$A37,'Prospect Plan'!$L$5:$L$104,"Next action needed"))
A38: =IF(Assumptions!$A$40="","",Assumptions!$A$40) | B38: =IF($A38="","",IFERROR(VLOOKUP($A38,Assumptions!$A$11:$E$110,2,FALSE),"")) | C38: =IF($A38="","",IFERROR(VLOOKUP($A38,Assumptions!$A$11:$E$110,5,FALSE),"")) | D38: =IF($A38="","",IFERROR(VLOOKUP($A38,Assumptions!$A$11:$E$110,3,FALSE),"")) | E38: =IF($A38="","",IFERROR(VLOOKUP($A38,Assumptions!$A$11:$E$110,4,FALSE),"")) | F38: =IF($A38="","",COUNTIFS('Prospect Plan'!$A$5:$A$104,"<>",'Prospect Plan'!$D$5:$D$104,$A38)) | G38: =IF($A38="","",SUMIFS('Prospect Plan'!$G$5:$G$104,'Prospect Plan'!$A$5:$A$104,"<>",'Prospect Plan'!$D$5:$D$104,$A38)) | H38: =IF($A38="","",SUMIFS('Prospect Plan'!$I$5:$I$104,'Prospect Plan'!$A$5:$A$104,"<>",'Prospect Plan'!$D$5:$D$104,$A38)) | I38: =IF($A38="","",IFERROR($H38/$D38,"")) | J38: =IF($A38="","",IFERROR($F38/$E38,"")) | K38: =IF($A38="","",COUNTIFS('Prospect Plan'!$A$5:$A$104,"<>",'Prospect Plan'!$D$5:$D$104,$A38,'Prospect Plan'!$L$5:$L$104,"Check*")+COUNTIFS('Prospect Plan'!$A$5:$A$104,"<>",'Prospect Plan'!$D$5:$D$104,$A38,'Prospect Plan'!$L$5:$L$104,"Next action needed"))
A39: =IF(Assumptions!$A$41="","",Assumptions!$A$41) | B39: =IF($A39="","",IFERROR(VLOOKUP($A39,Assumptions!$A$11:$E$110,2,FALSE),"")) | C39: =IF($A39="","",IFERROR(VLOOKUP($A39,Assumptions!$A$11:$E$110,5,FALSE),"")) | D39: =IF($A39="","",IFERROR(VLOOKUP($A39,Assumptions!$A$11:$E$110,3,FALSE),"")) | E39: =IF($A39="","",IFERROR(VLOOKUP($A39,Assumptions!$A$11:$E$110,4,FALSE),"")) | F39: =IF($A39="","",COUNTIFS('Prospect Plan'!$A$5:$A$104,"<>",'Prospect Plan'!$D$5:$D$104,$A39)) | G39: =IF($A39="","",SUMIFS('Prospect Plan'!$G$5:$G$104,'Prospect Plan'!$A$5:$A$104,"<>",'Prospect Plan'!$D$5:$D$104,$A39)) | H39: =IF($A39="","",SUMIFS('Prospect Plan'!$I$5:$I$104,'Prospect Plan'!$A$5:$A$104,"<>",'Prospect Plan'!$D$5:$D$104,$A39)) | I39: =IF($A39="","",IFERROR($H39/$D39,"")) | J39: =IF($A39="","",IFERROR($F39/$E39,"")) | K39: =IF($A39="","",COUNTIFS('Prospect Plan'!$A$5:$A$104,"<>",'Prospect Plan'!$D$5:$D$104,$A39,'Prospect Plan'!$L$5:$L$104,"Check*")+COUNTIFS('Prospect Plan'!$A$5:$A$104,"<>",'Prospect Plan'!$D$5:$D$104,$A39,'Prospect Plan'!$L$5:$L$104,"Next action needed"))
A40: =IF(Assumptions!$A$42="","",Assumptions!$A$42) | B40: =IF($A40="","",IFERROR(VLOOKUP($A40,Assumptions!$A$11:$E$110,2,FALSE),"")) | C40: =IF($A40="","",IFERROR(VLOOKUP($A40,Assumptions!$A$11:$E$110,5,FALSE),"")) | D40: =IF($A40="","",IFERROR(VLOOKUP($A40,Assumptions!$A$11:$E$110,3,FALSE),"")) | E40: =IF($A40="","",IFERROR(VLOOKUP($A40,Assumptions!$A$11:$E$110,4,FALSE),"")) | F40: =IF($A40="","",COUNTIFS('Prospect Plan'!$A$5:$A$104,"<>",'Prospect Plan'!$D$5:$D$104,$A40)) | G40: =IF($A40="","",SUMIFS('Prospect Plan'!$G$5:$G$104,'Prospect Plan'!$A$5:$A$104,"<>",'Prospect Plan'!$D$5:$D$104,$A40)) | H40: =IF($A40="","",SUMIFS('Prospect Plan'!$I$5:$I$104,'Prospect Plan'!$A$5:$A$104,"<>",'Prospect Plan'!$D$5:$D$104,$A40)) | I40: =IF($A40="","",IFERROR($H40/$D40,"")) | J40: =IF($A40="","",IFERROR($F40/$E40,"")) | K40: =IF($A40="","",COUNTIFS('Prospect Plan'!$A$5:$A$104,"<>",'Prospect Plan'!$D$5:$D$104,$A40,'Prospect Plan'!$L$5:$L$104,"Check*")+COUNTIFS('Prospect Plan'!$A$5:$A$104,"<>",'Prospect Plan'!$D$5:$D$104,$A40,'Prospect Plan'!$L$5:$L$104,"Next action needed"))
A41: =IF(Assumptions!$A$43="","",Assumptions!$A$43) | B41: =IF($A41="","",IFERROR(VLOOKUP($A41,Assumptions!$A$11:$E$110,2,FALSE),"")) | C41: =IF($A41="","",IFERROR(VLOOKUP($A41,Assumptions!$A$11:$E$110,5,FALSE),"")) | D41: =IF($A41="","",IFERROR(VLOOKUP($A41,Assumptions!$A$11:$E$110,3,FALSE),"")) | E41: =IF($A41="","",IFERROR(VLOOKUP($A41,Assumptions!$A$11:$E$110,4,FALSE),"")) | F41: =IF($A41="","",COUNTIFS('Prospect Plan'!$A$5:$A$104,"<>",'Prospect Plan'!$D$5:$D$104,$A41)) | G41: =IF($A41="","",SUMIFS('Prospect Plan'!$G$5:$G$104,'Prospect Plan'!$A$5:$A$104,"<>",'Prospect Plan'!$D$5:$D$104,$A41)) | H41: =IF($A41="","",SUMIFS('Prospect Plan'!$I$5:$I$104,'Prospect Plan'!$A$5:$A$104,"<>",'Prospect Plan'!$D$5:$D$104,$A41)) | I41: =IF($A41="","",IFERROR($H41/$D41,"")) | J41: =IF($A41="","",IFERROR($F41/$E41,"")) | K41: =IF($A41="","",COUNTIFS('Prospect Plan'!$A$5:$A$104,"<>",'Prospect Plan'!$D$5:$D$104,$A41,'Prospect Plan'!$L$5:$L$104,"Check*")+COUNTIFS('Prospect Plan'!$A$5:$A$104,"<>",'Prospect Plan'!$D$5:$D$104,$A41,'Prospect Plan'!$L$5:$L$104,"Next action needed"))
A42: =IF(Assumptions!$A$44="","",Assumptions!$A$44) | B42: =IF($A42="","",IFERROR(VLOOKUP($A42,Assumptions!$A$11:$E$110,2,FALSE),"")) | C42: =IF($A42="","",IFERROR(VLOOKUP($A42,Assumptions!$A$11:$E$110,5,FALSE),"")) | D42: =IF($A42="","",IFERROR(VLOOKUP($A42,Assumptions!$A$11:$E$110,3,FALSE),"")) | E42: =IF($A42="","",IFERROR(VLOOKUP($A42,Assumptions!$A$11:$E$110,4,FALSE),"")) | F42: =IF($A42="","",COUNTIFS('Prospect Plan'!$A$5:$A$104,"<>",'Prospect Plan'!$D$5:$D$104,$A42)) | G42: =IF($A42="","",SUMIFS('Prospect Plan'!$G$5:$G$104,'Prospect Plan'!$A$5:$A$104,"<>",'Prospect Plan'!$D$5:$D$104,$A42)) | H42: =IF($A42="","",SUMIFS('Prospect Plan'!$I$5:$I$104,'Prospect Plan'!$A$5:$A$104,"<>",'Prospect Plan'!$D$5:$D$104,$A42)) | I42: =IF($A42="","",IFERROR($H42/$D42,"")) | J42: =IF($A42="","",IFERROR($F42/$E42,"")) | K42: =IF($A42="","",COUNTIFS('Prospect Plan'!$A$5:$A$104,"<>",'Prospect Plan'!$D$5:$D$104,$A42,'Prospect Plan'!$L$5:$L$104,"Check*")+COUNTIFS('Prospect Plan'!$A$5:$A$104,"<>",'Prospect Plan'!$D$5:$D$104,$A42,'Prospect Plan'!$L$5:$L$104,"Next action needed"))
A43: =IF(Assumptions!$A$45="","",Assumptions!$A$45) | B43: =IF($A43="","",IFERROR(VLOOKUP($A43,Assumptions!$A$11:$E$110,2,FALSE),"")) | C43: =IF($A43="","",IFERROR(VLOOKUP($A43,Assumptions!$A$11:$E$110,5,FALSE),"")) | D43: =IF($A43="","",IFERROR(VLOOKUP($A43,Assumptions!$A$11:$E$110,3,FALSE),"")) | E43: =IF($A43="","",IFERROR(VLOOKUP($A43,Assumptions!$A$11:$E$110,4,FALSE),"")) | F43: =IF($A43="","",COUNTIFS('Prospect Plan'!$A$5:$A$104,"<>",'Prospect Plan'!$D$5:$D$104,$A43)) | G43: =IF($A43="","",SUMIFS('Prospect Plan'!$G$5:$G$104,'Prospect Plan'!$A$5:$A$104,"<>",'Prospect Plan'!$D$5:$D$104,$A43)) | H43: =IF($A43="","",SUMIFS('Prospect Plan'!$I$5:$I$104,'Prospect Plan'!$A$5:$A$104,"<>",'Prospect Plan'!$D$5:$D$104,$A43)) | I43: =IF($A43="","",IFERROR($H43/$D43,"")) | J43: =IF($A43="","",IFERROR($F43/$E43,"")) | K43: =IF($A43="","",COUNTIFS('Prospect Plan'!$A$5:$A$104,"<>",'Prospect Plan'!$D$5:$D$104,$A43,'Prospect Plan'!$L$5:$L$104,"Check*")+COUNTIFS('Prospect Plan'!$A$5:$A$104,"<>",'Prospect Plan'!$D$5:$D$104,$A43,'Prospect Plan'!$L$5:$L$104,"Next action needed"))
A44: =IF(Assumptions!$A$46="","",Assumptions!$A$46) | B44: =IF($A44="","",IFERROR(VLOOKUP($A44,Assumptions!$A$11:$E$110,2,FALSE),"")) | C44: =IF($A44="","",IFERROR(VLOOKUP($A44,Assumptions!$A$11:$E$110,5,FALSE),"")) | D44: =IF($A44="","",IFERROR(VLOOKUP($A44,Assumptions!$A$11:$E$110,3,FALSE),"")) | E44: =IF($A44="","",IFERROR(VLOOKUP($A44,Assumptions!$A$11:$E$110,4,FALSE),"")) | F44: =IF($A44="","",COUNTIFS('Prospect Plan'!$A$5:$A$104,"<>",'Prospect Plan'!$D$5:$D$104,$A44)) | G44: =IF($A44="","",SUMIFS('Prospect Plan'!$G$5:$G$104,'Prospect Plan'!$A$5:$A$104,"<>",'Prospect Plan'!$D$5:$D$104,$A44)) | H44: =IF($A44="","",SUMIFS('Prospect Plan'!$I$5:$I$104,'Prospect Plan'!$A$5:$A$104,"<>",'Prospect Plan'!$D$5:$D$104,$A44)) | I44: =IF($A44="","",IFERROR($H44/$D44,"")) | J44: =IF($A44="","",IFERROR($F44/$E44,"")) | K44: =IF($A44="","",COUNTIFS('Prospect Plan'!$A$5:$A$104,"<>",'Prospect Plan'!$D$5:$D$104,$A44,'Prospect Plan'!$L$5:$L$104,"Check*")+COUNTIFS('Prospect Plan'!$A$5:$A$104,"<>",'Prospect Plan'!$D$5:$D$104,$A44,'Prospect Plan'!$L$5:$L$104,"Next action needed"))
A45: =IF(Assumptions!$A$47="","",Assumptions!$A$47) | B45: =IF($A45="","",IFERROR(VLOOKUP($A45,Assumptions!$A$11:$E$110,2,FALSE),"")) | C45: =IF($A45="","",IFERROR(VLOOKUP($A45,Assumptions!$A$11:$E$110,5,FALSE),"")) | D45: =IF($A45="","",IFERROR(VLOOKUP($A45,Assumptions!$A$11:$E$110,3,FALSE),"")) | E45: =IF($A45="","",IFERROR(VLOOKUP($A45,Assumptions!$A$11:$E$110,4,FALSE),"")) | F45: =IF($A45="","",COUNTIFS('Prospect Plan'!$A$5:$A$104,"<>",'Prospect Plan'!$D$5:$D$104,$A45)) | G45: =IF($A45="","",SUMIFS('Prospect Plan'!$G$5:$G$104,'Prospect Plan'!$A$5:$A$104,"<>",'Prospect Plan'!$D$5:$D$104,$A45)) | H45: =IF($A45="","",SUMIFS('Prospect Plan'!$I$5:$I$104,'Prospect Plan'!$A$5:$A$104,"<>",'Prospect Plan'!$D$5:$D$104,$A45)) | I45: =IF($A45="","",IFERROR($H45/$D45,"")) | J45: =IF($A45="","",IFERROR($F45/$E45,"")) | K45: =IF($A45="","",COUNTIFS('Prospect Plan'!$A$5:$A$104,"<>",'Prospect Plan'!$D$5:$D$104,$A45,'Prospect Plan'!$L$5:$L$104,"Check*")+COUNTIFS('Prospect Plan'!$A$5:$A$104,"<>",'Prospect Plan'!$D$5:$D$104,$A45,'Prospect Plan'!$L$5:$L$104,"Next action needed"))
A46: =IF(Assumptions!$A$48="","",Assumptions!$A$48) | B46: =IF($A46="","",IFERROR(VLOOKUP($A46,Assumptions!$A$11:$E$110,2,FALSE),"")) | C46: =IF($A46="","",IFERROR(VLOOKUP($A46,Assumptions!$A$11:$E$110,5,FALSE),"")) | D46: =IF($A46="","",IFERROR(VLOOKUP($A46,Assumptions!$A$11:$E$110,3,FALSE),"")) | E46: =IF($A46="","",IFERROR(VLOOKUP($A46,Assumptions!$A$11:$E$110,4,FALSE),"")) | F46: =IF($A46="","",COUNTIFS('Prospect Plan'!$A$5:$A$104,"<>",'Prospect Plan'!$D$5:$D$104,$A46)) | G46: =IF($A46="","",SUMIFS('Prospect Plan'!$G$5:$G$104,'Prospect Plan'!$A$5:$A$104,"<>",'Prospect Plan'!$D$5:$D$104,$A46)) | H46: =IF($A46="","",SUMIFS('Prospect Plan'!$I$5:$I$104,'Prospect Plan'!$A$5:$A$104,"<>",'Prospect Plan'!$D$5:$D$104,$A46)) | I46: =IF($A46="","",IFERROR($H46/$D46,"")) | J46: =IF($A46="","",IFERROR($F46/$E46,"")) | K46: =IF($A46="","",COUNTIFS('Prospect Plan'!$A$5:$A$104,"<>",'Prospect Plan'!$D$5:$D$104,$A46,'Prospect Plan'!$L$5:$L$104,"Check*")+COUNTIFS('Prospect Plan'!$A$5:$A$104,"<>",'Prospect Plan'!$D$5:$D$104,$A46,'Prospect Plan'!$L$5:$L$104,"Next action needed"))
A47: =IF(Assumptions!$A$49="","",Assumptions!$A$49) | B47: =IF($A47="","",IFERROR(VLOOKUP($A47,Assumptions!$A$11:$E$110,2,FALSE),"")) | C47: =IF($A47="","",IFERROR(VLOOKUP($A47,Assumptions!$A$11:$E$110,5,FALSE),"")) | D47: =IF($A47="","",IFERROR(VLOOKUP($A47,Assumptions!$A$11:$E$110,3,FALSE),"")) | E47: =IF($A47="","",IFERROR(VLOOKUP($A47,Assumptions!$A$11:$E$110,4,FALSE),"")) | F47: =IF($A47="","",COUNTIFS('Prospect Plan'!$A$5:$A$104,"<>",'Prospect Plan'!$D$5:$D$104,$A47)) | G47: =IF($A47="","",SUMIFS('Prospect Plan'!$G$5:$G$104,'Prospect Plan'!$A$5:$A$104,"<>",'Prospect Plan'!$D$5:$D$104,$A47)) | H47: =IF($A47="","",SUMIFS('Prospect Plan'!$I$5:$I$104,'Prospect Plan'!$A$5:$A$104,"<>",'Prospect Plan'!$D$5:$D$104,$A47)) | I47: =IF($A47="","",IFERROR($H47/$D47,"")) | J47: =IF($A47="","",IFERROR($F47/$E47,"")) | K47: =IF($A47="","",COUNTIFS('Prospect Plan'!$A$5:$A$104,"<>",'Prospect Plan'!$D$5:$D$104,$A47,'Prospect Plan'!$L$5:$L$104,"Check*")+COUNTIFS('Prospect Plan'!$A$5:$A$104,"<>",'Prospect Plan'!$D$5:$D$104,$A47,'Prospect Plan'!$L$5:$L$104,"Next action needed"))
A48: =IF(Assumptions!$A$50="","",Assumptions!$A$50) | B48: =IF($A48="","",IFERROR(VLOOKUP($A48,Assumptions!$A$11:$E$110,2,FALSE),"")) | C48: =IF($A48="","",IFERROR(VLOOKUP($A48,Assumptions!$A$11:$E$110,5,FALSE),"")) | D48: =IF($A48="","",IFERROR(VLOOKUP($A48,Assumptions!$A$11:$E$110,3,FALSE),"")) | E48: =IF($A48="","",IFERROR(VLOOKUP($A48,Assumptions!$A$11:$E$110,4,FALSE),"")) | F48: =IF($A48="","",COUNTIFS('Prospect Plan'!$A$5:$A$104,"<>",'Prospect Plan'!$D$5:$D$104,$A48)) | G48: =IF($A48="","",SUMIFS('Prospect Plan'!$G$5:$G$104,'Prospect Plan'!$A$5:$A$104,"<>",'Prospect Plan'!$D$5:$D$104,$A48)) | H48: =IF($A48="","",SUMIFS('Prospect Plan'!$I$5:$I$104,'Prospect Plan'!$A$5:$A$104,"<>",'Prospect Plan'!$D$5:$D$104,$A48)) | I48: =IF($A48="","",IFERROR($H48/$D48,"")) | J48: =IF($A48="","",IFERROR($F48/$E48,"")) | K48: =IF($A48="","",COUNTIFS('Prospect Plan'!$A$5:$A$104,"<>",'Prospect Plan'!$D$5:$D$104,$A48,'Prospect Plan'!$L$5:$L$104,"Check*")+COUNTIFS('Prospect Plan'!$A$5:$A$104,"<>",'Prospect Plan'!$D$5:$D$104,$A48,'Prospect Plan'!$L$5:$L$104,"Next action needed"))
A49: =IF(Assumptions!$A$51="","",Assumptions!$A$51) | B49: =IF($A49="","",IFERROR(VLOOKUP($A49,Assumptions!$A$11:$E$110,2,FALSE),"")) | C49: =IF($A49="","",IFERROR(VLOOKUP($A49,Assumptions!$A$11:$E$110,5,FALSE),"")) | D49: =IF($A49="","",IFERROR(VLOOKUP($A49,Assumptions!$A$11:$E$110,3,FALSE),"")) | E49: =IF($A49="","",IFERROR(VLOOKUP($A49,Assumptions!$A$11:$E$110,4,FALSE),"")) | F49: =IF($A49="","",COUNTIFS('Prospect Plan'!$A$5:$A$104,"<>",'Prospect Plan'!$D$5:$D$104,$A49)) | G49: =IF($A49="","",SUMIFS('Prospect Plan'!$G$5:$G$104,'Prospect Plan'!$A$5:$A$104,"<>",'Prospect Plan'!$D$5:$D$104,$A49)) | H49: =IF($A49="","",SUMIFS('Prospect Plan'!$I$5:$I$104,'Prospect Plan'!$A$5:$A$104,"<>",'Prospect Plan'!$D$5:$D$104,$A49)) | I49: =IF($A49="","",IFERROR($H49/$D49,"")) | J49: =IF($A49="","",IFERROR($F49/$E49,"")) | K49: =IF($A49="","",COUNTIFS('Prospect Plan'!$A$5:$A$104,"<>",'Prospect Plan'!$D$5:$D$104,$A49,'Prospect Plan'!$L$5:$L$104,"Check*")+COUNTIFS('Prospect Plan'!$A$5:$A$104,"<>",'Prospect Plan'!$D$5:$D$104,$A49,'Prospect Plan'!$L$5:$L$104,"Next action needed"))
A50: =IF(Assumptions!$A$52="","",Assumptions!$A$52) | B50: =IF($A50="","",IFERROR(VLOOKUP($A50,Assumptions!$A$11:$E$110,2,FALSE),"")) | C50: =IF($A50="","",IFERROR(VLOOKUP($A50,Assumptions!$A$11:$E$110,5,FALSE),"")) | D50: =IF($A50="","",IFERROR(VLOOKUP($A50,Assumptions!$A$11:$E$110,3,FALSE),"")) | E50: =IF($A50="","",IFERROR(VLOOKUP($A50,Assumptions!$A$11:$E$110,4,FALSE),"")) | F50: =IF($A50="","",COUNTIFS('Prospect Plan'!$A$5:$A$104,"<>",'Prospect Plan'!$D$5:$D$104,$A50)) | G50: =IF($A50="","",SUMIFS('Prospect Plan'!$G$5:$G$104,'Prospect Plan'!$A$5:$A$104,"<>",'Prospect Plan'!$D$5:$D$104,$A50)) | H50: =IF($A50="","",SUMIFS('Prospect Plan'!$I$5:$I$104,'Prospect Plan'!$A$5:$A$104,"<>",'Prospect Plan'!$D$5:$D$104,$A50)) | I50: =IF($A50="","",IFERROR($H50/$D50,"")) | J50: =IF($A50="","",IFERROR($F50/$E50,"")) | K50: =IF($A50="","",COUNTIFS('Prospect Plan'!$A$5:$A$104,"<>",'Prospect Plan'!$D$5:$D$104,$A50,'Prospect Plan'!$L$5:$L$104,"Check*")+COUNTIFS('Prospect Plan'!$A$5:$A$104,"<>",'Prospect Plan'!$D$5:$D$104,$A50,'Prospect Plan'!$L$5:$L$104,"Next action needed"))
A51: =IF(Assumptions!$A$53="","",Assumptions!$A$53) | B51: =IF($A51="","",IFERROR(VLOOKUP($A51,Assumptions!$A$11:$E$110,2,FALSE),"")) | C51: =IF($A51="","",IFERROR(VLOOKUP($A51,Assumptions!$A$11:$E$110,5,FALSE),"")) | D51: =IF($A51="","",IFERROR(VLOOKUP($A51,Assumptions!$A$11:$E$110,3,FALSE),"")) | E51: =IF($A51="","",IFERROR(VLOOKUP($A51,Assumptions!$A$11:$E$110,4,FALSE),"")) | F51: =IF($A51="","",COUNTIFS('Prospect Plan'!$A$5:$A$104,"<>",'Prospect Plan'!$D$5:$D$104,$A51)) | G51: =IF($A51="","",SUMIFS('Prospect Plan'!$G$5:$G$104,'Prospect Plan'!$A$5:$A$104,"<>",'Prospect Plan'!$D$5:$D$104,$A51)) | H51: =IF($A51="","",SUMIFS('Prospect Plan'!$I$5:$I$104,'Prospect Plan'!$A$5:$A$104,"<>",'Prospect Plan'!$D$5:$D$104,$A51)) | I51: =IF($A51="","",IFERROR($H51/$D51,"")) | J51: =IF($A51="","",IFERROR($F51/$E51,"")) | K51: =IF($A51="","",COUNTIFS('Prospect Plan'!$A$5:$A$104,"<>",'Prospect Plan'!$D$5:$D$104,$A51,'Prospect Plan'!$L$5:$L$104,"Check*")+COUNTIFS('Prospect Plan'!$A$5:$A$104,"<>",'Prospect Plan'!$D$5:$D$104,$A51,'Prospect Plan'!$L$5:$L$104,"Next action needed"))
A52: =IF(Assumptions!$A$54="","",Assumptions!$A$54) | B52: =IF($A52="","",IFERROR(VLOOKUP($A52,Assumptions!$A$11:$E$110,2,FALSE),"")) | C52: =IF($A52="","",IFERROR(VLOOKUP($A52,Assumptions!$A$11:$E$110,5,FALSE),"")) | D52: =IF($A52="","",IFERROR(VLOOKUP($A52,Assumptions!$A$11:$E$110,3,FALSE),"")) | E52: =IF($A52="","",IFERROR(VLOOKUP($A52,Assumptions!$A$11:$E$110,4,FALSE),"")) | F52: =IF($A52="","",COUNTIFS('Prospect Plan'!$A$5:$A$104,"<>",'Prospect Plan'!$D$5:$D$104,$A52)) | G52: =IF($A52="","",SUMIFS('Prospect Plan'!$G$5:$G$104,'Prospect Plan'!$A$5:$A$104,"<>",'Prospect Plan'!$D$5:$D$104,$A52)) | H52: =IF($A52="","",SUMIFS('Prospect Plan'!$I$5:$I$104,'Prospect Plan'!$A$5:$A$104,"<>",'Prospect Plan'!$D$5:$D$104,$A52)) | I52: =IF($A52="","",IFERROR($H52/$D52,"")) | J52: =IF($A52="","",IFERROR($F52/$E52,"")) | K52: =IF($A52="","",COUNTIFS('Prospect Plan'!$A$5:$A$104,"<>",'Prospect Plan'!$D$5:$D$104,$A52,'Prospect Plan'!$L$5:$L$104,"Check*")+COUNTIFS('Prospect Plan'!$A$5:$A$104,"<>",'Prospect Plan'!$D$5:$D$104,$A52,'Prospect Plan'!$L$5:$L$104,"Next action needed"))
A53: =IF(Assumptions!$A$55="","",Assumptions!$A$55) | B53: =IF($A53="","",IFERROR(VLOOKUP($A53,Assumptions!$A$11:$E$110,2,FALSE),"")) | C53: =IF($A53="","",IFERROR(VLOOKUP($A53,Assumptions!$A$11:$E$110,5,FALSE),"")) | D53: =IF($A53="","",IFERROR(VLOOKUP($A53,Assumptions!$A$11:$E$110,3,FALSE),"")) | E53: =IF($A53="","",IFERROR(VLOOKUP($A53,Assumptions!$A$11:$E$110,4,FALSE),"")) | F53: =IF($A53="","",COUNTIFS('Prospect Plan'!$A$5:$A$104,"<>",'Prospect Plan'!$D$5:$D$104,$A53)) | G53: =IF($A53="","",SUMIFS('Prospect Plan'!$G$5:$G$104,'Prospect Plan'!$A$5:$A$104,"<>",'Prospect Plan'!$D$5:$D$104,$A53)) | H53: =IF($A53="","",SUMIFS('Prospect Plan'!$I$5:$I$104,'Prospect Plan'!$A$5:$A$104,"<>",'Prospect Plan'!$D$5:$D$104,$A53)) | I53: =IF($A53="","",IFERROR($H53/$D53,"")) | J53: =IF($A53="","",IFERROR($F53/$E53,"")) | K53: =IF($A53="","",COUNTIFS('Prospect Plan'!$A$5:$A$104,"<>",'Prospect Plan'!$D$5:$D$104,$A53,'Prospect Plan'!$L$5:$L$104,"Check*")+COUNTIFS('Prospect Plan'!$A$5:$A$104,"<>",'Prospect Plan'!$D$5:$D$104,$A53,'Prospect Plan'!$L$5:$L$104,"Next action needed"))
A54: =IF(Assumptions!$A$56="","",Assumptions!$A$56) | B54: =IF($A54="","",IFERROR(VLOOKUP($A54,Assumptions!$A$11:$E$110,2,FALSE),"")) | C54: =IF($A54="","",IFERROR(VLOOKUP($A54,Assumptions!$A$11:$E$110,5,FALSE),"")) | D54: =IF($A54="","",IFERROR(VLOOKUP($A54,Assumptions!$A$11:$E$110,3,FALSE),"")) | E54: =IF($A54="","",IFERROR(VLOOKUP($A54,Assumptions!$A$11:$E$110,4,FALSE),"")) | F54: =IF($A54="","",COUNTIFS('Prospect Plan'!$A$5:$A$104,"<>",'Prospect Plan'!$D$5:$D$104,$A54)) | G54: =IF($A54="","",SUMIFS('Prospect Plan'!$G$5:$G$104,'Prospect Plan'!$A$5:$A$104,"<>",'Prospect Plan'!$D$5:$D$104,$A54)) | H54: =IF($A54="","",SUMIFS('Prospect Plan'!$I$5:$I$104,'Prospect Plan'!$A$5:$A$104,"<>",'Prospect Plan'!$D$5:$D$104,$A54)) | I54: =IF($A54="","",IFERROR($H54/$D54,"")) | J54: =IF($A54="","",IFERROR($F54/$E54,"")) | K54: =IF($A54="","",COUNTIFS('Prospect Plan'!$A$5:$A$104,"<>",'Prospect Plan'!$D$5:$D$104,$A54,'Prospect Plan'!$L$5:$L$104,"Check*")+COUNTIFS('Prospect Plan'!$A$5:$A$104,"<>",'Prospect Plan'!$D$5:$D$104,$A54,'Prospect Plan'!$L$5:$L$104,"Next action needed"))
A55: =IF(Assumptions!$A$57="","",Assumptions!$A$57) | B55: =IF($A55="","",IFERROR(VLOOKUP($A55,Assumptions!$A$11:$E$110,2,FALSE),"")) | C55: =IF($A55="","",IFERROR(VLOOKUP($A55,Assumptions!$A$11:$E$110,5,FALSE),"")) | D55: =IF($A55="","",IFERROR(VLOOKUP($A55,Assumptions!$A$11:$E$110,3,FALSE),"")) | E55: =IF($A55="","",IFERROR(VLOOKUP($A55,Assumptions!$A$11:$E$110,4,FALSE),"")) | F55: =IF($A55="","",COUNTIFS('Prospect Plan'!$A$5:$A$104,"<>",'Prospect Plan'!$D$5:$D$104,$A55)) | G55: =IF($A55="","",SUMIFS('Prospect Plan'!$G$5:$G$104,'Prospect Plan'!$A$5:$A$104,"<>",'Prospect Plan'!$D$5:$D$104,$A55)) | H55: =IF($A55="","",SUMIFS('Prospect Plan'!$I$5:$I$104,'Prospect Plan'!$A$5:$A$104,"<>",'Prospect Plan'!$D$5:$D$104,$A55)) | I55: =IF($A55="","",IFERROR($H55/$D55,"")) | J55: =IF($A55="","",IFERROR($F55/$E55,"")) | K55: =IF($A55="","",COUNTIFS('Prospect Plan'!$A$5:$A$104,"<>",'Prospect Plan'!$D$5:$D$104,$A55,'Prospect Plan'!$L$5:$L$104,"Check*")+COUNTIFS('Prospect Plan'!$A$5:$A$104,"<>",'Prospect Plan'!$D$5:$D$104,$A55,'Prospect Plan'!$L$5:$L$104,"Next action needed"))
A56: =IF(Assumptions!$A$58="","",Assumptions!$A$58) | B56: =IF($A56="","",IFERROR(VLOOKUP($A56,Assumptions!$A$11:$E$110,2,FALSE),"")) | C56: =IF($A56="","",IFERROR(VLOOKUP($A56,Assumptions!$A$11:$E$110,5,FALSE),"")) | D56: =IF($A56="","",IFERROR(VLOOKUP($A56,Assumptions!$A$11:$E$110,3,FALSE),"")) | E56: =IF($A56="","",IFERROR(VLOOKUP($A56,Assumptions!$A$11:$E$110,4,FALSE),"")) | F56: =IF($A56="","",COUNTIFS('Prospect Plan'!$A$5:$A$104,"<>",'Prospect Plan'!$D$5:$D$104,$A56)) | G56: =IF($A56="","",SUMIFS('Prospect Plan'!$G$5:$G$104,'Prospect Plan'!$A$5:$A$104,"<>",'Prospect Plan'!$D$5:$D$104,$A56)) | H56: =IF($A56="","",SUMIFS('Prospect Plan'!$I$5:$I$104,'Prospect Plan'!$A$5:$A$104,"<>",'Prospect Plan'!$D$5:$D$104,$A56)) | I56: =IF($A56="","",IFERROR($H56/$D56,"")) | J56: =IF($A56="","",IFERROR($F56/$E56,"")) | K56: =IF($A56="","",COUNTIFS('Prospect Plan'!$A$5:$A$104,"<>",'Prospect Plan'!$D$5:$D$104,$A56,'Prospect Plan'!$L$5:$L$104,"Check*")+COUNTIFS('Prospect Plan'!$A$5:$A$104,"<>",'Prospect Plan'!$D$5:$D$104,$A56,'Prospect Plan'!$L$5:$L$104,"Next action needed"))
A57: =IF(Assumptions!$A$59="","",Assumptions!$A$59) | B57: =IF($A57="","",IFERROR(VLOOKUP($A57,Assumptions!$A$11:$E$110,2,FALSE),"")) | C57: =IF($A57="","",IFERROR(VLOOKUP($A57,Assumptions!$A$11:$E$110,5,FALSE),"")) | D57: =IF($A57="","",IFERROR(VLOOKUP($A57,Assumptions!$A$11:$E$110,3,FALSE),"")) | E57: =IF($A57="","",IFERROR(VLOOKUP($A57,Assumptions!$A$11:$E$110,4,FALSE),"")) | F57: =IF($A57="","",COUNTIFS('Prospect Plan'!$A$5:$A$104,"<>",'Prospect Plan'!$D$5:$D$104,$A57)) | G57: =IF($A57="","",SUMIFS('Prospect Plan'!$G$5:$G$104,'Prospect Plan'!$A$5:$A$104,"<>",'Prospect Plan'!$D$5:$D$104,$A57)) | H57: =IF($A57="","",SUMIFS('Prospect Plan'!$I$5:$I$104,'Prospect Plan'!$A$5:$A$104,"<>",'Prospect Plan'!$D$5:$D$104,$A57)) | I57: =IF($A57="","",IFERROR($H57/$D57,"")) | J57: =IF($A57="","",IFERROR($F57/$E57,"")) | K57: =IF($A57="","",COUNTIFS('Prospect Plan'!$A$5:$A$104,"<>",'Prospect Plan'!$D$5:$D$104,$A57,'Prospect Plan'!$L$5:$L$104,"Check*")+COUNTIFS('Prospect Plan'!$A$5:$A$104,"<>",'Prospect Plan'!$D$5:$D$104,$A57,'Prospect Plan'!$L$5:$L$104,"Next action needed"))
A58: =IF(Assumptions!$A$60="","",Assumptions!$A$60) | B58: =IF($A58="","",IFERROR(VLOOKUP($A58,Assumptions!$A$11:$E$110,2,FALSE),"")) | C58: =IF($A58="","",IFERROR(VLOOKUP($A58,Assumptions!$A$11:$E$110,5,FALSE),"")) | D58: =IF($A58="","",IFERROR(VLOOKUP($A58,Assumptions!$A$11:$E$110,3,FALSE),"")) | E58: =IF($A58="","",IFERROR(VLOOKUP($A58,Assumptions!$A$11:$E$110,4,FALSE),"")) | F58: =IF($A58="","",COUNTIFS('Prospect Plan'!$A$5:$A$104,"<>",'Prospect Plan'!$D$5:$D$104,$A58)) | G58: =IF($A58="","",SUMIFS('Prospect Plan'!$G$5:$G$104,'Prospect Plan'!$A$5:$A$104,"<>",'Prospect Plan'!$D$5:$D$104,$A58)) | H58: =IF($A58="","",SUMIFS('Prospect Plan'!$I$5:$I$104,'Prospect Plan'!$A$5:$A$104,"<>",'Prospect Plan'!$D$5:$D$104,$A58)) | I58: =IF($A58="","",IFERROR($H58/$D58,"")) | J58: =IF($A58="","",IFERROR($F58/$E58,"")) | K58: =IF($A58="","",COUNTIFS('Prospect Plan'!$A$5:$A$104,"<>",'Prospect Plan'!$D$5:$D$104,$A58,'Prospect Plan'!$L$5:$L$104,"Check*")+COUNTIFS('Prospect Plan'!$A$5:$A$104,"<>",'Prospect Plan'!$D$5:$D$104,$A58,'Prospect Plan'!$L$5:$L$104,"Next action needed"))
A59: =IF(Assumptions!$A$61="","",Assumptions!$A$61) | B59: =IF($A59="","",IFERROR(VLOOKUP($A59,Assumptions!$A$11:$E$110,2,FALSE),"")) | C59: =IF($A59="","",IFERROR(VLOOKUP($A59,Assumptions!$A$11:$E$110,5,FALSE),"")) | D59: =IF($A59="","",IFERROR(VLOOKUP($A59,Assumptions!$A$11:$E$110,3,FALSE),"")) | E59: =IF($A59="","",IFERROR(VLOOKUP($A59,Assumptions!$A$11:$E$110,4,FALSE),"")) | F59: =IF($A59="","",COUNTIFS('Prospect Plan'!$A$5:$A$104,"<>",'Prospect Plan'!$D$5:$D$104,$A59)) | G59: =IF($A59="","",SUMIFS('Prospect Plan'!$G$5:$G$104,'Prospect Plan'!$A$5:$A$104,"<>",'Prospect Plan'!$D$5:$D$104,$A59)) | H59: =IF($A59="","",SUMIFS('Prospect Plan'!$I$5:$I$104,'Prospect Plan'!$A$5:$A$104,"<>",'Prospect Plan'!$D$5:$D$104,$A59)) | I59: =IF($A59="","",IFERROR($H59/$D59,"")) | J59: =IF($A59="","",IFERROR($F59/$E59,"")) | K59: =IF($A59="","",COUNTIFS('Prospect Plan'!$A$5:$A$104,"<>",'Prospect Plan'!$D$5:$D$104,$A59,'Prospect Plan'!$L$5:$L$104,"Check*")+COUNTIFS('Prospect Plan'!$A$5:$A$104,"<>",'Prospect Plan'!$D$5:$D$104,$A59,'Prospect Plan'!$L$5:$L$104,"Next action needed"))
A60: =IF(Assumptions!$A$62="","",Assumptions!$A$62) | B60: =IF($A60="","",IFERROR(VLOOKUP($A60,Assumptions!$A$11:$E$110,2,FALSE),"")) | C60: =IF($A60="","",IFERROR(VLOOKUP($A60,Assumptions!$A$11:$E$110,5,FALSE),"")) | D60: =IF($A60="","",IFERROR(VLOOKUP($A60,Assumptions!$A$11:$E$110,3,FALSE),"")) | E60: =IF($A60="","",IFERROR(VLOOKUP($A60,Assumptions!$A$11:$E$110,4,FALSE),"")) | F60: =IF($A60="","",COUNTIFS('Prospect Plan'!$A$5:$A$104,"<>",'Prospect Plan'!$D$5:$D$104,$A60)) | G60: =IF($A60="","",SUMIFS('Prospect Plan'!$G$5:$G$104,'Prospect Plan'!$A$5:$A$104,"<>",'Prospect Plan'!$D$5:$D$104,$A60)) | H60: =IF($A60="","",SUMIFS('Prospect Plan'!$I$5:$I$104,'Prospect Plan'!$A$5:$A$104,"<>",'Prospect Plan'!$D$5:$D$104,$A60)) | I60: =IF($A60="","",IFERROR($H60/$D60,"")) | J60: =IF($A60="","",IFERROR($F60/$E60,"")) | K60: =IF($A60="","",COUNTIFS('Prospect Plan'!$A$5:$A$104,"<>",'Prospect Plan'!$D$5:$D$104,$A60,'Prospect Plan'!$L$5:$L$104,"Check*")+COUNTIFS('Prospect Plan'!$A$5:$A$104,"<>",'Prospect Plan'!$D$5:$D$104,$A60,'Prospect Plan'!$L$5:$L$104,"Next action needed"))
A61: =IF(Assumptions!$A$63="","",Assumptions!$A$63) | B61: =IF($A61="","",IFERROR(VLOOKUP($A61,Assumptions!$A$11:$E$110,2,FALSE),"")) | C61: =IF($A61="","",IFERROR(VLOOKUP($A61,Assumptions!$A$11:$E$110,5,FALSE),"")) | D61: =IF($A61="","",IFERROR(VLOOKUP($A61,Assumptions!$A$11:$E$110,3,FALSE),"")) | E61: =IF($A61="","",IFERROR(VLOOKUP($A61,Assumptions!$A$11:$E$110,4,FALSE),"")) | F61: =IF($A61="","",COUNTIFS('Prospect Plan'!$A$5:$A$104,"<>",'Prospect Plan'!$D$5:$D$104,$A61)) | G61: =IF($A61="","",SUMIFS('Prospect Plan'!$G$5:$G$104,'Prospect Plan'!$A$5:$A$104,"<>",'Prospect Plan'!$D$5:$D$104,$A61)) | H61: =IF($A61="","",SUMIFS('Prospect Plan'!$I$5:$I$104,'Prospect Plan'!$A$5:$A$104,"<>",'Prospect Plan'!$D$5:$D$104,$A61)) | I61: =IF($A61="","",IFERROR($H61/$D61,"")) | J61: =IF($A61="","",IFERROR($F61/$E61,"")) | K61: =IF($A61="","",COUNTIFS('Prospect Plan'!$A$5:$A$104,"<>",'Prospect Plan'!$D$5:$D$104,$A61,'Prospect Plan'!$L$5:$L$104,"Check*")+COUNTIFS('Prospect Plan'!$A$5:$A$104,"<>",'Prospect Plan'!$D$5:$D$104,$A61,'Prospect Plan'!$L$5:$L$104,"Next action needed"))
A62: =IF(Assumptions!$A$64="","",Assumptions!$A$64) | B62: =IF($A62="","",IFERROR(VLOOKUP($A62,Assumptions!$A$11:$E$110,2,FALSE),"")) | C62: =IF($A62="","",IFERROR(VLOOKUP($A62,Assumptions!$A$11:$E$110,5,FALSE),"")) | D62: =IF($A62="","",IFERROR(VLOOKUP($A62,Assumptions!$A$11:$E$110,3,FALSE),"")) | E62: =IF($A62="","",IFERROR(VLOOKUP($A62,Assumptions!$A$11:$E$110,4,FALSE),"")) | F62: =IF($A62="","",COUNTIFS('Prospect Plan'!$A$5:$A$104,"<>",'Prospect Plan'!$D$5:$D$104,$A62)) | G62: =IF($A62="","",SUMIFS('Prospect Plan'!$G$5:$G$104,'Prospect Plan'!$A$5:$A$104,"<>",'Prospect Plan'!$D$5:$D$104,$A62)) | H62: =IF($A62="","",SUMIFS('Prospect Plan'!$I$5:$I$104,'Prospect Plan'!$A$5:$A$104,"<>",'Prospect Plan'!$D$5:$D$104,$A62)) | I62: =IF($A62="","",IFERROR($H62/$D62,"")) | J62: =IF($A62="","",IFERROR($F62/$E62,"")) | K62: =IF($A62="","",COUNTIFS('Prospect Plan'!$A$5:$A$104,"<>",'Prospect Plan'!$D$5:$D$104,$A62,'Prospect Plan'!$L$5:$L$104,"Check*")+COUNTIFS('Prospect Plan'!$A$5:$A$104,"<>",'Prospect Plan'!$D$5:$D$104,$A62,'Prospect Plan'!$L$5:$L$104,"Next action needed"))
A63: =IF(Assumptions!$A$65="","",Assumptions!$A$65) | B63: =IF($A63="","",IFERROR(VLOOKUP($A63,Assumptions!$A$11:$E$110,2,FALSE),"")) | C63: =IF($A63="","",IFERROR(VLOOKUP($A63,Assumptions!$A$11:$E$110,5,FALSE),"")) | D63: =IF($A63="","",IFERROR(VLOOKUP($A63,Assumptions!$A$11:$E$110,3,FALSE),"")) | E63: =IF($A63="","",IFERROR(VLOOKUP($A63,Assumptions!$A$11:$E$110,4,FALSE),"")) | F63: =IF($A63="","",COUNTIFS('Prospect Plan'!$A$5:$A$104,"<>",'Prospect Plan'!$D$5:$D$104,$A63)) | G63: =IF($A63="","",SUMIFS('Prospect Plan'!$G$5:$G$104,'Prospect Plan'!$A$5:$A$104,"<>",'Prospect Plan'!$D$5:$D$104,$A63)) | H63: =IF($A63="","",SUMIFS('Prospect Plan'!$I$5:$I$104,'Prospect Plan'!$A$5:$A$104,"<>",'Prospect Plan'!$D$5:$D$104,$A63)) | I63: =IF($A63="","",IFERROR($H63/$D63,"")) | J63: =IF($A63="","",IFERROR($F63/$E63,"")) | K63: =IF($A63="","",COUNTIFS('Prospect Plan'!$A$5:$A$104,"<>",'Prospect Plan'!$D$5:$D$104,$A63,'Prospect Plan'!$L$5:$L$104,"Check*")+COUNTIFS('Prospect Plan'!$A$5:$A$104,"<>",'Prospect Plan'!$D$5:$D$104,$A63,'Prospect Plan'!$L$5:$L$104,"Next action needed"))
A64: =IF(Assumptions!$A$66="","",Assumptions!$A$66) | B64: =IF($A64="","",IFERROR(VLOOKUP($A64,Assumptions!$A$11:$E$110,2,FALSE),"")) | C64: =IF($A64="","",IFERROR(VLOOKUP($A64,Assumptions!$A$11:$E$110,5,FALSE),"")) | D64: =IF($A64="","",IFERROR(VLOOKUP($A64,Assumptions!$A$11:$E$110,3,FALSE),"")) | E64: =IF($A64="","",IFERROR(VLOOKUP($A64,Assumptions!$A$11:$E$110,4,FALSE),"")) | F64: =IF($A64="","",COUNTIFS('Prospect Plan'!$A$5:$A$104,"<>",'Prospect Plan'!$D$5:$D$104,$A64)) | G64: =IF($A64="","",SUMIFS('Prospect Plan'!$G$5:$G$104,'Prospect Plan'!$A$5:$A$104,"<>",'Prospect Plan'!$D$5:$D$104,$A64)) | H64: =IF($A64="","",SUMIFS('Prospect Plan'!$I$5:$I$104,'Prospect Plan'!$A$5:$A$104,"<>",'Prospect Plan'!$D$5:$D$104,$A64)) | I64: =IF($A64="","",IFERROR($H64/$D64,"")) | J64: =IF($A64="","",IFERROR($F64/$E64,"")) | K64: =IF($A64="","",COUNTIFS('Prospect Plan'!$A$5:$A$104,"<>",'Prospect Plan'!$D$5:$D$104,$A64,'Prospect Plan'!$L$5:$L$104,"Check*")+COUNTIFS('Prospect Plan'!$A$5:$A$104,"<>",'Prospect Plan'!$D$5:$D$104,$A64,'Prospect Plan'!$L$5:$L$104,"Next action needed"))
A65: =IF(Assumptions!$A$67="","",Assumptions!$A$67) | B65: =IF($A65="","",IFERROR(VLOOKUP($A65,Assumptions!$A$11:$E$110,2,FALSE),"")) | C65: =IF($A65="","",IFERROR(VLOOKUP($A65,Assumptions!$A$11:$E$110,5,FALSE),"")) | D65: =IF($A65="","",IFERROR(VLOOKUP($A65,Assumptions!$A$11:$E$110,3,FALSE),"")) | E65: =IF($A65="","",IFERROR(VLOOKUP($A65,Assumptions!$A$11:$E$110,4,FALSE),"")) | F65: =IF($A65="","",COUNTIFS('Prospect Plan'!$A$5:$A$104,"<>",'Prospect Plan'!$D$5:$D$104,$A65)) | G65: =IF($A65="","",SUMIFS('Prospect Plan'!$G$5:$G$104,'Prospect Plan'!$A$5:$A$104,"<>",'Prospect Plan'!$D$5:$D$104,$A65)) | H65: =IF($A65="","",SUMIFS('Prospect Plan'!$I$5:$I$104,'Prospect Plan'!$A$5:$A$104,"<>",'Prospect Plan'!$D$5:$D$104,$A65)) | I65: =IF($A65="","",IFERROR($H65/$D65,"")) | J65: =IF($A65="","",IFERROR($F65/$E65,"")) | K65: =IF($A65="","",COUNTIFS('Prospect Plan'!$A$5:$A$104,"<>",'Prospect Plan'!$D$5:$D$104,$A65,'Prospect Plan'!$L$5:$L$104,"Check*")+COUNTIFS('Prospect Plan'!$A$5:$A$104,"<>",'Prospect Plan'!$D$5:$D$104,$A65,'Prospect Plan'!$L$5:$L$104,"Next action needed"))
A66: =IF(Assumptions!$A$68="","",Assumptions!$A$68) | B66: =IF($A66="","",IFERROR(VLOOKUP($A66,Assumptions!$A$11:$E$110,2,FALSE),"")) | C66: =IF($A66="","",IFERROR(VLOOKUP($A66,Assumptions!$A$11:$E$110,5,FALSE),"")) | D66: =IF($A66="","",IFERROR(VLOOKUP($A66,Assumptions!$A$11:$E$110,3,FALSE),"")) | E66: =IF($A66="","",IFERROR(VLOOKUP($A66,Assumptions!$A$11:$E$110,4,FALSE),"")) | F66: =IF($A66="","",COUNTIFS('Prospect Plan'!$A$5:$A$104,"<>",'Prospect Plan'!$D$5:$D$104,$A66)) | G66: =IF($A66="","",SUMIFS('Prospect Plan'!$G$5:$G$104,'Prospect Plan'!$A$5:$A$104,"<>",'Prospect Plan'!$D$5:$D$104,$A66)) | H66: =IF($A66="","",SUMIFS('Prospect Plan'!$I$5:$I$104,'Prospect Plan'!$A$5:$A$104,"<>",'Prospect Plan'!$D$5:$D$104,$A66)) | I66: =IF($A66="","",IFERROR($H66/$D66,"")) | J66: =IF($A66="","",IFERROR($F66/$E66,"")) | K66: =IF($A66="","",COUNTIFS('Prospect Plan'!$A$5:$A$104,"<>",'Prospect Plan'!$D$5:$D$104,$A66,'Prospect Plan'!$L$5:$L$104,"Check*")+COUNTIFS('Prospect Plan'!$A$5:$A$104,"<>",'Prospect Plan'!$D$5:$D$104,$A66,'Prospect Plan'!$L$5:$L$104,"Next action needed"))
A67: =IF(Assumptions!$A$69="","",Assumptions!$A$69) | B67: =IF($A67="","",IFERROR(VLOOKUP($A67,Assumptions!$A$11:$E$110,2,FALSE),"")) | C67: =IF($A67="","",IFERROR(VLOOKUP($A67,Assumptions!$A$11:$E$110,5,FALSE),"")) | D67: =IF($A67="","",IFERROR(VLOOKUP($A67,Assumptions!$A$11:$E$110,3,FALSE),"")) | E67: =IF($A67="","",IFERROR(VLOOKUP($A67,Assumptions!$A$11:$E$110,4,FALSE),"")) | F67: =IF($A67="","",COUNTIFS('Prospect Plan'!$A$5:$A$104,"<>",'Prospect Plan'!$D$5:$D$104,$A67)) | G67: =IF($A67="","",SUMIFS('Prospect Plan'!$G$5:$G$104,'Prospect Plan'!$A$5:$A$104,"<>",'Prospect Plan'!$D$5:$D$104,$A67)) | H67: =IF($A67="","",SUMIFS('Prospect Plan'!$I$5:$I$104,'Prospect Plan'!$A$5:$A$104,"<>",'Prospect Plan'!$D$5:$D$104,$A67)) | I67: =IF($A67="","",IFERROR($H67/$D67,"")) | J67: =IF($A67="","",IFERROR($F67/$E67,"")) | K67: =IF($A67="","",COUNTIFS('Prospect Plan'!$A$5:$A$104,"<>",'Prospect Plan'!$D$5:$D$104,$A67,'Prospect Plan'!$L$5:$L$104,"Check*")+COUNTIFS('Prospect Plan'!$A$5:$A$104,"<>",'Prospect Plan'!$D$5:$D$104,$A67,'Prospect Plan'!$L$5:$L$104,"Next action needed"))
A68: =IF(Assumptions!$A$70="","",Assumptions!$A$70) | B68: =IF($A68="","",IFERROR(VLOOKUP($A68,Assumptions!$A$11:$E$110,2,FALSE),"")) | C68: =IF($A68="","",IFERROR(VLOOKUP($A68,Assumptions!$A$11:$E$110,5,FALSE),"")) | D68: =IF($A68="","",IFERROR(VLOOKUP($A68,Assumptions!$A$11:$E$110,3,FALSE),"")) | E68: =IF($A68="","",IFERROR(VLOOKUP($A68,Assumptions!$A$11:$E$110,4,FALSE),"")) | F68: =IF($A68="","",COUNTIFS('Prospect Plan'!$A$5:$A$104,"<>",'Prospect Plan'!$D$5:$D$104,$A68)) | G68: =IF($A68="","",SUMIFS('Prospect Plan'!$G$5:$G$104,'Prospect Plan'!$A$5:$A$104,"<>",'Prospect Plan'!$D$5:$D$104,$A68)) | H68: =IF($A68="","",SUMIFS('Prospect Plan'!$I$5:$I$104,'Prospect Plan'!$A$5:$A$104,"<>",'Prospect Plan'!$D$5:$D$104,$A68)) | I68: =IF($A68="","",IFERROR($H68/$D68,"")) | J68: =IF($A68="","",IFERROR($F68/$E68,"")) | K68: =IF($A68="","",COUNTIFS('Prospect Plan'!$A$5:$A$104,"<>",'Prospect Plan'!$D$5:$D$104,$A68,'Prospect Plan'!$L$5:$L$104,"Check*")+COUNTIFS('Prospect Plan'!$A$5:$A$104,"<>",'Prospect Plan'!$D$5:$D$104,$A68,'Prospect Plan'!$L$5:$L$104,"Next action needed"))
A69: =IF(Assumptions!$A$71="","",Assumptions!$A$71) | B69: =IF($A69="","",IFERROR(VLOOKUP($A69,Assumptions!$A$11:$E$110,2,FALSE),"")) | C69: =IF($A69="","",IFERROR(VLOOKUP($A69,Assumptions!$A$11:$E$110,5,FALSE),"")) | D69: =IF($A69="","",IFERROR(VLOOKUP($A69,Assumptions!$A$11:$E$110,3,FALSE),"")) | E69: =IF($A69="","",IFERROR(VLOOKUP($A69,Assumptions!$A$11:$E$110,4,FALSE),"")) | F69: =IF($A69="","",COUNTIFS('Prospect Plan'!$A$5:$A$104,"<>",'Prospect Plan'!$D$5:$D$104,$A69)) | G69: =IF($A69="","",SUMIFS('Prospect Plan'!$G$5:$G$104,'Prospect Plan'!$A$5:$A$104,"<>",'Prospect Plan'!$D$5:$D$104,$A69)) | H69: =IF($A69="","",SUMIFS('Prospect Plan'!$I$5:$I$104,'Prospect Plan'!$A$5:$A$104,"<>",'Prospect Plan'!$D$5:$D$104,$A69)) | I69: =IF($A69="","",IFERROR($H69/$D69,"")) | J69: =IF($A69="","",IFERROR($F69/$E69,"")) | K69: =IF($A69="","",COUNTIFS('Prospect Plan'!$A$5:$A$104,"<>",'Prospect Plan'!$D$5:$D$104,$A69,'Prospect Plan'!$L$5:$L$104,"Check*")+COUNTIFS('Prospect Plan'!$A$5:$A$104,"<>",'Prospect Plan'!$D$5:$D$104,$A69,'Prospect Plan'!$L$5:$L$104,"Next action needed"))
A70: =IF(Assumptions!$A$72="","",Assumptions!$A$72) | B70: =IF($A70="","",IFERROR(VLOOKUP($A70,Assumptions!$A$11:$E$110,2,FALSE),"")) | C70: =IF($A70="","",IFERROR(VLOOKUP($A70,Assumptions!$A$11:$E$110,5,FALSE),"")) | D70: =IF($A70="","",IFERROR(VLOOKUP($A70,Assumptions!$A$11:$E$110,3,FALSE),"")) | E70: =IF($A70="","",IFERROR(VLOOKUP($A70,Assumptions!$A$11:$E$110,4,FALSE),"")) | F70: =IF($A70="","",COUNTIFS('Prospect Plan'!$A$5:$A$104,"<>",'Prospect Plan'!$D$5:$D$104,$A70)) | G70: =IF($A70="","",SUMIFS('Prospect Plan'!$G$5:$G$104,'Prospect Plan'!$A$5:$A$104,"<>",'Prospect Plan'!$D$5:$D$104,$A70)) | H70: =IF($A70="","",SUMIFS('Prospect Plan'!$I$5:$I$104,'Prospect Plan'!$A$5:$A$104,"<>",'Prospect Plan'!$D$5:$D$104,$A70)) | I70: =IF($A70="","",IFERROR($H70/$D70,"")) | J70: =IF($A70="","",IFERROR($F70/$E70,"")) | K70: =IF($A70="","",COUNTIFS('Prospect Plan'!$A$5:$A$104,"<>",'Prospect Plan'!$D$5:$D$104,$A70,'Prospect Plan'!$L$5:$L$104,"Check*")+COUNTIFS('Prospect Plan'!$A$5:$A$104,"<>",'Prospect Plan'!$D$5:$D$104,$A70,'Prospect Plan'!$L$5:$L$104,"Next action needed"))
A71: =IF(Assumptions!$A$73="","",Assumptions!$A$73) | B71: =IF($A71="","",IFERROR(VLOOKUP($A71,Assumptions!$A$11:$E$110,2,FALSE),"")) | C71: =IF($A71="","",IFERROR(VLOOKUP($A71,Assumptions!$A$11:$E$110,5,FALSE),"")) | D71: =IF($A71="","",IFERROR(VLOOKUP($A71,Assumptions!$A$11:$E$110,3,FALSE),"")) | E71: =IF($A71="","",IFERROR(VLOOKUP($A71,Assumptions!$A$11:$E$110,4,FALSE),"")) | F71: =IF($A71="","",COUNTIFS('Prospect Plan'!$A$5:$A$104,"<>",'Prospect Plan'!$D$5:$D$104,$A71)) | G71: =IF($A71="","",SUMIFS('Prospect Plan'!$G$5:$G$104,'Prospect Plan'!$A$5:$A$104,"<>",'Prospect Plan'!$D$5:$D$104,$A71)) | H71: =IF($A71="","",SUMIFS('Prospect Plan'!$I$5:$I$104,'Prospect Plan'!$A$5:$A$104,"<>",'Prospect Plan'!$D$5:$D$104,$A71)) | I71: =IF($A71="","",IFERROR($H71/$D71,"")) | J71: =IF($A71="","",IFERROR($F71/$E71,"")) | K71: =IF($A71="","",COUNTIFS('Prospect Plan'!$A$5:$A$104,"<>",'Prospect Plan'!$D$5:$D$104,$A71,'Prospect Plan'!$L$5:$L$104,"Check*")+COUNTIFS('Prospect Plan'!$A$5:$A$104,"<>",'Prospect Plan'!$D$5:$D$104,$A71,'Prospect Plan'!$L$5:$L$104,"Next action needed"))
A72: =IF(Assumptions!$A$74="","",Assumptions!$A$74) | B72: =IF($A72="","",IFERROR(VLOOKUP($A72,Assumptions!$A$11:$E$110,2,FALSE),"")) | C72: =IF($A72="","",IFERROR(VLOOKUP($A72,Assumptions!$A$11:$E$110,5,FALSE),"")) | D72: =IF($A72="","",IFERROR(VLOOKUP($A72,Assumptions!$A$11:$E$110,3,FALSE),"")) | E72: =IF($A72="","",IFERROR(VLOOKUP($A72,Assumptions!$A$11:$E$110,4,FALSE),"")) | F72: =IF($A72="","",COUNTIFS('Prospect Plan'!$A$5:$A$104,"<>",'Prospect Plan'!$D$5:$D$104,$A72)) | G72: =IF($A72="","",SUMIFS('Prospect Plan'!$G$5:$G$104,'Prospect Plan'!$A$5:$A$104,"<>",'Prospect Plan'!$D$5:$D$104,$A72)) | H72: =IF($A72="","",SUMIFS('Prospect Plan'!$I$5:$I$104,'Prospect Plan'!$A$5:$A$104,"<>",'Prospect Plan'!$D$5:$D$104,$A72)) | I72: =IF($A72="","",IFERROR($H72/$D72,"")) | J72: =IF($A72="","",IFERROR($F72/$E72,"")) | K72: =IF($A72="","",COUNTIFS('Prospect Plan'!$A$5:$A$104,"<>",'Prospect Plan'!$D$5:$D$104,$A72,'Prospect Plan'!$L$5:$L$104,"Check*")+COUNTIFS('Prospect Plan'!$A$5:$A$104,"<>",'Prospect Plan'!$D$5:$D$104,$A72,'Prospect Plan'!$L$5:$L$104,"Next action needed"))
A73: =IF(Assumptions!$A$75="","",Assumptions!$A$75) | B73: =IF($A73="","",IFERROR(VLOOKUP($A73,Assumptions!$A$11:$E$110,2,FALSE),"")) | C73: =IF($A73="","",IFERROR(VLOOKUP($A73,Assumptions!$A$11:$E$110,5,FALSE),"")) | D73: =IF($A73="","",IFERROR(VLOOKUP($A73,Assumptions!$A$11:$E$110,3,FALSE),"")) | E73: =IF($A73="","",IFERROR(VLOOKUP($A73,Assumptions!$A$11:$E$110,4,FALSE),"")) | F73: =IF($A73="","",COUNTIFS('Prospect Plan'!$A$5:$A$104,"<>",'Prospect Plan'!$D$5:$D$104,$A73)) | G73: =IF($A73="","",SUMIFS('Prospect Plan'!$G$5:$G$104,'Prospect Plan'!$A$5:$A$104,"<>",'Prospect Plan'!$D$5:$D$104,$A73)) | H73: =IF($A73="","",SUMIFS('Prospect Plan'!$I$5:$I$104,'Prospect Plan'!$A$5:$A$104,"<>",'Prospect Plan'!$D$5:$D$104,$A73)) | I73: =IF($A73="","",IFERROR($H73/$D73,"")) | J73: =IF($A73="","",IFERROR($F73/$E73,"")) | K73: =IF($A73="","",COUNTIFS('Prospect Plan'!$A$5:$A$104,"<>",'Prospect Plan'!$D$5:$D$104,$A73,'Prospect Plan'!$L$5:$L$104,"Check*")+COUNTIFS('Prospect Plan'!$A$5:$A$104,"<>",'Prospect Plan'!$D$5:$D$104,$A73,'Prospect Plan'!$L$5:$L$104,"Next action needed"))
A74: =IF(Assumptions!$A$76="","",Assumptions!$A$76) | B74: =IF($A74="","",IFERROR(VLOOKUP($A74,Assumptions!$A$11:$E$110,2,FALSE),"")) | C74: =IF($A74="","",IFERROR(VLOOKUP($A74,Assumptions!$A$11:$E$110,5,FALSE),"")) | D74: =IF($A74="","",IFERROR(VLOOKUP($A74,Assumptions!$A$11:$E$110,3,FALSE),"")) | E74: =IF($A74="","",IFERROR(VLOOKUP($A74,Assumptions!$A$11:$E$110,4,FALSE),"")) | F74: =IF($A74="","",COUNTIFS('Prospect Plan'!$A$5:$A$104,"<>",'Prospect Plan'!$D$5:$D$104,$A74)) | G74: =IF($A74="","",SUMIFS('Prospect Plan'!$G$5:$G$104,'Prospect Plan'!$A$5:$A$104,"<>",'Prospect Plan'!$D$5:$D$104,$A74)) | H74: =IF($A74="","",SUMIFS('Prospect Plan'!$I$5:$I$104,'Prospect Plan'!$A$5:$A$104,"<>",'Prospect Plan'!$D$5:$D$104,$A74)) | I74: =IF($A74="","",IFERROR($H74/$D74,"")) | J74: =IF($A74="","",IFERROR($F74/$E74,"")) | K74: =IF($A74="","",COUNTIFS('Prospect Plan'!$A$5:$A$104,"<>",'Prospect Plan'!$D$5:$D$104,$A74,'Prospect Plan'!$L$5:$L$104,"Check*")+COUNTIFS('Prospect Plan'!$A$5:$A$104,"<>",'Prospect Plan'!$D$5:$D$104,$A74,'Prospect Plan'!$L$5:$L$104,"Next action needed"))
A75: =IF(Assumptions!$A$77="","",Assumptions!$A$77) | B75: =IF($A75="","",IFERROR(VLOOKUP($A75,Assumptions!$A$11:$E$110,2,FALSE),"")) | C75: =IF($A75="","",IFERROR(VLOOKUP($A75,Assumptions!$A$11:$E$110,5,FALSE),"")) | D75: =IF($A75="","",IFERROR(VLOOKUP($A75,Assumptions!$A$11:$E$110,3,FALSE),"")) | E75: =IF($A75="","",IFERROR(VLOOKUP($A75,Assumptions!$A$11:$E$110,4,FALSE),"")) | F75: =IF($A75="","",COUNTIFS('Prospect Plan'!$A$5:$A$104,"<>",'Prospect Plan'!$D$5:$D$104,$A75)) | G75: =IF($A75="","",SUMIFS('Prospect Plan'!$G$5:$G$104,'Prospect Plan'!$A$5:$A$104,"<>",'Prospect Plan'!$D$5:$D$104,$A75)) | H75: =IF($A75="","",SUMIFS('Prospect Plan'!$I$5:$I$104,'Prospect Plan'!$A$5:$A$104,"<>",'Prospect Plan'!$D$5:$D$104,$A75)) | I75: =IF($A75="","",IFERROR($H75/$D75,"")) | J75: =IF($A75="","",IFERROR($F75/$E75,"")) | K75: =IF($A75="","",COUNTIFS('Prospect Plan'!$A$5:$A$104,"<>",'Prospect Plan'!$D$5:$D$104,$A75,'Prospect Plan'!$L$5:$L$104,"Check*")+COUNTIFS('Prospect Plan'!$A$5:$A$104,"<>",'Prospect Plan'!$D$5:$D$104,$A75,'Prospect Plan'!$L$5:$L$104,"Next action needed"))
A76: =IF(Assumptions!$A$78="","",Assumptions!$A$78) | B76: =IF($A76="","",IFERROR(VLOOKUP($A76,Assumptions!$A$11:$E$110,2,FALSE),"")) | C76: =IF($A76="","",IFERROR(VLOOKUP($A76,Assumptions!$A$11:$E$110,5,FALSE),"")) | D76: =IF($A76="","",IFERROR(VLOOKUP($A76,Assumptions!$A$11:$E$110,3,FALSE),"")) | E76: =IF($A76="","",IFERROR(VLOOKUP($A76,Assumptions!$A$11:$E$110,4,FALSE),"")) | F76: =IF($A76="","",COUNTIFS('Prospect Plan'!$A$5:$A$104,"<>",'Prospect Plan'!$D$5:$D$104,$A76)) | G76: =IF($A76="","",SUMIFS('Prospect Plan'!$G$5:$G$104,'Prospect Plan'!$A$5:$A$104,"<>",'Prospect Plan'!$D$5:$D$104,$A76)) | H76: =IF($A76="","",SUMIFS('Prospect Plan'!$I$5:$I$104,'Prospect Plan'!$A$5:$A$104,"<>",'Prospect Plan'!$D$5:$D$104,$A76)) | I76: =IF($A76="","",IFERROR($H76/$D76,"")) | J76: =IF($A76="","",IFERROR($F76/$E76,"")) | K76: =IF($A76="","",COUNTIFS('Prospect Plan'!$A$5:$A$104,"<>",'Prospect Plan'!$D$5:$D$104,$A76,'Prospect Plan'!$L$5:$L$104,"Check*")+COUNTIFS('Prospect Plan'!$A$5:$A$104,"<>",'Prospect Plan'!$D$5:$D$104,$A76,'Prospect Plan'!$L$5:$L$104,"Next action needed"))
A77: =IF(Assumptions!$A$79="","",Assumptions!$A$79) | B77: =IF($A77="","",IFERROR(VLOOKUP($A77,Assumptions!$A$11:$E$110,2,FALSE),"")) | C77: =IF($A77="","",IFERROR(VLOOKUP($A77,Assumptions!$A$11:$E$110,5,FALSE),"")) | D77: =IF($A77="","",IFERROR(VLOOKUP($A77,Assumptions!$A$11:$E$110,3,FALSE),"")) | E77: =IF($A77="","",IFERROR(VLOOKUP($A77,Assumptions!$A$11:$E$110,4,FALSE),"")) | F77: =IF($A77="","",COUNTIFS('Prospect Plan'!$A$5:$A$104,"<>",'Prospect Plan'!$D$5:$D$104,$A77)) | G77: =IF($A77="","",SUMIFS('Prospect Plan'!$G$5:$G$104,'Prospect Plan'!$A$5:$A$104,"<>",'Prospect Plan'!$D$5:$D$104,$A77)) | H77: =IF($A77="","",SUMIFS('Prospect Plan'!$I$5:$I$104,'Prospect Plan'!$A$5:$A$104,"<>",'Prospect Plan'!$D$5:$D$104,$A77)) | I77: =IF($A77="","",IFERROR($H77/$D77,"")) | J77: =IF($A77="","",IFERROR($F77/$E77,"")) | K77: =IF($A77="","",COUNTIFS('Prospect Plan'!$A$5:$A$104,"<>",'Prospect Plan'!$D$5:$D$104,$A77,'Prospect Plan'!$L$5:$L$104,"Check*")+COUNTIFS('Prospect Plan'!$A$5:$A$104,"<>",'Prospect Plan'!$D$5:$D$104,$A77,'Prospect Plan'!$L$5:$L$104,"Next action needed"))
A78: =IF(Assumptions!$A$80="","",Assumptions!$A$80) | B78: =IF($A78="","",IFERROR(VLOOKUP($A78,Assumptions!$A$11:$E$110,2,FALSE),"")) | C78: =IF($A78="","",IFERROR(VLOOKUP($A78,Assumptions!$A$11:$E$110,5,FALSE),"")) | D78: =IF($A78="","",IFERROR(VLOOKUP($A78,Assumptions!$A$11:$E$110,3,FALSE),"")) | E78: =IF($A78="","",IFERROR(VLOOKUP($A78,Assumptions!$A$11:$E$110,4,FALSE),"")) | F78: =IF($A78="","",COUNTIFS('Prospect Plan'!$A$5:$A$104,"<>",'Prospect Plan'!$D$5:$D$104,$A78)) | G78: =IF($A78="","",SUMIFS('Prospect Plan'!$G$5:$G$104,'Prospect Plan'!$A$5:$A$104,"<>",'Prospect Plan'!$D$5:$D$104,$A78)) | H78: =IF($A78="","",SUMIFS('Prospect Plan'!$I$5:$I$104,'Prospect Plan'!$A$5:$A$104,"<>",'Prospect Plan'!$D$5:$D$104,$A78)) | I78: =IF($A78="","",IFERROR($H78/$D78,"")) | J78: =IF($A78="","",IFERROR($F78/$E78,"")) | K78: =IF($A78="","",COUNTIFS('Prospect Plan'!$A$5:$A$104,"<>",'Prospect Plan'!$D$5:$D$104,$A78,'Prospect Plan'!$L$5:$L$104,"Check*")+COUNTIFS('Prospect Plan'!$A$5:$A$104,"<>",'Prospect Plan'!$D$5:$D$104,$A78,'Prospect Plan'!$L$5:$L$104,"Next action needed"))
A79: =IF(Assumptions!$A$81="","",Assumptions!$A$81) | B79: =IF($A79="","",IFERROR(VLOOKUP($A79,Assumptions!$A$11:$E$110,2,FALSE),"")) | C79: =IF($A79="","",IFERROR(VLOOKUP($A79,Assumptions!$A$11:$E$110,5,FALSE),"")) | D79: =IF($A79="","",IFERROR(VLOOKUP($A79,Assumptions!$A$11:$E$110,3,FALSE),"")) | E79: =IF($A79="","",IFERROR(VLOOKUP($A79,Assumptions!$A$11:$E$110,4,FALSE),"")) | F79: =IF($A79="","",COUNTIFS('Prospect Plan'!$A$5:$A$104,"<>",'Prospect Plan'!$D$5:$D$104,$A79)) | G79: =IF($A79="","",SUMIFS('Prospect Plan'!$G$5:$G$104,'Prospect Plan'!$A$5:$A$104,"<>",'Prospect Plan'!$D$5:$D$104,$A79)) | H79: =IF($A79="","",SUMIFS('Prospect Plan'!$I$5:$I$104,'Prospect Plan'!$A$5:$A$104,"<>",'Prospect Plan'!$D$5:$D$104,$A79)) | I79: =IF($A79="","",IFERROR($H79/$D79,"")) | J79: =IF($A79="","",IFERROR($F79/$E79,"")) | K79: =IF($A79="","",COUNTIFS('Prospect Plan'!$A$5:$A$104,"<>",'Prospect Plan'!$D$5:$D$104,$A79,'Prospect Plan'!$L$5:$L$104,"Check*")+COUNTIFS('Prospect Plan'!$A$5:$A$104,"<>",'Prospect Plan'!$D$5:$D$104,$A79,'Prospect Plan'!$L$5:$L$104,"Next action needed"))
A80: =IF(Assumptions!$A$82="","",Assumptions!$A$82) | B80: =IF($A80="","",IFERROR(VLOOKUP($A80,Assumptions!$A$11:$E$110,2,FALSE),"")) | C80: =IF($A80="","",IFERROR(VLOOKUP($A80,Assumptions!$A$11:$E$110,5,FALSE),"")) | D80: =IF($A80="","",IFERROR(VLOOKUP($A80,Assumptions!$A$11:$E$110,3,FALSE),"")) | E80: =IF($A80="","",IFERROR(VLOOKUP($A80,Assumptions!$A$11:$E$110,4,FALSE),"")) | F80: =IF($A80="","",COUNTIFS('Prospect Plan'!$A$5:$A$104,"<>",'Prospect Plan'!$D$5:$D$104,$A80)) | G80: =IF($A80="","",SUMIFS('Prospect Plan'!$G$5:$G$104,'Prospect Plan'!$A$5:$A$104,"<>",'Prospect Plan'!$D$5:$D$104,$A80)) | H80: =IF($A80="","",SUMIFS('Prospect Plan'!$I$5:$I$104,'Prospect Plan'!$A$5:$A$104,"<>",'Prospect Plan'!$D$5:$D$104,$A80)) | I80: =IF($A80="","",IFERROR($H80/$D80,"")) | J80: =IF($A80="","",IFERROR($F80/$E80,"")) | K80: =IF($A80="","",COUNTIFS('Prospect Plan'!$A$5:$A$104,"<>",'Prospect Plan'!$D$5:$D$104,$A80,'Prospect Plan'!$L$5:$L$104,"Check*")+COUNTIFS('Prospect Plan'!$A$5:$A$104,"<>",'Prospect Plan'!$D$5:$D$104,$A80,'Prospect Plan'!$L$5:$L$104,"Next action needed"))
A81: =IF(Assumptions!$A$83="","",Assumptions!$A$83) | B81: =IF($A81="","",IFERROR(VLOOKUP($A81,Assumptions!$A$11:$E$110,2,FALSE),"")) | C81: =IF($A81="","",IFERROR(VLOOKUP($A81,Assumptions!$A$11:$E$110,5,FALSE),"")) | D81: =IF($A81="","",IFERROR(VLOOKUP($A81,Assumptions!$A$11:$E$110,3,FALSE),"")) | E81: =IF($A81="","",IFERROR(VLOOKUP($A81,Assumptions!$A$11:$E$110,4,FALSE),"")) | F81: =IF($A81="","",COUNTIFS('Prospect Plan'!$A$5:$A$104,"<>",'Prospect Plan'!$D$5:$D$104,$A81)) | G81: =IF($A81="","",SUMIFS('Prospect Plan'!$G$5:$G$104,'Prospect Plan'!$A$5:$A$104,"<>",'Prospect Plan'!$D$5:$D$104,$A81)) | H81: =IF($A81="","",SUMIFS('Prospect Plan'!$I$5:$I$104,'Prospect Plan'!$A$5:$A$104,"<>",'Prospect Plan'!$D$5:$D$104,$A81)) | I81: =IF($A81="","",IFERROR($H81/$D81,"")) | J81: =IF($A81="","",IFERROR($F81/$E81,"")) | K81: =IF($A81="","",COUNTIFS('Prospect Plan'!$A$5:$A$104,"<>",'Prospect Plan'!$D$5:$D$104,$A81,'Prospect Plan'!$L$5:$L$104,"Check*")+COUNTIFS('Prospect Plan'!$A$5:$A$104,"<>",'Prospect Plan'!$D$5:$D$104,$A81,'Prospect Plan'!$L$5:$L$104,"Next action needed"))
A82: =IF(Assumptions!$A$84="","",Assumptions!$A$84) | B82: =IF($A82="","",IFERROR(VLOOKUP($A82,Assumptions!$A$11:$E$110,2,FALSE),"")) | C82: =IF($A82="","",IFERROR(VLOOKUP($A82,Assumptions!$A$11:$E$110,5,FALSE),"")) | D82: =IF($A82="","",IFERROR(VLOOKUP($A82,Assumptions!$A$11:$E$110,3,FALSE),"")) | E82: =IF($A82="","",IFERROR(VLOOKUP($A82,Assumptions!$A$11:$E$110,4,FALSE),"")) | F82: =IF($A82="","",COUNTIFS('Prospect Plan'!$A$5:$A$104,"<>",'Prospect Plan'!$D$5:$D$104,$A82)) | G82: =IF($A82="","",SUMIFS('Prospect Plan'!$G$5:$G$104,'Prospect Plan'!$A$5:$A$104,"<>",'Prospect Plan'!$D$5:$D$104,$A82)) | H82: =IF($A82="","",SUMIFS('Prospect Plan'!$I$5:$I$104,'Prospect Plan'!$A$5:$A$104,"<>",'Prospect Plan'!$D$5:$D$104,$A82)) | I82: =IF($A82="","",IFERROR($H82/$D82,"")) | J82: =IF($A82="","",IFERROR($F82/$E82,"")) | K82: =IF($A82="","",COUNTIFS('Prospect Plan'!$A$5:$A$104,"<>",'Prospect Plan'!$D$5:$D$104,$A82,'Prospect Plan'!$L$5:$L$104,"Check*")+COUNTIFS('Prospect Plan'!$A$5:$A$104,"<>",'Prospect Plan'!$D$5:$D$104,$A82,'Prospect Plan'!$L$5:$L$104,"Next action needed"))
A83: =IF(Assumptions!$A$85="","",Assumptions!$A$85) | B83: =IF($A83="","",IFERROR(VLOOKUP($A83,Assumptions!$A$11:$E$110,2,FALSE),"")) | C83: =IF($A83="","",IFERROR(VLOOKUP($A83,Assumptions!$A$11:$E$110,5,FALSE),"")) | D83: =IF($A83="","",IFERROR(VLOOKUP($A83,Assumptions!$A$11:$E$110,3,FALSE),"")) | E83: =IF($A83="","",IFERROR(VLOOKUP($A83,Assumptions!$A$11:$E$110,4,FALSE),"")) | F83: =IF($A83="","",COUNTIFS('Prospect Plan'!$A$5:$A$104,"<>",'Prospect Plan'!$D$5:$D$104,$A83)) | G83: =IF($A83="","",SUMIFS('Prospect Plan'!$G$5:$G$104,'Prospect Plan'!$A$5:$A$104,"<>",'Prospect Plan'!$D$5:$D$104,$A83)) | H83: =IF($A83="","",SUMIFS('Prospect Plan'!$I$5:$I$104,'Prospect Plan'!$A$5:$A$104,"<>",'Prospect Plan'!$D$5:$D$104,$A83)) | I83: =IF($A83="","",IFERROR($H83/$D83,"")) | J83: =IF($A83="","",IFERROR($F83/$E83,"")) | K83: =IF($A83="","",COUNTIFS('Prospect Plan'!$A$5:$A$104,"<>",'Prospect Plan'!$D$5:$D$104,$A83,'Prospect Plan'!$L$5:$L$104,"Check*")+COUNTIFS('Prospect Plan'!$A$5:$A$104,"<>",'Prospect Plan'!$D$5:$D$104,$A83,'Prospect Plan'!$L$5:$L$104,"Next action needed"))
A84: =IF(Assumptions!$A$86="","",Assumptions!$A$86) | B84: =IF($A84="","",IFERROR(VLOOKUP($A84,Assumptions!$A$11:$E$110,2,FALSE),"")) | C84: =IF($A84="","",IFERROR(VLOOKUP($A84,Assumptions!$A$11:$E$110,5,FALSE),"")) | D84: =IF($A84="","",IFERROR(VLOOKUP($A84,Assumptions!$A$11:$E$110,3,FALSE),"")) | E84: =IF($A84="","",IFERROR(VLOOKUP($A84,Assumptions!$A$11:$E$110,4,FALSE),"")) | F84: =IF($A84="","",COUNTIFS('Prospect Plan'!$A$5:$A$104,"<>",'Prospect Plan'!$D$5:$D$104,$A84)) | G84: =IF($A84="","",SUMIFS('Prospect Plan'!$G$5:$G$104,'Prospect Plan'!$A$5:$A$104,"<>",'Prospect Plan'!$D$5:$D$104,$A84)) | H84: =IF($A84="","",SUMIFS('Prospect Plan'!$I$5:$I$104,'Prospect Plan'!$A$5:$A$104,"<>",'Prospect Plan'!$D$5:$D$104,$A84)) | I84: =IF($A84="","",IFERROR($H84/$D84,"")) | J84: =IF($A84="","",IFERROR($F84/$E84,"")) | K84: =IF($A84="","",COUNTIFS('Prospect Plan'!$A$5:$A$104,"<>",'Prospect Plan'!$D$5:$D$104,$A84,'Prospect Plan'!$L$5:$L$104,"Check*")+COUNTIFS('Prospect Plan'!$A$5:$A$104,"<>",'Prospect Plan'!$D$5:$D$104,$A84,'Prospect Plan'!$L$5:$L$104,"Next action needed"))
A85: =IF(Assumptions!$A$87="","",Assumptions!$A$87) | B85: =IF($A85="","",IFERROR(VLOOKUP($A85,Assumptions!$A$11:$E$110,2,FALSE),"")) | C85: =IF($A85="","",IFERROR(VLOOKUP($A85,Assumptions!$A$11:$E$110,5,FALSE),"")) | D85: =IF($A85="","",IFERROR(VLOOKUP($A85,Assumptions!$A$11:$E$110,3,FALSE),"")) | E85: =IF($A85="","",IFERROR(VLOOKUP($A85,Assumptions!$A$11:$E$110,4,FALSE),"")) | F85: =IF($A85="","",COUNTIFS('Prospect Plan'!$A$5:$A$104,"<>",'Prospect Plan'!$D$5:$D$104,$A85)) | G85: =IF($A85="","",SUMIFS('Prospect Plan'!$G$5:$G$104,'Prospect Plan'!$A$5:$A$104,"<>",'Prospect Plan'!$D$5:$D$104,$A85)) | H85: =IF($A85="","",SUMIFS('Prospect Plan'!$I$5:$I$104,'Prospect Plan'!$A$5:$A$104,"<>",'Prospect Plan'!$D$5:$D$104,$A85)) | I85: =IF($A85="","",IFERROR($H85/$D85,"")) | J85: =IF($A85="","",IFERROR($F85/$E85,"")) | K85: =IF($A85="","",COUNTIFS('Prospect Plan'!$A$5:$A$104,"<>",'Prospect Plan'!$D$5:$D$104,$A85,'Prospect Plan'!$L$5:$L$104,"Check*")+COUNTIFS('Prospect Plan'!$A$5:$A$104,"<>",'Prospect Plan'!$D$5:$D$104,$A85,'Prospect Plan'!$L$5:$L$104,"Next action needed"))
A86: =IF(Assumptions!$A$88="","",Assumptions!$A$88) | B86: =IF($A86="","",IFERROR(VLOOKUP($A86,Assumptions!$A$11:$E$110,2,FALSE),"")) | C86: =IF($A86="","",IFERROR(VLOOKUP($A86,Assumptions!$A$11:$E$110,5,FALSE),"")) | D86: =IF($A86="","",IFERROR(VLOOKUP($A86,Assumptions!$A$11:$E$110,3,FALSE),"")) | E86: =IF($A86="","",IFERROR(VLOOKUP($A86,Assumptions!$A$11:$E$110,4,FALSE),"")) | F86: =IF($A86="","",COUNTIFS('Prospect Plan'!$A$5:$A$104,"<>",'Prospect Plan'!$D$5:$D$104,$A86)) | G86: =IF($A86="","",SUMIFS('Prospect Plan'!$G$5:$G$104,'Prospect Plan'!$A$5:$A$104,"<>",'Prospect Plan'!$D$5:$D$104,$A86)) | H86: =IF($A86="","",SUMIFS('Prospect Plan'!$I$5:$I$104,'Prospect Plan'!$A$5:$A$104,"<>",'Prospect Plan'!$D$5:$D$104,$A86)) | I86: =IF($A86="","",IFERROR($H86/$D86,"")) | J86: =IF($A86="","",IFERROR($F86/$E86,"")) | K86: =IF($A86="","",COUNTIFS('Prospect Plan'!$A$5:$A$104,"<>",'Prospect Plan'!$D$5:$D$104,$A86,'Prospect Plan'!$L$5:$L$104,"Check*")+COUNTIFS('Prospect Plan'!$A$5:$A$104,"<>",'Prospect Plan'!$D$5:$D$104,$A86,'Prospect Plan'!$L$5:$L$104,"Next action needed"))
A87: =IF(Assumptions!$A$89="","",Assumptions!$A$89) | B87: =IF($A87="","",IFERROR(VLOOKUP($A87,Assumptions!$A$11:$E$110,2,FALSE),"")) | C87: =IF($A87="","",IFERROR(VLOOKUP($A87,Assumptions!$A$11:$E$110,5,FALSE),"")) | D87: =IF($A87="","",IFERROR(VLOOKUP($A87,Assumptions!$A$11:$E$110,3,FALSE),"")) | E87: =IF($A87="","",IFERROR(VLOOKUP($A87,Assumptions!$A$11:$E$110,4,FALSE),"")) | F87: =IF($A87="","",COUNTIFS('Prospect Plan'!$A$5:$A$104,"<>",'Prospect Plan'!$D$5:$D$104,$A87)) | G87: =IF($A87="","",SUMIFS('Prospect Plan'!$G$5:$G$104,'Prospect Plan'!$A$5:$A$104,"<>",'Prospect Plan'!$D$5:$D$104,$A87)) | H87: =IF($A87="","",SUMIFS('Prospect Plan'!$I$5:$I$104,'Prospect Plan'!$A$5:$A$104,"<>",'Prospect Plan'!$D$5:$D$104,$A87)) | I87: =IF($A87="","",IFERROR($H87/$D87,"")) | J87: =IF($A87="","",IFERROR($F87/$E87,"")) | K87: =IF($A87="","",COUNTIFS('Prospect Plan'!$A$5:$A$104,"<>",'Prospect Plan'!$D$5:$D$104,$A87,'Prospect Plan'!$L$5:$L$104,"Check*")+COUNTIFS('Prospect Plan'!$A$5:$A$104,"<>",'Prospect Plan'!$D$5:$D$104,$A87,'Prospect Plan'!$L$5:$L$104,"Next action needed"))
A88: =IF(Assumptions!$A$90="","",Assumptions!$A$90) | B88: =IF($A88="","",IFERROR(VLOOKUP($A88,Assumptions!$A$11:$E$110,2,FALSE),"")) | C88: =IF($A88="","",IFERROR(VLOOKUP($A88,Assumptions!$A$11:$E$110,5,FALSE),"")) | D88: =IF($A88="","",IFERROR(VLOOKUP($A88,Assumptions!$A$11:$E$110,3,FALSE),"")) | E88: =IF($A88="","",IFERROR(VLOOKUP($A88,Assumptions!$A$11:$E$110,4,FALSE),"")) | F88: =IF($A88="","",COUNTIFS('Prospect Plan'!$A$5:$A$104,"<>",'Prospect Plan'!$D$5:$D$104,$A88)) | G88: =IF($A88="","",SUMIFS('Prospect Plan'!$G$5:$G$104,'Prospect Plan'!$A$5:$A$104,"<>",'Prospect Plan'!$D$5:$D$104,$A88)) | H88: =IF($A88="","",SUMIFS('Prospect Plan'!$I$5:$I$104,'Prospect Plan'!$A$5:$A$104,"<>",'Prospect Plan'!$D$5:$D$104,$A88)) | I88: =IF($A88="","",IFERROR($H88/$D88,"")) | J88: =IF($A88="","",IFERROR($F88/$E88,"")) | K88: =IF($A88="","",COUNTIFS('Prospect Plan'!$A$5:$A$104,"<>",'Prospect Plan'!$D$5:$D$104,$A88,'Prospect Plan'!$L$5:$L$104,"Check*")+COUNTIFS('Prospect Plan'!$A$5:$A$104,"<>",'Prospect Plan'!$D$5:$D$104,$A88,'Prospect Plan'!$L$5:$L$104,"Next action needed"))
A89: =IF(Assumptions!$A$91="","",Assumptions!$A$91) | B89: =IF($A89="","",IFERROR(VLOOKUP($A89,Assumptions!$A$11:$E$110,2,FALSE),"")) | C89: =IF($A89="","",IFERROR(VLOOKUP($A89,Assumptions!$A$11:$E$110,5,FALSE),"")) | D89: =IF($A89="","",IFERROR(VLOOKUP($A89,Assumptions!$A$11:$E$110,3,FALSE),"")) | E89: =IF($A89="","",IFERROR(VLOOKUP($A89,Assumptions!$A$11:$E$110,4,FALSE),"")) | F89: =IF($A89="","",COUNTIFS('Prospect Plan'!$A$5:$A$104,"<>",'Prospect Plan'!$D$5:$D$104,$A89)) | G89: =IF($A89="","",SUMIFS('Prospect Plan'!$G$5:$G$104,'Prospect Plan'!$A$5:$A$104,"<>",'Prospect Plan'!$D$5:$D$104,$A89)) | H89: =IF($A89="","",SUMIFS('Prospect Plan'!$I$5:$I$104,'Prospect Plan'!$A$5:$A$104,"<>",'Prospect Plan'!$D$5:$D$104,$A89)) | I89: =IF($A89="","",IFERROR($H89/$D89,"")) | J89: =IF($A89="","",IFERROR($F89/$E89,"")) | K89: =IF($A89="","",COUNTIFS('Prospect Plan'!$A$5:$A$104,"<>",'Prospect Plan'!$D$5:$D$104,$A89,'Prospect Plan'!$L$5:$L$104,"Check*")+COUNTIFS('Prospect Plan'!$A$5:$A$104,"<>",'Prospect Plan'!$D$5:$D$104,$A89,'Prospect Plan'!$L$5:$L$104,"Next action needed"))
A90: =IF(Assumptions!$A$92="","",Assumptions!$A$92) | B90: =IF($A90="","",IFERROR(VLOOKUP($A90,Assumptions!$A$11:$E$110,2,FALSE),"")) | C90: =IF($A90="","",IFERROR(VLOOKUP($A90,Assumptions!$A$11:$E$110,5,FALSE),"")) | D90: =IF($A90="","",IFERROR(VLOOKUP($A90,Assumptions!$A$11:$E$110,3,FALSE),"")) | E90: =IF($A90="","",IFERROR(VLOOKUP($A90,Assumptions!$A$11:$E$110,4,FALSE),"")) | F90: =IF($A90="","",COUNTIFS('Prospect Plan'!$A$5:$A$104,"<>",'Prospect Plan'!$D$5:$D$104,$A90)) | G90: =IF($A90="","",SUMIFS('Prospect Plan'!$G$5:$G$104,'Prospect Plan'!$A$5:$A$104,"<>",'Prospect Plan'!$D$5:$D$104,$A90)) | H90: =IF($A90="","",SUMIFS('Prospect Plan'!$I$5:$I$104,'Prospect Plan'!$A$5:$A$104,"<>",'Prospect Plan'!$D$5:$D$104,$A90)) | I90: =IF($A90="","",IFERROR($H90/$D90,"")) | J90: =IF($A90="","",IFERROR($F90/$E90,"")) | K90: =IF($A90="","",COUNTIFS('Prospect Plan'!$A$5:$A$104,"<>",'Prospect Plan'!$D$5:$D$104,$A90,'Prospect Plan'!$L$5:$L$104,"Check*")+COUNTIFS('Prospect Plan'!$A$5:$A$104,"<>",'Prospect Plan'!$D$5:$D$104,$A90,'Prospect Plan'!$L$5:$L$104,"Next action needed"))
A91: =IF(Assumptions!$A$93="","",Assumptions!$A$93) | B91: =IF($A91="","",IFERROR(VLOOKUP($A91,Assumptions!$A$11:$E$110,2,FALSE),"")) | C91: =IF($A91="","",IFERROR(VLOOKUP($A91,Assumptions!$A$11:$E$110,5,FALSE),"")) | D91: =IF($A91="","",IFERROR(VLOOKUP($A91,Assumptions!$A$11:$E$110,3,FALSE),"")) | E91: =IF($A91="","",IFERROR(VLOOKUP($A91,Assumptions!$A$11:$E$110,4,FALSE),"")) | F91: =IF($A91="","",COUNTIFS('Prospect Plan'!$A$5:$A$104,"<>",'Prospect Plan'!$D$5:$D$104,$A91)) | G91: =IF($A91="","",SUMIFS('Prospect Plan'!$G$5:$G$104,'Prospect Plan'!$A$5:$A$104,"<>",'Prospect Plan'!$D$5:$D$104,$A91)) | H91: =IF($A91="","",SUMIFS('Prospect Plan'!$I$5:$I$104,'Prospect Plan'!$A$5:$A$104,"<>",'Prospect Plan'!$D$5:$D$104,$A91)) | I91: =IF($A91="","",IFERROR($H91/$D91,"")) | J91: =IF($A91="","",IFERROR($F91/$E91,"")) | K91: =IF($A91="","",COUNTIFS('Prospect Plan'!$A$5:$A$104,"<>",'Prospect Plan'!$D$5:$D$104,$A91,'Prospect Plan'!$L$5:$L$104,"Check*")+COUNTIFS('Prospect Plan'!$A$5:$A$104,"<>",'Prospect Plan'!$D$5:$D$104,$A91,'Prospect Plan'!$L$5:$L$104,"Next action needed"))
A92: =IF(Assumptions!$A$94="","",Assumptions!$A$94) | B92: =IF($A92="","",IFERROR(VLOOKUP($A92,Assumptions!$A$11:$E$110,2,FALSE),"")) | C92: =IF($A92="","",IFERROR(VLOOKUP($A92,Assumptions!$A$11:$E$110,5,FALSE),"")) | D92: =IF($A92="","",IFERROR(VLOOKUP($A92,Assumptions!$A$11:$E$110,3,FALSE),"")) | E92: =IF($A92="","",IFERROR(VLOOKUP($A92,Assumptions!$A$11:$E$110,4,FALSE),"")) | F92: =IF($A92="","",COUNTIFS('Prospect Plan'!$A$5:$A$104,"<>",'Prospect Plan'!$D$5:$D$104,$A92)) | G92: =IF($A92="","",SUMIFS('Prospect Plan'!$G$5:$G$104,'Prospect Plan'!$A$5:$A$104,"<>",'Prospect Plan'!$D$5:$D$104,$A92)) | H92: =IF($A92="","",SUMIFS('Prospect Plan'!$I$5:$I$104,'Prospect Plan'!$A$5:$A$104,"<>",'Prospect Plan'!$D$5:$D$104,$A92)) | I92: =IF($A92="","",IFERROR($H92/$D92,"")) | J92: =IF($A92="","",IFERROR($F92/$E92,"")) | K92: =IF($A92="","",COUNTIFS('Prospect Plan'!$A$5:$A$104,"<>",'Prospect Plan'!$D$5:$D$104,$A92,'Prospect Plan'!$L$5:$L$104,"Check*")+COUNTIFS('Prospect Plan'!$A$5:$A$104,"<>",'Prospect Plan'!$D$5:$D$104,$A92,'Prospect Plan'!$L$5:$L$104,"Next action needed"))
A93: =IF(Assumptions!$A$95="","",Assumptions!$A$95) | B93: =IF($A93="","",IFERROR(VLOOKUP($A93,Assumptions!$A$11:$E$110,2,FALSE),"")) | C93: =IF($A93="","",IFERROR(VLOOKUP($A93,Assumptions!$A$11:$E$110,5,FALSE),"")) | D93: =IF($A93="","",IFERROR(VLOOKUP($A93,Assumptions!$A$11:$E$110,3,FALSE),"")) | E93: =IF($A93="","",IFERROR(VLOOKUP($A93,Assumptions!$A$11:$E$110,4,FALSE),"")) | F93: =IF($A93="","",COUNTIFS('Prospect Plan'!$A$5:$A$104,"<>",'Prospect Plan'!$D$5:$D$104,$A93)) | G93: =IF($A93="","",SUMIFS('Prospect Plan'!$G$5:$G$104,'Prospect Plan'!$A$5:$A$104,"<>",'Prospect Plan'!$D$5:$D$104,$A93)) | H93: =IF($A93="","",SUMIFS('Prospect Plan'!$I$5:$I$104,'Prospect Plan'!$A$5:$A$104,"<>",'Prospect Plan'!$D$5:$D$104,$A93)) | I93: =IF($A93="","",IFERROR($H93/$D93,"")) | J93: =IF($A93="","",IFERROR($F93/$E93,"")) | K93: =IF($A93="","",COUNTIFS('Prospect Plan'!$A$5:$A$104,"<>",'Prospect Plan'!$D$5:$D$104,$A93,'Prospect Plan'!$L$5:$L$104,"Check*")+COUNTIFS('Prospect Plan'!$A$5:$A$104,"<>",'Prospect Plan'!$D$5:$D$104,$A93,'Prospect Plan'!$L$5:$L$104,"Next action needed"))
A94: =IF(Assumptions!$A$96="","",Assumptions!$A$96) | B94: =IF($A94="","",IFERROR(VLOOKUP($A94,Assumptions!$A$11:$E$110,2,FALSE),"")) | C94: =IF($A94="","",IFERROR(VLOOKUP($A94,Assumptions!$A$11:$E$110,5,FALSE),"")) | D94: =IF($A94="","",IFERROR(VLOOKUP($A94,Assumptions!$A$11:$E$110,3,FALSE),"")) | E94: =IF($A94="","",IFERROR(VLOOKUP($A94,Assumptions!$A$11:$E$110,4,FALSE),"")) | F94: =IF($A94="","",COUNTIFS('Prospect Plan'!$A$5:$A$104,"<>",'Prospect Plan'!$D$5:$D$104,$A94)) | G94: =IF($A94="","",SUMIFS('Prospect Plan'!$G$5:$G$104,'Prospect Plan'!$A$5:$A$104,"<>",'Prospect Plan'!$D$5:$D$104,$A94)) | H94: =IF($A94="","",SUMIFS('Prospect Plan'!$I$5:$I$104,'Prospect Plan'!$A$5:$A$104,"<>",'Prospect Plan'!$D$5:$D$104,$A94)) | I94: =IF($A94="","",IFERROR($H94/$D94,"")) | J94: =IF($A94="","",IFERROR($F94/$E94,"")) | K94: =IF($A94="","",COUNTIFS('Prospect Plan'!$A$5:$A$104,"<>",'Prospect Plan'!$D$5:$D$104,$A94,'Prospect Plan'!$L$5:$L$104,"Check*")+COUNTIFS('Prospect Plan'!$A$5:$A$104,"<>",'Prospect Plan'!$D$5:$D$104,$A94,'Prospect Plan'!$L$5:$L$104,"Next action needed"))
A95: =IF(Assumptions!$A$97="","",Assumptions!$A$97) | B95: =IF($A95="","",IFERROR(VLOOKUP($A95,Assumptions!$A$11:$E$110,2,FALSE),"")) | C95: =IF($A95="","",IFERROR(VLOOKUP($A95,Assumptions!$A$11:$E$110,5,FALSE),"")) | D95: =IF($A95="","",IFERROR(VLOOKUP($A95,Assumptions!$A$11:$E$110,3,FALSE),"")) | E95: =IF($A95="","",IFERROR(VLOOKUP($A95,Assumptions!$A$11:$E$110,4,FALSE),"")) | F95: =IF($A95="","",COUNTIFS('Prospect Plan'!$A$5:$A$104,"<>",'Prospect Plan'!$D$5:$D$104,$A95)) | G95: =IF($A95="","",SUMIFS('Prospect Plan'!$G$5:$G$104,'Prospect Plan'!$A$5:$A$104,"<>",'Prospect Plan'!$D$5:$D$104,$A95)) | H95: =IF($A95="","",SUMIFS('Prospect Plan'!$I$5:$I$104,'Prospect Plan'!$A$5:$A$104,"<>",'Prospect Plan'!$D$5:$D$104,$A95)) | I95: =IF($A95="","",IFERROR($H95/$D95,"")) | J95: =IF($A95="","",IFERROR($F95/$E95,"")) | K95: =IF($A95="","",COUNTIFS('Prospect Plan'!$A$5:$A$104,"<>",'Prospect Plan'!$D$5:$D$104,$A95,'Prospect Plan'!$L$5:$L$104,"Check*")+COUNTIFS('Prospect Plan'!$A$5:$A$104,"<>",'Prospect Plan'!$D$5:$D$104,$A95,'Prospect Plan'!$L$5:$L$104,"Next action needed"))
A96: =IF(Assumptions!$A$98="","",Assumptions!$A$98) | B96: =IF($A96="","",IFERROR(VLOOKUP($A96,Assumptions!$A$11:$E$110,2,FALSE),"")) | C96: =IF($A96="","",IFERROR(VLOOKUP($A96,Assumptions!$A$11:$E$110,5,FALSE),"")) | D96: =IF($A96="","",IFERROR(VLOOKUP($A96,Assumptions!$A$11:$E$110,3,FALSE),"")) | E96: =IF($A96="","",IFERROR(VLOOKUP($A96,Assumptions!$A$11:$E$110,4,FALSE),"")) | F96: =IF($A96="","",COUNTIFS('Prospect Plan'!$A$5:$A$104,"<>",'Prospect Plan'!$D$5:$D$104,$A96)) | G96: =IF($A96="","",SUMIFS('Prospect Plan'!$G$5:$G$104,'Prospect Plan'!$A$5:$A$104,"<>",'Prospect Plan'!$D$5:$D$104,$A96)) | H96: =IF($A96="","",SUMIFS('Prospect Plan'!$I$5:$I$104,'Prospect Plan'!$A$5:$A$104,"<>",'Prospect Plan'!$D$5:$D$104,$A96)) | I96: =IF($A96="","",IFERROR($H96/$D96,"")) | J96: =IF($A96="","",IFERROR($F96/$E96,"")) | K96: =IF($A96="","",COUNTIFS('Prospect Plan'!$A$5:$A$104,"<>",'Prospect Plan'!$D$5:$D$104,$A96,'Prospect Plan'!$L$5:$L$104,"Check*")+COUNTIFS('Prospect Plan'!$A$5:$A$104,"<>",'Prospect Plan'!$D$5:$D$104,$A96,'Prospect Plan'!$L$5:$L$104,"Next action needed"))
A97: =IF(Assumptions!$A$99="","",Assumptions!$A$99) | B97: =IF($A97="","",IFERROR(VLOOKUP($A97,Assumptions!$A$11:$E$110,2,FALSE),"")) | C97: =IF($A97="","",IFERROR(VLOOKUP($A97,Assumptions!$A$11:$E$110,5,FALSE),"")) | D97: =IF($A97="","",IFERROR(VLOOKUP($A97,Assumptions!$A$11:$E$110,3,FALSE),"")) | E97: =IF($A97="","",IFERROR(VLOOKUP($A97,Assumptions!$A$11:$E$110,4,FALSE),"")) | F97: =IF($A97="","",COUNTIFS('Prospect Plan'!$A$5:$A$104,"<>",'Prospect Plan'!$D$5:$D$104,$A97)) | G97: =IF($A97="","",SUMIFS('Prospect Plan'!$G$5:$G$104,'Prospect Plan'!$A$5:$A$104,"<>",'Prospect Plan'!$D$5:$D$104,$A97)) | H97: =IF($A97="","",SUMIFS('Prospect Plan'!$I$5:$I$104,'Prospect Plan'!$A$5:$A$104,"<>",'Prospect Plan'!$D$5:$D$104,$A97)) | I97: =IF($A97="","",IFERROR($H97/$D97,"")) | J97: =IF($A97="","",IFERROR($F97/$E97,"")) | K97: =IF($A97="","",COUNTIFS('Prospect Plan'!$A$5:$A$104,"<>",'Prospect Plan'!$D$5:$D$104,$A97,'Prospect Plan'!$L$5:$L$104,"Check*")+COUNTIFS('Prospect Plan'!$A$5:$A$104,"<>",'Prospect Plan'!$D$5:$D$104,$A97,'Prospect Plan'!$L$5:$L$104,"Next action needed"))
A98: =IF(Assumptions!$A$100="","",Assumptions!$A$100) | B98: =IF($A98="","",IFERROR(VLOOKUP($A98,Assumptions!$A$11:$E$110,2,FALSE),"")) | C98: =IF($A98="","",IFERROR(VLOOKUP($A98,Assumptions!$A$11:$E$110,5,FALSE),"")) | D98: =IF($A98="","",IFERROR(VLOOKUP($A98,Assumptions!$A$11:$E$110,3,FALSE),"")) | E98: =IF($A98="","",IFERROR(VLOOKUP($A98,Assumptions!$A$11:$E$110,4,FALSE),"")) | F98: =IF($A98="","",COUNTIFS('Prospect Plan'!$A$5:$A$104,"<>",'Prospect Plan'!$D$5:$D$104,$A98)) | G98: =IF($A98="","",SUMIFS('Prospect Plan'!$G$5:$G$104,'Prospect Plan'!$A$5:$A$104,"<>",'Prospect Plan'!$D$5:$D$104,$A98)) | H98: =IF($A98="","",SUMIFS('Prospect Plan'!$I$5:$I$104,'Prospect Plan'!$A$5:$A$104,"<>",'Prospect Plan'!$D$5:$D$104,$A98)) | I98: =IF($A98="","",IFERROR($H98/$D98,"")) | J98: =IF($A98="","",IFERROR($F98/$E98,"")) | K98: =IF($A98="","",COUNTIFS('Prospect Plan'!$A$5:$A$104,"<>",'Prospect Plan'!$D$5:$D$104,$A98,'Prospect Plan'!$L$5:$L$104,"Check*")+COUNTIFS('Prospect Plan'!$A$5:$A$104,"<>",'Prospect Plan'!$D$5:$D$104,$A98,'Prospect Plan'!$L$5:$L$104,"Next action needed"))
A99: =IF(Assumptions!$A$101="","",Assumptions!$A$101) | B99: =IF($A99="","",IFERROR(VLOOKUP($A99,Assumptions!$A$11:$E$110,2,FALSE),"")) | C99: =IF($A99="","",IFERROR(VLOOKUP($A99,Assumptions!$A$11:$E$110,5,FALSE),"")) | D99: =IF($A99="","",IFERROR(VLOOKUP($A99,Assumptions!$A$11:$E$110,3,FALSE),"")) | E99: =IF($A99="","",IFERROR(VLOOKUP($A99,Assumptions!$A$11:$E$110,4,FALSE),"")) | F99: =IF($A99="","",COUNTIFS('Prospect Plan'!$A$5:$A$104,"<>",'Prospect Plan'!$D$5:$D$104,$A99)) | G99: =IF($A99="","",SUMIFS('Prospect Plan'!$G$5:$G$104,'Prospect Plan'!$A$5:$A$104,"<>",'Prospect Plan'!$D$5:$D$104,$A99)) | H99: =IF($A99="","",SUMIFS('Prospect Plan'!$I$5:$I$104,'Prospect Plan'!$A$5:$A$104,"<>",'Prospect Plan'!$D$5:$D$104,$A99)) | I99: =IF($A99="","",IFERROR($H99/$D99,"")) | J99: =IF($A99="","",IFERROR($F99/$E99,"")) | K99: =IF($A99="","",COUNTIFS('Prospect Plan'!$A$5:$A$104,"<>",'Prospect Plan'!$D$5:$D$104,$A99,'Prospect Plan'!$L$5:$L$104,"Check*")+COUNTIFS('Prospect Plan'!$A$5:$A$104,"<>",'Prospect Plan'!$D$5:$D$104,$A99,'Prospect Plan'!$L$5:$L$104,"Next action needed"))
A100: =IF(Assumptions!$A$102="","",Assumptions!$A$102) | B100: =IF($A100="","",IFERROR(VLOOKUP($A100,Assumptions!$A$11:$E$110,2,FALSE),"")) | C100: =IF($A100="","",IFERROR(VLOOKUP($A100,Assumptions!$A$11:$E$110,5,FALSE),"")) | D100: =IF($A100="","",IFERROR(VLOOKUP($A100,Assumptions!$A$11:$E$110,3,FALSE),"")) | E100: =IF($A100="","",IFERROR(VLOOKUP($A100,Assumptions!$A$11:$E$110,4,FALSE),"")) | F100: =IF($A100="","",COUNTIFS('Prospect Plan'!$A$5:$A$104,"<>",'Prospect Plan'!$D$5:$D$104,$A100)) | G100: =IF($A100="","",SUMIFS('Prospect Plan'!$G$5:$G$104,'Prospect Plan'!$A$5:$A$104,"<>",'Prospect Plan'!$D$5:$D$104,$A100)) | H100: =IF($A100="","",SUMIFS('Prospect Plan'!$I$5:$I$104,'Prospect Plan'!$A$5:$A$104,"<>",'Prospect Plan'!$D$5:$D$104,$A100)) | I100: =IF($A100="","",IFERROR($H100/$D100,"")) | J100: =IF($A100="","",IFERROR($F100/$E100,"")) | K100: =IF($A100="","",COUNTIFS('Prospect Plan'!$A$5:$A$104,"<>",'Prospect Plan'!$D$5:$D$104,$A100,'Prospect Plan'!$L$5:$L$104,"Check*")+COUNTIFS('Prospect Plan'!$A$5:$A$104,"<>",'Prospect Plan'!$D$5:$D$104,$A100,'Prospect Plan'!$L$5:$L$104,"Next action needed"))
A101: =IF(Assumptions!$A$103="","",Assumptions!$A$103) | B101: =IF($A101="","",IFERROR(VLOOKUP($A101,Assumptions!$A$11:$E$110,2,FALSE),"")) | C101: =IF($A101="","",IFERROR(VLOOKUP($A101,Assumptions!$A$11:$E$110,5,FALSE),"")) | D101: =IF($A101="","",IFERROR(VLOOKUP($A101,Assumptions!$A$11:$E$110,3,FALSE),"")) | E101: =IF($A101="","",IFERROR(VLOOKUP($A101,Assumptions!$A$11:$E$110,4,FALSE),"")) | F101: =IF($A101="","",COUNTIFS('Prospect Plan'!$A$5:$A$104,"<>",'Prospect Plan'!$D$5:$D$104,$A101)) | G101: =IF($A101="","",SUMIFS('Prospect Plan'!$G$5:$G$104,'Prospect Plan'!$A$5:$A$104,"<>",'Prospect Plan'!$D$5:$D$104,$A101)) | H101: =IF($A101="","",SUMIFS('Prospect Plan'!$I$5:$I$104,'Prospect Plan'!$A$5:$A$104,"<>",'Prospect Plan'!$D$5:$D$104,$A101)) | I101: =IF($A101="","",IFERROR($H101/$D101,"")) | J101: =IF($A101="","",IFERROR($F101/$E101,"")) | K101: =IF($A101="","",COUNTIFS('Prospect Plan'!$A$5:$A$104,"<>",'Prospect Plan'!$D$5:$D$104,$A101,'Prospect Plan'!$L$5:$L$104,"Check*")+COUNTIFS('Prospect Plan'!$A$5:$A$104,"<>",'Prospect Plan'!$D$5:$D$104,$A101,'Prospect Plan'!$L$5:$L$104,"Next action needed"))
...

Sheet Prospect Plan
A1: Insurance Territory Sales Planner — Prospect Plan
A2: Orange cells are editable. Planning alerts require a human check and do not indicate outside activity. | P2: =Assumptions!$B$5
P3: =Assumptions!$B$6
A4: Prospect ID | B4: Prospect or Organization | C4: Created Date | D4: Territory | E4: Owner | F4: Stage | G4: Estimated Annual Premium | H4: Win Probability | I4: Weighted Premium | J4: Target Close Date | K4: Next Action Date | L4: Planning Status | M4: Planning Notes | P4: =Assumptions!$B$7
A5: FP-2026-001 | B5: Fictional Acorn Bakery LLC | C5: 46235 | D5: North Harbor | E5: Fictional Producer 01 | F5: Contacted | G5: 42000 | H5: 0.25 | I5: =IF(OR($A5="",$G5="",$H5=""),"",IFERROR($G5*$H5,"")) | J5: 46305 | K5: 46278 | L5: =IF($A5="","",IF(OR($F5="Won",$F5="Lost"),"Closed",IF($K5="","Next action needed",IF($K5<Assumptions!$B$4,"Check overdue action",IF(AND($J5<>"",$J5<Assumptions!$B$4),"Check target date","Planned"))))) | M5: Introductory call requested. | N5: =IF(Assumptions!$A$11="","",Assumptions!$A$11) | O5: =IF(Assumptions!$B$11="","",Assumptions!$B$11)
A6: FP-2026-002 | B6: Fictional Blue Kite Studio LLC | C6: 46247 | D6: Pine Valley | E6: Fictional Producer 02 | F6: Discovery | G6: 68000 | H6: 0.45 | I6: =IF(OR($A6="",$G6="",$H6=""),"",IFERROR($G6*$H6,"")) | J6: 46335 | K6: 46273 | L6: =IF($A6="","",IF(OR($F6="Won",$F6="Lost"),"Closed",IF($K6="","Next action needed",IF($K6<Assumptions!$B$4,"Check overdue action",IF(AND($J6<>"",$J6<Assumptions!$B$4),"Check target date","Planned"))))) | M6: Human follow-up on timing. | N6: =IF(Assumptions!$A$12="","",Assumptions!$A$12) | O6: =IF(Assumptions!$B$12="","",Assumptions!$B$12)
A7: FP-2026-003 | B7: Fictional Copper Lantern Market LLC | C7: 46210 | D7: Copper Ridge | E7: Fictional Producer 03 | F7: Quoted | G7: 115000 | H7: 0.7 | I7: =IF(OR($A7="",$G7="",$H7=""),"",IFERROR($G7*$H7,"")) | J7: 46270 | K7: 46277 | L7: =IF($A7="","",IF(OR($F7="Won",$F7="Lost"),"Closed",IF($K7="","Next action needed",IF($K7<Assumptions!$B$4,"Check overdue action",IF(AND($J7<>"",$J7<Assumptions!$B$4),"Check target date","Planned"))))) | M7: Awaiting internal budget review. | N7: =IF(Assumptions!$A$13="","",Assumptions!$A$13) | O7: =IF(Assumptions!$B$13="","",Assumptions!$B$13)
A8: FP-2026-004 | B8: Fictional Blue Mesa Toolworks LLC | C8: 46185 | D8: Blue Mesa | E8: Fictional Producer 04 | F8: Won | G8: 98000 | H8: 1 | I8: =IF(OR($A8="",$G8="",$H8=""),"",IFERROR($G8*$H8,"")) | J8: 46255 | L8: =IF($A8="","",IF(OR($F8="Won",$F8="Lost"),"Closed",IF($K8="","Next action needed",IF($K8<Assumptions!$B$4,"Check overdue action",IF(AND($J8<>"",$J8<Assumptions!$B$4),"Check target date","Planned"))))) | M8: Recorded as won for territory planning. | N8: =IF(Assumptions!$A$14="","",Assumptions!$A$14) | O8: =IF(Assumptions!$B$14="","",Assumptions!$B$14)
A9: FP-2026-005 | B9: Fictional Cedar Compass Cafe LLC | C9: 46200 | D9: Cedar Coast | E9: Fictional Producer 05 | F9: Lost | G9: 36000 | H9: 0 | I9: =IF(OR($A9="",$G9="",$H9=""),"",IFERROR($G9*$H9,"")) | J9: 46257 | L9: =IF($A9="","",IF(OR($F9="Won",$F9="Lost"),"Closed",IF($K9="","Next action needed",IF($K9<Assumptions!$B$4,"Check overdue action",IF(AND($J9<>"",$J9<Assumptions!$B$4),"Check target date","Planned"))))) | M9: Recorded as lost for territory planning. | N9: =IF(Assumptions!$A$15="","",Assumptions!$A$15) | O9: =IF(Assumptions!$B$15="","",Assumptions!$B$15)
A10: FP-2026-006 | B10: Fictional Silver Prairie Parts LLC | C10: 45658 | D10: Silver Prairie | E10: Fictional Producer 06 | F10: Deferred | G10: 84000 | H10: 0.15 | I10: =IF(OR($A10="",$G10="",$H10=""),"",IFERROR($G10*$H10,"")) | J10: 46395 | L10: =IF($A10="","",IF(OR($F10="Won",$F10="Lost"),"Closed",IF($K10="","Next action needed",IF($K10<Assumptions!$B$4,"Check overdue action",IF(AND($J10<>"",$J10<Assumptions!$B$4),"Check target date","Planned"))))) | M10: Revisit during the next planning cycle. | N10: =IF(Assumptions!$A$16="","",Assumptions!$A$16) | O10: =IF(Assumptions!$B$16="","",Assumptions!$B$16)
A11: FP-2026-007 | B11: Fictional Nimbus Repair Collective LLC | C11: 46271 | E11: Fictional Producer 10 | F11: New | G11: 27000 | H11: 0.1 | I11: =IF(OR($A11="",$G11="",$H11=""),"",IFERROR($G11*$H11,"")) | J11: 46320 | K11: 46280 | L11: =IF($A11="","",IF(OR($F11="Won",$F11="Lost"),"Closed",IF($K11="","Next action needed",IF($K11<Assumptions!$B$4,"Check overdue action",IF(AND($J11<>"",$J11<Assumptions!$B$4),"Check target date","Planned"))))) | M11: Territory assignment needs a human check. | N11: =IF(Assumptions!$A$17="","",Assumptions!$A$17) | O11: =IF(Assumptions!$B$17="","",Assumptions!$B$17)
A12: FP-2026-008 | B12: Fictional Lake Lantern Books LLC | C12: 46261 | D12: Lake District | E12: Fictional Producer 08 | F12: Discovery | G12: 51000 | H12: 0 | I12: =IF(OR($A12="",$G12="",$H12=""),"",IFERROR($G12*$H12,"")) | J12: 46350 | K12: 46275 | L12: =IF($A12="","",IF(OR($F12="Won",$F12="Lost"),"Closed",IF($K12="","Next action needed",IF($K12<Assumptions!$B$4,"Check overdue action",IF(AND($J12<>"",$J12<Assumptions!$B$4),"Check target date","Planned"))))) | M12: Early-stage allocation review. | N12: =IF(Assumptions!$A$18="","",Assumptions!$A$18) | O12: =IF(Assumptions!$B$18="","",Assumptions!$B$18)
A13: FP-2026-009 | B13: Fictional Red Canyon Ceramics LLC | C13: 46223 | D13: Red Canyon | E13: Fictional Producer 07 | F13: Quoted | G13: 132000 | H13: 0.8 | I13: =IF(OR($A13="",$G13="",$H13=""),"",IFERROR($G13*$H13,"")) | J13: 46287 | K13: 46274 | L13: =IF($A13="","",IF(OR($F13="Won",$F13="Lost"),"Closed",IF($K13="","Next action needed",IF($K13<Assumptions!$B$4,"Check overdue action",IF(AND($J13<>"",$J13<Assumptions!$B$4),"Check target date","Planned"))))) | M13: Quote follow-up is planned. | N13: =IF(Assumptions!$A$19="","",Assumptions!$A$19) | O13: =IF(Assumptions!$B$19="","",Assumptions!$B$19)
A14: FP-2026-010 | B14: Fictional Metro East Fabrication LLC | C14: 46254 | D14: Metro East | E14: Fictional Producer 10 | F14: Contacted | G14: 1000000 | H14: 0.35 | I14: =IF(OR($A14="",$G14="",$H14=""),"",IFERROR($G14*$H14,"")) | J14: 47118 | K14: 46285 | L14: =IF($A14="","",IF(OR($F14="Won",$F14="Lost"),"Closed",IF($K14="","Next action needed",IF($K14<Assumptions!$B$4,"Check overdue action",IF(AND($J14<>"",$J14<Assumptions!$B$4),"Check target date","Planned"))))) | M14: Discovery meeting is scheduled. | N14: =IF(Assumptions!$A$20="","",Assumptions!$A$20) | O14: =IF(Assumptions!$B$20="","",Assumptions!$B$20)
I15: =IF(OR($A15="",$G15="",$H15=""),"",IFERROR($G15*$H15,"")) | L15: =IF($A15="","",IF(OR($F15="Won",$F15="Lost"),"Closed",IF($K15="","Next action needed",IF($K15<Assumptions!$B$4,"Check overdue action",IF(AND($J15<>"",$J15<Assumptions!$B$4),"Check target date","Planned"))))) | N15: =IF(Assumptions!$A$21="","",Assumptions!$A$21) | O15: =IF(Assumptions!$B$21="","",Assumptions!$B$21)
I16: =IF(OR($A16="",$G16="",$H16=""),"",IFERROR($G16*$H16,"")) | L16: =IF($A16="","",IF(OR($F16="Won",$F16="Lost"),"Closed",IF($K16="","Next action needed",IF($K16<Assumptions!$B$4,"Check overdue action",IF(AND($J16<>"",$J16<Assumptions!$B$4),"Check target date","Planned"))))) | N16: =IF(Assumptions!$A$22="","",Assumptions!$A$22) | O16: =IF(Assumptions!$B$22="","",Assumptions!$B$22)
I17: =IF(OR($A17="",$G17="",$H17=""),"",IFERROR($G17*$H17,"")) | L17: =IF($A17="","",IF(OR($F17="Won",$F17="Lost"),"Closed",IF($K17="","Next action needed",IF($K17<Assumptions!$B$4,"Check overdue action",IF(AND($J17<>"",$J17<Assumptions!$B$4),"Check target date","Planned"))))) | N17: =IF(Assumptions!$A$23="","",Assumptions!$A$23) | O17: =IF(Assumptions!$B$23="","",Assumptions!$B$23)
I18: =IF(OR($A18="",$G18="",$H18=""),"",IFERROR($G18*$H18,"")) | L18: =IF($A18="","",IF(OR($F18="Won",$F18="Lost"),"Closed",IF($K18="","Next action needed",IF($K18<Assumptions!$B$4,"Check overdue action",IF(AND($J18<>"",$J18<Assumptions!$B$4),"Check target date","Planned"))))) | N18: =IF(Assumptions!$A$24="","",Assumptions!$A$24) | O18: =IF(Assumptions!$B$24="","",Assumptions!$B$24)
I19: =IF(OR($A19="",$G19="",$H19=""),"",IFERROR($G19*$H19,"")) | L19: =IF($A19="","",IF(OR($F19="Won",$F19="Lost"),"Closed",IF($K19="","Next action needed",IF($K19<Assumptions!$B$4,"Check overdue action",IF(AND($J19<>"",$J19<Assumptions!$B$4),"Check target date","Planned"))))) | N19: =IF(Assumptions!$A$25="","",Assumptions!$A$25) | O19: =IF(Assumptions!$B$25="","",Assumptions!$B$25)
I20: =IF(OR($A20="",$G20="",$H20=""),"",IFERROR($G20*$H20,"")) | L20: =IF($A20="","",IF(OR($F20="Won",$F20="Lost"),"Closed",IF($K20="","Next action needed",IF($K20<Assumptions!$B$4,"Check overdue action",IF(AND($J20<>"",$J20<Assumptions!$B$4),"Check target date","Planned"))))) | N20: =IF(Assumptions!$A$26="","",Assumptions!$A$26) | O20: =IF(Assumptions!$B$26="","",Assumptions!$B$26)
I21: =IF(OR($A21="",$G21="",$H21=""),"",IFERROR($G21*$H21,"")) | L21: =IF($A21="","",IF(OR($F21="Won",$F21="Lost"),"Closed",IF($K21="","Next action needed",IF($K21<Assumptions!$B$4,"Check overdue action",IF(AND($J21<>"",$J21<Assumptions!$B$4),"Check target date","Planned"))))) | N21: =IF(Assumptions!$A$27="","",Assumptions!$A$27) | O21: =IF(Assumptions!$B$27="","",Assumptions!$B$27)
I22: =IF(OR($A22="",$G22="",$H22=""),"",IFERROR($G22*$H22,"")) | L22: =IF($A22="","",IF(OR($F22="Won",$F22="Lost"),"Closed",IF($K22="","Next action needed",IF($K22<Assumptions!$B$4,"Check overdue action",IF(AND($J22<>"",$J22<Assumptions!$B$4),"Check target date","Planned"))))) | N22: =IF(Assumptions!$A$28="","",Assumptions!$A$28) | O22: =IF(Assumptions!$B$28="","",Assumptions!$B$28)
I23: =IF(OR($A23="",$G23="",$H23=""),"",IFERROR($G23*$H23,"")) | L23: =IF($A23="","",IF(OR($F23="Won",$F23="Lost"),"Closed",IF($K23="","Next action needed",IF($K23<Assumptions!$B$4,"Check overdue action",IF(AND($J23<>"",$J23<Assumptions!$B$4),"Check target date","Planned"))))) | N23: =IF(Assumptions!$A$29="","",Assumptions!$A$29) | O23: =IF(Assumptions!$B$29="","",Assumptions!$B$29)
I24: =IF(OR($A24="",$G24="",$H24=""),"",IFERROR($G24*$H24,"")) | L24: =IF($A24="","",IF(OR($F24="Won",$F24="Lost"),"Closed",IF($K24="","Next action needed",IF($K24<Assumptions!$B$4,"Check overdue action",IF(AND($J24<>"",$J24<Assumptions!$B$4),"Check target date","Planned"))))) | N24: =IF(Assumptions!$A$30="","",Assumptions!$A$30) | O24: =IF(Assumptions!$B$30="","",Assumptions!$B$30)
I25: =IF(OR($A25="",$G25="",$H25=""),"",IFERROR($G25*$H25,"")) | L25: =IF($A25="","",IF(OR($F25="Won",$F25="Lost"),"Closed",IF($K25="","Next action needed",IF($K25<Assumptions!$B$4,"Check overdue action",IF(AND($J25<>"",$J25<Assumptions!$B$4),"Check target date","Planned"))))) | N25: =IF(Assumptions!$A$31="","",Assumptions!$A$31) | O25: =IF(Assumptions!$B$31="","",Assumptions!$B$31)
I26: =IF(OR($A26="",$G26="",$H26=""),"",IFERROR($G26*$H26,"")) | L26: =IF($A26="","",IF(OR($F26="Won",$F26="Lost"),"Closed",IF($K26="","Next action needed",IF($K26<Assumptions!$B$4,"Check overdue action",IF(AND($J26<>"",$J26<Assumptions!$B$4),"Check target date","Planned"))))) | N26: =IF(Assumptions!$A$32="","",Assumptions!$A$32) | O26: =IF(Assumptions!$B$32="","",Assumptions!$B$32)
I27: =IF(OR($A27="",$G27="",$H27=""),"",IFERROR($G27*$H27,"")) | L27: =IF($A27="","",IF(OR($F27="Won",$F27="Lost"),"Closed",IF($K27="","Next action needed",IF($K27<Assumptions!$B$4,"Check overdue action",IF(AND($J27<>"",$J27<Assumptions!$B$4),"Check target date","Planned"))))) | N27: =IF(Assumptions!$A$33="","",Assumptions!$A$33) | O27: =IF(Assumptions!$B$33="","",Assumptions!$B$33)
I28: =IF(OR($A28="",$G28="",$H28=""),"",IFERROR($G28*$H28,"")) | L28: =IF($A28="","",IF(OR($F28="Won",$F28="Lost"),"Closed",IF($K28="","Next action needed",IF($K28<Assumptions!$B$4,"Check overdue action",IF(AND($J28<>"",$J28<Assumptions!$B$4),"Check target date","Planned"))))) | N28: =IF(Assumptions!$A$34="","",Assumptions!$A$34) | O28: =IF(Assumptions!$B$34="","",Assumptions!$B$34)
I29: =IF(OR($A29="",$G29="",$H29=""),"",IFERROR($G29*$H29,"")) | L29: =IF($A29="","",IF(OR($F29="Won",$F29="Lost"),"Closed",IF($K29="","Next action needed",IF($K29<Assumptions!$B$4,"Check overdue action",IF(AND($J29<>"",$J29<Assumptions!$B$4),"Check target date","Planned"))))) | N29: =IF(Assumptions!$A$35="","",Assumptions!$A$35) | O29: =IF(Assumptions!$B$35="","",Assumptions!$B$35)
I30: =IF(OR($A30="",$G30="",$H30=""),"",IFERROR($G30*$H30,"")) | L30: =IF($A30="","",IF(OR($F30="Won",$F30="Lost"),"Closed",IF($K30="","Next action needed",IF($K30<Assumptions!$B$4,"Check overdue action",IF(AND($J30<>"",$J30<Assumptions!$B$4),"Check target date","Planned"))))) | N30: =IF(Assumptions!$A$36="","",Assumptions!$A$36) | O30: =IF(Assumptions!$B$36="","",Assumptions!$B$36)
I31: =IF(OR($A31="",$G31="",$H31=""),"",IFERROR($G31*$H31,"")) | L31: =IF($A31="","",IF(OR($F31="Won",$F31="Lost"),"Closed",IF($K31="","Next action needed",IF($K31<Assumptions!$B$4,"Check overdue action",IF(AND($J31<>"",$J31<Assumptions!$B$4),"Check target date","Planned"))))) | N31: =IF(Assumptions!$A$37="","",Assumptions!$A$37) | O31: =IF(Assumptions!$B$37="","",Assumptions!$B$37)
I32: =IF(OR($A32="",$G32="",$H32=""),"",IFERROR($G32*$H32,"")) | L32: =IF($A32="","",IF(OR($F32="Won",$F32="Lost"),"Closed",IF($K32="","Next action needed",IF($K32<Assumptions!$B$4,"Check overdue action",IF(AND($J32<>"",$J32<Assumptions!$B$4),"Check target date","Planned"))))) | N32: =IF(Assumptions!$A$38="","",Assumptions!$A$38) | O32: =IF(Assumptions!$B$38="","",Assumptions!$B$38)
I33: =IF(OR($A33="",$G33="",$H33=""),"",IFERROR($G33*$H33,"")) | L33: =IF($A33="","",IF(OR($F33="Won",$F33="Lost"),"Closed",IF($K33="","Next action needed",IF($K33<Assumptions!$B$4,"Check overdue action",IF(AND($J33<>"",$J33<Assumptions!$B$4),"Check target date","Planned"))))) | N33: =IF(Assumptions!$A$39="","",Assumptions!$A$39) | O33: =IF(Assumptions!$B$39="","",Assumptions!$B$39)
I34: =IF(OR($A34="",$G34="",$H34=""),"",IFERROR($G34*$H34,"")) | L34: =IF($A34="","",IF(OR($F34="Won",$F34="Lost"),"Closed",IF($K34="","Next action needed",IF($K34<Assumptions!$B$4,"Check overdue action",IF(AND($J34<>"",$J34<Assumptions!$B$4),"Check target date","Planned"))))) | N34: =IF(Assumptions!$A$40="","",Assumptions!$A$40) | O34: =IF(Assumptions!$B$40="","",Assumptions!$B$40)
I35: =IF(OR($A35="",$G35="",$H35=""),"",IFERROR($G35*$H35,"")) | L35: =IF($A35="","",IF(OR($F35="Won",$F35="Lost"),"Closed",IF($K35="","Next action needed",IF($K35<Assumptions!$B$4,"Check overdue action",IF(AND($J35<>"",$J35<Assumptions!$B$4),"Check target date","Planned"))))) | N35: =IF(Assumptions!$A$41="","",Assumptions!$A$41) | O35: =IF(Assumptions!$B$41="","",Assumptions!$B$41)
I36: =IF(OR($A36="",$G36="",$H36=""),"",IFERROR($G36*$H36,"")) | L36: =IF($A36="","",IF(OR($F36="Won",$F36="Lost"),"Closed",IF($K36="","Next action needed",IF($K36<Assumptions!$B$4,"Check overdue action",IF(AND($J36<>"",$J36<Assumptions!$B$4),"Check target date","Planned"))))) | N36: =IF(Assumptions!$A$42="","",Assumptions!$A$42) | O36: =IF(Assumptions!$B$42="","",Assumptions!$B$42)
I37: =IF(OR($A37="",$G37="",$H37=""),"",IFERROR($G37*$H37,"")) | L37: =IF($A37="","",IF(OR($F37="Won",$F37="Lost"),"Closed",IF($K37="","Next action needed",IF($K37<Assumptions!$B$4,"Check overdue action",IF(AND($J37<>"",$J37<Assumptions!$B$4),"Check target date","Planned"))))) | N37: =IF(Assumptions!$A$43="","",Assumptions!$A$43) | O37: =IF(Assumptions!$B$43="","",Assumptions!$B$43)
I38: =IF(OR($A38="",$G38="",$H38=""),"",IFERROR($G38*$H38,"")) | L38: =IF($A38="","",IF(OR($F38="Won",$F38="Lost"),"Closed",IF($K38="","Next action needed",IF($K38<Assumptions!$B$4,"Check overdue action",IF(AND($J38<>"",$J38<Assumptions!$B$4),"Check target date","Planned"))))) | N38: =IF(Assumptions!$A$44="","",Assumptions!$A$44) | O38: =IF(Assumptions!$B$44="","",Assumptions!$B$44)
I39: =IF(OR($A39="",$G39="",$H39=""),"",IFERROR($G39*$H39,"")) | L39: =IF($A39="","",IF(OR($F39="Won",$F39="Lost"),"Closed",IF($K39="","Next action needed",IF($K39<Assumptions!$B$4,"Check overdue action",IF(AND($J39<>"",$J39<Assumptions!$B$4),"Check target date","Planned"))))) | N39: =IF(Assumptions!$A$45="","",Assumptions!$A$45) | O39: =IF(Assumptions!$B$45="","",Assumptions!$B$45)
I40: =IF(OR($A40="",$G40="",$H40=""),"",IFERROR($G40*$H40,"")) | L40: =IF($A40="","",IF(OR($F40="Won",$F40="Lost"),"Closed",IF($K40="","Next action needed",IF($K40<Assumptions!$B$4,"Check overdue action",IF(AND($J40<>"",$J40<Assumptions!$B$4),"Check target date","Planned"))))) | N40: =IF(Assumptions!$A$46="","",Assumptions!$A$46) | O40: =IF(Assumptions!$B$46="","",Assumptions!$B$46)
I41: =IF(OR($A41="",$G41="",$H41=""),"",IFERROR($G41*$H41,"")) | L41: =IF($A41="","",IF(OR($F41="Won",$F41="Lost"),"Closed",IF($K41="","Next action needed",IF($K41<Assumptions!$B$4,"Check overdue action",IF(AND($J41<>"",$J41<Assumptions!$B$4),"Check target date","Planned"))))) | N41: =IF(Assumptions!$A$47="","",Assumptions!$A$47) | O41: =IF(Assumptions!$B$47="","",Assumptions!$B$47)
I42: =IF(OR($A42="",$G42="",$H42=""),"",IFERROR($G42*$H42,"")) | L42: =IF($A42="","",IF(OR($F42="Won",$F42="Lost"),"Closed",IF($K42="","Next action needed",IF($K42<Assumptions!$B$4,"Check overdue action",IF(AND($J42<>"",$J42<Assumptions!$B$4),"Check target date","Planned"))))) | N42: =IF(Assumptions!$A$48="","",Assumptions!$A$48) | O42: =IF(Assumptions!$B$48="","",Assumptions!$B$48)
I43: =IF(OR($A43="",$G43="",$H43=""),"",IFERROR($G43*$H43,"")) | L43: =IF($A43="","",IF(OR($F43="Won",$F43="Lost"),"Closed",IF($K43="","Next action needed",IF($K43<Assumptions!$B$4,"Check overdue action",IF(AND($J43<>"",$J43<Assumptions!$B$4),"Check target date","Planned"))))) | N43: =IF(Assumptions!$A$49="","",Assumptions!$A$49) | O43: =IF(Assumptions!$B$49="","",Assumptions!$B$49)
I44: =IF(OR($A44="",$G44="",$H44=""),"",IFERROR($G44*$H44,"")) | L44: =IF($A44="","",IF(OR($F44="Won",$F44="Lost"),"Closed",IF($K44="","Next action needed",IF($K44<Assumptions!$B$4,"Check overdue action",IF(AND($J44<>"",$J44<Assumptions!$B$4),"Check target date","Planned"))))) | N44: =IF(Assumptions!$A$50="","",Assumptions!$A$50) | O44: =IF(Assumptions!$B$50="","",Assumptions!$B$50)
I45: =IF(OR($A45="",$G45="",$H45=""),"",IFERROR($G45*$H45,"")) | L45: =IF($A45="","",IF(OR($F45="Won",$F45="Lost"),"Closed",IF($K45="","Next action needed",IF($K45<Assumptions!$B$4,"Check overdue action",IF(AND($J45<>"",$J45<Assumptions!$B$4),"Check target date","Planned"))))) | N45: =IF(Assumptions!$A$51="","",Assumptions!$A$51) | O45: =IF(Assumptions!$B$51="","",Assumptions!$B$51)
I46: =IF(OR($A46="",$G46="",$H46=""),"",IFERROR($G46*$H46,"")) | L46: =IF($A46="","",IF(OR($F46="Won",$F46="Lost"),"Closed",IF($K46="","Next action needed",IF($K46<Assumptions!$B$4,"Check overdue action",IF(AND($J46<>"",$J46<Assumptions!$B$4),"Check target date","Planned"))))) | N46: =IF(Assumptions!$A$52="","",Assumptions!$A$52) | O46: =IF(Assumptions!$B$52="","",Assumptions!$B$52)
I47: =IF(OR($A47="",$G47="",$H47=""),"",IFERROR($G47*$H47,"")) | L47: =IF($A47="","",IF(OR($F47="Won",$F47="Lost"),"Closed",IF($K47="","Next action needed",IF($K47<Assumptions!$B$4,"Check overdue action",IF(AND($J47<>"",$J47<Assumptions!$B$4),"Check target date","Planned"))))) | N47: =IF(Assumptions!$A$53="","",Assumptions!$A$53) | O47: =IF(Assumptions!$B$53="","",Assumptions!$B$53)
I48: =IF(OR($A48="",$G48="",$H48=""),"",IFERROR($G48*$H48,"")) | L48: =IF($A48="","",IF(OR($F48="Won",$F48="Lost"),"Closed",IF($K48="","Next action needed",IF($K48<Assumptions!$B$4,"Check overdue action",IF(AND($J48<>"",$J48<Assumptions!$B$4),"Check target date","Planned"))))) | N48: =IF(Assumptions!$A$54="","",Assumptions!$A$54) | O48: =IF(Assumptions!$B$54="","",Assumptions!$B$54)
I49: =IF(OR($A49="",$G49="",$H49=""),"",IFERROR($G49*$H49,"")) | L49: =IF($A49="","",IF(OR($F49="Won",$F49="Lost"),"Closed",IF($K49="","Next action needed",IF($K49<Assumptions!$B$4,"Check overdue action",IF(AND($J49<>"",$J49<Assumptions!$B$4),"Check target date","Planned"))))) | N49: =IF(Assumptions!$A$55="","",Assumptions!$A$55) | O49: =IF(Assumptions!$B$55="","",Assumptions!$B$55)
I50: =IF(OR($A50="",$G50="",$H50=""),"",IFERROR($G50*$H50,"")) | L50: =IF($A50="","",IF(OR($F50="Won",$F50="Lost"),"Closed",IF($K50="","Next action needed",IF($K50<Assumptions!$B$4,"Check overdue action",IF(AND($J50<>"",$J50<Assumptions!$B$4),"Check target date","Planned"))))) | N50: =IF(Assumptions!$A$56="","",Assumptions!$A$56) | O50: =IF(Assumptions!$B$56="","",Assumptions!$B$56)
I51: =IF(OR($A51="",$G51="",$H51=""),"",IFERROR($G51*$H51,"")) | L51: =IF($A51="","",IF(OR($F51="Won",$F51="Lost"),"Closed",IF($K51="","Next action needed",IF($K51<Assumptions!$B$4,"Check overdue action",IF(AND($J51<>"",$J51<Assumptions!$B$4),"Check target date","Planned"))))) | N51: =IF(Assumptions!$A$57="","",Assumptions!$A$57) | O51: =IF(Assumptions!$B$57="","",Assumptions!$B$57)
I52: =IF(OR($A52="",$G52="",$H52=""),"",IFERROR($G52*$H52,"")) | L52: =IF($A52="","",IF(OR($F52="Won",$F52="Lost"),"Closed",IF($K52="","Next action needed",IF($K52<Assumptions!$B$4,"Check overdue action",IF(AND($J52<>"",$J52<Assumptions!$B$4),"Check target date","Planned"))))) | N52: =IF(Assumptions!$A$58="","",Assumptions!$A$58) | O52: =IF(Assumptions!$B$58="","",Assumptions!$B$58)
I53: =IF(OR($A53="",$G53="",$H53=""),"",IFERROR($G53*$H53,"")) | L53: =IF($A53="","",IF(OR($F53="Won",$F53="Lost"),"Closed",IF($K53="","Next action needed",IF($K53<Assumptions!$B$4,"Check overdue action",IF(AND($J53<>"",$J53<Assumptions!$B$4),"Check target date","Planned"))))) | N53: =IF(Assumptions!$A$59="","",Assumptions!$A$59) | O53: =IF(Assumptions!$B$59="","",Assumptions!$B$59)
I54: =IF(OR($A54="",$G54="",$H54=""),"",IFERROR($G54*$H54,"")) | L54: =IF($A54="","",IF(OR($F54="Won",$F54="Lost"),"Closed",IF($K54="","Next action needed",IF($K54<Assumptions!$B$4,"Check overdue action",IF(AND($J54<>"",$J54<Assumptions!$B$4),"Check target date","Planned"))))) | N54: =IF(Assumptions!$A$60="","",Assumptions!$A$60) | O54: =IF(Assumptions!$B$60="","",Assumptions!$B$60)
I55: =IF(OR($A55="",$G55="",$H55=""),"",IFERROR($G55*$H55,"")) | L55: =IF($A55="","",IF(OR($F55="Won",$F55="Lost"),"Closed",IF($K55="","Next action needed",IF($K55<Assumptions!$B$4,"Check overdue action",IF(AND($J55<>"",$J55<Assumptions!$B$4),"Check target date","Planned"))))) | N55: =IF(Assumptions!$A$61="","",Assumptions!$A$61) | O55: =IF(Assumptions!$B$61="","",Assumptions!$B$61)
I56: =IF(OR($A56="",$G56="",$H56=""),"",IFERROR($G56*$H56,"")) | L56: =IF($A56="","",IF(OR($F56="Won",$F56="Lost"),"Closed",IF($K56="","Next action needed",IF($K56<Assumptions!$B$4,"Check overdue action",IF(AND($J56<>"",$J56<Assumptions!$B$4),"Check target date","Planned"))))) | N56: =IF(Assumptions!$A$62="","",Assumptions!$A$62) | O56: =IF(Assumptions!$B$62="","",Assumptions!$B$62)
I57: =IF(OR($A57="",$G57="",$H57=""),"",IFERROR($G57*$H57,"")) | L57: =IF($A57="","",IF(OR($F57="Won",$F57="Lost"),"Closed",IF($K57="","Next action needed",IF($K57<Assumptions!$B$4,"Check overdue action",IF(AND($J57<>"",$J57<Assumptions!$B$4),"Check target date","Planned"))))) | N57: =IF(Assumptions!$A$63="","",Assumptions!$A$63) | O57: =IF(Assumptions!$B$63="","",Assumptions!$B$63)
I58: =IF(OR($A58="",$G58="",$H58=""),"",IFERROR($G58*$H58,"")) | L58: =IF($A58="","",IF(OR($F58="Won",$F58="Lost"),"Closed",IF($K58="","Next action needed",IF($K58<Assumptions!$B$4,"Check overdue action",IF(AND($J58<>"",$J58<Assumptions!$B$4),"Check target date","Planned"))))) | N58: =IF(Assumptions!$A$64="","",Assumptions!$A$64) | O58: =IF(Assumptions!$B$64="","",Assumptions!$B$64)
I59: =IF(OR($A59="",$G59="",$H59=""),"",IFERROR($G59*$H59,"")) | L59: =IF($A59="","",IF(OR($F59="Won",$F59="Lost"),"Closed",IF($K59="","Next action needed",IF($K59<Assumptions!$B$4,"Check overdue action",IF(AND($J59<>"",$J59<Assumptions!$B$4),"Check target date","Planned"))))) | N59: =IF(Assumptions!$A$65="","",Assumptions!$A$65) | O59: =IF(Assumptions!$B$65="","",Assumptions!$B$65)
I60: =IF(OR($A60="",$G60="",$H60=""),"",IFERROR($G60*$H60,"")) | L60: =IF($A60="","",IF(OR($F60="Won",$F60="Lost"),"Closed",IF($K60="","Next action needed",IF($K60<Assumptions!$B$4,"Check overdue action",IF(AND($J60<>"",$J60<Assumptions!$B$4),"Check target date","Planned"))))) | N60: =IF(Assumptions!$A$66="","",Assumptions!$A$66) | O60: =IF(Assumptions!$B$66="","",Assumptions!$B$66)
I61: =IF(OR($A61="",$G61="",$H61=""),"",IFERROR($G61*$H61,"")) | L61: =IF($A61="","",IF(OR($F61="Won",$F61="Lost"),"Closed",IF($K61="","Next action needed",IF($K61<Assumptions!$B$4,"Check overdue action",IF(AND($J61<>"",$J61<Assumptions!$B$4),"Check target date","Planned"))))) | N61: =IF(Assumptions!$A$67="","",Assumptions!$A$67) | O61: =IF(Assumptions!$B$67="","",Assumptions!$B$67)
I62: =IF(OR($A62="",$G62="",$H62=""),"",IFERROR($G62*$H62,"")) | L62: =IF($A62="","",IF(OR($F62="Won",$F62="Lost"),"Closed",IF($K62="","Next action needed",IF($K62<Assumptions!$B$4,"Check overdue action",IF(AND($J62<>"",$J62<Assumptions!$B$4),"Check target date","Planned"))))) | N62: =IF(Assumptions!$A$68="","",Assumptions!$A$68) | O62: =IF(Assumptions!$B$68="","",Assumptions!$B$68)
I63: =IF(OR($A63="",$G63="",$H63=""),"",IFERROR($G63*$H63,"")) | L63: =IF($A63="","",IF(OR($F63="Won",$F63="Lost"),"Closed",IF($K63="","Next action needed",IF($K63<Assumptions!$B$4,"Check overdue action",IF(AND($J63<>"",$J63<Assumptions!$B$4),"Check target date","Planned"))))) | N63: =IF(Assumptions!$A$69="","",Assumptions!$A$69) | O63: =IF(Assumptions!$B$69="","",Assumptions!$B$69)
I64: =IF(OR($A64="",$G64="",$H64=""),"",IFERROR($G64*$H64,"")) | L64: =IF($A64="","",IF(OR($F64="Won",$F64="Lost"),"Closed",IF($K64="","Next action needed",IF($K64<Assumptions!$B$4,"Check overdue action",IF(AND($J64<>"",$J64<Assumptions!$B$4),"Check target date","Planned"))))) | N64: =IF(Assumptions!$A$70="","",Assumptions!$A$70) | O64: =IF(Assumptions!$B$70="","",Assumptions!$B$70)
I65: =IF(OR($A65="",$G65="",$H65=""),"",IFERROR($G65*$H65,"")) | L65: =IF($A65="","",IF(OR($F65="Won",$F65="Lost"),"Closed",IF($K65="","Next action needed",IF($K65<Assumptions!$B$4,"Check overdue action",IF(AND($J65<>"",$J65<Assumptions!$B$4),"Check target date","Planned"))))) | N65: =IF(Assumptions!$A$71="","",Assumptions!$A$71) | O65: =IF(Assumptions!$B$71="","",Assumptions!$B$71)
I66: =IF(OR($A66="",$G66="",$H66=""),"",IFERROR($G66*$H66,"")) | L66: =IF($A66="","",IF(OR($F66="Won",$F66="Lost"),"Closed",IF($K66="","Next action needed",IF($K66<Assumptions!$B$4,"Check overdue action",IF(AND($J66<>"",$J66<Assumptions!$B$4),"Check target date","Planned"))))) | N66: =IF(Assumptions!$A$72="","",Assumptions!$A$72) | O66: =IF(Assumptions!$B$72="","",Assumptions!$B$72)
I67: =IF(OR($A67="",$G67="",$H67=""),"",IFERROR($G67*$H67,"")) | L67: =IF($A67="","",IF(OR($F67="Won",$F67="Lost"),"Closed",IF($K67="","Next action needed",IF($K67<Assumptions!$B$4,"Check overdue action",IF(AND($J67<>"",$J67<Assumptions!$B$4),"Check target date","Planned"))))) | N67: =IF(Assumptions!$A$73="","",Assumptions!$A$73) | O67: =IF(Assumptions!$B$73="","",Assumptions!$B$73)
I68: =IF(OR($A68="",$G68="",$H68=""),"",IFERROR($G68*$H68,"")) | L68: =IF($A68="","",IF(OR($F68="Won",$F68="Lost"),"Closed",IF($K68="","Next action needed",IF($K68<Assumptions!$B$4,"Check overdue action",IF(AND($J68<>"",$J68<Assumptions!$B$4),"Check target date","Planned"))))) | N68: =IF(Assumptions!$A$74="","",Assumptions!$A$74) | O68: =IF(Assumptions!$B$74="","",Assumptions!$B$74)
I69: =IF(OR($A69="",$G69="",$H69=""),"",IFERROR($G69*$H69,"")) | L69: =IF($A69="","",IF(OR($F69="Won",$F69="Lost"),"Closed",IF($K69="","Next action needed",IF($K69<Assumptions!$B$4,"Check overdue action",IF(AND($J69<>"",$J69<Assumptions!$B$4),"Check target date","Planned"))))) | N69: =IF(Assumptions!$A$75="","",Assumptions!$A$75) | O69: =IF(Assumptions!$B$75="","",Assumptions!$B$75)
I70: =IF(OR($A70="",$G70="",$H70=""),"",IFERROR($G70*$H70,"")) | L70: =IF($A70="","",IF(OR($F70="Won",$F70="Lost"),"Closed",IF($K70="","Next action needed",IF($K70<Assumptions!$B$4,"Check overdue action",IF(AND($J70<>"",$J70<Assumptions!$B$4),"Check target date","Planned"))))) | N70: =IF(Assumptions!$A$76="","",Assumptions!$A$76) | O70: =IF(Assumptions!$B$76="","",Assumptions!$B$76)
I71: =IF(OR($A71="",$G71="",$H71=""),"",IFERROR($G71*$H71,"")) | L71: =IF($A71="","",IF(OR($F71="Won",$F71="Lost"),"Closed",IF($K71="","Next action needed",IF($K71<Assumptions!$B$4,"Check overdue action",IF(AND($J71<>"",$J71<Assumptions!$B$4),"Check target date","Planned"))))) | N71: =IF(Assumptions!$A$77="","",Assumptions!$A$77) | O71: =IF(Assumptions!$B$77="","",Assumptions!$B$77)
I72: =IF(OR($A72="",$G72="",$H72=""),"",IFERROR($G72*$H72,"")) | L72: =IF($A72="","",IF(OR($F72="Won",$F72="Lost"),"Closed",IF($K72="","Next action needed",IF($K72<Assumptions!$B$4,"Check overdue action",IF(AND($J72<>"",$J72<Assumptions!$B$4),"Check target date","Planned"))))) | N72: =IF(Assumptions!$A$78="","",Assumptions!$A$78) | O72: =IF(Assumptions!$B$78="","",Assumptions!$B$78)
I73: =IF(OR($A73="",$G73="",$H73=""),"",IFERROR($G73*$H73,"")) | L73: =IF($A73="","",IF(OR($F73="Won",$F73="Lost"),"Closed",IF($K73="","Next action needed",IF($K73<Assumptions!$B$4,"Check overdue action",IF(AND($J73<>"",$J73<Assumptions!$B$4),"Check target date","Planned"))))) | N73: =IF(Assumptions!$A$79="","",Assumptions!$A$79) | O73: =IF(Assumptions!$B$79="","",Assumptions!$B$79)
I74: =IF(OR($A74="",$G74="",$H74=""),"",IFERROR($G74*$H74,"")) | L74: =IF($A74="","",IF(OR($F74="Won",$F74="Lost"),"Closed",IF($K74="","Next action needed",IF($K74<Assumptions!$B$4,"Check overdue action",IF(AND($J74<>"",$J74<Assumptions!$B$4),"Check target date","Planned"))))) | N74: =IF(Assumptions!$A$80="","",Assumptions!$A$80) | O74: =IF(Assumptions!$B$80="","",Assumptions!$B$80)
I75: =IF(OR($A75="",$G75="",$H75=""),"",IFERROR($G75*$H75,"")) | L75: =IF($A75="","",IF(OR($F75="Won",$F75="Lost"),"Closed",IF($K75="","Next action needed",IF($K75<Assumptions!$B$4,"Check overdue action",IF(AND($J75<>"",$J75<Assumptions!$B$4),"Check target date","Planned"))))) | N75: =IF(Assumptions!$A$81="","",Assumptions!$A$81) | O75: =IF(Assumptions!$B$81="","",Assumptions!$B$81)
I76: =IF(OR($A76="",$G76="",$H76=""),"",IFERROR($G76*$H76,"")) | L76: =IF($A76="","",IF(OR($F76="Won",$F76="Lost"),"Closed",IF($K76="","Next action needed",IF($K76<Assumptions!$B$4,"Check overdue action",IF(AND($J76<>"",$J76<Assumptions!$B$4),"Check target date","Planned"))))) | N76: =IF(Assumptions!$A$82="","",Assumptions!$A$82) | O76: =IF(Assumptions!$B$82="","",Assumptions!$B$82)
I77: =IF(OR($A77="",$G77="",$H77=""),"",IFERROR($G77*$H77,"")) | L77: =IF($A77="","",IF(OR($F77="Won",$F77="Lost"),"Closed",IF($K77="","Next action needed",IF($K77<Assumptions!$B$4,"Check overdue action",IF(AND($J77<>"",$J77<Assumptions!$B$4),"Check target date","Planned"))))) | N77: =IF(Assumptions!$A$83="","",Assumptions!$A$83) | O77: =IF(Assumptions!$B$83="","",Assumptions!$B$83)
I78: =IF(OR($A78="",$G78="",$H78=""),"",IFERROR($G78*$H78,"")) | L78: =IF($A78="","",IF(OR($F78="Won",$F78="Lost"),"Closed",IF($K78="","Next action needed",IF($K78<Assumptions!$B$4,"Check overdue action",IF(AND($J78<>"",$J78<Assumptions!$B$4),"Check target date","Planned"))))) | N78: =IF(Assumptions!$A$84="","",Assumptions!$A$84) | O78: =IF(Assumptions!$B$84="","",Assumptions!$B$84)
I79: =IF(OR($A79="",$G79="",$H79=""),"",IFERROR($G79*$H79,"")) | L79: =IF($A79="","",IF(OR($F79="Won",$F79="Lost"),"Closed",IF($K79="","Next action needed",IF($K79<Assumptions!$B$4,"Check overdue action",IF(AND($J79<>"",$J79<Assumptions!$B$4),"Check target date","Planned"))))) | N79: =IF(Assumptions!$A$85="","",Assumptions!$A$85) | O79: =IF(Assumptions!$B$85="","",Assumptions!$B$85)
I80: =IF(OR($A80="",$G80="",$H80=""),"",IFERROR($G80*$H80,"")) | L80: =IF($A80="","",IF(OR($F80="Won",$F80="Lost"),"Closed",IF($K80="","Next action needed",IF($K80<Assumptions!$B$4,"Check overdue action",IF(AND($J80<>"",$J80<Assumptions!$B$4),"Check target date","Planned"))))) | N80: =IF(Assumptions!$A$86="","",Assumptions!$A$86) | O80: =IF(Assumptions!$B$86="","",Assumptions!$B$86)
I81: =IF(OR($A81="",$G81="",$H81=""),"",IFERROR($G81*$H81,"")) | L81: =IF($A81="","",IF(OR($F81="Won",$F81="Lost"),"Closed",IF($K81="","Next action needed",IF($K81<Assumptions!$B$4,"Check overdue action",IF(AND($J81<>"",$J81<Assumptions!$B$4),"Check target date","Planned"))))) | N81: =IF(Assumptions!$A$87="","",Assumptions!$A$87) | O81: =IF(Assumptions!$B$87="","",Assumptions!$B$87)
I82: =IF(OR($A82="",$G82="",$H82=""),"",IFERROR($G82*$H82,"")) | L82: =IF($A82="","",IF(OR($F82="Won",$F82="Lost"),"Closed",IF($K82="","Next action needed",IF($K82<Assumptions!$B$4,"Check overdue action",IF(AND($J82<>"",$J82<Assumptions!$B$4),"Check target date","Planned"))))) | N82: =IF(Assumptions!$A$88="","",Assumptions!$A$88) | O82: =IF(Assumptions!$B$88="","",Assumptions!$B$88)
I83: =IF(OR($A83="",$G83="",$H83=""),"",IFERROR($G83*$H83,"")) | L83: =IF($A83="","",IF(OR($F83="Won",$F83="Lost"),"Closed",IF($K83="","Next action needed",IF($K83<Assumptions!$B$4,"Check overdue action",IF(AND($J83<>"",$J83<Assumptions!$B$4),"Check target date","Planned"))))) | N83: =IF(Assumptions!$A$89="","",Assumptions!$A$89) | O83: =IF(Assumptions!$B$89="","",Assumptions!$B$89)
I84: =IF(OR($A84="",$G84="",$H84=""),"",IFERROR($G84*$H84,"")) | L84: =IF($A84="","",IF(OR($F84="Won",$F84="Lost"),"Closed",IF($K84="","Next action needed",IF($K84<Assumptions!$B$4,"Check overdue action",IF(AND($J84<>"",$J84<Assumptions!$B$4),"Check target date","Planned"))))) | N84: =IF(Assumptions!$A$90="","",Assumptions!$A$90) | O84: =IF(Assumptions!$B$90="","",Assumptions!$B$90)
I85: =IF(OR($A85="",$G85="",$H85=""),"",IFERROR($G85*$H85,"")) | L85: =IF($A85="","",IF(OR($F85="Won",$F85="Lost"),"Closed",IF($K85="","Next action needed",IF($K85<Assumptions!$B$4,"Check overdue action",IF(AND($J85<>"",$J85<Assumptions!$B$4),"Check target date","Planned"))))) | N85: =IF(Assumptions!$A$91="","",Assumptions!$A$91) | O85: =IF(Assumptions!$B$91="","",Assumptions!$B$91)
I86: =IF(OR($A86="",$G86="",$H86=""),"",IFERROR($G86*$H86,"")) | L86: =IF($A86="","",IF(OR($F86="Won",$F86="Lost"),"Closed",IF($K86="","Next action needed",IF($K86<Assumptions!$B$4,"Check overdue action",IF(AND($J86<>"",$J86<Assumptions!$B$4),"Check target date","Planned"))))) | N86: =IF(Assumptions!$A$92="","",Assumptions!$A$92) | O86: =IF(Assumptions!$B$92="","",Assumptions!$B$92)
I87: =IF(OR($A87="",$G87="",$H87=""),"",IFERROR($G87*$H87,"")) | L87: =IF($A87="","",IF(OR($F87="Won",$F87="Lost"),"Closed",IF($K87="","Next action needed",IF($K87<Assumptions!$B$4,"Check overdue action",IF(AND($J87<>"",$J87<Assumptions!$B$4),"Check target date","Planned"))))) | N87: =IF(Assumptions!$A$93="","",Assumptions!$A$93) | O87: =IF(Assumptions!$B$93="","",Assumptions!$B$93)
I88: =IF(OR($A88="",$G88="",$H88=""),"",IFERROR($G88*$H88,"")) | L88: =IF($A88="","",IF(OR($F88="Won",$F88="Lost"),"Closed",IF($K88="","Next action needed",IF($K88<Assumptions!$B$4,"Check overdue action",IF(AND($J88<>"",$J88<Assumptions!$B$4),"Check target date","Planned"))))) | N88: =IF(Assumptions!$A$94="","",Assumptions!$A$94) | O88: =IF(Assumptions!$B$94="","",Assumptions!$B$94)
I89: =IF(OR($A89="",$G89="",$H89=""),"",IFERROR($G89*$H89,"")) | L89: =IF($A89="","",IF(OR($F89="Won",$F89="Lost"),"Closed",IF($K89="","Next action needed",IF($K89<Assumptions!$B$4,"Check overdue action",IF(AND($J89<>"",$J89<Assumptions!$B$4),"Check target date","Planned"))))) | N89: =IF(Assumptions!$A$95="","",Assumptions!$A$95) | O89: =IF(Assumptions!$B$95="","",Assumptions!$B$95)
I90: =IF(OR($A90="",$G90="",$H90=""),"",IFERROR($G90*$H90,"")) | L90: =IF($A90="","",IF(OR($F90="Won",$F90="Lost"),"Closed",IF($K90="","Next action needed",IF($K90<Assumptions!$B$4,"Check overdue action",IF(AND($J90<>"",$J90<Assumptions!$B$4),"Check target date","Planned"))))) | N90: =IF(Assumptions!$A$96="","",Assumptions!$A$96) | O90: =IF(Assumptions!$B$96="","",Assumptions!$B$96)
I91: =IF(OR($A91="",$G91="",$H91=""),"",IFERROR($G91*$H91,"")) | L91: =IF($A91="","",IF(OR($F91="Won",$F91="Lost"),"Closed",IF($K91="","Next action needed",IF($K91<Assumptions!$B$4,"Check overdue action",IF(AND($J91<>"",$J91<Assumptions!$B$4),"Check target date","Planned"))))) | N91: =IF(Assumptions!$A$97="","",Assumptions!$A$97) | O91: =IF(Assumptions!$B$97="","",Assumptions!$B$97)
I92: =IF(OR($A92="",$G92="",$H92=""),"",IFERROR($G92*$H92,"")) | L92: =IF($A92="","",IF(OR($F92="Won",$F92="Lost"),"Closed",IF($K92="","Next action needed",IF($K92<Assumptions!$B$4,"Check overdue action",IF(AND($J92<>"",$J92<Assumptions!$B$4),"Check target date","Planned"))))) | N92: =IF(Assumptions!$A$98="","",Assumptions!$A$98) | O92: =IF(Assumptions!$B$98="","",Assumptions!$B$98)
I93: =IF(OR($A93="",$G93="",$H93=""),"",IFERROR($G93*$H93,"")) | L93: =IF($A93="","",IF(OR($F93="Won",$F93="Lost"),"Closed",IF($K93="","Next action needed",IF($K93<Assumptions!$B$4,"Check overdue action",IF(AND($J93<>"",$J93<Assumptions!$B$4),"Check target date","Planned"))))) | N93: =IF(Assumptions!$A$99="","",Assumptions!$A$99) | O93: =IF(Assumptions!$B$99="","",Assumptions!$B$99)
I94: =IF(OR($A94="",$G94="",$H94=""),"",IFERROR($G94*$H94,"")) | L94: =IF($A94="","",IF(OR($F94="Won",$F94="Lost"),"Closed",IF($K94="","Next action needed",IF($K94<Assumptions!$B$4,"Check overdue action",IF(AND($J94<>"",$J94<Assumptions!$B$4),"Check target date","Planned"))))) | N94: =IF(Assumptions!$A$100="","",Assumptions!$A$100) | O94: =IF(Assumptions!$B$100="","",Assumptions!$B$100)
I95: =IF(OR($A95="",$G95="",$H95=""),"",IFERROR($G95*$H95,"")) | L95: =IF($A95="","",IF(OR($F95="Won",$F95="Lost"),"Closed",IF($K95="","Next action needed",IF($K95<Assumptions!$B$4,"Check overdue action",IF(AND($J95<>"",$J95<Assumptions!$B$4),"Check target date","Planned"))))) | N95: =IF(Assumptions!$A$101="","",Assumptions!$A$101) | O95: =IF(Assumptions!$B$101="","",Assumptions!$B$101)
I96: =IF(OR($A96="",$G96="",$H96=""),"",IFERROR($G96*$H96,"")) | L96: =IF($A96="","",IF(OR($F96="Won",$F96="Lost"),"Closed",IF($K96="","Next action needed",IF($K96<Assumptions!$B$4,"Check overdue action",IF(AND($J96<>"",$J96<Assumptions!$B$4),"Check target date","Planned"))))) | N96: =IF(Assumptions!$A$102="","",Assumptions!$A$102) | O96: =IF(Assumptions!$B$102="","",Assumptions!$B$102)
I97: =IF(OR($A97="",$G97="",$H97=""),"",IFERROR($G97*$H97,"")) | L97: =IF($A97="","",IF(OR($F97="Won",$F97="Lost"),"Closed",IF($K97="","Next action needed",IF($K97<Assumptions!$B$4,"Check overdue action",IF(AND($J97<>"",$J97<Assumptions!$B$4),"Check target date","Planned"))))) | N97: =IF(Assumptions!$A$103="","",Assumptions!$A$103) | O97: =IF(Assumptions!$B$103="","",Assumptions!$B$103)
I98: =IF(OR($A98="",$G98="",$H98=""),"",IFERROR($G98*$H98,"")) | L98: =IF($A98="","",IF(OR($F98="Won",$F98="Lost"),"Closed",IF($K98="","Next action needed",IF($K98<Assumptions!$B$4,"Check overdue action",IF(AND($J98<>"",$J98<Assumptions!$B$4),"Check target date","Planned"))))) | N98: =IF(Assumptions!$A$104="","",Assumptions!$A$104) | O98: =IF(Assumptions!$B$104="","",Assumptions!$B$104)
I99: =IF(OR($A99="",$G99="",$H99=""),"",IFERROR($G99*$H99,"")) | L99: =IF($A99="","",IF(OR($F99="Won",$F99="Lost"),"Closed",IF($K99="","Next action needed",IF($K99<Assumptions!$B$4,"Check overdue action",IF(AND($J99<>"",$J99<Assumptions!$B$4),"Check target date","Planned"))))) | N99: =IF(Assumptions!$A$105="","",Assumptions!$A$105) | O99: =IF(Assumptions!$B$105="","",Assumptions!$B$105)
I100: =IF(OR($A100="",$G100="",$H100=""),"",IFERROR($G100*$H100,"")) | L100: =IF($A100="","",IF(OR($F100="Won",$F100="Lost"),"Closed",IF($K100="","Next action needed",IF($K100<Assumptions!$B$4,"Check overdue action",IF(AND($J100<>"",$J100<Assumptions!$B$4),"Check target date","Planned"))))) | N100: =IF(Assumptions!$A$106="","",Assumptions!$A$106) | O100: =IF(Assumptions!$B$106="","",Assumptions!$B$106)
...

Sheet Assumptions
A1: Insurance Territory Sales Planner — Assumptions
A2: Orange cells are editable planning assumptions. All sample territories and producers are fictional.
A3: Planning Controls
A4: As of Date | B4: 46275
A5: Maximum Estimated Annual Premium | B5: 1000000
A6: Earliest Planning Date | B6: 45658
A7: Latest Planning Date | B7: 47118
A8: Maximum Annual Territory Goal | B8: 5000000
A9: Maximum Prospect Capacity | B9: 500
A10: Territory | B10: Default Owner | C10: Annual Premium Goal | D10: Prospect Capacity | E10: Active
A11: North Harbor | B11: Fictional Producer 01 | C11: 600000 | D11: 16 | E11: Yes
A12: Pine Valley | B12: Fictional Producer 02 | C12: 750000 | D12: 20 | E12: Yes
A13: Copper Ridge | B13: Fictional Producer 03 | C13: 500000 | D13: 14 | E13: Yes
A14: Blue Mesa | B14: Fictional Producer 04 | C14: 900000 | D14: 22 | E14: Yes
A15: Cedar Coast | B15: Fictional Producer 05 | C15: 650000 | D15: 18 | E15: Yes
A16: Silver Prairie | B16: Fictional Producer 06 | C16: 550000 | D16: 15 | E16: Yes
A17: Red Canyon | B17: Fictional Producer 07 | C17: 800000 | D17: 20 | E17: Yes
A18: Lake District | B18: Fictional Producer 08 | C18: 700000 | D18: 19 | E18: Yes
A19: South Grove | B19: Fictional Producer 09 | C19: 0 | D19: 0 | E19: No
A20: Metro East | B20: Fictional Producer 10 | C20: 5000000 | D20: 500 | E20: Yes
