Workbook

Sheet Summary
A1: Insurance Territory Sales Planner — Summary
A2: Indicators are calculated from the Prospect Plan and editable Assumptions entries. All examples are fictional.
A3: Calculated Indicators
A4: As of Date | B4: =Assumptions!$B$4 | C4: Entered Prospects | D4: =COUNTIF('Prospect Plan'!$A$5:$A$104,"<>") | E4: Open Prospects | F4: =COUNTIFS('Prospect Plan'!$A$5:$A$104,"<>",'Prospect Plan'!$F$5:$F$104,"<>Won",'Prospect Plan'!$F$5:$F$104,"<>Lost") | G4: Action Checks | H4: =COUNTIF('Prospect Plan'!$L$5:$L$104,"Check*")+COUNTIF('Prospect Plan'!$L$5:$L$104,"Next action needed") | I4: Unassigned Territories | J4: =COUNTIFS('Prospect Plan'!$A$5:$A$104,"<>",'Prospect Plan'!$D$5:$D$104,"")
A5: Estimated Annual Premium | B5: =SUMIFS('Prospect Plan'!$G$5:$G$104,'Prospect Plan'!$A$5:$A$104,"<>") | C5: Weighted Pipeline | D5: =SUM('Prospect Plan'!$I$5:$I$104) | E5: Active Territory Goal | F5: =SUMIF(Assumptions!$E$11:$E$110,"Yes",Assumptions!$C$11:$C$110) | G5: Weighted Pipeline / Goal | H5: =IFERROR($D$5/$F$5,"") | I5: Open Prospects / Active Capacity | J5: =IFERROR($F$4/SUMIF(Assumptions!$E$11:$E$110,"Yes",Assumptions!$D$11:$D$110),"")
A7: Territory Allocation
A8: Territory | B8: Default Owner | C8: Active | D8: Annual Goal | E8: Capacity | F8: Prospects | G8: Estimated Premium | H8: Weighted Premium | I8: Goal % | J8: Capacity % | K8: Action Checks
A9: =IF(Assumptions!$A$11="","",Assumptions!$A$11) | B9: =IF($A9="","",IFERROR(VLOOKUP($A9,Assumptions!$A$11:$E$110,2,FALSE),"")) | C9: =IF($A9="","",IFERROR(VLOOKUP($A9,Assumptions!$A$11:$E$110,5,FALSE),"")) | D9: =IF($A9="","",IFERROR(VLOOKUP($A9,Assumptions!$A$11:$E$110,3,FALSE),"")) | E9: =IF($A9="","",IFERROR(VLOOKUP($A9,Assumptions!$A$11:$E$110,4,FALSE),"")) | F9: =IF($A9="","",COUNTIFS('Prospect Plan'!$A$5:$A$104,"<>",'Prospect Plan'!$D$5:$D$104,$A9)) | G9: =IF($A9="","",SUMIFS('Prospect Plan'!$G$5:$G$104,'Prospect Plan'!$A$5:$A$104,"<>",'Prospect Plan'!$D$5:$D$104,$A9)) | H9: =IF($A9="","",SUMIFS('Prospect Plan'!$I$5:$I$104,'Prospect Plan'!$A$5:$A$104,"<>",'Prospect Plan'!$D$5:$D$104,$A9)) | I9: =IF($A9="","",IFERROR($H9/$D9,"")) | J9: =IF($A9="","",IFERROR($F9/$E9,"")) | K9: =IF($A9="","",COUNTIFS('Prospect Plan'!$A$5:$A$104,"<>",'Prospect Plan'!$D$5:$D$104,$A9,'Prospect Plan'!$L$5:$L$104,"Check*")+COUNTIFS('Prospect Plan'!$A$5:$A$104,"<>",'Prospect Plan'!$D$5:$D$104,$A9,'Prospect Plan'!$L$5:$L$104,"Next action needed"))
A10: =IF(Assumptions!$A$12="","",Assumptions!$A$12) | B10: =IF($A10="","",IFERROR(VLOOKUP($A10,Assumptions!$A$11:$E$110,2,FALSE),"")) | C10: =IF($A10="","",IFERROR(VLOOKUP($A10,Assumptions!$A$11:$E$110,5,FALSE),"")) | D10: =IF($A10="","",IFERROR(VLOOKUP($A10,Assumptions!$A$11:$E$110,3,FALSE),"")) | E10: =IF($A10="","",IFERROR(VLOOKUP($A10,Assumptions!$A$11:$E$110,4,FALSE),"")) | F10: =IF($A10="","",COUNTIFS('Prospect Plan'!$A$5:$A$104,"<>",'Prospect Plan'!$D$5:$D$104,$A10)) | G10: =IF($A10="","",SUMIFS('Prospect Plan'!$G$5:$G$104,'Prospect Plan'!$A$5:$A$104,"<>",'Prospect Plan'!$D$5:$D$104,$A10)) | H10: =IF($A10="","",SUMIFS('Prospect Plan'!$I$5:$I$104,'Prospect Plan'!$A$5:$A$104,"<>",'Prospect Plan'!$D$5:$D$104,$A10)) | I10: =IF($A10="","",IFERROR($H10/$D10,"")) | J10: =IF($A10="","",IFERROR($F10/$E10,"")) | K10: =IF($A10="","",COUNTIFS('Prospect Plan'!$A$5:$A$104,"<>",'Prospect Plan'!$D$5:$D$104,$A10,'Prospect Plan'!$L$5:$L$104,"Check*")+COUNTIFS('Prospect Plan'!$A$5:$A$104,"<>",'Prospect Plan'!$D$5:$D$104,$A10,'Prospect Plan'!$L$5:$L$104,"Next action needed"))
A11: =IF(Assumptions!$A$13="","",Assumptions!$A$13) | B11: =IF($A11="","",IFERROR(VLOOKUP($A11,Assumptions!$A$11:$E$110,2,FALSE),"")) | C11: =IF($A11="","",IFERROR(VLOOKUP($A11,Assumptions!$A$11:$E$110,5,FALSE),"")) | D11: =IF($A11="","",IFERROR(VLOOKUP($A11,Assumptions!$A$11:$E$110,3,FALSE),"")) | E11: =IF($A11="","",IFERROR(VLOOKUP($A11,Assumptions!$A$11:$E$110,4,FALSE),"")) | F11: =IF($A11="","",COUNTIFS('Prospect Plan'!$A$5:$A$104,"<>",'Prospect Plan'!$D$5:$D$104,$A11)) | G11: =IF($A11="","",SUMIFS('Prospect Plan'!$G$5:$G$104,'Prospect Plan'!$A$5:$A$104,"<>",'Prospect Plan'!$D$5:$D$104,$A11)) | H11: =IF($A11="","",SUMIFS('Prospect Plan'!$I$5:$I$104,'Prospect Plan'!$A$5:$A$104,"<>",'Prospect Plan'!$D$5:$D$104,$A11)) | I11: =IF($A11="","",IFERROR($H11/$D11,"")) | J11: =IF($A11="","",IFERROR($F11/$E11,"")) | K11: =IF($A11="","",COUNTIFS('Prospect Plan'!$A$5:$A$104,"<>",'Prospect Plan'!$D$5:$D$104,$A11,'Prospect Plan'!$L$5:$L$104,"Check*")+COUNTIFS('Prospect Plan'!$A$5:$A$104,"<>",'Prospect Plan'!$D$5:$D$104,$A11,'Prospect Plan'!$L$5:$L$104,"Next action needed"))
A12: =IF(Assumptions!$A$14="","",Assumptions!$A$14) | B12: =IF($A12="","",IFERROR(VLOOKUP($A12,Assumptions!$A$11:$E$110,2,FALSE),"")) | C12: =IF($A12="","",IFERROR(VLOOKUP($A12,Assumptions!$A$11:$E$110,5,FALSE),"")) | D12: =IF($A12="","",IFERROR(VLOOKUP($A12,Assumptions!$A$11:$E$110,3,FALSE),"")) | E12: =IF($A12="","",IFERROR(VLOOKUP($A12,Assumptions!$A$11:$E$110,4,FALSE),"")) | F12: =IF($A12="","",COUNTIFS('Prospect Plan'!$A$5:$A$104,"<>",'Prospect Plan'!$D$5:$D$104,$A12)) | G12: =IF($A12="","",SUMIFS('Prospect Plan'!$G$5:$G$104,'Prospect Plan'!$A$5:$A$104,"<>",'Prospect Plan'!$D$5:$D$104,$A12)) | H12: =IF($A12="","",SUMIFS('Prospect Plan'!$I$5:$I$104,'Prospect Plan'!$A$5:$A$104,"<>",'Prospect Plan'!$D$5:$D$104,$A12)) | I12: =IF($A12="","",IFERROR($H12/$D12,"")) | J12: =IF($A12="","",IFERROR($F12/$E12,"")) | K12: =IF($A12="","",COUNTIFS('Prospect Plan'!$A$5:$A$104,"<>",'Prospect Plan'!$D$5:$D$104,$A12,'Prospect Plan'!$L$5:$L$104,"Check*")+COUNTIFS('Prospect Plan'!$A$5:$A$104,"<>",'Prospect Plan'!$D$5:$D$104,$A12,'Prospect Plan'!$L$5:$L$104,"Next action needed"))
A13: =IF(Assumptions!$A$15="","",Assumptions!$A$15) | B13: =IF($A13="","",IFERROR(VLOOKUP($A13,Assumptions!$A$11:$E$110,2,FALSE),"")) | C13: =IF($A13="","",IFERROR(VLOOKUP($A13,Assumptions!$A$11:$E$110,5,FALSE),"")) | D13: =IF($A13="","",IFERROR(VLOOKUP($A13,Assumptions!$A$11:$E$110,3,FALSE),"")) | E13: =IF($A13="","",IFERROR(VLOOKUP($A13,Assumptions!$A$11:$E$110,4,FALSE),"")) | F13: =IF($A13="","",COUNTIFS('Prospect Plan'!$A$5:$A$104,"<>",'Prospect Plan'!$D$5:$D$104,$A13)) | G13: =IF($A13="","",SUMIFS('Prospect Plan'!$G$5:$G$104,'Prospect Plan'!$A$5:$A$104,"<>",'Prospect Plan'!$D$5:$D$104,$A13)) | H13: =IF($A13="","",SUMIFS('Prospect Plan'!$I$5:$I$104,'Prospect Plan'!$A$5:$A$104,"<>",'Prospect Plan'!$D$5:$D$104,$A13)) | I13: =IF($A13="","",IFERROR($H13/$D13,"")) | J13: =IF($A13="","",IFERROR($F13/$E13,"")) | K13: =IF($A13="","",COUNTIFS('Prospect Plan'!$A$5:$A$104,"<>",'Prospect Plan'!$D$5:$D$104,$A13,'Prospect Plan'!$L$5:$L$104,"Check*")+COUNTIFS('Prospect Plan'!$A$5:$A$104,"<>",'Prospect Plan'!$D$5:$D$104,$A13,'Prospect Plan'!$L$5:$L$104,"Next action needed"))
A14: =IF(Assumptions!$A$16="","",Assumptions!$A$16) | B14: =IF($A14="","",IFERROR(VLOOKUP($A14,Assumptions!$A$11:$E$110,2,FALSE),"")) | C14: =IF($A14="","",IFERROR(VLOOKUP($A14,Assumptions!$A$11:$E$110,5,FALSE),"")) | D14: =IF($A14="","",IFERROR(VLOOKUP($A14,Assumptions!$A$11:$E$110,3,FALSE),"")) | E14: =IF($A14="","",IFERROR(VLOOKUP($A14,Assumptions!$A$11:$E$110,4,FALSE),"")) | F14: =IF($A14="","",COUNTIFS('Prospect Plan'!$A$5:$A$104,"<>",'Prospect Plan'!$D$5:$D$104,$A14)) | G14: =IF($A14="","",SUMIFS('Prospect Plan'!$G$5:$G$104,'Prospect Plan'!$A$5:$A$104,"<>",'Prospect Plan'!$D$5:$D$104,$A14)) | H14: =IF($A14="","",SUMIFS('Prospect Plan'!$I$5:$I$104,'Prospect Plan'!$A$5:$A$104,"<>",'Prospect Plan'!$D$5:$D$104,$A14)) | I14: =IF($A14="","",IFERROR($H14/$D14,"")) | J14: =IF($A14="","",IFERROR($F14/$E14,"")) | K14: =IF($A14="","",COUNTIFS('Prospect Plan'!$A$5:$A$104,"<>",'Prospect Plan'!$D$5:$D$104,$A14,'Prospect Plan'!$L$5:$L$104,"Check*")+COUNTIFS('Prospect Plan'!$A$5:$A$104,"<>",'Prospect Plan'!$D$5:$D$104,$A14,'Prospect Plan'!$L$5:$L$104,"Next action needed"))
A15: =IF(Assumptions!$A$17="","",Assumptions!$A$17) | B15: =IF($A15="","",IFERROR(VLOOKUP($A15,Assumptions!$A$11:$E$110,2,FALSE),"")) | C15: =IF($A15="","",IFERROR(VLOOKUP($A15,Assumptions!$A$11:$E$110,5,FALSE),"")) | D15: =IF($A15="","",IFERROR(VLOOKUP($A15,Assumptions!$A$11:$E$110,3,FALSE),"")) | E15: =IF($A15="","",IFERROR(VLOOKUP($A15,Assumptions!$A$11:$E$110,4,FALSE),"")) | F15: =IF($A15="","",COUNTIFS('Prospect Plan'!$A$5:$A$104,"<>",'Prospect Plan'!$D$5:$D$104,$A15)) | G15: =IF($A15="","",SUMIFS('Prospect Plan'!$G$5:$G$104,'Prospect Plan'!$A$5:$A$104,"<>",'Prospect Plan'!$D$5:$D$104,$A15)) | H15: =IF($A15="","",SUMIFS('Prospect Plan'!$I$5:$I$104,'Prospect Plan'!$A$5:$A$104,"<>",'Prospect Plan'!$D$5:$D$104,$A15)) | I15: =IF($A15="","",IFERROR($H15/$D15,"")) | J15: =IF($A15="","",IFERROR($F15/$E15,"")) | K15: =IF($A15="","",COUNTIFS('Prospect Plan'!$A$5:$A$104,"<>",'Prospect Plan'!$D$5:$D$104,$A15,'Prospect Plan'!$L$5:$L$104,"Check*")+COUNTIFS('Prospect Plan'!$A$5:$A$104,"<>",'Prospect Plan'!$D$5:$D$104,$A15,'Prospect Plan'!$L$5:$L$104,"Next action needed"))
A16: =IF(Assumptions!$A$18="","",Assumptions!$A$18) | B16: =IF($A16="","",IFERROR(VLOOKUP($A16,Assumptions!$A$11:$E$110,2,FALSE),"")) | C16: =IF($A16="","",IFERROR(VLOOKUP($A16,Assumptions!$A$11:$E$110,5,FALSE),"")) | D16: =IF($A16="","",IFERROR(VLOOKUP($A16,Assumptions!$A$11:$E$110,3,FALSE),"")) | E16: =IF($A16="","",IFERROR(VLOOKUP($A16,Assumptions!$A$11:$E$110,4,FALSE),"")) | F16: =IF($A16="","",COUNTIFS('Prospect Plan'!$A$5:$A$104,"<>",'Prospect Plan'!$D$5:$D$104,$A16)) | G16: =IF($A16="","",SUMIFS('Prospect Plan'!$G$5:$G$104,'Prospect Plan'!$A$5:$A$104,"<>",'Prospect Plan'!$D$5:$D$104,$A16)) | H16: =IF($A16="","",SUMIFS('Prospect Plan'!$I$5:$I$104,'Prospect Plan'!$A$5:$A$104,"<>",'Prospect Plan'!$D$5:$D$104,$A16)) | I16: =IF($A16="","",IFERROR($H16/$D16,"")) | J16: =IF($A16="","",IFERROR($F16/$E16,"")) | K16: =IF($A16="","",COUNTIFS('Prospect Plan'!$A$5:$A$104,"<>",'Prospect Plan'!$D$5:$D$104,$A16,'Prospect Plan'!$L$5:$L$104,"Check*")+COUNTIFS('Prospect Plan'!$A$5:$A$104,"<>",'Prospect Plan'!$D$5:$D$104,$A16,'Prospect Plan'!$L$5:$L$104,"Next action needed"))
A17: =IF(Assumptions!$A$19="","",Assumptions!$A$19) | B17: =IF($A17="","",IFERROR(VLOOKUP($A17,Assumptions!$A$11:$E$110,2,FALSE),"")) | C17: =IF($A17="","",IFERROR(VLOOKUP($A17,Assumptions!$A$11:$E$110,5,FALSE),"")) | D17: =IF($A17="","",IFERROR(VLOOKUP($A17,Assumptions!$A$11:$E$110,3,FALSE),"")) | E17: =IF($A17="","",IFERROR(VLOOKUP($A17,Assumptions!$A$11:$E$110,4,FALSE),"")) | F17: =IF($A17="","",COUNTIFS('Prospect Plan'!$A$5:$A$104,"<>",'Prospect Plan'!$D$5:$D$104,$A17)) | G17: =IF($A17="","",SUMIFS('Prospect Plan'!$G$5:$G$104,'Prospect Plan'!$A$5:$A$104,"<>",'Prospect Plan'!$D$5:$D$104,$A17)) | H17: =IF($A17="","",SUMIFS('Prospect Plan'!$I$5:$I$104,'Prospect Plan'!$A$5:$A$104,"<>",'Prospect Plan'!$D$5:$D$104,$A17)) | I17: =IF($A17="","",IFERROR($H17/$D17,"")) | J17: =IF($A17="","",IFERROR($F17/$E17,"")) | K17: =IF($A17="","",COUNTIFS('Prospect Plan'!$A$5:$A$104,"<>",'Prospect Plan'!$D$5:$D$104,$A17,'Prospect Plan'!$L$5:$L$104,"Check*")+COUNTIFS('Prospect Plan'!$A$5:$A$104,"<>",'Prospect Plan'!$D$5:$D$104,$A17,'Prospect Plan'!$L$5:$L$104,"Next action needed"))
A18: =IF(Assumptions!$A$20="","",Assumptions!$A$20) | B18: =IF($A18="","",IFERROR(VLOOKUP($A18,Assumptions!$A$11:$E$110,2,FALSE),"")) | C18: =IF($A18="","",IFERROR(VLOOKUP($A18,Assumptions!$A$11:$E$110,5,FALSE),"")) | D18: =IF($A18="","",IFERROR(VLOOKUP($A18,Assumptions!$A$11:$E$110,3,FALSE),"")) | E18: =IF($A18="","",IFERROR(VLOOKUP($A18,Assumptions!$A$11:$E$110,4,FALSE),"")) | F18: =IF($A18="","",COUNTIFS('Prospect Plan'!$A$5:$A$104,"<>",'Prospect Plan'!$D$5:$D$104,$A18)) | G18: =IF($A18="","",SUMIFS('Prospect Plan'!$G$5:$G$104,'Prospect Plan'!$A$5:$A$104,"<>",'Prospect Plan'!$D$5:$D$104,$A18)) | H18: =IF($A18="","",SUMIFS('Prospect Plan'!$I$5:$I$104,'Prospect Plan'!$A$5:$A$104,"<>",'Prospect Plan'!$D$5:$D$104,$A18)) | I18: =IF($A18="","",IFERROR($H18/$D18,"")) | J18: =IF($A18="","",IFERROR($F18/$E18,"")) | K18: =IF($A18="","",COUNTIFS('Prospect Plan'!$A$5:$A$104,"<>",'Prospect Plan'!$D$5:$D$104,$A18,'Prospect Plan'!$L$5:$L$104,"Check*")+COUNTIFS('Prospect Plan'!$A$5:$A$104,"<>",'Prospect Plan'!$D$5:$D$104,$A18,'Prospect Plan'!$L$5:$L$104,"Next action needed"))
A19: =IF(Assumptions!$A$21="","",Assumptions!$A$21) | B19: =IF($A19="","",IFERROR(VLOOKUP($A19,Assumptions!$A$11:$E$110,2,FALSE),"")) | C19: =IF($A19="","",IFERROR(VLOOKUP($A19,Assumptions!$A$11:$E$110,5,FALSE),"")) | D19: =IF($A19="","",IFERROR(VLOOKUP($A19,Assumptions!$A$11:$E$110,3,FALSE),"")) | E19: =IF($A19="","",IFERROR(VLOOKUP($A19,Assumptions!$A$11:$E$110,4,FALSE),"")) | F19: =IF($A19="","",COUNTIFS('Prospect Plan'!$A$5:$A$104,"<>",'Prospect Plan'!$D$5:$D$104,$A19)) | G19: =IF($A19="","",SUMIFS('Prospect Plan'!$G$5:$G$104,'Prospect Plan'!$A$5:$A$104,"<>",'Prospect Plan'!$D$5:$D$104,$A19)) | H19: =IF($A19="","",SUMIFS('Prospect Plan'!$I$5:$I$104,'Prospect Plan'!$A$5:$A$104,"<>",'Prospect Plan'!$D$5:$D$104,$A19)) | I19: =IF($A19="","",IFERROR($H19/$D19,"")) | J19: =IF($A19="","",IFERROR($F19/$E19,"")) | K19: =IF($A19="","",COUNTIFS('Prospect Plan'!$A$5:$A$104,"<>",'Prospect Plan'!$D$5:$D$104,$A19,'Prospect Plan'!$L$5:$L$104,"Check*")+COUNTIFS('Prospect Plan'!$A$5:$A$104,"<>",'Prospect Plan'!$D$5:$D$104,$A19,'Prospect Plan'!$L$5:$L$104,"Next action needed"))
A20: =IF(Assumptions!$A$22="","",Assumptions!$A$22) | B20: =IF($A20="","",IFERROR(VLOOKUP($A20,Assumptions!$A$11:$E$110,2,FALSE),"")) | C20: =IF($A20="","",IFERROR(VLOOKUP($A20,Assumptions!$A$11:$E$110,5,FALSE),"")) | D20: =IF($A20="","",IFERROR(VLOOKUP($A20,Assumptions!$A$11:$E$110,3,FALSE),"")) | E20: =IF($A20="","",IFERROR(VLOOKUP($A20,Assumptions!$A$11:$E$110,4,FALSE),"")) | F20: =IF($A20="","",COUNTIFS('Prospect Plan'!$A$5:$A$104,"<>",'Prospect Plan'!$D$5:$D$104,$A20)) | G20: =IF($A20="","",SUMIFS('Prospect Plan'!$G$5:$G$104,'Prospect Plan'!$A$5:$A$104,"<>",'Prospect Plan'!$D$5:$D$104,$A20)) | H20: =IF($A20="","",SUMIFS('Prospect Plan'!$I$5:$I$104,'Prospect Plan'!$A$5:$A$104,"<>",'Prospect Plan'!$D$5:$D$104,$A20)) | I20: =IF($A20="","",IFERROR($H20/$D20,"")) | J20: =IF($A20="","",IFERROR($F20/$E20,"")) | K20: =IF($A20="","",COUNTIFS('Prospect Plan'!$A$5:$A$104,"<>",'Prospect Plan'!$D$5:$D$104,$A20,'Prospect Plan'!$L$5:$L$104,"Check*")+COUNTIFS('Prospect Plan'!$A$5:$A$104,"<>",'Prospect Plan'!$D$5:$D$104,$A20,'Prospect Plan'!$L$5:$L$104,"Next action needed"))
A21: =IF(Assumptions!$A$23="","",Assumptions!$A$23) | B21: =IF($A21="","",IFERROR(VLOOKUP($A21,Assumptions!$A$11:$E$110,2,FALSE),"")) | C21: =IF($A21="","",IFERROR(VLOOKUP($A21,Assumptions!$A$11:$E$110,5,FALSE),"")) | D21: =IF($A21="","",IFERROR(VLOOKUP($A21,Assumptions!$A$11:$E$110,3,FALSE),"")) | E21: =IF($A21="","",IFERROR(VLOOKUP($A21,Assumptions!$A$11:$E$110,4,FALSE),"")) | F21: =IF($A21="","",COUNTIFS('Prospect Plan'!$A$5:$A$104,"<>",'Prospect Plan'!$D$5:$D$104,$A21)) | G21: =IF($A21="","",SUMIFS('Prospect Plan'!$G$5:$G$104,'Prospect Plan'!$A$5:$A$104,"<>",'Prospect Plan'!$D$5:$D$104,$A21)) | H21: =IF($A21="","",SUMIFS('Prospect Plan'!$I$5:$I$104,'Prospect Plan'!$A$5:$A$104,"<>",'Prospect Plan'!$D$5:$D$104,$A21)) | I21: =IF($A21="","",IFERROR($H21/$D21,"")) | J21: =IF($A21="","",IFERROR($F21/$E21,"")) | K21: =IF($A21="","",COUNTIFS('Prospect Plan'!$A$5:$A$104,"<>",'Prospect Plan'!$D$5:$D$104,$A21,'Prospect Plan'!$L$5:$L$104,"Check*")+COUNTIFS('Prospect Plan'!$A$5:$A$104,"<>",'Prospect Plan'!$D$5:$D$104,$A21,'Prospect Plan'!$L$5:$L$104,"Next action needed"))
A22: =IF(Assumptions!$A$24="","",Assumptions!$A$24) | B22: =IF($A22="","",IFERROR(VLOOKUP($A22,Assumptions!$A$11:$E$110,2,FALSE),"")) | C22: =IF($A22="","",IFERROR(VLOOKUP($A22,Assumptions!$A$11:$E$110,5,FALSE),"")) | D22: =IF($A22="","",IFERROR(VLOOKUP($A22,Assumptions!$A$11:$E$110,3,FALSE),"")) | E22: =IF($A22="","",IFERROR(VLOOKUP($A22,Assumptions!$A$11:$E$110,4,FALSE),"")) | F22: =IF($A22="","",COUNTIFS('Prospect Plan'!$A$5:$A$104,"<>",'Prospect Plan'!$D$5:$D$104,$A22)) | G22: =IF($A22="","",SUMIFS('Prospect Plan'!$G$5:$G$104,'Prospect Plan'!$A$5:$A$104,"<>",'Prospect Plan'!$D$5:$D$104,$A22)) | H22: =IF($A22="","",SUMIFS('Prospect Plan'!$I$5:$I$104,'Prospect Plan'!$A$5:$A$104,"<>",'Prospect Plan'!$D$5:$D$104,$A22)) | I22: =IF($A22="","",IFERROR($H22/$D22,"")) | J22: =IF($A22="","",IFERROR($F22/$E22,"")) | K22: =IF($A22="","",COUNTIFS('Prospect Plan'!$A$5:$A$104,"<>",'Prospect Plan'!$D$5:$D$104,$A22,'Prospect Plan'!$L$5:$L$104,"Check*")+COUNTIFS('Prospect Plan'!$A$5:$A$104,"<>",'Prospect Plan'!$D$5:$D$104,$A22,'Prospect Plan'!$L$5:$L$104,"Next action needed"))
A23: =IF(Assumptions!$A$25="","",Assumptions!$A$25) | B23: =IF($A23="","",IFERROR(VLOOKUP($A23,Assumptions!$A$11:$E$110,2,FALSE),"")) | C23: =IF($A23="","",IFERROR(VLOOKUP($A23,Assumptions!$A$11:$E$110,5,FALSE),"")) | D23: =IF($A23="","",IFERROR(VLOOKUP($A23,Assumptions!$A$11:$E$110,3,FALSE),"")) | E23: =IF($A23="","",IFERROR(VLOOKUP($A23,Assumptions!$A$11:$E$110,4,FALSE),"")) | F23: =IF($A23="","",COUNTIFS('Prospect Plan'!$A$5:$A$104,"<>",'Prospect Plan'!$D$5:$D$104,$A23)) | G23: =IF($A23="","",SUMIFS('Prospect Plan'!$G$5:$G$104,'Prospect Plan'!$A$5:$A$104,"<>",'Prospect Plan'!$D$5:$D$104,$A23)) | H23: =IF($A23="","",SUMIFS('Prospect Plan'!$I$5:$I$104,'Prospect Plan'!$A$5:$A$104,"<>",'Prospect Plan'!$D$5:$D$104,$A23)) | I23: =IF($A23="","",IFERROR($H23/$D23,"")) | J23: =IF($A23="","",IFERROR($F23/$E23,"")) | K23: =IF($A23="","",COUNTIFS('Prospect Plan'!$A$5:$A$104,"<>",'Prospect Plan'!$D$5:$D$104,$A23,'Prospect Plan'!$L$5:$L$104,"Check*")+COUNTIFS('Prospect Plan'!$A$5:$A$104,"<>",'Prospect Plan'!$D$5:$D$104,$A23,'Prospect Plan'!$L$5:$L$104,"Next action needed"))
A24: =IF(Assumptions!$A$26="","",Assumptions!$A$26) | B24: =IF($A24="","",IFERROR(VLOOKUP($A24,Assumptions!$A$11:$E$110,2,FALSE),"")) | C24: =IF($A24="","",IFERROR(VLOOKUP($A24,Assumptions!$A$11:$E$110,5,FALSE),"")) | D24: =IF($A24="","",IFERROR(VLOOKUP($A24,Assumptions!$A$11:$E$110,3,FALSE),"")) | E24: =IF($A24="","",IFERROR(VLOOKUP($A24,Assumptions!$A$11:$E$110,4,FALSE),"")) | F24: =IF($A24="","",COUNTIFS('Prospect Plan'!$A$5:$A$104,"<>",'Prospect Plan'!$D$5:$D$104,$A24)) | G24: =IF($A24="","",SUMIFS('Prospect Plan'!$G$5:$G$104,'Prospect Plan'!$A$5:$A$104,"<>",'Prospect Plan'!$D$5:$D$104,$A24)) | H24: =IF($A24="","",SUMIFS('Prospect Plan'!$I$5:$I$104,'Prospect Plan'!$A$5:$A$104,"<>",'Prospect Plan'!$D$5:$D$104,$A24)) | I24: =IF($A24="","",IFERROR($H24/$D24,"")) | J24: =IF($A24="","",IFERROR($F24/$E24,"")) | K24: =IF($A24="","",COUNTIFS('Prospect Plan'!$A$5:$A$104,"<>",'Prospect Plan'!$D$5:$D$104,$A24,'Prospect Plan'!$L$5:$L$104,"Check*")+COUNTIFS('Prospect Plan'!$A$5:$A$104,"<>",'Prospect Plan'!$D$5:$D$104,$A24,'Prospect Plan'!$L$5:$L$104,"Next action needed"))
A25: =IF(Assumptions!$A$27="","",Assumptions!$A$27) | B25: =IF($A25="","",IFERROR(VLOOKUP($A25,Assumptions!$A$11:$E$110,2,FALSE),"")) | C25: =IF($A25="","",IFERROR(VLOOKUP($A25,Assumptions!$A$11:$E$110,5,FALSE),"")) | D25: =IF($A25="","",IFERROR(VLOOKUP($A25,Assumptions!$A$11:$E$110,3,FALSE),"")) | E25: =IF($A25="","",IFERROR(VLOOKUP($A25,Assumptions!$A$11:$E$110,4,FALSE),"")) | F25: =IF($A25="","",COUNTIFS('Prospect Plan'!$A$5:$A$104,"<>",'Prospect Plan'!$D$5:$D$104,$A25)) | G25: =IF($A25="","",SUMIFS('Prospect Plan'!$G$5:$G$104,'Prospect Plan'!$A$5:$A$104,"<>",'Prospect Plan'!$D$5:$D$104,$A25)) | H25: =IF($A25="","",SUMIFS('Prospect Plan'!$I$5:$I$104,'Prospect Plan'!$A$5:$A$104,"<>",'Prospect Plan'!$D$5:$D$104,$A25)) | I25: =IF($A25="","",IFERROR($H25/$D25,"")) | J25: =IF($A25="","",IFERROR($F25/$E25,"")) | K25: =IF($A25="","",COUNTIFS('Prospect Plan'!$A$5:$A$104,"<>",'Prospect Plan'!$D$5:$D$104,$A25,'Prospect Plan'!$L$5:$L$104,"Check*")+COUNTIFS('Prospect Plan'!$A$5:$A$104,"<>",'Prospect Plan'!$D$5:$D$104,$A25,'Prospect Plan'!$L$5:$L$104,"Next action needed"))
A26: =IF(Assumptions!$A$28="","",Assumptions!$A$28) | B26: =IF($A26="","",IFERROR(VLOOKUP($A26,Assumptions!$A$11:$E$110,2,FALSE),"")) | C26: =IF($A26="","",IFERROR(VLOOKUP($A26,Assumptions!$A$11:$E$110,5,FALSE),"")) | D26: =IF($A26="","",IFERROR(VLOOKUP($A26,Assumptions!$A$11:$E$110,3,FALSE),"")) | E26: =IF($A26="","",IFERROR(VLOOKUP($A26,Assumptions!$A$11:$E$110,4,FALSE),"")) | F26: =IF($A26="","",COUNTIFS('Prospect Plan'!$A$5:$A$104,"<>",'Prospect Plan'!$D$5:$D$104,$A26)) | G26: =IF($A26="","",SUMIFS('Prospect Plan'!$G$5:$G$104,'Prospect Plan'!$A$5:$A$104,"<>",'Prospect Plan'!$D$5:$D$104,$A26)) | H26: =IF($A26="","",SUMIFS('Prospect Plan'!$I$5:$I$104,'Prospect Plan'!$A$5:$A$104,"<>",'Prospect Plan'!$D$5:$D$104,$A26)) | I26: =IF($A26="","",IFERROR($H26/$D26,"")) | J26: =IF($A26="","",IFERROR($F26/$E26,"")) | K26: =IF($A26="","",COUNTIFS('Prospect Plan'!$A$5:$A$104,"<>",'Prospect Plan'!$D$5:$D$104,$A26,'Prospect Plan'!$L$5:$L$104,"Check*")+COUNTIFS('Prospect Plan'!$A$5:$A$104,"<>",'Prospect Plan'!$D$5:$D$104,$A26,'Prospect Plan'!$L$5:$L$104,"Next action needed"))
A27: =IF(Assumptions!$A$29="","",Assumptions!$A$29) | B27: =IF($A27="","",IFERROR(VLOOKUP($A27,Assumptions!$A$11:$E$110,2,FALSE),"")) | C27: =IF($A27="","",IFERROR(VLOOKUP($A27,Assumptions!$A$11:$E$110,5,FALSE),"")) | D27: =IF($A27="","",IFERROR(VLOOKUP($A27,Assumptions!$A$11:$E$110,3,FALSE),"")) | E27: =IF($A27="","",IFERROR(VLOOKUP($A27,Assumptions!$A$11:$E$110,4,FALSE),"")) | F27: =IF($A27="","",COUNTIFS('Prospect Plan'!$A$5:$A$104,"<>",'Prospect Plan'!$D$5:$D$104,$A27)) | G27: =IF($A27="","",SUMIFS('Prospect Plan'!$G$5:$G$104,'Prospect Plan'!$A$5:$A$104,"<>",'Prospect Plan'!$D$5:$D$104,$A27)) | H27: =IF($A27="","",SUMIFS('Prospect Plan'!$I$5:$I$104,'Prospect Plan'!$A$5:$A$104,"<>",'Prospect Plan'!$D$5:$D$104,$A27)) | I27: =IF($A27="","",IFERROR($H27/$D27,"")) | J27: =IF($A27="","",IFERROR($F27/$E27,"")) | K27: =IF($A27="","",COUNTIFS('Prospect Plan'!$A$5:$A$104,"<>",'Prospect Plan'!$D$5:$D$104,$A27,'Prospect Plan'!$L$5:$L$104,"Check*")+COUNTIFS('Prospect Plan'!$A$5:$A$104,"<>",'Prospect Plan'!$D$5:$D$104,$A27,'Prospect Plan'!$L$5:$L$104,"Next action needed"))
A28: =IF(Assumptions!$A$30="","",Assumptions!$A$30) | B28: =IF($A28="","",IFERROR(VLOOKUP($A28,Assumptions!$A$11:$E$110,2,FALSE),"")) | C28: =IF($A28="","",IFERROR(VLOOKUP($A28,Assumptions!$A$11:$E$110,5,FALSE),"")) | D28: =IF($A28="","",IFERROR(VLOOKUP($A28,Assumptions!$A$11:$E$110,3,FALSE),"")) | E28: =IF($A28="","",IFERROR(VLOOKUP($A28,Assumptions!$A$11:$E$110,4,FALSE),"")) | F28: =IF($A28="","",COUNTIFS('Prospect Plan'!$A$5:$A$104,"<>",'Prospect Plan'!$D$5:$D$104,$A28)) | G28: =IF($A28="","",SUMIFS('Prospect Plan'!$G$5:$G$104,'Prospect Plan'!$A$5:$A$104,"<>",'Prospect Plan'!$D$5:$D$104,$A28)) | H28: =IF($A28="","",SUMIFS('Prospect Plan'!$I$5:$I$104,'Prospect Plan'!$A$5:$A$104,"<>",'Prospect Plan'!$D$5:$D$104,$A28)) | I28: =IF($A28="","",IFERROR($H28/$D28,"")) | J28: =IF($A28="","",IFERROR($F28/$E28,"")) | K28: =IF($A28="","",COUNTIFS('Prospect Plan'!$A$5:$A$104,"<>",'Prospect Plan'!$D$5:$D$104,$A28,'Prospect Plan'!$L$5:$L$104,"Check*")+COUNTIFS('Prospect Plan'!$A$5:$A$104,"<>",'Prospect Plan'!$D$5:$D$104,$A28,'Prospect Plan'!$L$5:$L$104,"Next action needed"))
A29: =IF(Assumptions!$A$31="","",Assumptions!$A$31) | B29: =IF($A29="","",IFERROR(VLOOKUP($A29,Assumptions!$A$11:$E$110,2,FALSE),"")) | C29: =IF($A29="","",IFERROR(VLOOKUP($A29,Assumptions!$A$11:$E$110,5,FALSE),"")) | D29: =IF($A29="","",IFERROR(VLOOKUP($A29,Assumptions!$A$11:$E$110,3,FALSE),"")) | E29: =IF($A29="","",IFERROR(VLOOKUP($A29,Assumptions!$A$11:$E$110,4,FALSE),"")) | F29: =IF($A29="","",COUNTIFS('Prospect Plan'!$A$5:$A$104,"<>",'Prospect Plan'!$D$5:$D$104,$A29)) | G29: =IF($A29="","",SUMIFS('Prospect Plan'!$G$5:$G$104,'Prospect Plan'!$A$5:$A$104,"<>",'Prospect Plan'!$D$5:$D$104,$A29)) | H29: =IF($A29="","",SUMIFS('Prospect Plan'!$I$5:$I$104,'Prospect Plan'!$A$5:$A$104,"<>",'Prospect Plan'!$D$5:$D$104,$A29)) | I29: =IF($A29="","",IFERROR($H29/$D29,"")) | J29: =IF($A29="","",IFERROR($F29/$E29,"")) | K29: =IF($A29="","",COUNTIFS('Prospect Plan'!$A$5:$A$104,"<>",'Prospect Plan'!$D$5:$D$104,$A29,'Prospect Plan'!$L$5:$L$104,"Check*")+COUNTIFS('Prospect Plan'!$A$5:$A$104,"<>",'Prospect Plan'!$D$5:$D$104,$A29,'Prospect Plan'!$L$5:$L$104,"Next action needed"))
A30: =IF(Assumptions!$A$32="","",Assumptions!$A$32) | B30: =IF($A30="","",IFERROR(VLOOKUP($A30,Assumptions!$A$11:$E$110,2,FALSE),"")) | C30: =IF($A30="","",IFERROR(VLOOKUP($A30,Assumptions!$A$11:$E$110,5,FALSE),"")) | D30: =IF($A30="","",IFERROR(VLOOKUP($A30,Assumptions!$A$11:$E$110,3,FALSE),"")) | E30: =IF($A30="","",IFERROR(VLOOKUP($A30,Assumptions!$A$11:$E$110,4,FALSE),"")) | F30: =IF($A30="","",COUNTIFS('Prospect Plan'!$A$5:$A$104,"<>",'Prospect Plan'!$D$5:$D$104,$A30)) | G30: =IF($A30="","",SUMIFS('Prospect Plan'!$G$5:$G$104,'Prospect Plan'!$A$5:$A$104,"<>",'Prospect Plan'!$D$5:$D$104,$A30)) | H30: =IF($A30="","",SUMIFS('Prospect Plan'!$I$5:$I$104,'Prospect Plan'!$A$5:$A$104,"<>",'Prospect Plan'!$D$5:$D$104,$A30)) | I30: =IF($A30="","",IFERROR($H30/$D30,"")) | J30: =IF($A30="","",IFERROR($F30/$E30,"")) | K30: =IF($A30="","",COUNTIFS('Prospect Plan'!$A$5:$A$104,"<>",'Prospect Plan'!$D$5:$D$104,$A30,'Prospect Plan'!$L$5:$L$104,"Check*")+COUNTIFS('Prospect Plan'!$A$5:$A$104,"<>",'Prospect Plan'!$D$5:$D$104,$A30,'Prospect Plan'!$L$5:$L$104,"Next action needed"))
A31: =IF(Assumptions!$A$33="","",Assumptions!$A$33) | B31: =IF($A31="","",IFERROR(VLOOKUP($A31,Assumptions!$A$11:$E$110,2,FALSE),"")) | C31: =IF($A31="","",IFERROR(VLOOKUP($A31,Assumptions!$A$11:$E$110,5,FALSE),"")) | D31: =IF($A31="","",IFERROR(VLOOKUP($A31,Assumptions!$A$11:$E$110,3,FALSE),"")) | E31: =IF($A31="","",IFERROR(VLOOKUP($A31,Assumptions!$A$11:$E$110,4,FALSE),"")) | F31: =IF($A31="","",COUNTIFS('Prospect Plan'!$A$5:$A$104,"<>",'Prospect Plan'!$D$5:$D$104,$A31)) | G31: =IF($A31="","",SUMIFS('Prospect Plan'!$G$5:$G$104,'Prospect Plan'!$A$5:$A$104,"<>",'Prospect Plan'!$D$5:$D$104,$A31)) | H31: =IF($A31="","",SUMIFS('Prospect Plan'!$I$5:$I$104,'Prospect Plan'!$A$5:$A$104,"<>",'Prospect Plan'!$D$5:$D$104,$A31)) | I31: =IF($A31="","",IFERROR($H31/$D31,"")) | J31: =IF($A31="","",IFERROR($F31/$E31,"")) | K31: =IF($A31="","",COUNTIFS('Prospect Plan'!$A$5:$A$104,"<>",'Prospect Plan'!$D$5:$D$104,$A31,'Prospect Plan'!$L$5:$L$104,"Check*")+COUNTIFS('Prospect Plan'!$A$5:$A$104,"<>",'Prospect Plan'!$D$5:$D$104,$A31,'Prospect Plan'!$L$5:$L$104,"Next action needed"))
A32: =IF(Assumptions!$A$34="","",Assumptions!$A$34) | B32: =IF($A32="","",IFERROR(VLOOKUP($A32,Assumptions!$A$11:$E$110,2,FALSE),"")) | C32: =IF($A32="","",IFERROR(VLOOKUP($A32,Assumptions!$A$11:$E$110,5,FALSE),"")) | D32: =IF($A32="","",IFERROR(VLOOKUP($A32,Assumptions!$A$11:$E$110,3,FALSE),"")) | E32: =IF($A32="","",IFERROR(VLOOKUP($A32,Assumptions!$A$11:$E$110,4,FALSE),"")) | F32: =IF($A32="","",COUNTIFS('Prospect Plan'!$A$5:$A$104,"<>",'Prospect Plan'!$D$5:$D$104,$A32)) | G32: =IF($A32="","",SUMIFS('Prospect Plan'!$G$5:$G$104,'Prospect Plan'!$A$5:$A$104,"<>",'Prospect Plan'!$D$5:$D$104,$A32)) | H32: =IF($A32="","",SUMIFS('Prospect Plan'!$I$5:$I$104,'Prospect Plan'!$A$5:$A$104,"<>",'Prospect Plan'!$D$5:$D$104,$A32)) | I32: =IF($A32="","",IFERROR($H32/$D32,"")) | J32: =IF($A32="","",IFERROR($F32/$E32,"")) | K32: =IF($A32="","",COUNTIFS('Prospect Plan'!$A$5:$A$104,"<>",'Prospect Plan'!$D$5:$D$104,$A32,'Prospect Plan'!$L$5:$L$104,"Check*")+COUNTIFS('Prospect Plan'!$A$5:$A$104,"<>",'Prospect Plan'!$D$5:$D$104,$A32,'Prospect Plan'!$L$5:$L$104,"Next action needed"))
A33: =IF(Assumptions!$A$35="","",Assumptions!$A$35) | B33: =IF($A33="","",IFERROR(VLOOKUP($A33,Assumptions!$A$11:$E$110,2,FALSE),"")) | C33: =IF($A33="","",IFERROR(VLOOKUP($A33,Assumptions!$A$11:$E$110,5,FALSE),"")) | D33: =IF($A33="","",IFERROR(VLOOKUP($A33,Assumptions!$A$11:$E$110,3,FALSE),"")) | E33: =IF($A33="","",IFERROR(VLOOKUP($A33,Assumptions!$A$11:$E$110,4,FALSE),"")) | F33: =IF($A33="","",COUNTIFS('Prospect Plan'!$A$5:$A$104,"<>",'Prospect Plan'!$D$5:$D$104,$A33)) | G33: =IF($A33="","",SUMIFS('Prospect Plan'!$G$5:$G$104,'Prospect Plan'!$A$5:$A$104,"<>",'Prospect Plan'!$D$5:$D$104,$A33)) | H33: =IF($A33="","",SUMIFS('Prospect Plan'!$I$5:$I$104,'Prospect Plan'!$A$5:$A$104,"<>",'Prospect Plan'!$D$5:$D$104,$A33)) | I33: =IF($A33="","",IFERROR($H33/$D33,"")) | J33: =IF($A33="","",IFERROR($F33/$E33,"")) | K33: =IF($A33="","",COUNTIFS('Prospect Plan'!$A$5:$A$104,"<>",'Prospect Plan'!$D$5:$D$104,$A33,'Prospect Plan'!$L$5:$L$104,"Check*")+COUNTIFS('Prospect Plan'!$A$5:$A$104,"<>",'Prospect Plan'!$D$5:$D$104,$A33,'Prospect Plan'!$L$5:$L$104,"Next action needed"))
A34: =IF(Assumptions!$A$36="","",Assumptions!$A$36) | B34: =IF($A34="","",IFERROR(VLOOKUP($A34,Assumptions!$A$11:$E$110,2,FALSE),"")) | C34: =IF($A34="","",IFERROR(VLOOKUP($A34,Assumptions!$A$11:$E$110,5,FALSE),"")) | D34: =IF($A34="","",IFERROR(VLOOKUP($A34,Assumptions!$A$11:$E$110,3,FALSE),"")) | E34: =IF($A34="","",IFERROR(VLOOKUP($A34,Assumptions!$A$11:$E$110,4,FALSE),"")) | F34: =IF($A34="","",COUNTIFS('Prospect Plan'!$A$5:$A$104,"<>",'Prospect Plan'!$D$5:$D$104,$A34)) | G34: =IF($A34="","",SUMIFS('Prospect Plan'!$G$5:$G$104,'Prospect Plan'!$A$5:$A$104,"<>",'Prospect Plan'!$D$5:$D$104,$A34)) | H34: =IF($A34="","",SUMIFS('Prospect Plan'!$I$5:$I$104,'Prospect Plan'!$A$5:$A$104,"<>",'Prospect Plan'!$D$5:$D$104,$A34)) | I34: =IF($A34="","",IFERROR($H34/$D34,"")) | J34: =IF($A34="","",IFERROR($F34/$E34,"")) | K34: =IF($A34="","",COUNTIFS('Prospect Plan'!$A$5:$A$104,"<>",'Prospect Plan'!$D$5:$D$104,$A34,'Prospect Plan'!$L$5:$L$104,"Check*")+COUNTIFS('Prospect Plan'!$A$5:$A$104,"<>",'Prospect Plan'!$D$5:$D$104,$A34,'Prospect Plan'!$L$5:$L$104,"Next action needed"))
A35: =IF(Assumptions!$A$37="","",Assumptions!$A$37) | B35: =IF($A35="","",IFERROR(VLOOKUP($A35,Assumptions!$A$11:$E$110,2,FALSE),"")) | C35: =IF($A35="","",IFERROR(VLOOKUP($A35,Assumptions!$A$11:$E$110,5,FALSE),"")) | D35: =IF($A35="","",IFERROR(VLOOKUP($A35,Assumptions!$A$11:$E$110,3,FALSE),"")) | E35: =IF($A35="","",IFERROR(VLOOKUP($A35,Assumptions!$A$11:$E$110,4,FALSE),"")) | F35: =IF($A35="","",COUNTIFS('Prospect Plan'!$A$5:$A$104,"<>",'Prospect Plan'!$D$5:$D$104,$A35)) | G35: =IF($A35="","",SUMIFS('Prospect Plan'!$G$5:$G$104,'Prospect Plan'!$A$5:$A$104,"<>",'Prospect Plan'!$D$5:$D$104,$A35)) | H35: =IF($A35="","",SUMIFS('Prospect Plan'!$I$5:$I$104,'Prospect Plan'!$A$5:$A$104,"<>",'Prospect Plan'!$D$5:$D$104,$A35)) | I35: =IF($A35="","",IFERROR($H35/$D35,"")) | J35: =IF($A35="","",IFERROR($F35/$E35,"")) | K35: =IF($A35="","",COUNTIFS('Prospect Plan'!$A$5:$A$104,"<>",'Prospect Plan'!$D$5:$D$104,$A35,'Prospect Plan'!$L$5:$L$104,"Check*")+COUNTIFS('Prospect Plan'!$A$5:$A$104,"<>",'Prospect Plan'!$D$5:$D$104,$A35,'Prospect Plan'!$L$5:$L$104,"Next action needed"))
A36: =IF(Assumptions!$A$38="","",Assumptions!$A$38) | B36: =IF($A36="","",IFERROR(VLOOKUP($A36,Assumptions!$A$11:$E$110,2,FALSE),"")) | C36: =IF($A36="","",IFERROR(VLOOKUP($A36,Assumptions!$A$11:$E$110,5,FALSE),"")) | D36: =IF($A36="","",IFERROR(VLOOKUP($A36,Assumptions!$A$11:$E$110,3,FALSE),"")) | E36: =IF($A36="","",IFERROR(VLOOKUP($A36,Assumptions!$A$11:$E$110,4,FALSE),"")) | F36: =IF($A36="","",COUNTIFS('Prospect Plan'!$A$5:$A$104,"<>",'Prospect Plan'!$D$5:$D$104,$A36)) | G36: =IF($A36="","",SUMIFS('Prospect Plan'!$G$5:$G$104,'Prospect Plan'!$A$5:$A$104,"<>",'Prospect Plan'!$D$5:$D$104,$A36)) | H36: =IF($A36="","",SUMIFS('Prospect Plan'!$I$5:$I$104,'Prospect Plan'!$A$5:$A$104,"<>",'Prospect Plan'!$D$5:$D$104,$A36)) | I36: =IF($A36="","",IFERROR($H36/$D36,"")) | J36: =IF($A36="","",IFERROR($F36/$E36,"")) | K36: =IF($A36="","",COUNTIFS('Prospect Plan'!$A$5:$A$104,"<>",'Prospect Plan'!$D$5:$D$104,$A36,'Prospect Plan'!$L$5:$L$104,"Check*")+COUNTIFS('Prospect Plan'!$A$5:$A$104,"<>",'Prospect Plan'!$D$5:$D$104,$A36,'Prospect Plan'!$L$5:$L$104,"Next action needed"))
A37: =IF(Assumptions!$A$39="","",Assumptions!$A$39) | B37: =IF($A37="","",IFERROR(VLOOKUP($A37,Assumptions!$A$11:$E$110,2,FALSE),"")) | C37: =IF($A37="","",IFERROR(VLOOKUP($A37,Assumptions!$A$11:$E$110,5,FALSE),"")) | D37: =IF($A37="","",IFERROR(VLOOKUP($A37,Assumptions!$A$11:$E$110,3,FALSE),"")) | E37: =IF($A37="","",IFERROR(VLOOKUP($A37,Assumptions!$A$11:$E$110,4,FALSE),"")) | F37: =IF($A37="","",COUNTIFS('Prospect Plan'!$A$5:$A$104,"<>",'Prospect Plan'!$D$5:$D$104,$A37)) | G37: =IF($A37="","",SUMIFS('Prospect Plan'!$G$5:$G$104,'Prospect Plan'!$A$5:$A$104,"<>",'Prospect Plan'!$D$5:$D$104,$A37)) | H37: =IF($A37="","",SUMIFS('Prospect Plan'!$I$5:$I$104,'Prospect Plan'!$A$5:$A$104,"<>",'Prospect Plan'!$D$5:$D$104,$A37)) | I37: =IF($A37="","",IFERROR($H37/$D37,"")) | J37: =IF($A37="","",IFERROR($F37/$E37,"")) | K37: =IF($A37="","",COUNTIFS('Prospect Plan'!$A$5:$A$104,"<>",'Prospect Plan'!$D$5:$D$104,$A37,'Prospect Plan'!$L$5:$L$104,"Check*")+COUNTIFS('Prospect Plan'!$A$5:$A$104,"<>",'Prospect Plan'!$D$5:$D$104,$A37,'Prospect Plan'!$L$5:$L$104,"Next action needed"))
A38: =IF(Assumptions!$A$40="","",Assumptions!$A$40) | B38: =IF($A38="","",IFERROR(VLOOKUP($A38,Assumptions!$A$11:$E$110,2,FALSE),"")) | C38: =IF($A38="","",IFERROR(VLOOKUP($A38,Assumptions!$A$11:$E$110,5,FALSE),"")) | D38: =IF($A38="","",IFERROR(VLOOKUP($A38,Assumptions!$A$11:$E$110,3,FALSE),"")) | E38: =IF($A38="","",IFERROR(VLOOKUP($A38,Assumptions!$A$11:$E$110,4,FALSE),"")) | F38: =IF($A38="","",COUNTIFS('Prospect Plan'!$A$5:$A$104,"<>",'Prospect Plan'!$D$5:$D$104,$A38)) | G38: =IF($A38="","",SUMIFS('Prospect Plan'!$G$5:$G$104,'Prospect Plan'!$A$5:$A$104,"<>",'Prospect Plan'!$D$5:$D$104,$A38)) | H38: =IF($A38="","",SUMIFS('Prospect Plan'!$I$5:$I$104,'Prospect Plan'!$A$5:$A$104,"<>",'Prospect Plan'!$D$5:$D$104,$A38)) | I38: =IF($A38="","",IFERROR($H38/$D38,"")) | J38: =IF($A38="","",IFERROR($F38/$E38,"")) | K38: =IF($A38="","",COUNTIFS('Prospect Plan'!$A$5:$A$104,"<>",'Prospect Plan'!$D$5:$D$104,$A38,'Prospect Plan'!$L$5:$L$104,"Check*")+COUNTIFS('Prospect Plan'!$A$5:$A$104,"<>",'Prospect Plan'!$D$5:$D$104,$A38,'Prospect Plan'!$L$5:$L$104,"Next action needed"))
A39: =IF(Assumptions!$A$41="","",Assumptions!$A$41) | B39: =IF($A39="","",IFERROR(VLOOKUP($A39,Assumptions!$A$11:$E$110,2,FALSE),"")) | C39: =IF($A39="","",IFERROR(VLOOKUP($A39,Assumptions!$A$11:$E$110,5,FALSE),"")) | D39: =IF($A39="","",IFERROR(VLOOKUP($A39,Assumptions!$A$11:$E$110,3,FALSE),"")) | E39: =IF($A39="","",IFERROR(VLOOKUP($A39,Assumptions!$A$11:$E$110,4,FALSE),"")) | F39: =IF($A39="","",COUNTIFS('Prospect Plan'!$A$5:$A$104,"<>",'Prospect Plan'!$D$5:$D$104,$A39)) | G39: =IF($A39="","",SUMIFS('Prospect Plan'!$G$5:$G$104,'Prospect Plan'!$A$5:$A$104,"<>",'Prospect Plan'!$D$5:$D$104,$A39)) | H39: =IF($A39="","",SUMIFS('Prospect Plan'!$I$5:$I$104,'Prospect Plan'!$A$5:$A$104,"<>",'Prospect Plan'!$D$5:$D$104,$A39)) | I39: =IF($A39="","",IFERROR($H39/$D39,"")) | J39: =IF($A39="","",IFERROR($F39/$E39,"")) | K39: =IF($A39="","",COUNTIFS('Prospect Plan'!$A$5:$A$104,"<>",'Prospect Plan'!$D$5:$D$104,$A39,'Prospect Plan'!$L$5:$L$104,"Check*")+COUNTIFS('Prospect Plan'!$A$5:$A$104,"<>",'Prospect Plan'!$D$5:$D$104,$A39,'Prospect Plan'!$L$5:$L$104,"Next action needed"))
A40: =IF(Assumptions!$A$42="","",Assumptions!$A$42) | B40: =IF($A40="","",IFERROR(VLOOKUP($A40,Assumptions!$A$11:$E$110,2,FALSE),"")) | C40: =IF($A40="","",IFERROR(VLOOKUP($A40,Assumptions!$A$11:$E$110,5,FALSE),"")) | D40: =IF($A40="","",IFERROR(VLOOKUP($A40,Assumptions!$A$11:$E$110,3,FALSE),"")) | E40: =IF($A40="","",IFERROR(VLOOKUP($A40,Assumptions!$A$11:$E$110,4,FALSE),"")) | F40: =IF($A40="","",COUNTIFS('Prospect Plan'!$A$5:$A$104,"<>",'Prospect Plan'!$D$5:$D$104,$A40)) | G40: =IF($A40="","",SUMIFS('Prospect Plan'!$G$5:$G$104,'Prospect Plan'!$A$5:$A$104,"<>",'Prospect Plan'!$D$5:$D$104,$A40)) | H40: =IF($A40="","",SUMIFS('Prospect Plan'!$I$5:$I$104,'Prospect Plan'!$A$5:$A$104,"<>",'Prospect Plan'!$D$5:$D$104,$A40)) | I40: =IF($A40="","",IFERROR($H40/$D40,"")) | J40: =IF($A40="","",IFERROR($F40/$E40,"")) | K40: =IF($A40="","",COUNTIFS('Prospect Plan'!$A$5:$A$104,"<>",'Prospect Plan'!$D$5:$D$104,$A40,'Prospect Plan'!$L$5:$L$104,"Check*")+COUNTIFS('Prospect Plan'!$A$5:$A$104,"<>",'Prospect Plan'!$D$5:$D$104,$A40,'Prospect Plan'!$L$5:$L$104,"Next action needed"))
A41: =IF(Assumptions!$A$43="","",Assumptions!$A$43) | B41: =IF($A41="","",IFERROR(VLOOKUP($A41,Assumptions!$A$11:$E$110,2,FALSE),"")) | C41: =IF($A41="","",IFERROR(VLOOKUP($A41,Assumptions!$A$11:$E$110,5,FALSE),"")) | D41: =IF($A41="","",IFERROR(VLOOKUP($A41,Assumptions!$A$11:$E$110,3,FALSE),"")) | E41: =IF($A41="","",IFERROR(VLOOKUP($A41,Assumptions!$A$11:$E$110,4,FALSE),"")) | F41: =IF($A41="","",COUNTIFS('Prospect Plan'!$A$5:$A$104,"<>",'Prospect Plan'!$D$5:$D$104,$A41)) | G41: =IF($A41="","",SUMIFS('Prospect Plan'!$G$5:$G$104,'Prospect Plan'!$A$5:$A$104,"<>",'Prospect Plan'!$D$5:$D$104,$A41)) | H41: =IF($A41="","",SUMIFS('Prospect Plan'!$I$5:$I$104,'Prospect Plan'!$A$5:$A$104,"<>",'Prospect Plan'!$D$5:$D$104,$A41)) | I41: =IF($A41="","",IFERROR($H41/$D41,"")) | J41: =IF($A41="","",IFERROR($F41/$E41,"")) | K41: =IF($A41="","",COUNTIFS('Prospect Plan'!$A$5:$A$104,"<>",'Prospect Plan'!$D$5:$D$104,$A41,'Prospect Plan'!$L$5:$L$104,"Check*")+COUNTIFS('Prospect Plan'!$A$5:$A$104,"<>",'Prospect Plan'!$D$5:$D$104,$A41,'Prospect Plan'!$L$5:$L$104,"Next action needed"))
...

Sheet Prospect Plan
A1: Insurance Territory Sales Planner — Prospect Plan
A2: Orange cells are editable. Planning alerts require a human check and do not indicate outside activity. | P2: =Assumptions!$B$5
P3: =Assumptions!$B$6
A4: Prospect ID | B4: Prospect or Organization | C4: Created Date | D4: Territory | E4: Owner | F4: Stage | G4: Estimated Annual Premium | H4: Win Probability | I4: Weighted Premium | J4: Target Close Date | K4: Next Action Date | L4: Planning Status | M4: Planning Notes | P4: =Assumptions!$B$7
A5: FP-2026-001 | B5: Fictional Acorn Bakery LLC | C5: 46235 | D5: North Harbor | E5: Fictional Producer 01 | F5: Contacted | G5: 42000 | H5: 0.25 | I5: =IF(OR($A5="",$G5="",$H5=""),"",IFERROR($G5*$H5,"")) | J5: 46305 | K5: 46278 | L5: =IF($A5="","",IF(OR($F5="Won",$F5="Lost"),"Closed",IF($K5="","Next action needed",IF($K5<Assumptions!$B$4,"Check overdue action",IF(AND($J5<>"",$J5<Assumptions!$B$4),"Check target date","Planned"))))) | M5: Introductory call requested. | N5: =IF(Assumptions!$A$11="","",Assumptions!$A$11) | O5: =IF(Assumptions!$B$11="","",Assumptions!$B$11)
A6: FP-2026-002 | B6: Fictional Blue Kite Studio LLC | C6: 46247 | D6: Pine Valley | E6: Fictional Producer 02 | F6: Discovery | G6: 68000 | H6: 0.45 | I6: =IF(OR($A6="",$G6="",$H6=""),"",IFERROR($G6*$H6,"")) | J6: 46335 | K6: 46273 | L6: =IF($A6="","",IF(OR($F6="Won",$F6="Lost"),"Closed",IF($K6="","Next action needed",IF($K6<Assumptions!$B$4,"Check overdue action",IF(AND($J6<>"",$J6<Assumptions!$B$4),"Check target date","Planned"))))) | M6: Human follow-up on timing. | N6: =IF(Assumptions!$A$12="","",Assumptions!$A$12) | O6: =IF(Assumptions!$B$12="","",Assumptions!$B$12)
A7: FP-2026-003 | B7: Fictional Copper Lantern Market LLC | C7: 46210 | D7: Copper Ridge | E7: Fictional Producer 03 | F7: Quoted | G7: 115000 | H7: 0.7 | I7: =IF(OR($A7="",$G7="",$H7=""),"",IFERROR($G7*$H7,"")) | J7: 46270 | K7: 46277 | L7: =IF($A7="","",IF(OR($F7="Won",$F7="Lost"),"Closed",IF($K7="","Next action needed",IF($K7<Assumptions!$B$4,"Check overdue action",IF(AND($J7<>"",$J7<Assumptions!$B$4),"Check target date","Planned"))))) | M7: Awaiting internal budget review. | N7: =IF(Assumptions!$A$13="","",Assumptions!$A$13) | O7: =IF(Assumptions!$B$13="","",Assumptions!$B$13)
A8: FP-2026-004 | B8: Fictional Blue Mesa Toolworks LLC | C8: 46185 | D8: Blue Mesa | E8: Fictional Producer 04 | F8: Won | G8: 98000 | H8: 1 | I8: =IF(OR($A8="",$G8="",$H8=""),"",IFERROR($G8*$H8,"")) | J8: 46255 | L8: =IF($A8="","",IF(OR($F8="Won",$F8="Lost"),"Closed",IF($K8="","Next action needed",IF($K8<Assumptions!$B$4,"Check overdue action",IF(AND($J8<>"",$J8<Assumptions!$B$4),"Check target date","Planned"))))) | M8: Recorded as won for territory planning. | N8: =IF(Assumptions!$A$14="","",Assumptions!$A$14) | O8: =IF(Assumptions!$B$14="","",Assumptions!$B$14)
A9: FP-2026-005 | B9: Fictional Cedar Compass Cafe LLC | C9: 46200 | D9: Cedar Coast | E9: Fictional Producer 05 | F9: Lost | G9: 36000 | H9: 0 | I9: =IF(OR($A9="",$G9="",$H9=""),"",IFERROR($G9*$H9,"")) | J9: 46257 | L9: =IF($A9="","",IF(OR($F9="Won",$F9="Lost"),"Closed",IF($K9="","Next action needed",IF($K9<Assumptions!$B$4,"Check overdue action",IF(AND($J9<>"",$J9<Assumptions!$B$4),"Check target date","Planned"))))) | M9: Recorded as lost for territory planning. | N9: =IF(Assumptions!$A$15="","",Assumptions!$A$15) | O9: =IF(Assumptions!$B$15="","",Assumptions!$B$15)
A10: FP-2026-006 | B10: Fictional Silver Prairie Parts LLC | C10: 45658 | D10: Silver Prairie | E10: Fictional Producer 06 | F10: Deferred | G10: 84000 | H10: 0.15 | I10: =IF(OR($A10="",$G10="",$H10=""),"",IFERROR($G10*$H10,"")) | J10: 46395 | L10: =IF($A10="","",IF(OR($F10="Won",$F10="Lost"),"Closed",IF($K10="","Next action needed",IF($K10<Assumptions!$B$4,"Check overdue action",IF(AND($J10<>"",$J10<Assumptions!$B$4),"Check target date","Planned"))))) | M10: Revisit during the next planning cycle. | N10: =IF(Assumptions!$A$16="","",Assumptions!$A$16) | O10: =IF(Assumptions!$B$16="","",Assumptions!$B$16)
A11: FP-2026-007 | B11: Fictional Nimbus Repair Collective LLC | C11: 46271 | E11: Fictional Producer 10 | F11: New | G11: 27000 | H11: 0.1 | I11: =IF(OR($A11="",$G11="",$H11=""),"",IFERROR($G11*$H11,"")) | J11: 46320 | K11: 46280 | L11: =IF($A11="","",IF(OR($F11="Won",$F11="Lost"),"Closed",IF($K11="","Next action needed",IF($K11<Assumptions!$B$4,"Check overdue action",IF(AND($J11<>"",$J11<Assumptions!$B$4),"Check target date","Planned"))))) | M11: Territory assignment needs a human check. | N11: =IF(Assumptions!$A$17="","",Assumptions!$A$17) | O11: =IF(Assumptions!$B$17="","",Assumptions!$B$17)
A12: FP-2026-008 | B12: Fictional Lake Lantern Books LLC | C12: 46261 | D12: Lake District | E12: Fictional Producer 08 | F12: Discovery | G12: 51000 | H12: 0 | I12: =IF(OR($A12="",$G12="",$H12=""),"",IFERROR($G12*$H12,"")) | J12: 46350 | K12: 46275 | L12: =IF($A12="","",IF(OR($F12="Won",$F12="Lost"),"Closed",IF($K12="","Next action needed",IF($K12<Assumptions!$B$4,"Check overdue action",IF(AND($J12<>"",$J12<Assumptions!$B$4),"Check target date","Planned"))))) | M12: Early-stage allocation review. | N12: =IF(Assumptions!$A$18="","",Assumptions!$A$18) | O12: =IF(Assumptions!$B$18="","",Assumptions!$B$18)
A13: FP-2026-009 | B13: Fictional Red Canyon Ceramics LLC | C13: 46223 | D13: Red Canyon | E13: Fictional Producer 07 | F13: Quoted | G13: 132000 | H13: 0.8 | I13: =IF(OR($A13="",$G13="",$H13=""),"",IFERROR($G13*$H13,"")) | J13: 46287 | K13: 46274 | L13: =IF($A13="","",IF(OR($F13="Won",$F13="Lost"),"Closed",IF($K13="","Next action needed",IF($K13<Assumptions!$B$4,"Check overdue action",IF(AND($J13<>"",$J13<Assumptions!$B$4),"Check target date","Planned"))))) | M13: Quote follow-up is planned. | N13: =IF(Assumptions!$A$19="","",Assumptions!$A$19) | O13: =IF(Assumptions!$B$19="","",Assumptions!$B$19)
A14: FP-2026-010 | B14: Fictional Metro East Fabrication LLC | C14: 46254 | D14: Metro East | E14: Fictional Producer 10 | F14: Contacted | G14: 1000000 | H14: 0.35 | I14: =IF(OR($A14="",$G14="",$H14=""),"",IFERROR($G14*$H14,"")) | J14: 47118 | K14: 46285 | L14: =IF($A14="","",IF(OR($F14="Won",$F14="Lost"),"Closed",IF($K14="","Next action needed",IF($K14<Assumptions!$B$4,"Check overdue action",IF(AND($J14<>"",$J14<Assumptions!$B$4),"Check target date","Planned"))))) | M14: Discovery meeting is scheduled. | N14: =IF(Assumptions!$A$20="","",Assumptions!$A$20) | O14: =IF(Assumptions!$B$20="","",Assumptions!$B$20)
I15: =IF(OR($A15="",$G15="",$H15=""),"",IFERROR($G15*$H15,"")) | L15: =IF($A15="","",IF(OR($F15="Won",$F15="Lost"),"Closed",IF($K15="","Next action needed",IF($K15<Assumptions!$B$4,"Check overdue action",IF(AND($J15<>"",$J15<Assumptions!$B$4),"Check target date","Planned"))))) | N15: =IF(Assumptions!$A$21="","",Assumptions!$A$21) | O15: =IF(Assumptions!$B$21="","",Assumptions!$B$21)
I16: =IF(OR($A16="",$G16="",$H16=""),"",IFERROR($G16*$H16,"")) | L16: =IF($A16="","",IF(OR($F16="Won",$F16="Lost"),"Closed",IF($K16="","Next action needed",IF($K16<Assumptions!$B$4,"Check overdue action",IF(AND($J16<>"",$J16<Assumptions!$B$4),"Check target date","Planned"))))) | N16: =IF(Assumptions!$A$22="","",Assumptions!$A$22) | O16: =IF(Assumptions!$B$22="","",Assumptions!$B$22)
I17: =IF(OR($A17="",$G17="",$H17=""),"",IFERROR($G17*$H17,"")) | L17: =IF($A17="","",IF(OR($F17="Won",$F17="Lost"),"Closed",IF($K17="","Next action needed",IF($K17<Assumptions!$B$4,"Check overdue action",IF(AND($J17<>"",$J17<Assumptions!$B$4),"Check target date","Planned"))))) | N17: =IF(Assumptions!$A$23="","",Assumptions!$A$23) | O17: =IF(Assumptions!$B$23="","",Assumptions!$B$23)
I18: =IF(OR($A18="",$G18="",$H18=""),"",IFERROR($G18*$H18,"")) | L18: =IF($A18="","",IF(OR($F18="Won",$F18="Lost"),"Closed",IF($K18="","Next action needed",IF($K18<Assumptions!$B$4,"Check overdue action",IF(AND($J18<>"",$J18<Assumptions!$B$4),"Check target date","Planned"))))) | N18: =IF(Assumptions!$A$24="","",Assumptions!$A$24) | O18: =IF(Assumptions!$B$24="","",Assumptions!$B$24)
I19: =IF(OR($A19="",$G19="",$H19=""),"",IFERROR($G19*$H19,"")) | L19: =IF($A19="","",IF(OR($F19="Won",$F19="Lost"),"Closed",IF($K19="","Next action needed",IF($K19<Assumptions!$B$4,"Check overdue action",IF(AND($J19<>"",$J19<Assumptions!$B$4),"Check target date","Planned"))))) | N19: =IF(Assumptions!$A$25="","",Assumptions!$A$25) | O19: =IF(Assumptions!$B$25="","",Assumptions!$B$25)
I20: =IF(OR($A20="",$G20="",$H20=""),"",IFERROR($G20*$H20,"")) | L20: =IF($A20="","",IF(OR($F20="Won",$F20="Lost"),"Closed",IF($K20="","Next action needed",IF($K20<Assumptions!$B$4,"Check overdue action",IF(AND($J20<>"",$J20<Assumptions!$B$4),"Check target date","Planned"))))) | N20: =IF(Assumptions!$A$26="","",Assumptions!$A$26) | O20: =IF(Assumptions!$B$26="","",Assumptions!$B$26)
I21: =IF(OR($A21="",$G21="",$H21=""),"",IFERROR($G21*$H21,"")) | L21: =IF($A21="","",IF(OR($F21="Won",$F21="Lost"),"Closed",IF($K21="","Next action needed",IF($K21<Assumptions!$B$4,"Check overdue action",IF(AND($J21<>"",$J21<Assumptions!$B$4),"Check target date","Planned"))))) | N21: =IF(Assumptions!$A$27="","",Assumptions!$A$27) | O21: =IF(Assumptions!$B$27="","",Assumptions!$B$27)
I22: =IF(OR($A22="",$G22="",$H22=""),"",IFERROR($G22*$H22,"")) | L22: =IF($A22="","",IF(OR($F22="Won",$F22="Lost"),"Closed",IF($K22="","Next action needed",IF($K22<Assumptions!$B$4,"Check overdue action",IF(AND($J22<>"",$J22<Assumptions!$B$4),"Check target date","Planned"))))) | N22: =IF(Assumptions!$A$28="","",Assumptions!$A$28) | O22: =IF(Assumptions!$B$28="","",Assumptions!$B$28)
I23: =IF(OR($A23="",$G23="",$H23=""),"",IFERROR($G23*$H23,"")) | L23: =IF($A23="","",IF(OR($F23="Won",$F23="Lost"),"Closed",IF($K23="","Next action needed",IF($K23<Assumptions!$B$4,"Check overdue action",IF(AND($J23<>"",$J23<Assumptions!$B$4),"Check target date","Planned"))))) | N23: =IF(Assumptions!$A$29="","",Assumptions!$A$29) | O23: =IF(Assumptions!$B$29="","",Assumptions!$B$29)
I24: =IF(OR($A24="",$G24="",$H24=""),"",IFERROR($G24*$H24,"")) | L24: =IF($A24="","",IF(OR($F24="Won",$F24="Lost"),"Closed",IF($K24="","Next action needed",IF($K24<Assumptions!$B$4,"Check overdue action",IF(AND($J24<>"",$J24<Assumptions!$B$4),"Check target date","Planned"))))) | N24: =IF(Assumptions!$A$30="","",Assumptions!$A$30) | O24: =IF(Assumptions!$B$30="","",Assumptions!$B$30)
I25: =IF(OR($A25="",$G25="",$H25=""),"",IFERROR($G25*$H25,"")) | L25: =IF($A25="","",IF(OR($F25="Won",$F25="Lost"),"Closed",IF($K25="","Next action needed",IF($K25<Assumptions!$B$4,"Check overdue action",IF(AND($J25<>"",$J25<Assumptions!$B$4),"Check target date","Planned"))))) | N25: =IF(Assumptions!$A$31="","",Assumptions!$A$31) | O25: =IF(Assumptions!$B$31="","",Assumptions!$B$31)
I26: =IF(OR($A26="",$G26="",$H26=""),"",IFERROR($G26*$H26,"")) | L26: =IF($A26="","",IF(OR($F26="Won",$F26="Lost"),"Closed",IF($K26="","Next action needed",IF($K26<Assumptions!$B$4,"Check overdue action",IF(AND($J26<>"",$J26<Assumptions!$B$4),"Check target date","Planned"))))) | N26: =IF(Assumptions!$A$32="","",Assumptions!$A$32) | O26: =IF(Assumptions!$B$32="","",Assumptions!$B$32)
I27: =IF(OR($A27="",$G27="",$H27=""),"",IFERROR($G27*$H27,"")) | L27: =IF($A27="","",IF(OR($F27="Won",$F27="Lost"),"Closed",IF($K27="","Next action needed",IF($K27<Assumptions!$B$4,"Check overdue action",IF(AND($J27<>"",$J27<Assumptions!$B$4),"Check target date","Planned"))))) | N27: =IF(Assumptions!$A$33="","",Assumptions!$A$33) | O27: =IF(Assumptions!$B$33="","",Assumptions!$B$33)
I28: =IF(OR($A28="",$G28="",$H28=""),"",IFERROR($G28*$H28,"")) | L28: =IF($A28="","",IF(OR($F28="Won",$F28="Lost"),"Closed",IF($K28="","Next action needed",IF($K28<Assumptions!$B$4,"Check overdue action",IF(AND($J28<>"",$J28<Assumptions!$B$4),"Check target date","Planned"))))) | N28: =IF(Assumptions!$A$34="","",Assumptions!$A$34) | O28: =IF(Assumptions!$B$34="","",Assumptions!$B$34)
I29: =IF(OR($A29="",$G29="",$H29=""),"",IFERROR($G29*$H29,"")) | L29: =IF($A29="","",IF(OR($F29="Won",$F29="Lost"),"Closed",IF($K29="","Next action needed",IF($K29<Assumptions!$B$4,"Check overdue action",IF(AND($J29<>"",$J29<Assumptions!$B$4),"Check target date","Planned"))))) | N29: =IF(Assumptions!$A$35="","",Assumptions!$A$35) | O29: =IF(Assumptions!$B$35="","",Assumptions!$B$35)
I30: =IF(OR($A30="",$G30="",$H30=""),"",IFERROR($G30*$H30,"")) | L30: =IF($A30="","",IF(OR($F30="Won",$F30="Lost"),"Closed",IF($K30="","Next action needed",IF($K30<Assumptions!$B$4,"Check overdue action",IF(AND($J30<>"",$J30<Assumptions!$B$4),"Check target date","Planned"))))) | N30: =IF(Assumptions!$A$36="","",Assumptions!$A$36) | O30: =IF(Assumptions!$B$36="","",Assumptions!$B$36)
I31: =IF(OR($A31="",$G31="",$H31=""),"",IFERROR($G31*$H31,"")) | L31: =IF($A31="","",IF(OR($F31="Won",$F31="Lost"),"Closed",IF($K31="","Next action needed",IF($K31<Assumptions!$B$4,"Check overdue action",IF(AND($J31<>"",$J31<Assumptions!$B$4),"Check target date","Planned"))))) | N31: =IF(Assumptions!$A$37="","",Assumptions!$A$37) | O31: =IF(Assumptions!$B$37="","",Assumptions!$B$37)
I32: =IF(OR($A32="",$G32="",$H32=""),"",IFERROR($G32*$H32,"")) | L32: =IF($A32="","",IF(OR($F32="Won",$F32="Lost"),"Closed",IF($K32="","Next action needed",IF($K32<Assumptions!$B$4,"Check overdue action",IF(AND($J32<>"",$J32<Assumptions!$B$4),"Check target date","Planned"))))) | N32: =IF(Assumptions!$A$38="","",Assumptions!$A$38) | O32: =IF(Assumptions!$B$38="","",Assumptions!$B$38)
I33: =IF(OR($A33="",$G33="",$H33=""),"",IFERROR($G33*$H33,"")) | L33: =IF($A33="","",IF(OR($F33="Won",$F33="Lost"),"Closed",IF($K33="","Next action needed",IF($K33<Assumptions!$B$4,"Check overdue action",IF(AND($J33<>"",$J33<Assumptions!$B$4),"Check target date","Planned"))))) | N33: =IF(Assumptions!$A$39="","",Assumptions!$A$39) | O33: =IF(Assumptions!$B$39="","",Assumptions!$B$39)
I34: =IF(OR($A34="",$G34="",$H34=""),"",IFERROR($G34*$H34,"")) | L34: =IF($A34="","",IF(OR($F34="Won",$F34="Lost"),"Closed",IF($K34="","Next action needed",IF($K34<Assumptions!$B$4,"Check overdue action",IF(AND($J34<>"",$J34<Assumptions!$B$4),"Check target date","Planned"))))) | N34: =IF(Assumptions!$A$40="","",Assumptions!$A$40) | O34: =IF(Assumptions!$B$40="","",Assumptions!$B$40)
I35: =IF(OR($A35="",$G35="",$H35=""),"",IFERROR($G35*$H35,"")) | L35: =IF($A35="","",IF(OR($F35="Won",$F35="Lost"),"Closed",IF($K35="","Next action needed",IF($K35<Assumptions!$B$4,"Check overdue action",IF(AND($J35<>"",$J35<Assumptions!$B$4),"Check target date","Planned"))))) | N35: =IF(Assumptions!$A$41="","",Assumptions!$A$41) | O35: =IF(Assumptions!$B$41="","",Assumptions!$B$41)
I36: =IF(OR($A36="",$G36="",$H36=""),"",IFERROR($G36*$H36,"")) | L36: =IF($A36="","",IF(OR($F36="Won",$F36="Lost"),"Closed",IF($K36="","Next action needed",IF($K36<Assumptions!$B$4,"Check overdue action",IF(AND($J36<>"",$J36<Assumptions!$B$4),"Check target date","Planned"))))) | N36: =IF(Assumptions!$A$42="","",Assumptions!$A$42) | O36: =IF(Assumptions!$B$42="","",Assumptions!$B$42)
I37: =IF(OR($A37="",$G37="",$H37=""),"",IFERROR($G37*$H37,"")) | L37: =IF($A37="","",IF(OR($F37="Won",$F37="Lost"),"Closed",IF($K37="","Next action needed",IF($K37<Assumptions!$B$4,"Check overdue action",IF(AND($J37<>"",$J37<Assumptions!$B$4),"Check target date","Planned"))))) | N37: =IF(Assumptions!$A$43="","",Assumptions!$A$43) | O37: =IF(Assumptions!$B$43="","",Assumptions!$B$43)
I38: =IF(OR($A38="",$G38="",$H38=""),"",IFERROR($G38*$H38,"")) | L38: =IF($A38="","",IF(OR($F38="Won",$F38="Lost"),"Closed",IF($K38="","Next action needed",IF($K38<Assumptions!$B$4,"Check overdue action",IF(AND($J38<>"",$J38<Assumptions!$B$4),"Check target date","Planned"))))) | N38: =IF(Assumptions!$A$44="","",Assumptions!$A$44) | O38: =IF(Assumptions!$B$44="","",Assumptions!$B$44)
I39: =IF(OR($A39="",$G39="",$H39=""),"",IFERROR($G39*$H39,"")) | L39: =IF($A39="","",IF(OR($F39="Won",$F39="Lost"),"Closed",IF($K39="","Next action needed",IF($K39<Assumptions!$B$4,"Check overdue action",IF(AND($J39<>"",$J39<Assumptions!$B$4),"Check target date","Planned"))))) | N39: =IF(Assumptions!$A$45="","",Assumptions!$A$45) | O39: =IF(Assumptions!$B$45="","",Assumptions!$B$45)
I40: =IF(OR($A40="",$G40="",$H40=""),"",IFERROR($G40*$H40,"")) | L40: =IF($A40="","",IF(OR($F40="Won",$F40="Lost"),"Closed",IF($K40="","Next action needed",IF($K40<Assumptions!$B$4,"Check overdue action",IF(AND($J40<>"",$J40<Assumptions!$B$4),"Check target date","Planned"))))) | N40: =IF(Assumptions!$A$46="","",Assumptions!$A$46) | O40: =IF(Assumptions!$B$46="","",Assumptions!$B$46)
...

Sheet Assumptions
A1: Insurance Territory Sales Planner — Assumptions
A2: Orange cells are editable planning assumptions. All sample territories and producers are fictional.
A3: Planning Controls
A4: As of Date | B4: 46275
A5: Maximum Estimated Annual Premium | B5: 1000000
A6: Earliest Planning Date | B6: 45658
A7: Latest Planning Date | B7: 47118
A8: Maximum Annual Territory Goal | B8: 5000000
A9: Maximum Prospect Capacity | B9: 500
A10: Territory | B10: Default Owner | C10: Annual Premium Goal | D10: Prospect Capacity | E10: Active
A11: North Harbor | B11: Fictional Producer 01 | C11: 600000 | D11: 16 | E11: Yes
A12: Pine Valley | B12: Fictional Producer 02 | C12: 750000 | D12: 20 | E12: Yes
A13: Copper Ridge | B13: Fictional Producer 03 | C13: 500000 | D13: 14 | E13: Yes
A14: Blue Mesa | B14: Fictional Producer 04 | C14: 900000 | D14: 22 | E14: Yes
A15: Cedar Coast | B15: Fictional Producer 05 | C15: 650000 | D15: 18 | E15: Yes
A16: Silver Prairie | B16: Fictional Producer 06 | C16: 550000 | D16: 15 | E16: Yes
A17: Red Canyon | B17: Fictional Producer 07 | C17: 800000 | D17: 20 | E17: Yes
A18: Lake District | B18: Fictional Producer 08 | C18: 700000 | D18: 19 | E18: Yes
A19: South Grove | B19: Fictional Producer 09 | C19: 0 | D19: 0 | E19: No
A20: Metro East | B20: Fictional Producer 10 | C20: 5000000 | D20: 500 | E20: Yes
