Workbook

Sheet Summary
A1: Insurance Win Loss Register Summary
A2: Decision-level totals from the Register. All sample organizations, people, markets, and opportunities are fictional.
A3: As of Date | B3: =TODAY()
A4: Indicator | B4: Calculated Value
A5: Total opportunities | B5: =COUNTIF(Register!$A$5:$A$104,"<>")
A6: Decided opportunities | B6: =B7+B8
A7: Won opportunities | B7: =COUNTIF(Register!$H$5:$H$104,Assumptions!$E$4)
A8: Lost opportunities | B8: =COUNTIF(Register!$H$5:$H$104,Assumptions!$E$5)
A9: Win rate by count | B9: =IFERROR(B7/B6,"")
A10: Total quoted premium | B10: =IF(B5=0,"",SUM(Register!$G$5:$G$104))
A11: Decided quoted premium | B11: =IF(B6=0,"",SUMIF(Register!$H$5:$H$104,Assumptions!$E$4,Register!$G$5:$G$104)+SUMIF(Register!$H$5:$H$104,Assumptions!$E$5,Register!$G$5:$G$104))
A12: Won quoted premium | B12: =IF(B7=0,"",SUMIF(Register!$H$5:$H$104,Assumptions!$E$4,Register!$G$5:$G$104))
A13: Lost quoted premium | B13: =IF(B8=0,"",SUMIF(Register!$H$5:$H$104,Assumptions!$E$5,Register!$G$5:$G$104))
A14: Premium win rate | B14: =IF(B6=0,"",IFERROR(SUMIF(Register!$H$5:$H$104,Assumptions!$E$4,Register!$G$5:$G$104)/B11,""))
A15: Pending opportunities | B15: =COUNTIF(Register!$H$5:$H$104,Assumptions!$E$6)
A16: Pending quoted premium | B16: =IF(B15=0,"",SUMIF(Register!$H$5:$H$104,Assumptions!$E$6,Register!$G$5:$G$104))
A17: Average days to win | B17: =IFERROR(AVERAGEIF(Register!$H$5:$H$104,Assumptions!$E$4,Register!$K$5:$K$104),"")
A18: Average days to loss | B18: =IFERROR(AVERAGEIF(Register!$H$5:$H$104,Assumptions!$E$5,Register!$K$5:$K$104),"")
A19: Items needing review | B19: =COUNTIF(Register!$L$5:$L$104,"<>")
A21: Outcome | B21: Count
A22: =Assumptions!E4 | B22: =COUNTIF(Register!$H$5:$H$104,Assumptions!$E$4)
A23: =Assumptions!E5 | B23: =COUNTIF(Register!$H$5:$H$104,Assumptions!$E$5)
A24: =Assumptions!E6 | B24: =COUNTIF(Register!$H$5:$H$104,Assumptions!$E$6)
A25: =Assumptions!E7 | B25: =COUNTIF(Register!$H$5:$H$104,Assumptions!$E$7)

Sheet Register
A1: Insurance Win Loss Register
A2: Enter one opportunity per row. Review flags prompt a human check and do not represent an external or official status.
A3: Pale yellow cells are editable. | K3: Calculated fields
A4: Opportunity ID | B4: Prospect / Account | C4: Line of Business | D4: Owner | E4: Quote Date | F4: Decision Date | G4: Quoted Premium | H4: Outcome | I4: Decision Reason | J4: Quoted Market | K4: Days to Decision | L4: Review Flag
A5: FIC-2026-001 | B5: Fictional Juniper Kite Bakery LLC | C5: Businessowners Policy | D5: Fictional Avery North | E5: 46183 | F5: 46197 | G5: 14250 | H5: Won | I5: Service experience | J5: Fictional Harborline Insurance | K5: =IF(A5="","",IF(OR(E5="",F5=""),"",IFERROR(IF(AND(ISNUMBER(E5),ISNUMBER(F5)),F5-E5,""),""))) | L5: =IF(A5="","",IFERROR(IF(OR(B5="",C5="",D5="",E5="",G5="",H5=""),"Check required input",IF(COUNTIF($A$5:$A$104,A5)>1,"Check duplicate ID",IF(OR(NOT(ISNUMBER(E5)),NOT(ISNUMBER(G5)),AND(F5<>"",NOT(ISNUMBER(F5)))),"Check date or amount input",IF(OR(G5<Assumptions!$B$5,G5>Assumptions!$B$6),"Check premium limit",IF(COUNTIF(Assumptions!$E$4:$E$7,H5)=0,"Check outcome",IF(AND(OR(H5=Assumptions!$E$4,H5=Assumptions!$E$5,H5=Assumptions!$E$7),F5=""),"Add decision date",IF(AND(H5=Assumptions!$E$6,F5<>""),"Check pending decision date",IF(AND(F5<>"",F5<E5),"Check date order",IF(AND(H5=Assumptions!$E$6,TODAY()-E5>Assumptions!$B$4),"Review aging pending item",IF(AND(OR(H5=Assumptions!$E$4,H5=Assumptions!$E$5),I5=""),"Add decision reason","")))))))))),"Check entered values"))
A6: FIC-2026-002 | B6: Fictional Cobalt Picnic Delivery LLC | C6: Commercial Auto | D6: Fictional Casey Ember | E6: 46194 | F6: 46215 | G6: 28750 | H6: Lost | I6: Competitive price | J6: Fictional Copper Finch Mutual | K6: =IF(A6="","",IF(OR(E6="",F6=""),"",IFERROR(IF(AND(ISNUMBER(E6),ISNUMBER(F6)),F6-E6,""),""))) | L6: =IF(A6="","",IFERROR(IF(OR(B6="",C6="",D6="",E6="",G6="",H6=""),"Check required input",IF(COUNTIF($A$5:$A$104,A6)>1,"Check duplicate ID",IF(OR(NOT(ISNUMBER(E6)),NOT(ISNUMBER(G6)),AND(F6<>"",NOT(ISNUMBER(F6)))),"Check date or amount input",IF(OR(G6<Assumptions!$B$5,G6>Assumptions!$B$6),"Check premium limit",IF(COUNTIF(Assumptions!$E$4:$E$7,H6)=0,"Check outcome",IF(AND(OR(H6=Assumptions!$E$4,H6=Assumptions!$E$5,H6=Assumptions!$E$7),F6=""),"Add decision date",IF(AND(H6=Assumptions!$E$6,F6<>""),"Check pending decision date",IF(AND(F6<>"",F6<E6),"Check date order",IF(AND(H6=Assumptions!$E$6,TODAY()-E6>Assumptions!$B$4),"Review aging pending item",IF(AND(OR(H6=Assumptions!$E$4,H6=Assumptions!$E$5),I6=""),"Add decision reason","")))))))))),"Check entered values"))
A7: FIC-2026-003 | B7: Fictional Paper Moon Workshop LLC | C7: General Liability | D7: Fictional Jordan Vale | E7: 46230 | G7: 19000 | H7: Pending | J7: Fictional Blue Lantern Casualty | K7: =IF(A7="","",IF(OR(E7="",F7=""),"",IFERROR(IF(AND(ISNUMBER(E7),ISNUMBER(F7)),F7-E7,""),""))) | L7: =IF(A7="","",IFERROR(IF(OR(B7="",C7="",D7="",E7="",G7="",H7=""),"Check required input",IF(COUNTIF($A$5:$A$104,A7)>1,"Check duplicate ID",IF(OR(NOT(ISNUMBER(E7)),NOT(ISNUMBER(G7)),AND(F7<>"",NOT(ISNUMBER(F7)))),"Check date or amount input",IF(OR(G7<Assumptions!$B$5,G7>Assumptions!$B$6),"Check premium limit",IF(COUNTIF(Assumptions!$E$4:$E$7,H7)=0,"Check outcome",IF(AND(OR(H7=Assumptions!$E$4,H7=Assumptions!$E$5,H7=Assumptions!$E$7),F7=""),"Add decision date",IF(AND(H7=Assumptions!$E$6,F7<>""),"Check pending decision date",IF(AND(F7<>"",F7<E7),"Check date order",IF(AND(H7=Assumptions!$E$6,TODAY()-E7>Assumptions!$B$4),"Review aging pending item",IF(AND(OR(H7=Assumptions!$E$4,H7=Assumptions!$E$5),I7=""),"Add decision reason","")))))))))),"Check entered values"))
A8: FIC-2026-004 | B8: Fictional Velvet Compass Design LLC | C8: Workers' Compensation | D8: Fictional Morgan Reed | E8: 46236 | F8: 46253 | G8: 47500 | H8: Won | I8: Terms fit | J8: Fictional Prairie Comet Underwriters | K8: =IF(A8="","",IF(OR(E8="",F8=""),"",IFERROR(IF(AND(ISNUMBER(E8),ISNUMBER(F8)),F8-E8,""),""))) | L8: =IF(A8="","",IFERROR(IF(OR(B8="",C8="",D8="",E8="",G8="",H8=""),"Check required input",IF(COUNTIF($A$5:$A$104,A8)>1,"Check duplicate ID",IF(OR(NOT(ISNUMBER(E8)),NOT(ISNUMBER(G8)),AND(F8<>"",NOT(ISNUMBER(F8)))),"Check date or amount input",IF(OR(G8<Assumptions!$B$5,G8>Assumptions!$B$6),"Check premium limit",IF(COUNTIF(Assumptions!$E$4:$E$7,H8)=0,"Check outcome",IF(AND(OR(H8=Assumptions!$E$4,H8=Assumptions!$E$5,H8=Assumptions!$E$7),F8=""),"Add decision date",IF(AND(H8=Assumptions!$E$6,F8<>""),"Check pending decision date",IF(AND(F8<>"",F8<E8),"Check date order",IF(AND(H8=Assumptions!$E$6,TODAY()-E8>Assumptions!$B$4),"Review aging pending item",IF(AND(OR(H8=Assumptions!$E$4,H8=Assumptions!$E$5),I8=""),"Add decision reason","")))))))))),"Check entered values"))
A9: FIC-2026-005 | B9: Fictional Mango Orbit Storage LLC | C9: Professional Liability | D9: Fictional Avery North | E9: 46247 | F9: 46261 | G9: 9600 | H9: Lost | I9: Existing relationship | J9: Fictional Summit Orchard Specialty | K9: =IF(A9="","",IF(OR(E9="",F9=""),"",IFERROR(IF(AND(ISNUMBER(E9),ISNUMBER(F9)),F9-E9,""),""))) | L9: =IF(A9="","",IFERROR(IF(OR(B9="",C9="",D9="",E9="",G9="",H9=""),"Check required input",IF(COUNTIF($A$5:$A$104,A9)>1,"Check duplicate ID",IF(OR(NOT(ISNUMBER(E9)),NOT(ISNUMBER(G9)),AND(F9<>"",NOT(ISNUMBER(F9)))),"Check date or amount input",IF(OR(G9<Assumptions!$B$5,G9>Assumptions!$B$6),"Check premium limit",IF(COUNTIF(Assumptions!$E$4:$E$7,H9)=0,"Check outcome",IF(AND(OR(H9=Assumptions!$E$4,H9=Assumptions!$E$5,H9=Assumptions!$E$7),F9=""),"Add decision date",IF(AND(H9=Assumptions!$E$6,F9<>""),"Check pending decision date",IF(AND(F9<>"",F9<E9),"Check date order",IF(AND(H9=Assumptions!$E$6,TODAY()-E9>Assumptions!$B$4),"Review aging pending item",IF(AND(OR(H9=Assumptions!$E$4,H9=Assumptions!$E$5),I9=""),"Add decision reason","")))))))))),"Check entered values"))
A10: FIC-2026-006 | B10: Fictional Tiny Comet Consulting LLC | C10: Commercial Property | D10: Fictional Casey Ember | E10: 46257 | F10: 46265 | G10: 12100 | H10: Withdrawn | I10: No decision | J10: Fictional Copper Finch Mutual | K10: =IF(A10="","",IF(OR(E10="",F10=""),"",IFERROR(IF(AND(ISNUMBER(E10),ISNUMBER(F10)),F10-E10,""),""))) | L10: =IF(A10="","",IFERROR(IF(OR(B10="",C10="",D10="",E10="",G10="",H10=""),"Check required input",IF(COUNTIF($A$5:$A$104,A10)>1,"Check duplicate ID",IF(OR(NOT(ISNUMBER(E10)),NOT(ISNUMBER(G10)),AND(F10<>"",NOT(ISNUMBER(F10)))),"Check date or amount input",IF(OR(G10<Assumptions!$B$5,G10>Assumptions!$B$6),"Check premium limit",IF(COUNTIF(Assumptions!$E$4:$E$7,H10)=0,"Check outcome",IF(AND(OR(H10=Assumptions!$E$4,H10=Assumptions!$E$5,H10=Assumptions!$E$7),F10=""),"Add decision date",IF(AND(H10=Assumptions!$E$6,F10<>""),"Check pending decision date",IF(AND(F10<>"",F10<E10),"Check date order",IF(AND(H10=Assumptions!$E$6,TODAY()-E10>Assumptions!$B$4),"Review aging pending item",IF(AND(OR(H10=Assumptions!$E$4,H10=Assumptions!$E$5),I10=""),"Add decision reason","")))))))))),"Check entered values"))
A11: FIC-2026-007 | B11: Fictional Saffron Bicycle Courier LLC | C11: Businessowners Policy | D11: Fictional Jordan Vale | E11: 46267 | G11: 6800 | H11: Pending | J11: Fictional Blue Lantern Casualty | K11: =IF(A11="","",IF(OR(E11="",F11=""),"",IFERROR(IF(AND(ISNUMBER(E11),ISNUMBER(F11)),F11-E11,""),""))) | L11: =IF(A11="","",IFERROR(IF(OR(B11="",C11="",D11="",E11="",G11="",H11=""),"Check required input",IF(COUNTIF($A$5:$A$104,A11)>1,"Check duplicate ID",IF(OR(NOT(ISNUMBER(E11)),NOT(ISNUMBER(G11)),AND(F11<>"",NOT(ISNUMBER(F11)))),"Check date or amount input",IF(OR(G11<Assumptions!$B$5,G11>Assumptions!$B$6),"Check premium limit",IF(COUNTIF(Assumptions!$E$4:$E$7,H11)=0,"Check outcome",IF(AND(OR(H11=Assumptions!$E$4,H11=Assumptions!$E$5,H11=Assumptions!$E$7),F11=""),"Add decision date",IF(AND(H11=Assumptions!$E$6,F11<>""),"Check pending decision date",IF(AND(F11<>"",F11<E11),"Check date order",IF(AND(H11=Assumptions!$E$6,TODAY()-E11>Assumptions!$B$4),"Review aging pending item",IF(AND(OR(H11=Assumptions!$E$4,H11=Assumptions!$E$5),I11=""),"Add decision reason","")))))))))),"Check entered values"))
A12: FIC-2026-008 | B12: Fictional Silver Teacup Events LLC | C12: Commercial Auto | D12: Fictional Morgan Reed | E12: 46220 | F12: 46222 | G12: 33500 | H12: Lost | I12: Timing | J12: Fictional Harborline Insurance | K12: =IF(A12="","",IF(OR(E12="",F12=""),"",IFERROR(IF(AND(ISNUMBER(E12),ISNUMBER(F12)),F12-E12,""),""))) | L12: =IF(A12="","",IFERROR(IF(OR(B12="",C12="",D12="",E12="",G12="",H12=""),"Check required input",IF(COUNTIF($A$5:$A$104,A12)>1,"Check duplicate ID",IF(OR(NOT(ISNUMBER(E12)),NOT(ISNUMBER(G12)),AND(F12<>"",NOT(ISNUMBER(F12)))),"Check date or amount input",IF(OR(G12<Assumptions!$B$5,G12>Assumptions!$B$6),"Check premium limit",IF(COUNTIF(Assumptions!$E$4:$E$7,H12)=0,"Check outcome",IF(AND(OR(H12=Assumptions!$E$4,H12=Assumptions!$E$5,H12=Assumptions!$E$7),F12=""),"Add decision date",IF(AND(H12=Assumptions!$E$6,F12<>""),"Check pending decision date",IF(AND(F12<>"",F12<E12),"Check date order",IF(AND(H12=Assumptions!$E$6,TODAY()-E12>Assumptions!$B$4),"Review aging pending item",IF(AND(OR(H12=Assumptions!$E$4,H12=Assumptions!$E$5),I12=""),"Add decision reason","")))))))))),"Check entered values"))
A13: FIC-2026-009 | B13: Fictional Marble Fox Printworks LLC | C13: General Liability | D13: Fictional Avery North | E13: 46255 | F13: 46270 | G13: 21800 | H13: Won | I13: Existing relationship | J13: Fictional Prairie Comet Underwriters | K13: =IF(A13="","",IF(OR(E13="",F13=""),"",IFERROR(IF(AND(ISNUMBER(E13),ISNUMBER(F13)),F13-E13,""),""))) | L13: =IF(A13="","",IFERROR(IF(OR(B13="",C13="",D13="",E13="",G13="",H13=""),"Check required input",IF(COUNTIF($A$5:$A$104,A13)>1,"Check duplicate ID",IF(OR(NOT(ISNUMBER(E13)),NOT(ISNUMBER(G13)),AND(F13<>"",NOT(ISNUMBER(F13)))),"Check date or amount input",IF(OR(G13<Assumptions!$B$5,G13>Assumptions!$B$6),"Check premium limit",IF(COUNTIF(Assumptions!$E$4:$E$7,H13)=0,"Check outcome",IF(AND(OR(H13=Assumptions!$E$4,H13=Assumptions!$E$5,H13=Assumptions!$E$7),F13=""),"Add decision date",IF(AND(H13=Assumptions!$E$6,F13<>""),"Check pending decision date",IF(AND(F13<>"",F13<E13),"Check date order",IF(AND(H13=Assumptions!$E$6,TODAY()-E13>Assumptions!$B$4),"Review aging pending item",IF(AND(OR(H13=Assumptions!$E$4,H13=Assumptions!$E$5),I13=""),"Add decision reason","")))))))))),"Check entered values"))
A14: FIC-2026-010 | B14: Fictional Echo Pebble Furnishings LLC | C14: Commercial Property | D14: Fictional Casey Ember | E14: 46272 | F14: 46272 | G14: 4300 | H14: Won | I14: Terms fit | J14: Fictional Summit Orchard Specialty | K14: =IF(A14="","",IF(OR(E14="",F14=""),"",IFERROR(IF(AND(ISNUMBER(E14),ISNUMBER(F14)),F14-E14,""),""))) | L14: =IF(A14="","",IFERROR(IF(OR(B14="",C14="",D14="",E14="",G14="",H14=""),"Check required input",IF(COUNTIF($A$5:$A$104,A14)>1,"Check duplicate ID",IF(OR(NOT(ISNUMBER(E14)),NOT(ISNUMBER(G14)),AND(F14<>"",NOT(ISNUMBER(F14)))),"Check date or amount input",IF(OR(G14<Assumptions!$B$5,G14>Assumptions!$B$6),"Check premium limit",IF(COUNTIF(Assumptions!$E$4:$E$7,H14)=0,"Check outcome",IF(AND(OR(H14=Assumptions!$E$4,H14=Assumptions!$E$5,H14=Assumptions!$E$7),F14=""),"Add decision date",IF(AND(H14=Assumptions!$E$6,F14<>""),"Check pending decision date",IF(AND(F14<>"",F14<E14),"Check date order",IF(AND(H14=Assumptions!$E$6,TODAY()-E14>Assumptions!$B$4),"Review aging pending item",IF(AND(OR(H14=Assumptions!$E$4,H14=Assumptions!$E$5),I14=""),"Add decision reason","")))))))))),"Check entered values"))
K15: =IF(A15="","",IF(OR(E15="",F15=""),"",IFERROR(IF(AND(ISNUMBER(E15),ISNUMBER(F15)),F15-E15,""),""))) | L15: =IF(A15="","",IFERROR(IF(OR(B15="",C15="",D15="",E15="",G15="",H15=""),"Check required input",IF(COUNTIF($A$5:$A$104,A15)>1,"Check duplicate ID",IF(OR(NOT(ISNUMBER(E15)),NOT(ISNUMBER(G15)),AND(F15<>"",NOT(ISNUMBER(F15)))),"Check date or amount input",IF(OR(G15<Assumptions!$B$5,G15>Assumptions!$B$6),"Check premium limit",IF(COUNTIF(Assumptions!$E$4:$E$7,H15)=0,"Check outcome",IF(AND(OR(H15=Assumptions!$E$4,H15=Assumptions!$E$5,H15=Assumptions!$E$7),F15=""),"Add decision date",IF(AND(H15=Assumptions!$E$6,F15<>""),"Check pending decision date",IF(AND(F15<>"",F15<E15),"Check date order",IF(AND(H15=Assumptions!$E$6,TODAY()-E15>Assumptions!$B$4),"Review aging pending item",IF(AND(OR(H15=Assumptions!$E$4,H15=Assumptions!$E$5),I15=""),"Add decision reason","")))))))))),"Check entered values"))
K16: =IF(A16="","",IF(OR(E16="",F16=""),"",IFERROR(IF(AND(ISNUMBER(E16),ISNUMBER(F16)),F16-E16,""),""))) | L16: =IF(A16="","",IFERROR(IF(OR(B16="",C16="",D16="",E16="",G16="",H16=""),"Check required input",IF(COUNTIF($A$5:$A$104,A16)>1,"Check duplicate ID",IF(OR(NOT(ISNUMBER(E16)),NOT(ISNUMBER(G16)),AND(F16<>"",NOT(ISNUMBER(F16)))),"Check date or amount input",IF(OR(G16<Assumptions!$B$5,G16>Assumptions!$B$6),"Check premium limit",IF(COUNTIF(Assumptions!$E$4:$E$7,H16)=0,"Check outcome",IF(AND(OR(H16=Assumptions!$E$4,H16=Assumptions!$E$5,H16=Assumptions!$E$7),F16=""),"Add decision date",IF(AND(H16=Assumptions!$E$6,F16<>""),"Check pending decision date",IF(AND(F16<>"",F16<E16),"Check date order",IF(AND(H16=Assumptions!$E$6,TODAY()-E16>Assumptions!$B$4),"Review aging pending item",IF(AND(OR(H16=Assumptions!$E$4,H16=Assumptions!$E$5),I16=""),"Add decision reason","")))))))))),"Check entered values"))
K17: =IF(A17="","",IF(OR(E17="",F17=""),"",IFERROR(IF(AND(ISNUMBER(E17),ISNUMBER(F17)),F17-E17,""),""))) | L17: =IF(A17="","",IFERROR(IF(OR(B17="",C17="",D17="",E17="",G17="",H17=""),"Check required input",IF(COUNTIF($A$5:$A$104,A17)>1,"Check duplicate ID",IF(OR(NOT(ISNUMBER(E17)),NOT(ISNUMBER(G17)),AND(F17<>"",NOT(ISNUMBER(F17)))),"Check date or amount input",IF(OR(G17<Assumptions!$B$5,G17>Assumptions!$B$6),"Check premium limit",IF(COUNTIF(Assumptions!$E$4:$E$7,H17)=0,"Check outcome",IF(AND(OR(H17=Assumptions!$E$4,H17=Assumptions!$E$5,H17=Assumptions!$E$7),F17=""),"Add decision date",IF(AND(H17=Assumptions!$E$6,F17<>""),"Check pending decision date",IF(AND(F17<>"",F17<E17),"Check date order",IF(AND(H17=Assumptions!$E$6,TODAY()-E17>Assumptions!$B$4),"Review aging pending item",IF(AND(OR(H17=Assumptions!$E$4,H17=Assumptions!$E$5),I17=""),"Add decision reason","")))))))))),"Check entered values"))
K18: =IF(A18="","",IF(OR(E18="",F18=""),"",IFERROR(IF(AND(ISNUMBER(E18),ISNUMBER(F18)),F18-E18,""),""))) | L18: =IF(A18="","",IFERROR(IF(OR(B18="",C18="",D18="",E18="",G18="",H18=""),"Check required input",IF(COUNTIF($A$5:$A$104,A18)>1,"Check duplicate ID",IF(OR(NOT(ISNUMBER(E18)),NOT(ISNUMBER(G18)),AND(F18<>"",NOT(ISNUMBER(F18)))),"Check date or amount input",IF(OR(G18<Assumptions!$B$5,G18>Assumptions!$B$6),"Check premium limit",IF(COUNTIF(Assumptions!$E$4:$E$7,H18)=0,"Check outcome",IF(AND(OR(H18=Assumptions!$E$4,H18=Assumptions!$E$5,H18=Assumptions!$E$7),F18=""),"Add decision date",IF(AND(H18=Assumptions!$E$6,F18<>""),"Check pending decision date",IF(AND(F18<>"",F18<E18),"Check date order",IF(AND(H18=Assumptions!$E$6,TODAY()-E18>Assumptions!$B$4),"Review aging pending item",IF(AND(OR(H18=Assumptions!$E$4,H18=Assumptions!$E$5),I18=""),"Add decision reason","")))))))))),"Check entered values"))
K19: =IF(A19="","",IF(OR(E19="",F19=""),"",IFERROR(IF(AND(ISNUMBER(E19),ISNUMBER(F19)),F19-E19,""),""))) | L19: =IF(A19="","",IFERROR(IF(OR(B19="",C19="",D19="",E19="",G19="",H19=""),"Check required input",IF(COUNTIF($A$5:$A$104,A19)>1,"Check duplicate ID",IF(OR(NOT(ISNUMBER(E19)),NOT(ISNUMBER(G19)),AND(F19<>"",NOT(ISNUMBER(F19)))),"Check date or amount input",IF(OR(G19<Assumptions!$B$5,G19>Assumptions!$B$6),"Check premium limit",IF(COUNTIF(Assumptions!$E$4:$E$7,H19)=0,"Check outcome",IF(AND(OR(H19=Assumptions!$E$4,H19=Assumptions!$E$5,H19=Assumptions!$E$7),F19=""),"Add decision date",IF(AND(H19=Assumptions!$E$6,F19<>""),"Check pending decision date",IF(AND(F19<>"",F19<E19),"Check date order",IF(AND(H19=Assumptions!$E$6,TODAY()-E19>Assumptions!$B$4),"Review aging pending item",IF(AND(OR(H19=Assumptions!$E$4,H19=Assumptions!$E$5),I19=""),"Add decision reason","")))))))))),"Check entered values"))
K20: =IF(A20="","",IF(OR(E20="",F20=""),"",IFERROR(IF(AND(ISNUMBER(E20),ISNUMBER(F20)),F20-E20,""),""))) | L20: =IF(A20="","",IFERROR(IF(OR(B20="",C20="",D20="",E20="",G20="",H20=""),"Check required input",IF(COUNTIF($A$5:$A$104,A20)>1,"Check duplicate ID",IF(OR(NOT(ISNUMBER(E20)),NOT(ISNUMBER(G20)),AND(F20<>"",NOT(ISNUMBER(F20)))),"Check date or amount input",IF(OR(G20<Assumptions!$B$5,G20>Assumptions!$B$6),"Check premium limit",IF(COUNTIF(Assumptions!$E$4:$E$7,H20)=0,"Check outcome",IF(AND(OR(H20=Assumptions!$E$4,H20=Assumptions!$E$5,H20=Assumptions!$E$7),F20=""),"Add decision date",IF(AND(H20=Assumptions!$E$6,F20<>""),"Check pending decision date",IF(AND(F20<>"",F20<E20),"Check date order",IF(AND(H20=Assumptions!$E$6,TODAY()-E20>Assumptions!$B$4),"Review aging pending item",IF(AND(OR(H20=Assumptions!$E$4,H20=Assumptions!$E$5),I20=""),"Add decision reason","")))))))))),"Check entered values"))
K21: =IF(A21="","",IF(OR(E21="",F21=""),"",IFERROR(IF(AND(ISNUMBER(E21),ISNUMBER(F21)),F21-E21,""),""))) | L21: =IF(A21="","",IFERROR(IF(OR(B21="",C21="",D21="",E21="",G21="",H21=""),"Check required input",IF(COUNTIF($A$5:$A$104,A21)>1,"Check duplicate ID",IF(OR(NOT(ISNUMBER(E21)),NOT(ISNUMBER(G21)),AND(F21<>"",NOT(ISNUMBER(F21)))),"Check date or amount input",IF(OR(G21<Assumptions!$B$5,G21>Assumptions!$B$6),"Check premium limit",IF(COUNTIF(Assumptions!$E$4:$E$7,H21)=0,"Check outcome",IF(AND(OR(H21=Assumptions!$E$4,H21=Assumptions!$E$5,H21=Assumptions!$E$7),F21=""),"Add decision date",IF(AND(H21=Assumptions!$E$6,F21<>""),"Check pending decision date",IF(AND(F21<>"",F21<E21),"Check date order",IF(AND(H21=Assumptions!$E$6,TODAY()-E21>Assumptions!$B$4),"Review aging pending item",IF(AND(OR(H21=Assumptions!$E$4,H21=Assumptions!$E$5),I21=""),"Add decision reason","")))))))))),"Check entered values"))
K22: =IF(A22="","",IF(OR(E22="",F22=""),"",IFERROR(IF(AND(ISNUMBER(E22),ISNUMBER(F22)),F22-E22,""),""))) | L22: =IF(A22="","",IFERROR(IF(OR(B22="",C22="",D22="",E22="",G22="",H22=""),"Check required input",IF(COUNTIF($A$5:$A$104,A22)>1,"Check duplicate ID",IF(OR(NOT(ISNUMBER(E22)),NOT(ISNUMBER(G22)),AND(F22<>"",NOT(ISNUMBER(F22)))),"Check date or amount input",IF(OR(G22<Assumptions!$B$5,G22>Assumptions!$B$6),"Check premium limit",IF(COUNTIF(Assumptions!$E$4:$E$7,H22)=0,"Check outcome",IF(AND(OR(H22=Assumptions!$E$4,H22=Assumptions!$E$5,H22=Assumptions!$E$7),F22=""),"Add decision date",IF(AND(H22=Assumptions!$E$6,F22<>""),"Check pending decision date",IF(AND(F22<>"",F22<E22),"Check date order",IF(AND(H22=Assumptions!$E$6,TODAY()-E22>Assumptions!$B$4),"Review aging pending item",IF(AND(OR(H22=Assumptions!$E$4,H22=Assumptions!$E$5),I22=""),"Add decision reason","")))))))))),"Check entered values"))
K23: =IF(A23="","",IF(OR(E23="",F23=""),"",IFERROR(IF(AND(ISNUMBER(E23),ISNUMBER(F23)),F23-E23,""),""))) | L23: =IF(A23="","",IFERROR(IF(OR(B23="",C23="",D23="",E23="",G23="",H23=""),"Check required input",IF(COUNTIF($A$5:$A$104,A23)>1,"Check duplicate ID",IF(OR(NOT(ISNUMBER(E23)),NOT(ISNUMBER(G23)),AND(F23<>"",NOT(ISNUMBER(F23)))),"Check date or amount input",IF(OR(G23<Assumptions!$B$5,G23>Assumptions!$B$6),"Check premium limit",IF(COUNTIF(Assumptions!$E$4:$E$7,H23)=0,"Check outcome",IF(AND(OR(H23=Assumptions!$E$4,H23=Assumptions!$E$5,H23=Assumptions!$E$7),F23=""),"Add decision date",IF(AND(H23=Assumptions!$E$6,F23<>""),"Check pending decision date",IF(AND(F23<>"",F23<E23),"Check date order",IF(AND(H23=Assumptions!$E$6,TODAY()-E23>Assumptions!$B$4),"Review aging pending item",IF(AND(OR(H23=Assumptions!$E$4,H23=Assumptions!$E$5),I23=""),"Add decision reason","")))))))))),"Check entered values"))
K24: =IF(A24="","",IF(OR(E24="",F24=""),"",IFERROR(IF(AND(ISNUMBER(E24),ISNUMBER(F24)),F24-E24,""),""))) | L24: =IF(A24="","",IFERROR(IF(OR(B24="",C24="",D24="",E24="",G24="",H24=""),"Check required input",IF(COUNTIF($A$5:$A$104,A24)>1,"Check duplicate ID",IF(OR(NOT(ISNUMBER(E24)),NOT(ISNUMBER(G24)),AND(F24<>"",NOT(ISNUMBER(F24)))),"Check date or amount input",IF(OR(G24<Assumptions!$B$5,G24>Assumptions!$B$6),"Check premium limit",IF(COUNTIF(Assumptions!$E$4:$E$7,H24)=0,"Check outcome",IF(AND(OR(H24=Assumptions!$E$4,H24=Assumptions!$E$5,H24=Assumptions!$E$7),F24=""),"Add decision date",IF(AND(H24=Assumptions!$E$6,F24<>""),"Check pending decision date",IF(AND(F24<>"",F24<E24),"Check date order",IF(AND(H24=Assumptions!$E$6,TODAY()-E24>Assumptions!$B$4),"Review aging pending item",IF(AND(OR(H24=Assumptions!$E$4,H24=Assumptions!$E$5),I24=""),"Add decision reason","")))))))))),"Check entered values"))
K25: =IF(A25="","",IF(OR(E25="",F25=""),"",IFERROR(IF(AND(ISNUMBER(E25),ISNUMBER(F25)),F25-E25,""),""))) | L25: =IF(A25="","",IFERROR(IF(OR(B25="",C25="",D25="",E25="",G25="",H25=""),"Check required input",IF(COUNTIF($A$5:$A$104,A25)>1,"Check duplicate ID",IF(OR(NOT(ISNUMBER(E25)),NOT(ISNUMBER(G25)),AND(F25<>"",NOT(ISNUMBER(F25)))),"Check date or amount input",IF(OR(G25<Assumptions!$B$5,G25>Assumptions!$B$6),"Check premium limit",IF(COUNTIF(Assumptions!$E$4:$E$7,H25)=0,"Check outcome",IF(AND(OR(H25=Assumptions!$E$4,H25=Assumptions!$E$5,H25=Assumptions!$E$7),F25=""),"Add decision date",IF(AND(H25=Assumptions!$E$6,F25<>""),"Check pending decision date",IF(AND(F25<>"",F25<E25),"Check date order",IF(AND(H25=Assumptions!$E$6,TODAY()-E25>Assumptions!$B$4),"Review aging pending item",IF(AND(OR(H25=Assumptions!$E$4,H25=Assumptions!$E$5),I25=""),"Add decision reason","")))))))))),"Check entered values"))
K26: =IF(A26="","",IF(OR(E26="",F26=""),"",IFERROR(IF(AND(ISNUMBER(E26),ISNUMBER(F26)),F26-E26,""),""))) | L26: =IF(A26="","",IFERROR(IF(OR(B26="",C26="",D26="",E26="",G26="",H26=""),"Check required input",IF(COUNTIF($A$5:$A$104,A26)>1,"Check duplicate ID",IF(OR(NOT(ISNUMBER(E26)),NOT(ISNUMBER(G26)),AND(F26<>"",NOT(ISNUMBER(F26)))),"Check date or amount input",IF(OR(G26<Assumptions!$B$5,G26>Assumptions!$B$6),"Check premium limit",IF(COUNTIF(Assumptions!$E$4:$E$7,H26)=0,"Check outcome",IF(AND(OR(H26=Assumptions!$E$4,H26=Assumptions!$E$5,H26=Assumptions!$E$7),F26=""),"Add decision date",IF(AND(H26=Assumptions!$E$6,F26<>""),"Check pending decision date",IF(AND(F26<>"",F26<E26),"Check date order",IF(AND(H26=Assumptions!$E$6,TODAY()-E26>Assumptions!$B$4),"Review aging pending item",IF(AND(OR(H26=Assumptions!$E$4,H26=Assumptions!$E$5),I26=""),"Add decision reason","")))))))))),"Check entered values"))
... K104: =IF(A104="","",IF(OR(E104="",F104=""),"",IFERROR(IF(AND(ISNUMBER(E104),ISNUMBER(F104)),F104-E104,""),""))) | L104: =IF(A104="","",IFERROR(IF(OR(B104="",C104="",D104="",E104="",G104="",H104=""),"Check required input",IF(COUNTIF($A$5:$A$104,A104)>1,"Check duplicate ID",IF(OR(NOT(ISNUMBER(E104)),NOT(ISNUMBER(G104)),AND(F104<>"",NOT(ISNUMBER(F104)))),"Check date or amount input",IF(OR(G104<Assumptions!$B$5,G104>Assumptions!$B$6),"Check premium limit",IF(COUNTIF(Assumptions!$E$4:$E$7,H104)=0,"Check outcome",IF(AND(OR(H104=Assumptions!$E$4,H104=Assumptions!$E$5,H104=Assumptions!$E$7),F104=""),"Add decision date",IF(AND(H104=Assumptions!$E$6,F104<>""),"Check pending decision date",IF(AND(F104<>"",F104<E104),"Check date order",IF(AND(H104=Assumptions!$E$6,TODAY()-E104>Assumptions!$B$4),"Review aging pending item",IF(AND(OR(H104=Assumptions!$E$4,H104=Assumptions!$E$5),I104=""),"Add decision reason","")))))))))),"Check entered values"))

Sheet Assumptions
A1: Assumptions and Editable Lists
A2: Editable administrative limits and stable choices. These settings do not determine pricing, coverage, or an official result.
A3: Setting | B3: Value | C3: Administrative Use | E3: Outcomes | F3: Lines of Business | G3: Owners | H3: Decision Reasons | I3: Quoted Markets
A4: Stale pending days | B4: 30 | C4: Pending item age that triggers a human review flag. | E4: Won | F4: Businessowners Policy | G4: Fictional Avery North | H4: Competitive price | I4: Fictional Harborline Insurance
A5: Minimum quoted premium | B5: 0 | C5: Lower data-validation boundary; not a price recommendation. | E5: Lost | F5: Commercial Auto | G5: Fictional Casey Ember | H5: Terms fit | I5: Fictional Copper Finch Mutual
A6: Maximum quoted premium | B6: 5000000 | C6: Upper data-validation boundary; adjust for agency workflow. | E6: Pending | F6: General Liability | G6: Fictional Jordan Vale | H6: Existing relationship | I6: Fictional Blue Lantern Casualty
A7: Earliest allowed date | B7: 45545 | C7: Lower date-entry boundary for this register. | E7: Withdrawn | F7: Workers' Compensation | G7: Fictional Morgan Reed | H7: Service experience | I7: Fictional Prairie Comet Underwriters
A8: Latest allowed date | B8: 46640 | C8: Upper date-entry boundary for this register. | F8: Professional Liability | H8: Timing | I8: Fictional Summit Orchard Specialty
F9: Commercial Property | H9: Eligibility
F10: Personal Auto | H10: No decision
F11: Homeowners | H11: Other
